{"text_format":"3","workbook":"xlsx","n_sheets":5,"sheets":["1-MetaPro_2022","1_PLANTILLA_MENSUAL","2_MERCADO_PRIVADO","3_CONSOLIDADO REGIMEN","4_COBERTURAxMPIOS"],"not_rendered":{"defined_names":4,"comments":2},"read":"whole","date_system":"1900"}

{"sheet":"1-MetaPro_2022","index":0,"n_rows":1125,"n_cols":25,"rows_kept":1125,"hidden":true}
["Código Dpto","Departamento","Municipio","Divipola","Poblaciòn Menor de 1 año (Meta Programática 2022)","Poblaciòn de 1 año (Meta Programática 2022)","Pob. 5 años  (Meta Programática 2022)","Q","DEPARTAMENTO","CODEP","Poblaciòn Menor de 1 año (Meta Programática 2022)","Poblaciòn de 1 año (Meta Programática 2022)","Pob. 5 años  (Meta Programática 2022)","R","Poblacion de 9 años DANE",null,null,"Total fase 1","Total fase 2","Gran total Pob Covid-19"]
["91","AMAZONAS","Leticia","91001",997,{"v":1036,"d":"1,036"},{"v":1252,"d":"1,252"},null,"ANTIOQUIA","05",{"$f":"SUMIF($A$2:$A$1122,J2,$E$2:$E$1122)","v":{"v":72099,"d":"72,099"}},{"$f":"SUMIF($A$2:$A$1122,J2,$F$2:$F$1122)","v":{"v":74701,"d":"74,701"}},{"$f":"SUMIF($A$2:$A$1122,J2,$G$2:$G$1122)","v":{"v":79329,"d":"79,329"}},0,14957,null,"05001",{"v":852034.6726014465,"d":"852,035"},{"v":1179003.9672114446,"d":"1,179,004"},{"$f":"R2+S2","v":{"v":2031038.6398128911,"d":"2,031,039"}},null,"Rangos de edad",null,"05001",14957]
["91","AMAZONAS","El Encanto (ANM)","91263",36,39,45,null,"ATLANTICO","08",{"$f":"SUMIF($A$3:$A$1122,J3,$E$3:$E$1122)","v":{"v":21197,"d":"21,197"}},{"$f":"SUMIF($A$3:$A$1122,J3,$F$3:$F$1122)","v":{"v":21565,"d":"21,565"}},{"$f":"SUMIF($A$3:$A$1122,J3,$G$3:$G$1122)","v":{"v":22982,"d":"22,982"}},null,144,null,"05002",{"v":4537.311537102181,"d":"4,537"},{"v":8656.748481184326,"d":"8,657"},{"$f":"R3+S3","v":{"v":13194.060018286507,"d":"13,194"}},null,"16 17",null,"05002",144]
["91","AMAZONAS","La Chorrera","91405",53,58,62,null,"BARRANQUILLA","08001",{"$f":"SUMIF($D$3:$D$1122,J4,$E$3:$E$1122)","v":{"v":19802,"d":"19,802"}},{"$f":"SUMIF($D$3:$D$1122,J4,$F$3:$F$1122)","v":{"v":20849,"d":"20,849"}},{"$f":"SUMIF($D$3:$D$1122,J4,$G$3:$G$1122)","v":{"v":22374,"d":"22,374"}},null,20,null,"05004",{"v":453.4570843524104,"d":"453"},{"v":1170.5391554574396,"d":"1,171"},{"v":1623.99623980985,"d":"1,624"},null,"18 - 22",null,"05004",20]
["91","AMAZONAS","La Pedrera (ANM)","91407",66,83,85,null,"BOGOTA","11",{"$f":"SUMIF($A$3:$A$1122,J5,$E$3:$E$1122)","v":{"v":90967,"d":"90,967"}},{"$f":"SUMIF($A$3:$A$1122,J5,$F$3:$F$1122)","v":{"v":93996,"d":"93,996"}},{"$f":"SUMIF($A$3:$A$1122,J5,$G$3:$G$1122)","v":{"v":96930,"d":"96,930"}},null,36,null,"05021",{"v":886.3831887709848,"d":"886"},{"v":1959.310948085546,"d":"1,959"},{"v":2845.694136856531,"d":"2,846"},null,"23 - 27",null,"05021",36]
["91","AMAZONAS","La Victoria (ANM)","91430",10,10,8,null,"BOLIVAR","13",{"$f":"SUMIF($A$3:$A$1122,J6,$E$3:$E$1122)","v":{"v":18473,"d":"18,473"}},{"$f":"SUMIF($A$3:$A$1122,J6,$F$3:$F$1122)","v":{"v":19368,"d":"19,368"}},{"$f":"SUMIF($A$3:$A$1122,J6,$G$3:$G$1122)","v":{"v":20614,"d":"20,614"}},null,210,null,"05030",{"v":6171.284995157562,"d":"6,171"},{"v":14238.837324552624,"d":"14,239"},{"v":20410.122319710186,"d":"20,410"},null,"28 - 32",null,"05030",210]
["91","AMAZONAS","Miriti - Parana (ANM)","91460",18,22,30,null,"CARTAGENA","13001",{"$f":"SUMIF($D$3:$D$1122,J7,$E$3:$E$1122)","v":{"v":16175,"d":"16,175"}},{"$f":"SUMIF($D$3:$D$1122,J7,$F$3:$F$1122)","v":{"v":17942,"d":"17,942"}},{"$f":"SUMIF($D$3:$D$1122,J7,$G$3:$G$1122)","v":{"v":18393,"d":"18,393"}},null,241,null,"05031",{"v":4147.044981757641,"d":"4,147"},{"v":11749.53129031316,"d":"11,750"},{"v":15896.5762720708,"d":"15,897"},null,"33 - 37",null,"05031",241]
["91","AMAZONAS","Puerto Alegria (ANM)","91530",15,17,21,null,"BOYACA","15",{"$f":"SUMIF($A$3:$A$1122,J8,$E$3:$E$1122)","v":{"v":13730,"d":"13,730"}},{"$f":"SUMIF($A$3:$A$1122,J8,$F$3:$F$1122)","v":{"v":14484,"d":"14,484"}},{"$f":"SUMIF($A$3:$A$1122,J8,$G$3:$G$1122)","v":{"v":16894,"d":"16,894"}},null,309,null,"05034",{"v":9365.702273266108,"d":"9,366"},{"v":19530.46625128733,"d":"19,530"},{"v":28896.16852455344,"d":"28,896"},null,"38 - 42",null,"05034",309]
["91","AMAZONAS","Puerto Arica (ANM)","91536",18,19,23,null,"CALDAS","17",{"v":8721,"d":"8,721"},{"v":9217,"d":"9,217"},{"v":10478,"d":"10,478"},null,42,null,"05036",{"v":1066.836937205865,"d":"1,067"},{"v":2547.7763214901283,"d":"2,548"},{"v":3614.6132586959934,"d":"3,615"},null,"43 - 47",null,"05036",42]
["91","AMAZONAS","Puerto Nariño","91540",149,169,195,null,"CAQUETA","18",{"v":6564,"d":"6,564"},{"v":6969,"d":"6,969"},{"v":7426,"d":"7,426"},null,99,null,"05038",{"v":2197.782315206284,"d":"2,198"},{"v":4921.375059993296,"d":"4,921"},{"v":7119.15737519958,"d":"7,119"},null,"48 - 52",null,"05038",99]
["91","AMAZONAS","Puerto Santander (ANM)","91669",37,42,46,null,"CAUCA","19",{"v":19592,"d":"19,592"},{"v":20262,"d":"20,262"},{"v":21724,"d":"21,724"},null,186,null,"05040",{"v":2671.0651902402556,"d":"2,671"},{"v":8141.849470861199,"d":"8,142"},{"v":10812.914661101455,"d":"10,813"},null,"53 - 57",null,"05040",186]
["91","AMAZONAS","Tarapaca (ANM)","91798",78,78,80,null,"CESAR","20",{"v":22660,"d":"22,660"},{"v":23305,"d":"23,305"},{"v":24304,"d":"24,304"},null,205,null,"05042",{"v":5999.859015108241,"d":"6,000"},{"v":11956.810504266472,"d":"11,957"},{"v":17956.669519374715,"d":"17,957"},null,"58 - 59",null,"05042",205]
["05","ANTIOQUIA","Medellin","05001",{"v":25902,"d":"25,902"},{"v":26817,"d":"26,817"},{"v":28016,"d":"28,016"},0,"CORDOBA","23",{"v":27076,"d":"27,076"},{"v":27651,"d":"27,651"},{"v":29670,"d":"29,670"},null,62,null,"05044",{"v":1358.1676167908083,"d":"1,358"},{"v":3057.3034004838505,"d":"3,057"},{"v":4415.471017274659,"d":"4,415"},{"$nulls":3},"05044",62]
["05","ANTIOQUIA","Abejorral","05002",161,167,242,null,"CUNDINAMARCA","25",{"v":33569,"d":"33,569"},{"v":35320,"d":"35,320"},{"v":38650,"d":"38,650"},null,1170,null,"05045",{"v":27992.0872198254,"d":"27,992"},{"v":57525.942936557214,"d":"57,526"},{"v":85518.03015638262,"d":"85,518"},{"$nulls":3},"05045",1170]
["05","ANTIOQUIA","Abriaqui","05004",22,22,27,null,"CHOCO","27",{"v":9300,"d":"9,300"},{"v":10101,"d":"10,101"},{"v":10621,"d":"10,621"},null,311,null,"05051",{"v":5867.756534176431,"d":"5,868"},{"v":12324.385186636726,"d":"12,324"},{"v":18192.141720813157,"d":"18,192"},{"$nulls":3},"05051",311]
["05","ANTIOQUIA","Alejandria","05021",45,46,58,null,"HUILA","41",{"v":17459,"d":"17,459"},{"v":18058,"d":"18,058"},{"v":19914,"d":"19,914"},null,64,null,"05055",{"v":1479.3070379341898,"d":"1,479"},{"v":3096.1828300080533,"d":"3,096"},{"v":4575.489867942243,"d":"4,575"},{"$nulls":3},"05055",64]
["05","ANTIOQUIA","Amaga","05030",269,276,299,null,"LA GUAJIRA","44",{"v":21111,"d":"21,111"},{"v":22144,"d":"22,144"},{"v":23063,"d":"23,063"},null,35,null,"05059",{"v":1349.4973799106415,"d":"1,349"},{"v":2092.3748335694545,"d":"2,092"},{"v":3441.872213480096,"d":"3,442"},{"$nulls":3},"05059",35]
["05","ANTIOQUIA","Amalfi","05031",279,296,347,null,"MAGDALENA","47",{"v":16034,"d":"16,034"},{"v":16613,"d":"16,613"},{"v":17418,"d":"17,418"},null,352,null,"05079",{"v":11339.970730951507,"d":"11,340"},{"v":24777.438244220306,"d":"24,777"},{"v":36117.40897517181,"d":"36,117"},{"$nulls":3},"05079",352]
["05","ANTIOQUIA","Andes","05034",444,457,463,null,"SANTA MARTA","47001",{"$f":"SUMIF($D$3:$D$1122,J19,$E$3:$E$1122)","v":{"v":8239,"d":"8,239"}},{"$f":"SUMIF($D$3:$D$1122,J19,$F$3:$F$1122)","v":{"v":8392,"d":"8,392"}},{"$f":"SUMIF($D$3:$D$1122,J19,$G$3:$G$1122)","v":{"v":8689,"d":"8,689"}},null,57,null,"05086",{"v":839.2399785208316,"d":"839"},{"v":2657.6200289411568,"d":"2,658"},{"v":3496.8600074619885,"d":"3,497"},{"$nulls":3},"05086",57]
["05","ANTIOQUIA","Angelopolis","05036",58,63,69,null,"META","50",{"$f":"SUMIF($A$3:$A$1122,J20,$E$3:$E$1122)","v":{"v":14484,"d":"14,484"}},{"$f":"SUMIF($A$3:$A$1122,J20,$F$3:$F$1122)","v":{"v":15149,"d":"15,149"}},{"$f":"SUMIF($A$3:$A$1122,J20,$G$3:$G$1122)","v":{"v":16175,"d":"16,175"}},null,3486,null,"05088",{"v":122485.21756441255,"d":"122,485"},{"v":261228.18816379242,"d":"261,228"},{"v":383713.405728205,"d":"383,713"},{"$nulls":3},"05088",3486]
["05","ANTIOQUIA","Angostura","05038",120,126,128,null,"NARIÑO","52",{"v":18378,"d":"18,378"},{"v":19033,"d":"19,033"},{"v":20963,"d":"20,963"},null,90,null,"05091",{"v":1788.9995489975752,"d":"1,789"},{"v":4380.244689380187,"d":"4,380"},{"v":6169.2442383777625,"d":"6,169"},{"$nulls":3},"05091",90]
["05","ANTIOQUIA","Anori","05040",228,249,256,null,"NORTE DE SANTANDER","54",{"v":23159,"d":"23,159"},{"v":24048,"d":"24,048"},{"v":24180,"d":"24,180"},null,143,null,"05093",{"v":3170.4671450152327,"d":"3,170"},{"v":6812.072320916586,"d":"6,812"},{"v":9982.539465931819,"d":"9,983"},{"$nulls":3},"05093",143]
["05","ANTIOQUIA","Santafe de Antioquia","05042",322,322,345,null,"QUINDIO","63",{"v":5298,"d":"5,298"},{"v":5665,"d":"5,665"},{"v":6156,"d":"6,156"},null,196,null,"05101",{"v":6918.405531882216,"d":"6,918"},{"v":11320.643073860614,"d":"11,321"},{"v":18239.048605742828,"d":"18,239"},{"$nulls":3},"05101",196]
["05","ANTIOQUIA","Anza","05044",98,98,98,null,"RISARALDA","66",{"v":9914,"d":"9,914"},{"v":10411,"d":"10,411"},{"v":11696,"d":"11,696"},null,78,null,"05107",{"v":1169.1257117154896,"d":"1,169"},{"v":3398.558938219094,"d":"3,399"},{"v":4567.684649934584,"d":"4,568"},{"$nulls":3},"05107",78]
["05","ANTIOQUIA","Apartado","05045",{"v":2103,"d":"2,103"},{"v":2167,"d":"2,167"},{"v":2211,"d":"2,211"},null,"SANTANDER","68",{"v":28187,"d":"28,187"},{"v":28679,"d":"28,679"},{"v":31095,"d":"31,095"},null,94,null,"05113",{"v":1458.9268383851338,"d":"1,459"},{"v":4043.2501144526514,"d":"4,043"},{"v":5502.176952837785,"d":"5,502"},{"$nulls":3},"05113",94]
["05","ANTIOQUIA","Arboletes","05051",485,487,570,null,"SUCRE","70",{"v":13943,"d":"13,943"},{"v":14842,"d":"14,842"},{"v":15586,"d":"15,586"},null,336,null,"05120",{"v":3992.4748351045437,"d":"3,992"},{"v":12034.623090447243,"d":"12,035"},{"v":16027.097925551787,"d":"16,027"},{"$nulls":3},"05120",336]
["05","ANTIOQUIA","Argelia","05055",104,107,110,null,"TOLIMA","73",{"v":15759,"d":"15,759"},{"v":16478,"d":"16,478"},{"v":18368,"d":"18,368"},null,79,null,"05125",{"v":1492.3440860162925,"d":"1,492"},{"v":3638.0658054439427,"d":"3,638"},{"v":5130.4098914602355,"d":"5,130"},{"$nulls":3},"05125",79]
["05","ANTIOQUIA","Armenia","05059",30,33,37,null,"VALLE DEL CAUCA","76",{"v":49048,"d":"49,048"},{"v":51056,"d":"51,056"},{"v":54407,"d":"54,407"},null,466,null,"05129",{"v":26739.874833730886,"d":"26,740"},{"v":39205.196266393505,"d":"39,205"},{"v":65945.07110012439,"d":"65,945"},{"$nulls":3},"05129",466]
["05","ANTIOQUIA","Barbosa","05079",429,443,465,null,"BUENAVENTURA","76109",{"$f":"SUMIF($D$3:$D$1122,J29,$E$3:$E$1122)","v":{"v":4570,"d":"4,570"}},{"$f":"SUMIF($D$3:$D$1122,J29,$F$3:$F$1122)","v":{"v":4637,"d":"4,637"}},{"$f":"SUMIF($D$3:$D$1122,J29,$G$3:$G$1122)","v":{"v":5304,"d":"5,304"}},null,88,null,"05134",{"v":1396.7603176941602,"d":"1,397"},{"v":3824.0138395457398,"d":"3,824"},{"v":5220.7741572399,"d":"5,221"},{"$nulls":3},"05134",88]
["05","ANTIOQUIA","Belmira","05086",54,56,67,null,"ARAUCA","81",{"$f":"SUMIF($A$3:$A$1122,J30,$E$3:$E$1122)","v":{"v":5184,"d":"5,184"}},{"$f":"SUMIF($A$3:$A$1122,J30,$F$3:$F$1122)","v":{"v":5350,"d":"5,350"}},{"$f":"SUMIF($A$3:$A$1122,J30,$G$3:$G$1122)","v":{"v":5180,"d":"5,180"}},null,135,null,"05138",{"v":3429.9439853829294,"d":"3,430"},{"v":6465.336162330793,"d":"6,465"},{"v":9895.280147713722,"d":"9,895"},{"$nulls":3},"05138",135]
["05","ANTIOQUIA","Bello","05088",{"v":4661,"d":"4,661"},{"v":4770,"d":"4,770"},{"v":5037,"d":"5,037"},null,"CASANARE","85",{"v":6518,"d":"6,518"},{"v":6820,"d":"6,820"},{"v":7061,"d":"7,061"},null,31,null,"05142",{"v":1150.758173679516,"d":"1,151"},{"v":1892.4155624908085,"d":"1,892"},{"v":3043.1737361703244,"d":"3,043"},{"$nulls":3},"05142",31]
["05","ANTIOQUIA","Betania","05091",92,95,107,null,"PUTUMAYO","86",{"v":4725,"d":"4,725"},{"v":4933,"d":"4,933"},{"v":5239,"d":"5,239"},null,31,null,"05145",{"v":1226.6800925140058,"d":"1,227"},{"v":1997.9069986347506,"d":"1,998"},{"v":3224.5870911487564,"d":"3,225"},{"$nulls":3},"05145",31]
["05","ANTIOQUIA","Betulia","05093",208,219,240,null,"SAN ANDRES ISLAS","88",727,764,883,null,514,null,"05147",{"v":9392.26951067495,"d":"9,392"},{"v":22490.601905299307,"d":"22,491"},{"v":31882.87141597426,"d":"31,883"},{"$nulls":3},"05147",514]
["05","ANTIOQUIA","Ciudad Bolivar","05101",286,288,334,null,"AMAZONAS","91",480,537,595,null,473,null,"05148",{"v":10882.485464714504,"d":"10,882"},{"v":28286.866715380478,"d":"28,287"},{"v":39169.35218009498,"d":"39,169"},{"$nulls":3},"05148",473]
["05","ANTIOQUIA","Briceño","05107",94,104,115,null,"GUAINIA","94",922,998,{"v":1024,"d":"1,024"},null,22,null,"05150",{"v":996.6098625340239,"d":"997"},{"v":1774.2974309744159,"d":"1,774"},{"v":2770.9072935084396,"d":"2,771"},{"$nulls":3},"05150",22]
["05","ANTIOQUIA","Buritica","05113",104,109,116,null,"GUAVIARE","95",{"v":1347,"d":"1,347"},{"v":1401,"d":"1,401"},{"v":1470,"d":"1,470"},null,933,null,"05154",{"v":19196.00878842335,"d":"19,196"},{"v":40808.299343153245,"d":"40,808"},{"v":60004.308131576596,"d":"60,004"},{"$nulls":3},"05154",933]
["05","ANTIOQUIA","Caceres","05120",432,447,471,null,"VAUPES","97",700,723,779,null,602,null,"05172",{"v":11833.267851628,"d":"11,833"},{"v":25867.548104904177,"d":"25,868"},{"v":37700.81595653218,"d":"37,701"},{"$nulls":3},"05172",602]
["05","ANTIOQUIA","Caicedo","05125",113,113,134,null,"VICHADA","99",{"v":1663,"d":"1,663"},{"v":1715,"d":"1,715"},{"v":1850,"d":"1,850"},null,71,null,"05190",{"v":2762.1542029170823,"d":"2,762"},{"v":4285.020256782697,"d":"4,285"},{"v":7047.17445969978,"d":"7,047"},{"$nulls":3},"05190",71]
["05","ANTIOQUIA","Caldas","05129",776,816,849,{"$nulls":7},124,null,"05197",{"v":3405.512781101544,"d":"3,406"},{"v":6101.552922640141,"d":"6,102"},{"v":9507.065703741686,"d":"9,507"},{"$nulls":3},"05197",124]
["05","ANTIOQUIA","Campamento","05134",87,88,109,null,"TOTAL NACIONAL",null,{"$f":"SUM(K2:K38)","v":{"v":647774,"d":"647,774"}},{"$f":"SUM(L2:L38)","v":{"v":674176,"d":"674,176"}},{"$f":"SUM(M2:M38)","v":{"v":717484,"d":"717,484"}},null,30,null,"05206",{"v":1074.7455315610955,"d":"1,075"},{"v":1999.1549589730712,"d":"1,999"},{"v":3073.9004905341667,"d":"3,074"},{"$nulls":3},"05206",30]
["05","ANTIOQUIA","Cañasgordas","05138",169,174,187,{"$nulls":7},170,null,"05209",{"v":4273.191516850431,"d":"4,273"},{"v":9347.8274598678,"d":"9,348"},{"v":13621.018976718231,"d":"13,621"},{"$nulls":3},"05209",170]
["05","ANTIOQUIA","Caracoli","05142",53,54,55,{"$nulls":7},458,null,"05212",{"v":20820.12620181146,"d":"20,820"},{"v":38560.189474184575,"d":"38,560"},{"v":59380.31567599604,"d":"59,380"},{"$nulls":3},"05212",458]
["05","ANTIOQUIA","Caramanta","05145",42,43,45,{"$nulls":7},264,null,"05234",{"v":3755.3991472473804,"d":"3,755"},{"v":9132.985204880322,"d":"9,133"},{"v":12888.384352127703,"d":"12,888"},{"$nulls":3},"05234",264]
["05","ANTIOQUIA","Carepa","05147",953,963,957,{"$nulls":7},156,null,"05237",{"v":4705.882835598869,"d":"4,706"},{"v":8782.647090912282,"d":"8,783"},{"v":13488.52992651115,"d":"13,489"},{"$nulls":3},"05237",156]
["05","ANTIOQUIA","El Carmen de Viboral","05148",619,625,651,{"$nulls":7},82,null,"05240",{"v":3017.0931266784273,"d":"3,017"},{"v":5066.046685658206,"d":"5,066"},{"v":8083.139812336633,"d":"8,083"},{"$nulls":3},"05240",82]
["05","ANTIOQUIA","Carolina","05150",23,29,33,{"$nulls":7},609,null,"05250",{"v":8835.616207904022,"d":"8,836"},{"v":22020.661351740655,"d":"22,021"},{"v":30856.277559644677,"d":"30,856"},{"$nulls":3},"05250",609]
["05","ANTIOQUIA","Caucasia","05154",{"v":1552,"d":"1,552"},{"v":1633,"d":"1,633"},{"v":1671,"d":"1,671"},{"$nulls":7},102,null,"05264",{"v":1830.4759701337005,"d":"1,830"},{"v":5266.113178461144,"d":"5,266"},{"v":7096.589148594845,"d":"7,097"},{"$nulls":3},"05264",102]
["05","ANTIOQUIA","Chigorodo","05172",{"v":1150,"d":"1,150"},{"v":1197,"d":"1,197"},{"v":1236,"d":"1,236"},{"$nulls":7},1070,null,"05266",{"v":78507.26274909376,"d":"78,507"},{"v":113185.67959582574,"d":"113,186"},{"v":191692.9423449195,"d":"191,693"},{"$nulls":3},"05266",1070]
["05","ANTIOQUIA","Cisneros","05190",126,141,138,{"$nulls":7},165,null,"05282",{"v":5035.608970027185,"d":"5,036"},{"v":10716.149926958058,"d":"10,716"},{"v":15751.758896985244,"d":"15,752"},{"$nulls":3},"05282",165]
["05","ANTIOQUIA","Cocorna","05197",179,184,213,{"$nulls":7},205,null,"05284",{"v":4370.542373551058,"d":"4,371"},{"v":8286.271832898881,"d":"8,286"},{"v":12656.814206449939,"d":"12,657"},{"$nulls":3},"05284",205]
["05","ANTIOQUIA","Concepcion","05206",38,38,50,{"$nulls":7},53,null,"05306",{"v":946.1969964482852,"d":"946"},{"v":2400.137376673076,"d":"2,400"},{"v":3346.334373121361,"d":"3,346"},{"$nulls":3},"05306",53]
["05","ANTIOQUIA","Concordia","05209",191,198,208,{"$nulls":7},333,null,"05308",{"v":14244.845666010206,"d":"14,245"},{"v":25297.45405105821,"d":"25,297"},{"v":39542.29971706841,"d":"39,542"},{"$nulls":3},"05308",333]
["05","ANTIOQUIA","Copacabana","05212",536,551,660,{"$nulls":7},71,null,"05310",{"v":2081.383592710907,"d":"2,081"},{"v":4235.629962586561,"d":"4,236"},{"v":6317.013555297468,"d":"6,317"},{"$nulls":3},"05310",71]
["05","ANTIOQUIA","Dabeiba","05234",339,390,431,{"$nulls":7},83,null,"05313",{"v":2197.3486343720288,"d":"2,197"},{"v":3936.658572925615,"d":"3,937"},{"v":6134.007207297644,"d":"6,134"},{"$nulls":3},"05313",83]
["05","ANTIOQUIA","Don Matias","05237",203,230,240,{"$nulls":7},54,null,"05315",{"v":1224.3602402647748,"d":"1,224"},{"v":2902.288671167155,"d":"2,902"},{"v":4126.64891143193,"d":"4,127"},{"$nulls":3},"05315",54]
["05","ANTIOQUIA","Ebejico","05240",94,99,111,{"$nulls":7},350,null,"05318",{"v":11194.76532519071,"d":"11,195"},{"v":26299.84274384888,"d":"26,300"},{"v":37494.60806903959,"d":"37,495"},{"$nulls":3},"05318",350]
["05","ANTIOQUIA","El Bagre","05250",905,944,{"v":1088,"d":"1,088"},{"$nulls":7},59,null,"05321",{"v":1382.60718756205,"d":"1,383"},{"v":3860.5741523397674,"d":"3,861"},{"v":5243.181339901817,"d":"5,243"},{"$nulls":3},"05321",59]
["05","ANTIOQUIA","Entrerrios","05264",132,145,147,{"$nulls":7},33,null,"05347",{"v":1273.780331108567,"d":"1,274"},{"v":2338.226199167042,"d":"2,338"},{"v":3612.0065302756093,"d":"3,612"},{"$nulls":3},"05347",33]
["05","ANTIOQUIA","Envigado","05266",{"v":1354,"d":"1,354"},{"v":1399,"d":"1,399"},{"v":1578,"d":"1,578"},{"$nulls":7},42,null,"05353",{"v":1152.9169130764951,"d":"1,153"},{"v":2384.639015903302,"d":"2,385"},{"v":3537.5559289797975,"d":"3,538"},{"$nulls":3},"05353",42]
["05","ANTIOQUIA","Fredonia","05282",171,172,192,{"$nulls":7},1572,null,"05360",{"v":90186.95714430991,"d":"90,187"},{"v":137249.42725163192,"d":"137,249"},{"v":227436.38439594183,"d":"227,436"},{"$nulls":3},"05360",1572]
["05","ANTIOQUIA","Frontino","05284",324,378,417,{"$nulls":7},214,null,"05361",{"v":4104.75907529951,"d":"4,105"},{"v":12873.38035739196,"d":"12,873"},{"v":16978.13943269147,"d":"16,978"},{"$nulls":3},"05361",214]
["05","ANTIOQUIA","Giraldo","05306",84,83,104,{"$nulls":7},101,null,"05364",{"v":3672.1481995249924,"d":"3,672"},{"v":6365.422821004507,"d":"6,365"},{"v":10037.5710205295,"d":"10,038"},{"$nulls":3},"05364",101]
["05","ANTIOQUIA","Girardota","05308",491,520,542,{"$nulls":7},87,null,"05368",{"v":3335.0952568009143,"d":"3,335"},{"v":5875.223126827171,"d":"5,875"},{"v":9210.318383628084,"d":"9,210"},{"$nulls":3},"05368",87]
["05","ANTIOQUIA","Gomez Plata","05310",76,79,85,{"$nulls":7},439,null,"05376",{"v":20119.0475097545,"d":"20,119"},{"v":31402.555496228553,"d":"31,403"},{"v":51521.60300598305,"d":"51,522"},{"$nulls":3},"05376",439]
["05","ANTIOQUIA","Granada","05313",151,147,153,{"$nulls":7},420,null,"05380",{"v":14844.53917345053,"d":"14,845"},{"v":35815.79336319916,"d":"35,816"},{"v":50660.332536649694,"d":"50,660"},{"$nulls":3},"05380",420]
["05","ANTIOQUIA","Guadalupe","05315",74,74,75,{"$nulls":7},61,null,"05390",{"v":1506.5143238028961,"d":"1,507"},{"v":3910.4246294573677,"d":"3,910"},{"v":5416.938953260264,"d":"5,417"},{"$nulls":3},"05390",61]
["05","ANTIOQUIA","Guarne","05318",425,451,464,{"$nulls":7},165,null,"05400",{"v":4480.498747171338,"d":"4,480"},{"v":10073.41363256836,"d":"10,073"},{"$f":"R67+S67","v":{"v":14553.912379739697,"d":"14,554"}},{"$nulls":3},"05400",165]
["05","ANTIOQUIA","Guatape","05321",89,93,106,{"$nulls":7},78,null,"05411",{"v":2241.176420754833,"d":"2,241"},{"v":4215.878272273657,"d":"4,216"},{"v":6457.05469302849,"d":"6,457"},{"$nulls":3},"05411",78]
["05","ANTIOQUIA","Heliconia","05347",48,49,55,{"$nulls":7},73,null,"05425",{"v":1917.494804080069,"d":"1,917"},{"v":3408.80638811606,"d":"3,409"},{"v":5326.301192196129,"d":"5,326"},{"$nulls":3},"05425",73]
["05","ANTIOQUIA","Hispania","05353",51,51,62,{"$nulls":7},486,null,"05440",{"v":14103.790729821183,"d":"14,104"},{"v":30773.605132228517,"d":"30,774"},{"v":44877.3958620497,"d":"44,877"},{"$nulls":3},"05440",486]
["05","ANTIOQUIA","Itagui","05360",{"v":2684,"d":"2,684"},{"v":2759,"d":"2,759"},{"v":2992,"d":"2,992"},{"$nulls":7},48,null,"05467",{"v":1599.2283226268028,"d":"1,599"},{"v":2763.967004511842,"d":"2,764"},{"v":4363.195327138645,"d":"4,363"},{"$nulls":3},"05467",48]
["05","ANTIOQUIA","Ituango","05361",259,265,329,{"$nulls":7},72,null,"05475",{"v":508.9264488332675,"d":"509"},{"v":1866.100526966026,"d":"1,866"},{"v":2375.0269757992937,"d":"2,375"},{"$nulls":3},"05475",72]
["05","ANTIOQUIA","Jardin","05364",142,147,173,{"$nulls":7},164,null,"05480",{"v":2557.0923626132385,"d":"2,557"},{"v":5766.804241796038,"d":"5,767"},{"v":8323.896604409276,"d":"8,324"},{"$nulls":3},"05480",164]
["05","ANTIOQUIA","Jerico","05368",98,98,128,{"$nulls":7},84,null,"05483",{"v":2324.562333321101,"d":"2,325"},{"v":4039.2065888223415,"d":"4,039"},{"v":6363.768922143443,"d":"6,364"},{"$nulls":3},"05483",84]
["05","ANTIOQUIA","La Ceja","05376",673,679,787,{"$nulls":7},504,null,"05490",{"v":7816.631103443184,"d":"7,817"},{"v":17646.684003381568,"d":"17,647"},{"v":25463.315106824753,"d":"25,463"},{"$nulls":3},"05490",504]
["05","ANTIOQUIA","La Estrella","05380",514,563,535,{"$nulls":7},315,null,"05495",{"v":3842.8608346562582,"d":"3,843"},{"v":10901.591095709953,"d":"10,902"},{"v":14744.451930366211,"d":"14,744"},{"$nulls":3},"05495",315]
["05","ANTIOQUIA","La Pintada","05390",116,115,124,{"$nulls":7},26,null,"05501",{"v":579.4136700359632,"d":"579"},{"v":1306.4975479972932,"d":"1,306"},{"v":1885.9112180332563,"d":"1,886"},{"$nulls":3},"05501",26]
["05","ANTIOQUIA","La Union","05400",268,270,298,{"$nulls":7},160,null,"05541",{"v":4065.3423605761427,"d":"4,065"},{"v":9432.630868495886,"d":"9,433"},{"v":13497.973229072028,"d":"13,498"},{"$nulls":3},"05541",160]
["05","ANTIOQUIA","Liborina","05411",96,96,122,{"$nulls":7},75,null,"05543",{"v":1422.8017937153081,"d":"1,423"},{"v":3383.9903967691116,"d":"3,384"},{"v":4806.79219048442,"d":"4,807"},{"$nulls":3},"05543",75]
["05","ANTIOQUIA","Maceo","05425",101,108,116,{"$nulls":7},70,null,"05576",{"v":1913.6814023673576,"d":"1,914"},{"v":3650.775471220323,"d":"3,651"},{"v":5564.456873587681,"d":"5,564"},{"$nulls":3},"05576",70]
["05","ANTIOQUIA","Marinilla","05440",764,781,774,{"$nulls":7},318,null,"05579",{"v":9295.198705835504,"d":"9,295"},{"v":18219.84760975754,"d":"18,220"},{"v":27515.046315593045,"d":"27,515"},{"$nulls":3},"05579",318]
["05","ANTIOQUIA","Montebello","05467",56,63,66,{"$nulls":7},120,null,"05585",{"v":2386.6459183347615,"d":"2,387"},{"v":6196.441422646792,"d":"6,196"},{"v":8583.087340981554,"d":"8,583"},{"$nulls":3},"05585",120]
["05","ANTIOQUIA","Murindo","05475",123,125,146,{"$nulls":7},152,null,"05591",{"v":2247.7704567491032,"d":"2,248"},{"v":8661.013731112365,"d":"8,661"},{"v":10908.784187861469,"d":"10,909"},{"$nulls":3},"05591",152]
["05","ANTIOQUIA","Mutata","05480",506,509,536,{"$nulls":7},290,null,"05604",{"v":3850.5398794677453,"d":"3,851"},{"v":12686.5834180168,"d":"12,687"},{"v":16537.123297484544,"d":"16,537"},{"$nulls":3},"05604",290]
["05","ANTIOQUIA","Nariño","05483",125,126,142,{"$nulls":7},147,null,"05607",{"v":4165.02999445316,"d":"4,165"},{"v":11178.44775708775,"d":"11,178"},{"v":15343.47775154091,"d":"15,343"},{"$nulls":3},"05607",147]
["05","ANTIOQUIA","Necocli","05490",914,987,{"v":1098,"d":"1,098"},{"$nulls":7},843,null,"05615",{"v":47761.93219498994,"d":"47,762"},{"v":66586.2861987789,"d":"66,586"},{"v":114348.21839376882,"d":"114,348"},{"$nulls":3},"05615",843]
["05","ANTIOQUIA","Nechi","05495",447,460,511,{"$nulls":7},88,null,"05628",{"v":1439.8379334788892,"d":"1,440"},{"v":3834.6703865451786,"d":"3,835"},{"v":5274.508320024068,"d":"5,275"},{"$nulls":3},"05628",88]
["05","ANTIOQUIA","Olaya","05501",26,27,33,{"$nulls":7},414,null,"05631",{"v":23138.914962293995,"d":"23,139"},{"v":42442.692627809694,"d":"42,443"},{"v":65581.6075901037,"d":"65,582"},{"$nulls":3},"05631",414]
["05","ANTIOQUIA","Peñol","05541",245,246,258,{"$nulls":7},150,null,"05642",{"v":3600.694346210734,"d":"3,601"},{"v":7909.206708844993,"d":"7,909"},{"v":11509.901055055727,"d":"11,510"},{"$nulls":3},"05642",150]
["05","ANTIOQUIA","Peque","05543",105,105,123,{"$nulls":7},69,null,"05647",{"v":1187.2566083181055,"d":"1,187"},{"v":3026.9799537877234,"d":"3,027"},{"v":4214.236562105829,"d":"4,214"},{"$nulls":3},"05647",69]
["05","ANTIOQUIA","Pueblorrico","05576",90,93,105,{"$nulls":7},130,null,"05649",{"v":2938.2230570705237,"d":"2,938"},{"v":6626.564211255897,"d":"6,627"},{"v":9564.787268326421,"d":"9,565"},{"$nulls":3},"05649",130]
["05","ANTIOQUIA","Puerto Berrio","05579",547,551,593,{"$nulls":7},58,null,"05652",{"v":1299.354248557537,"d":"1,299"},{"v":2308.9130171514817,"d":"2,309"},{"v":3608.267265709019,"d":"3,608"},{"$nulls":3},"05652",58]
["05","ANTIOQUIA","Puerto Nare","05585",134,136,137,{"$nulls":7},122,null,"05656",{"v":2990.7276198820887,"d":"2,991"},{"v":7114.779605912481,"d":"7,115"},{"v":10105.50722579457,"d":"10,106"},{"$nulls":3},"05656",122]
["05","ANTIOQUIA","Puerto Triunfo","05591",218,228,229,{"$nulls":7},42,null,"05658",{"v":613.6744195105675,"d":"614"},{"v":1644.331338576112,"d":"1,644"},{"v":2258.0057580866796,"d":"2,258"},{"$nulls":3},"05658",42]
["05","ANTIOQUIA","Remedios","05604",472,479,481,{"$nulls":7},243,null,"05659",{"v":3229.250042533634,"d":"3,229"},{"v":8305.624584417044,"d":"8,306"},{"v":11534.874626950677,"d":"11,535"},{"$nulls":3},"05659",243]
["05","ANTIOQUIA","Retiro","05607",116,132,143,{"$nulls":7},124,null,"05660",{"v":2630.2519827785427,"d":"2,630"},{"v":5433.855717541967,"d":"5,434"},{"v":8064.10770032051,"d":"8,064"},{"$nulls":3},"05660",124]
["05","ANTIOQUIA","Rionegro","05615",{"v":1672,"d":"1,672"},{"v":1776,"d":"1,776"},{"v":1920,"d":"1,920"},{"$nulls":7},178,null,"05664",{"v":4745.807531684249,"d":"4,746"},{"v":10382.384265745348,"d":"10,382"},{"v":15128.191797429598,"d":"15,128"},{"$nulls":3},"05664",178]
["05","ANTIOQUIA","Sabanalarga","05628",120,121,136,{"$nulls":7},329,null,"05665",{"v":5651.369742080486,"d":"5,651"},{"v":13308.20338655412,"d":"13,308"},{"v":18959.573128634605,"d":"18,960"},{"$nulls":3},"05665",329]
["05","ANTIOQUIA","Sabaneta","05631",572,616,663,{"$nulls":7},112,null,"05667",{"v":3239.987460884877,"d":"3,240"},{"v":6670.097729330257,"d":"6,670"},{"v":9910.085190215133,"d":"9,910"},{"$nulls":3},"05667",112]
["05","ANTIOQUIA","Salgar","05642",170,170,189,{"$nulls":7},180,null,"05670",{"v":4210.082694506355,"d":"4,210"},{"v":9182.354771910448,"d":"9,182"},{"v":13392.437466416803,"d":"13,392"},{"$nulls":3},"05670",180]
["05","ANTIOQUIA","San Andres de Cuerquia","05647",90,93,99,{"$nulls":7},160,null,"05674",{"v":3448.929164300173,"d":"3,449"},{"v":9843.604896447356,"d":"9,844"},{"v":13292.534060747528,"d":"13,293"},{"$nulls":3},"05674",160]
["05","ANTIOQUIA","San Carlos","05649",168,181,202,{"$nulls":7},173,null,"05679",{"v":5969.739433420905,"d":"5,970"},{"v":11619.742764827302,"d":"11,620"},{"v":17589.482198248206,"d":"17,589"},{"$nulls":3},"05679",173]
["05","ANTIOQUIA","San Francisco","05652",80,80,112,{"$nulls":7},318,null,"05686",{"v":7278.491440029993,"d":"7,278"},{"v":16924.436374893063,"d":"16,924"},{"v":24202.927814923056,"d":"24,203"},{"$nulls":3},"05686",318]
["05","ANTIOQUIA","San Jeronimo","05656",152,158,168,{"$nulls":7},90,null,"05690",{"v":2181.4689262785546,"d":"2,181"},{"v":5266.805302123182,"d":"5,267"},{"v":7448.274228401737,"d":"7,448"},{"$nulls":3},"05690",90]
["05","ANTIOQUIA","San Jose de La Montaña","05658",49,50,52,{"$nulls":7},315,null,"05697",{"v":5677.686908509981,"d":"5,678"},{"v":15480.974983616445,"d":"15,481"},{"v":21158.661892126423,"d":"21,159"},{"$nulls":3},"05697",315]
["05","ANTIOQUIA","San Juan de Uraba","05659",409,416,444,{"$nulls":7},358,null,"05736",{"v":5876.223183054819,"d":"5,876"},{"v":17463.407109835804,"d":"17,463"},{"v":23339.630292890623,"d":"23,340"},{"$nulls":3},"05736",358]
["05","ANTIOQUIA","San Luis","05660",210,223,239,{"$nulls":7},289,null,"05756",{"v":7404.903434539048,"d":"7,405"},{"v":15880.83985677648,"d":"15,881"},{"v":23285.743291315528,"d":"23,286"},{"$nulls":3},"05756",289]
["05","ANTIOQUIA","San Pedro","05664",307,332,361,{"$nulls":7},114,null,"05761",{"v":2978.219956473555,"d":"2,978"},{"v":6759.595096773451,"d":"6,760"},{"v":9737.815053247006,"d":"9,738"},{"$nulls":3},"05761",114]
["05","ANTIOQUIA","San Pedro de Uraba","05665",555,554,554,{"$nulls":7},108,null,"05789",{"v":4078.2804235156864,"d":"4,078"},{"v":6930.4132921121245,"d":"6,930"},{"v":11008.69371562781,"d":"11,009"},{"$nulls":3},"05789",108]
["05","ANTIOQUIA","San Rafael","05667",168,171,193,{"$nulls":7},316,null,"05790",{"v":4404.337117541634,"d":"4,404"},{"v":11523.048295178327,"d":"11,523"},{"v":15927.385412719961,"d":"15,927"},{"$nulls":3},"05790",316]
["05","ANTIOQUIA","San Roque","05670",214,226,237,{"$nulls":7},45,null,"05792",{"v":1298.210234170433,"d":"1,298"},{"v":2738.4925943000826,"d":"2,738"},{"v":4036.7028284705157,"d":"4,037"},{"$nulls":3},"05792",45]
["05","ANTIOQUIA","San Vicente","05674",174,176,192,{"$nulls":7},70,null,"05809",{"v":2313.4839962921633,"d":"2,313"},{"v":4608.78555909795,"d":"4,609"},{"v":6922.269555390113,"d":"6,922"},{"$nulls":3},"05809",70]
["05","ANTIOQUIA","Santa Barbara","05679",186,189,200,{"$nulls":7},47,null,"05819",{"v":893.2367580608452,"d":"893"},{"v":2100.4992300518707,"d":"2,100"},{"v":2993.735988112716,"d":"2,994"},{"$nulls":3},"05819",47]
["05","ANTIOQUIA","Santa Rosa de Osos","05686",454,479,518,{"$nulls":7},1426,null,"05837",{"v":21518.50154231753,"d":"21,519"},{"v":53906.8001710284,"d":"53,907"},{"v":75425.30171334592,"d":"75,425"},{"$nulls":3},"05837",1426]
["05","ANTIOQUIA","Santo Domingo","05690",64,75,100,{"$nulls":7},63,null,"05842",{"v":1349.2593565612322,"d":"1,349"},{"v":2795.802941702672,"d":"2,796"},{"v":4145.062298263904,"d":"4,145"},{"$nulls":3},"05842",63]
["05","ANTIOQUIA","El Santuario","05697",510,520,518,{"$nulls":7},293,null,"05847",{"v":5560.206554380865,"d":"5,560"},{"v":12830.425633922725,"d":"12,830"},{"v":18390.63218830359,"d":"18,391"},{"$nulls":3},"05847",293]
["05","ANTIOQUIA","Segovia","05736",619,635,668,{"$nulls":7},144,null,"05854",{"v":2306.916749732971,"d":"2,307"},{"v":5902.119423865126,"d":"5,902"},{"v":8209.036173598097,"d":"8,209"},{"$nulls":3},"05854",144]
["05","ANTIOQUIA","Sonson","05756",404,416,421,{"$nulls":7},40,null,"05856",{"v":1410.8915205551857,"d":"1,411"},{"v":2798.765915599374,"d":"2,799"},{"v":4209.657436154559,"d":"4,210"},{"$nulls":3},"05856",40]
["05","ANTIOQUIA","Sopetran","05761",146,148,148,{"$nulls":7},101,null,"05858",{"v":2711.431723962201,"d":"2,711"},{"v":5218.9622604652795,"d":"5,219"},{"v":7930.393984427481,"d":"7,930"},{"$nulls":3},"05858",101]
["05","ANTIOQUIA","Tamesis","05789",134,134,156,{"$nulls":7},73,null,"05861",{"v":2725.7518136607196,"d":"2,726"},{"v":5210.787482994742,"d":"5,211"},{"v":7936.539296655462,"d":"7,937"},{"$nulls":3},"05861",73]
["05","ANTIOQUIA","Taraza","05790",461,495,519,{"$nulls":7},120,null,"05873",{"v":1008.9423693437334,"d":"1,009"},{"v":3525.5675173575532,"d":"3,526"},{"v":4534.509886701287,"d":"4,535"},{"$nulls":3},"05873",120]
["05","ANTIOQUIA","Tarso","05792",63,67,77,{"$nulls":7},65,null,"05885",{"v":1368.7694900600804,"d":"1,369"},{"v":3274.401413582168,"d":"3,274"},{"v":4643.170903642249,"d":"4,643"},{"$nulls":3},"05885",65]
["05","ANTIOQUIA","Titiribi","05809",64,72,83,{"$nulls":7},376,null,"05887",{"v":9806.776423683063,"d":"9,807"},{"v":18676.103579858653,"d":"18,676"},{"v":28482.880003541715,"d":"28,483"},{"$nulls":3},"05887",376]
["05","ANTIOQUIA","Toledo","05819",58,58,78,{"$nulls":7},194,null,"05890",{"v":4814.568081170635,"d":"4,815"},{"v":9850.01357454052,"d":"9,850"},{"v":14664.581655711156,"d":"14,665"},{"$nulls":3},"05890",194]
["05","ANTIOQUIA","Turbo","05837",{"v":2627,"d":"2,627"},{"v":2649,"d":"2,649"},{"v":2720,"d":"2,720"},{"$nulls":7},210,null,"05893",{"v":1864.5768084570736,"d":"1,865"},{"v":8280.034203834999,"d":"8,280"},{"v":10144.611012292073,"d":"10,145"},{"$nulls":3},"05893",210]
["05","ANTIOQUIA","Uramita","05842",79,87,106,{"$nulls":7},287,null,"05895",{"v":3806.8108659771033,"d":"3,807"},{"v":10412.966545815787,"d":"10,413"},{"v":14219.77741179289,"d":"14,220"},{"$nulls":3},"05895",287]
["05","ANTIOQUIA","Urrao","05847",400,439,489,{"$nulls":7},9732,null,"08001",{"v":416578.83684553055,"d":"416,579"},{"v":567748.670922083,"d":"567,749"},{"v":984327.5077676135,"d":"984,328"},{"$nulls":3},"08001",9732]
["05","ANTIOQUIA","Valdivia","05854",226,237,270,{"$nulls":7},560,null,"08078",{"v":13718.292514416644,"d":"13,718"},{"v":29383.440979512263,"d":"29,383"},{"v":43101.73349392891,"d":"43,102"},{"$nulls":3},"08078",560]
["05","ANTIOQUIA","Valparaiso","05856",50,53,55,{"$nulls":7},223,null,"08137",{"v":5156.1095770761085,"d":"5,156"},{"v":9896.015473962023,"d":"9,896"},{"v":15052.125051038132,"d":"15,052"},{"$nulls":3},"08137",223]
["05","ANTIOQUIA","Vegachi","05858",188,193,197,{"$nulls":7},162,null,"08141",{"v":2810.2220807866365,"d":"2,810"},{"v":7280.31864621798,"d":"7,280"},{"v":10090.540727004616,"d":"10,091"},{"$nulls":3},"08141",162]
["05","ANTIOQUIA","Venecia","05861",112,112,116,{"$nulls":7},609,null,"08296",{"v":8307.486941915802,"d":"8,307"},{"v":29392.874932875162,"d":"29,393"},{"$f":"R131+S131","v":{"v":37700.361874790964,"d":"37,700"}},{"$nulls":3},"08296",609]
["05","ANTIOQUIA","Vigia del Fuerte","05873",136,163,186,{"$nulls":7},182,null,"08372",{"v":3453.832239695709,"d":"3,454"},{"v":10013.302669787468,"d":"10,013"},{"v":13467.134909483178,"d":"13,467"},{"$nulls":3},"08372",182]
["05","ANTIOQUIA","Yali","05885",69,69,97,{"$nulls":7},294,null,"08421",{"v":5553.894555530581,"d":"5,554"},{"v":12729.388993139288,"d":"12,729"},{"v":18283.283548669868,"d":"18,283"},{"$nulls":3},"08421",294]
["05","ANTIOQUIA","Yarumal","05887",534,557,582,{"$nulls":7},1289,null,"08433",{"v":21923.14271000514,"d":"21,923"},{"v":61300.9550262486,"d":"61,301"},{"v":83224.09773625374,"d":"83,224"},{"$nulls":3},"08433",1289]
["05","ANTIOQUIA","Yolombo","05890",201,209,230,{"$nulls":7},213,null,"08436",{"v":3517.64058536587,"d":"3,518"},{"v":8943.209908809087,"d":"8,943"},{"v":12460.850494174956,"d":"12,461"},{"$nulls":3},"08436",213]
["05","ANTIOQUIA","Yondo","05893",278,285,318,{"$nulls":7},264,null,"08520",{"v":4215.392284764988,"d":"4,215"},{"v":13606.379717949067,"d":"13,606"},{"v":17821.772002714053,"d":"17,822"},{"$nulls":3},"08520",264]
["05","ANTIOQUIA","Zaragoza","05895",439,454,463,{"$nulls":7},57,null,"08549",{"v":908.0091400246384,"d":"908"},{"v":3103.564017009442,"d":"3,104"},{"v":4011.5731570340804,"d":"4,012"},{"$nulls":3},"08549",57]
["81","ARAUCA","Arauca","81001",{"v":1632,"d":"1,632"},{"v":1651,"d":"1,651"},{"v":1558,"d":"1,558"},{"$nulls":7},176,null,"08558",{"v":3242.932594946707,"d":"3,243"},{"v":8415.559542232342,"d":"8,416"},{"v":11658.49213717905,"d":"11,658"},{"$nulls":3},"08558",176]
["81","ARAUCA","Arauquita","81065",{"v":1001,"d":"1,001"},{"v":1014,"d":"1,014"},976,{"$nulls":7},246,null,"08560",{"v":3823.520545428777,"d":"3,824"},{"v":10963.233692084488,"d":"10,963"},{"v":14786.754237513265,"d":"14,787"},{"$nulls":3},"08560",246]
["81","ARAUCA","Cravo Norte","81220",87,90,85,{"$nulls":7},415,null,"08573",{"v":7523.748486218006,"d":"7,524"},{"v":24127.57554522841,"d":"24,128"},{"v":31651.324031446416,"d":"31,651"},{"$nulls":3},"08573",415]
["81","ARAUCA","Fortul","81300",426,435,413,{"$nulls":7},265,null,"08606",{"v":5133.5687406195575,"d":"5,134"},{"v":11796.525720978027,"d":"11,797"},{"v":16930.094461597582,"d":"16,930"},{"$nulls":3},"08606",265]
["81","ARAUCA","Puerto Rondon","81591",93,93,91,{"$nulls":7},312,null,"08634",{"v":5710.889007663314,"d":"5,711"},{"v":15444.177974275859,"d":"15,444"},{"v":21155.066981939173,"d":"21,155"},{"$nulls":3},"08634",312]
["81","ARAUCA","Saravena","81736",926,{"v":1009,"d":"1,009"},{"v":1042,"d":"1,042"},{"$nulls":7},892,null,"08638",{"v":25710.075743161062,"d":"25,710"},{"v":42967.51953374475,"d":"42,968"},{"v":68677.5952769058,"d":"68,678"},{"$nulls":3},"08638",892]
["81","ARAUCA","Tame","81794",{"v":1019,"d":"1,019"},{"v":1058,"d":"1,058"},{"v":1015,"d":"1,015"},{"$nulls":7},168,null,"08675",{"v":2363.8235094993865,"d":"2,364"},{"v":7245.812509447201,"d":"7,246"},{"v":9609.636018946587,"d":"9,610"},{"$nulls":3},"08675",168]
[null,"ATLANTICO","Barranquilla","08001",{"v":19802,"d":"19,802"},{"v":20849,"d":"20,849"},{"v":22374,"d":"22,374"},{"$nulls":7},257,null,"08685",{"v":6719.39248693014,"d":"6,719"},{"v":14129.274118618,"d":"14,129"},{"v":20848.66660554814,"d":"20,849"},{"$nulls":3},"08685",257]
["08","ATLANTICO","Baranoa","08078",890,901,957,{"$nulls":7},5571,null,"08758",{"v":124036.06707881004,"d":"124,036"},{"v":300069.92736451456,"d":"300,070"},{"v":424105.9944433246,"d":"424,106"},{"$nulls":3},"08758",5571]
["08","ATLANTICO","Campo de La Cruz","08137",408,423,467,{"$nulls":7},123,null,"08770",{"v":2014.044567169164,"d":"2,014"},{"v":5388.507128763856,"d":"5,389"},{"v":7402.55169593302,"d":"7,403"},{"$nulls":3},"08770",123]
["08","ATLANTICO","Candelaria","08141",308,305,301,{"$nulls":7},156,null,"08832",{"v":2299.5448514525015,"d":"2,300"},{"v":8268.845308513659,"d":"8,269"},{"v":10568.39015996616,"d":"10,568"},{"$nulls":3},"08832",156]
["08","ATLANTICO","Galapa","08296",915,978,{"v":1006,"d":"1,006"},{"$nulls":7},106,null,"08849",{"v":1728.0649348153784,"d":"1,728"},{"v":5758.024656322836,"d":"5,758"},{"v":7486.089591138214,"d":"7,486"},{"$nulls":3},"08849",106]
["08","ATLANTICO","Juan de Acosta","08372",298,302,309,{"$nulls":7},47156,null,"11001",{"v":2143018.610962818,"d":"2,143,019"},{"v":3649790.554641446,"d":"3,649,791"},{"v":5792809.165604264,"d":"5,792,809"},{"$nulls":3},"11001",47156]
["08","ATLANTICO","Luruaco","08421",554,540,548,{"$nulls":7},8174,null,"13001",{"v":279776.29714552325,"d":"279,776"},{"v":459113.8550994013,"d":"459,114"},{"v":738890.1522449246,"d":"738,890"},{"$nulls":3},"13001",8174]
["08","ATLANTICO","Malambo","08433",{"v":2154,"d":"2,154"},{"v":2268,"d":"2,268"},{"v":2304,"d":"2,304"},{"$nulls":7},239,null,"13006",{"v":4662.194538606657,"d":"4,662"},{"v":10202.613790097235,"d":"10,203"},{"v":14864.808328703893,"d":"14,865"},{"$nulls":3},"13006",239]
["08","ATLANTICO","Manati","08436",347,376,413,{"$nulls":7},132,null,"13030",{"v":1665.4078883668412,"d":"1,665"},{"v":4615.732692845633,"d":"4,616"},{"v":6281.140581212474,"d":"6,281"},{"$nulls":3},"13030",132]
["08","ATLANTICO","Palmar de Varela","08520",487,496,510,{"$nulls":7},79,null,"13042",{"v":1179.8445774783731,"d":"1,180"},{"v":3172.1030718632146,"d":"3,172"},{"v":4351.947649341588,"d":"4,352"},{"$nulls":3},"13042",79]
["08","ATLANTICO","Piojo","08549",66,73,79,{"$nulls":7},665,null,"13052",{"v":13400.571438427098,"d":"13,401"},{"v":31834.66052800091,"d":"31,835"},{"v":45235.23196642801,"d":"45,235"},{"$nulls":3},"13052",665]
["08","ATLANTICO","Polonuevo","08558",272,262,280,{"$nulls":7},77,null,"13062",{"v":2028.1744854334065,"d":"2,028"},{"v":3667.844278602388,"d":"3,668"},{"v":5696.018764035794,"d":"5,696"},{"$nulls":3},"13062",77]
["08","ATLANTICO","Ponedera","08560",422,426,438,{"$nulls":7},169,null,"13074",{"v":2639.9381261758817,"d":"2,640"},{"v":6093.676027707777,"d":"6,094"},{"v":8733.61415388366,"d":"8,734"},{"$nulls":3},"13074",169]
["08","ATLANTICO","Puerto Colombia","08573",474,481,481,{"$nulls":7},215,null,"13140",{"v":4921.978793071043,"d":"4,922"},{"v":9656.260752771686,"d":"9,656"},{"v":14578.239545842729,"d":"14,578"},{"$nulls":3},"13140",215]
["08","ATLANTICO","Repelon","08606",512,512,531,{"$nulls":7},84,null,"13160",{"v":952.6372103564263,"d":"953"},{"v":3731.6842664196306,"d":"3,732"},{"v":4684.321476776056,"d":"4,684"},{"$nulls":3},"13160",84]
["08","ATLANTICO","Sabanagrande","08634",470,497,512,{"$nulls":7},150,null,"13188",{"v":2669.1556187094916,"d":"2,669"},{"v":5817.9555852832345,"d":"5,818"},{"v":8487.111203992727,"d":"8,487"},{"$nulls":3},"13188",150]
["08","ATLANTICO","Sabanalarga","08638",{"v":1456,"d":"1,456"},{"v":1494,"d":"1,494"},{"v":1645,"d":"1,645"},{"$nulls":7},145,null,"13212",{"v":2928.999618380547,"d":"2,929"},{"v":6880.115667839385,"d":"6,880"},{"v":9809.115286219932,"d":"9,809"},{"$nulls":3},"13212",145]
["08","ATLANTICO","Santa Lucia","08675",251,251,276,{"$nulls":7},152,null,"13222",{"v":2319.7907542052744,"d":"2,320"},{"v":6525.349298729142,"d":"6,525"},{"v":8845.140052934417,"d":"8,845"},{"$nulls":3},"13222",152]
["08","ATLANTICO","Santo Tomas","08685",435,444,455,{"$nulls":7},660,null,"13244",{"v":15759.343960184542,"d":"15,759"},{"v":30471.207119730163,"d":"30,471"},{"v":46230.5510799147,"d":"46,231"},{"$nulls":3},"13244",660]
["08","ATLANTICO","Soledad","08758",{"v":9998,"d":"9,998"},{"v":10042,"d":"10,042"},{"v":10950,"d":"10,950"},{"$nulls":7},71,null,"13248",{"v":2017.829310251443,"d":"2,018"},{"v":3749.725288429594,"d":"3,750"},{"v":5767.5545986810375,"d":"5,768"},{"$nulls":3},"13248",71]
["08","ATLANTICO","Suan","08770",206,212,214,{"$nulls":7},84,null,"13268",{"v":1396.8354078508312,"d":"1,397"},{"v":3171.250820445608,"d":"3,171"},{"v":4568.086228296439,"d":"4,568"},{"$nulls":3},"13268",84]
["08","ATLANTICO","Tubara","08832",143,148,159,{"$nulls":7},146,null,"13300",{"v":2348.9489311079597,"d":"2,349"},{"v":5139.925434841009,"d":"5,140"},{"v":7488.874365948968,"d":"7,489"},{"$nulls":3},"13300",146]
["08","ATLANTICO","Usiacuri","08849",131,134,147,{"$nulls":7},1293,null,"13430",{"v":34431.59337782093,"d":"34,432"},{"v":59035.06231834375,"d":"59,035"},{"v":93466.65569616467,"d":"93,467"},{"$nulls":3},"13430",1293]
["11","BOGOTA","Bogota, D.C.","11001",{"v":90967,"d":"90,967"},{"v":93996,"d":"93,996"},{"v":96930,"d":"96,930"},{"$nulls":7},262,null,"13433",{"v":5399.470415270276,"d":"5,399"},{"v":12477.636988314964,"d":"12,478"},{"v":17877.10740358524,"d":"17,877"},{"$nulls":3},"13433",262]
[null,"BOLIVAR","Cartagena","13001",{"v":16175,"d":"16,175"},{"v":17942,"d":"17,942"},{"v":18393,"d":"18,393"},{"$nulls":7},101,null,"13440",{"v":2296.145174623928,"d":"2,296"},{"v":4373.2613839272335,"d":"4,373"},{"v":6669.406558551162,"d":"6,669"},{"$nulls":3},"13440",101]
["13","BOLIVAR","Achi","13006",352,388,412,{"$nulls":7},481,null,"13442",{"v":9251.904761957001,"d":"9,252"},{"v":19975.604844771777,"d":"19,976"},{"v":29227.509606728778,"d":"29,228"},{"$nulls":3},"13442",481]
["13","BOLIVAR","Altos del Rosario","13030",203,229,235,{"$nulls":7},179,null,"13458",{"v":1736.0130351421458,"d":"1,736"},{"v":7350.279940313381,"d":"7,350"},{"v":9086.292975455526,"d":"9,086"},{"$nulls":3},"13458",179]
["13","BOLIVAR","Arenal","13042",153,161,187,{"$nulls":7},453,null,"13468",{"v":12276.429777968795,"d":"12,276"},{"v":19100.984969206926,"d":"19,101"},{"v":31377.41474717572,"d":"31,377"},{"$nulls":3},"13468",453]
["13","BOLIVAR","Arjona","13052",{"v":1108,"d":"1,108"},{"v":1202,"d":"1,202"},{"v":1215,"d":"1,215"},{"$nulls":7},229,null,"13473",{"v":2516.514231819654,"d":"2,517"},{"v":9773.7965655286,"d":"9,774"},{"v":12290.310797348255,"d":"12,290"},{"$nulls":3},"13473",229]
["13","BOLIVAR","Arroyohondo","13062",151,144,161,{"$nulls":7},105,null,"13490",{"v":812.7905068120904,"d":"813"},{"v":4165.184939080203,"d":"4,165"},{"v":4977.975445892293,"d":"4,978"},{"$nulls":3},"13490",105]
["13","BOLIVAR","Barranco de Loba","13074",349,365,390,{"$nulls":7},258,null,"13549",{"v":4181.837957851693,"d":"4,182"},{"v":10076.701381636973,"d":"10,077"},{"v":14258.539339488667,"d":"14,259"},{"$nulls":3},"13549",258]
["13","BOLIVAR","Calamar","13140",366,400,430,{"$nulls":7},81,null,"13580",{"v":970.9477393957371,"d":"971"},{"v":2959.855563046114,"d":"2,960"},{"v":3930.8033024418514,"d":"3,931"},{"$nulls":3},"13580",81]
["13","BOLIVAR","Cantagallo","13160",130,130,149,{"$nulls":7},95,null,"13600",{"v":1583.0652112768717,"d":"1,583"},{"v":4499.539026385008,"d":"4,500"},{"v":6082.604237661879,"d":"6,083"},{"$nulls":3},"13600",95]
["13","BOLIVAR","Cicuco","13188",315,317,327,{"$nulls":7},75,null,"13620",{"v":1858.4779429703337,"d":"1,858"},{"v":3613.417222701706,"d":"3,613"},{"v":5471.89516567204,"d":"5,472"},{"$nulls":3},"13620",75]
["13","BOLIVAR","Cordoba","13212",225,255,251,{"$nulls":7},170,null,"13647",{"v":3485.429059918162,"d":"3,485"},{"v":8118.5528403075505,"d":"8,119"},{"v":11603.981900225712,"d":"11,604"},{"$nulls":3},"13647",170]
["13","BOLIVAR","Clemencia","13222",259,266,283,{"$nulls":7},129,null,"13650",{"v":2289.296434573494,"d":"2,289"},{"v":5140.077987467111,"d":"5,140"},{"v":7429.374422040604,"d":"7,429"},{"$nulls":3},"13650",129]
["13","BOLIVAR","El Carmen de Bolivar","13244",{"v":1145,"d":"1,145"},{"v":1250,"d":"1,250"},{"v":1372,"d":"1,372"},{"$nulls":7},216,null,"13654",{"v":5769.669192213814,"d":"5,770"},{"v":10240.585126578851,"d":"10,241"},{"v":16010.254318792666,"d":"16,010"},{"$nulls":3},"13654",216]
["13","BOLIVAR","El Guamo","13248",132,132,137,{"$nulls":7},108,null,"13655",{"v":1787.9368409947765,"d":"1,788"},{"v":4350.033220214342,"d":"4,350"},{"v":6137.970061209118,"d":"6,138"},{"$nulls":3},"13655",108]
["13","BOLIVAR","El Peñon","13268",132,132,150,{"$nulls":7},315,null,"13657",{"v":8995.11531775144,"d":"8,995"},{"v":16402.484887445353,"d":"16,402"},{"v":25397.600205196795,"d":"25,398"},{"$nulls":3},"13657",315]
["13","BOLIVAR","Hatillo de Loba","13300",313,317,332,{"$nulls":7},150,null,"13667",{"v":2698.513306815781,"d":"2,699"},{"v":5977.93931429459,"d":"5,978"},{"v":8676.452621110371,"d":"8,676"},{"$nulls":3},"13667",150]
["13","BOLIVAR","Magangue","13430",{"v":2054,"d":"2,054"},{"v":2199,"d":"2,199"},{"v":2481,"d":"2,481"},{"$nulls":7},312,null,"13670",{"v":3269.289799836143,"d":"3,269"},{"v":12076.71763495397,"d":"12,077"},{"v":15346.007434790114,"d":"15,346"},{"$nulls":3},"13670",312]
["13","BOLIVAR","Mahates","13433",416,431,456,{"$nulls":7},137,null,"13673",{"v":2361.200005915339,"d":"2,361"},{"v":6360.762919402058,"d":"6,361"},{"v":8721.962925317397,"d":"8,722"},{"$nulls":3},"13673",137]
["13","BOLIVAR","Margarita","13440",134,140,155,{"$nulls":7},212,null,"13683",{"v":3547.994356650494,"d":"3,548"},{"v":9742.457393515053,"d":"9,742"},{"v":13290.451750165546,"d":"13,290"},{"$nulls":3},"13683",212]
["13","BOLIVAR","Maria La Baja","13442",906,956,989,{"$nulls":7},356,null,"13688",{"v":3778.0700429383332,"d":"3,778"},{"v":14945.808610849408,"d":"14,946"},{"v":18723.878653787742,"d":"18,724"},{"$nulls":3},"13688",356]
["13","BOLIVAR","Montecristo","13458",212,224,247,{"$nulls":7},183,null,"13744",{"v":2622.8173080592546,"d":"2,623"},{"v":8155.682436094731,"d":"8,156"},{"v":10778.499744153985,"d":"10,778"},{"$nulls":3},"13744",183]
["13","BOLIVAR","Mompos","13468",915,918,947,{"$nulls":7},91,null,"13760",{"v":2110.7016776971864,"d":"2,111"},{"v":4638.873482764044,"d":"4,639"},{"v":6749.575160461231,"d":"6,750"},{"$nulls":3},"13760",91]
["13","BOLIVAR","Morales","13473",260,262,313,{"$nulls":7},139,null,"13780",{"v":2481.3381518161873,"d":"2,481"},{"v":5365.387712707217,"d":"5,365"},{"v":7846.725864523405,"d":"7,847"},{"$nulls":3},"13780",139]
["13","BOLIVAR","Norosi","13490",121,147,154,{"$nulls":7},222,null,"13810",{"v":2770.6351401868587,"d":"2,771"},{"v":7497.469975898119,"d":"7,497"},{"v":10268.105116084978,"d":"10,268"},{"$nulls":3},"13810",222]
["13","BOLIVAR","Pinillos","13549",413,451,475,{"$nulls":7},942,null,"13836",{"v":17740.12268078864,"d":"17,740"},{"v":50578.69354076958,"d":"50,579"},{"v":68318.81622155823,"d":"68,319"},{"$nulls":3},"13836",942]
["13","BOLIVAR","Regidor","13580",168,170,175,{"$nulls":7},146,null,"13838",{"v":2806.4478995462514,"d":"2,806"},{"v":7599.071085733614,"d":"7,599"},{"v":10405.518985279865,"d":"10,406"},{"$nulls":3},"13838",146]
["13","BOLIVAR","Rio Viejo","13600",166,166,174,{"$nulls":7},246,null,"13873",{"v":3873.801867364773,"d":"3,874"},{"v":10722.519087201708,"d":"10,723"},{"$f":"R195+S195","v":{"v":14596.320954566481,"d":"14,596"}},{"$nulls":3},"13873",246]
["13","BOLIVAR","San Cristobal","13620",125,126,139,{"$nulls":7},108,null,"13894",{"v":2353.589863528606,"d":"2,354"},{"v":5146.789892465085,"d":"5,147"},{"v":7500.379755993692,"d":"7,500"},{"$nulls":3},"13894",108]
["13","BOLIVAR","San Estanislao","13647",242,254,301,{"$nulls":7},1255,null,"15001",{"v":49408.511837492304,"d":"49,409"},{"v":83160.72479568531,"d":"83,161"},{"v":132569.2366331776,"d":"132,569"},{"$nulls":3},"15001",1255]
["13","BOLIVAR","San Fernando","13650",180,194,204,{"$nulls":7},10,null,"15022",{"v":490.08730799010726,"d":"490"},{"v":702.7881856715871,"d":"703"},{"v":1192.8754936616945,"d":"1,193"},{"$nulls":3},"15022",10]
["13","BOLIVAR","San Jacinto","13654",361,378,404,{"$nulls":7},138,null,"15047",{"v":2904.529527282023,"d":"2,905"},{"v":6521.596374787864,"d":"6,522"},{"v":9426.125902069887,"d":"9,426"},{"$nulls":3},"15047",138]
["13","BOLIVAR","San Jacinto del Cauca","13655",142,150,192,{"$nulls":7},49,null,"15051",{"v":994.4312802999709,"d":"994"},{"v":2560.572950510447,"d":"2,561"},{"v":3555.0042308104175,"d":"3,555"},{"$nulls":3},"15051",49]
["13","BOLIVAR","San Juan Nepomuceno","13657",575,576,592,{"$nulls":7},60,null,"15087",{"v":1677.8444291662563,"d":"1,678"},{"v":3142.843853125236,"d":"3,143"},{"v":4820.688282291492,"d":"4,821"},{"$nulls":3},"15087",60]
["13","BOLIVAR","San Martin de Loba","13667",463,471,487,{"$nulls":7},10,null,"15090",{"v":435.4651686805626,"d":"435"},{"v":612.8653973504604,"d":"613"},{"v":1048.330566031023,"d":"1,048"},{"$nulls":3},"15090",10]
["13","BOLIVAR","San Pablo","13670",628,628,634,{"$nulls":7},12,null,"15092",{"v":492.83180998108094,"d":"493"},{"v":778.7975633984062,"d":"779"},{"v":1271.629373379487,"d":"1,272"},{"$nulls":3},"15092",12]
["13","BOLIVAR","Santa Catalina","13673",217,241,250,{"$nulls":7},37,null,"15097",{"v":1613.6479494851878,"d":"1,614"},{"v":1866.9741522454042,"d":"1,867"},{"v":3480.622101730592,"d":"3,481"},{"$nulls":3},"15097",37]
["13","BOLIVAR","Santa Rosa","13683",351,351,382,{"$nulls":7},41,null,"15104",{"v":1156.8655779441124,"d":"1,157"},{"v":2053.193939217617,"d":"2,053"},{"v":3210.059517161729,"d":"3,210"},{"$nulls":3},"15104",41]
["13","BOLIVAR","Santa Rosa del Sur","13688",914,966,867,{"$nulls":7},16,null,"15106",{"v":473.6809989386191,"d":"474"},{"v":875.7004272984615,"d":"876"},{"v":1349.3814262370806,"d":"1,349"},{"$nulls":3},"15106",16]
["13","BOLIVAR","Simiti","13744",344,344,367,{"$nulls":7},32,null,"15109",{"v":1123.796020267184,"d":"1,124"},{"v":1785.531951477891,"d":"1,786"},{"v":2909.327971745075,"d":"2,909"},{"$nulls":3},"15109",32]
["13","BOLIVAR","Soplaviento","13760",142,143,153,{"$nulls":7},5,null,"15114",{"v":174.08953040511395,"d":"174"},{"v":465.1612155666773,"d":"465"},{"v":639.2507459717913,"d":"639"},{"$nulls":3},"15114",5]
["13","BOLIVAR","Talaigua Nuevo","13780",244,244,284,{"$nulls":7},24,null,"15131",{"v":737.8667022450865,"d":"738"},{"v":1266.0538373285258,"d":"1,266"},{"v":2003.9205395736121,"d":"2,004"},{"$nulls":3},"15131",24]
["13","BOLIVAR","Tiquisio","13810",490,540,599,{"$nulls":7},28,null,"15135",{"v":669.195194804008,"d":"669"},{"v":1195.6280150562186,"d":"1,196"},{"v":1864.8232098602266,"d":"1,865"},{"$nulls":3},"15135",28]
["13","BOLIVAR","Turbaco","13836",{"v":1163,"d":"1,163"},{"v":1179,"d":"1,179"},{"v":1282,"d":"1,282"},{"$nulls":7},24,null,"15162",{"v":865.9367179172044,"d":"866"},{"v":1561.6723572243477,"d":"1,562"},{"v":2427.6090751415522,"d":"2,428"},{"$nulls":3},"15162",24]
["13","BOLIVAR","Turbana","13838",247,259,282,{"$nulls":7},22,null,"15172",{"v":798.1132411894184,"d":"798"},{"v":1237.014580811101,"d":"1,237"},{"v":2035.1278220005195,"d":"2,035"},{"$nulls":3},"15172",22]
["13","BOLIVAR","Villanueva","13873",354,366,378,{"$nulls":7},466,null,"15176",{"v":14205.657503000844,"d":"14,206"},{"v":25785.908725439618,"d":"25,786"},{"v":39991.56622844046,"d":"39,992"},{"$nulls":3},"15176",466]
["13","BOLIVAR","Zambrano","13894",193,206,220,{"$nulls":7},29,null,"15180",{"v":921.1178347454982,"d":"921"},{"v":1534.17348294656,"d":"1,534"},{"v":2455.2913176920583,"d":"2,455"},{"$nulls":3},"15180",29]
["15","BOYACA","Tunja","15001",{"v":2081,"d":"2,081"},{"v":2272,"d":"2,272"},{"v":2648,"d":"2,648"},{"$nulls":7},79,null,"15183",{"v":1789.1982981590827,"d":"1,789"},{"v":2888.5177130263273,"d":"2,889"},{"v":4677.71601118541,"d":"4,678"},{"$nulls":3},"15183",79]
["15","BOYACA","Almeida","15022",15,17,17,{"$nulls":7},51,null,"15185",{"v":1096.6164037054923,"d":"1,097"},{"v":2397.971575534983,"d":"2,398"},{"v":3494.5879792404753,"d":"3,495"},{"$nulls":3},"15185",51]
["15","BOYACA","Aquitania","15047",185,204,211,{"$nulls":7},27,null,"15187",{"v":524.6676298986182,"d":"525"},{"v":1108.854105639687,"d":"1,109"},{"v":1633.5217355383052,"d":"1,634"},{"$nulls":3},"15187",27]
["15","BOYACA","Arcabuco","15051",71,72,78,{"$nulls":7},40,null,"15189",{"v":953.8768884267586,"d":"954"},{"v":1846.4451952388117,"d":"1,846"},{"v":2800.32208366557,"d":"2,800"},{"$nulls":3},"15189",40]
["15","BOYACA","Belen","15087",79,80,122,{"$nulls":7},77,null,"15204",{"v":2040.199386946034,"d":"2,040"},{"v":6296.26192954174,"d":"6,296"},{"v":8336.461316487774,"d":"8,336"},{"$nulls":3},"15204",77]
["15","BOYACA","Berbeo","15090",10,11,23,{"$nulls":7},27,null,"15212",{"v":832.4654820118043,"d":"832"},{"v":1413.0883846934594,"d":"1,413"},{"v":2245.5538667052638,"d":"2,246"},{"$nulls":3},"15212",27]
["15","BOYACA","Beteitiva","15092",12,13,16,{"$nulls":7},13,null,"15215",{"v":477.45707527431836,"d":"477"},{"v":1114.6797020073943,"d":"1,115"},{"v":1592.1367772817127,"d":"1,592"},{"$nulls":3},"15215",13]
["15","BOYACA","Boavita","15097",44,47,60,{"$nulls":7},21,null,"15218",{"v":779.2808440536974,"d":"779"},{"v":1039.1424857220582,"d":"1,039"},{"v":1818.4233297757555,"d":"1,818"},{"$nulls":3},"15218",21]
["15","BOYACA","Boyaca","15104",44,49,64,{"$nulls":7},138,null,"15223",{"v":1021.0733697924672,"d":"1,021"},{"v":4051.7162565782,"d":"4,052"},{"v":5072.789626370667,"d":"5,073"},{"$nulls":3},"15223",138]
["15","BOYACA","Briceño","15106",22,24,27,{"$nulls":7},32,null,"15224",{"v":667.8125736167972,"d":"668"},{"v":1605.235234840491,"d":"1,605"},{"v":2273.0478084572883,"d":"2,273"},{"$nulls":3},"15224",32]
["15","BOYACA","Buenavista","15109",45,45,60,{"$nulls":7},17,null,"15226",{"v":355.50610624695474,"d":"356"},{"v":702.5233030997694,"d":"703"},{"v":1058.0294093467242,"d":"1,058"},{"$nulls":3},"15226",17]
["15","BOYACA","Busbanza","15114",10,10,12,{"$nulls":7},40,null,"15232",{"v":965.0562996628066,"d":"965"},{"v":1937.04413586195,"d":"1,937"},{"v":2902.100435524757,"d":"2,902"},{"$nulls":3},"15232",40]
["15","BOYACA","Caldas","15131",28,28,30,{"$nulls":7},18,null,"15236",{"v":455.4650145214904,"d":"455"},{"v":1025.8881988234316,"d":"1,026"},{"v":1481.353213344922,"d":"1,481"},{"$nulls":3},"15236",18]
["15","BOYACA","Campohermoso","15135",30,30,37,{"$nulls":7},881,null,"15238",{"v":34148.9275671671,"d":"34,149"},{"v":57465.28294926352,"d":"57,465"},{"v":91614.21051643061,"d":"91,614"},{"$nulls":3},"15238",881]
["15","BOYACA","Cerinza","15162",29,29,46,{"$nulls":7},32,null,"15244",{"v":908.5046589286281,"d":"909"},{"v":1677.8899225899006,"d":"1,678"},{"v":2586.394581518529,"d":"2,586"},{"$nulls":3},"15244",32]
["15","BOYACA","Chinavita","15172",28,31,33,{"$nulls":7},19,null,"15248",{"v":639.3621029929508,"d":"639"},{"v":1267.9525832670797,"d":"1,268"},{"v":1907.3146862600306,"d":"1,907"},{"$nulls":3},"15248",19]
["15","BOYACA","Chiquinquira","15176",660,731,804,{"$nulls":7},46,null,"15272",{"v":1339.650212060299,"d":"1,340"},{"v":2786.3479668934388,"d":"2,786"},{"v":4125.998178953738,"d":"4,126"},{"$nulls":3},"15272",46]
["15","BOYACA","Chiscas","15180",40,40,51,{"$nulls":7},22,null,"15276",{"v":936.1483816596874,"d":"936"},{"v":1285.7627799178865,"d":"1,286"},{"v":2221.9111615775737,"d":"2,222"},{"$nulls":3},"15276",22]
["15","BOYACA","Chita","15183",105,108,124,{"$nulls":7},21,null,"15293",{"v":632.201601259556,"d":"632"},{"v":1103.3955634817794,"d":"1,103"},{"v":1735.5971647413353,"d":"1,736"},{"$nulls":3},"15293",21]
["15","BOYACA","Chitaraque","15185",75,84,93,{"$nulls":7},40,null,"15296",{"v":938.8825166826537,"d":"939"},{"v":1945.801936922835,"d":"1,946"},{"v":2884.6844536054887,"d":"2,885"},{"$nulls":3},"15296",40]
["15","BOYACA","Chivata","15187",27,30,45,{"$nulls":7},127,null,"15299",{"v":4705.6047509461805,"d":"4,706"},{"v":7491.043916783189,"d":"7,491"},{"v":12196.648667729369,"d":"12,197"},{"$nulls":3},"15299",127]
["15","BOYACA","Cienega","15189",54,54,73,{"$nulls":7},14,null,"15317",{"v":436.17211143241985,"d":"436"},{"v":697.0604156864204,"d":"697"},{"v":1133.2325271188402,"d":"1,133"},{"$nulls":3},"15317",14]
["15","BOYACA","Combita","15204",91,96,116,{"$nulls":7},72,null,"15322",{"v":2796.9678662705264,"d":"2,797"},{"v":4568.30127333336,"d":"4,568"},{"v":7365.269139603886,"d":"7,365"},{"$nulls":3},"15322",72]
["15","BOYACA","Coper","15212",19,22,36,{"$nulls":7},21,null,"15325",{"v":978.1626579953935,"d":"978"},{"v":1254.5450389114803,"d":"1,255"},{"v":2232.707696906874,"d":"2,233"},{"$nulls":3},"15325",21]
["15","BOYACA","Corrales","15215",24,25,27,{"$nulls":7},40,null,"15332",{"v":835.8574377993929,"d":"836"},{"v":1680.972859696895,"d":"1,681"},{"v":2516.830297496288,"d":"2,517"},{"$nulls":3},"15332",40]
["15","BOYACA","Covarachia","15218",30,32,33,{"$nulls":7},14,null,"15362",{"v":331.3144983002632,"d":"331"},{"v":842.6056666307081,"d":"843"},{"v":1173.9201649309714,"d":"1,174"},{"$nulls":3},"15362",14]
["15","BOYACA","Cubara","15223",208,222,226,{"$nulls":7},63,null,"15367",{"v":1461.631973007485,"d":"1,462"},{"v":2919.4031618664635,"d":"2,919"},{"v":4381.035134873949,"d":"4,381"},{"$nulls":3},"15367",63]
["15","BOYACA","Cucaita","15224",61,64,67,{"$nulls":7},33,null,"15368",{"v":860.6041170003214,"d":"861"},{"v":1565.5774813762946,"d":"1,566"},{"v":2426.181598376616,"d":"2,426"},{"$nulls":3},"15368",33]
["15","BOYACA","Cuitiva","15226",17,21,23,{"$nulls":7},22,null,"15377",{"v":800.321964648886,"d":"800"},{"v":1460.6585580995315,"d":"1,461"},{"v":2260.9805227484176,"d":"2,261"},{"$nulls":3},"15377",22]
["15","BOYACA","Chiquiza","15232",42,48,63,{"$nulls":7},18,null,"15380",{"v":722.960700835503,"d":"723"},{"v":1014.6634842122551,"d":"1,015"},{"v":1737.6241850477581,"d":"1,738"},{"$nulls":3},"15380",18]
["15","BOYACA","Chivor","15236",19,27,30,{"$nulls":7},6,null,"15401",{"v":310.9540303152165,"d":"311"},{"v":483.3870272031191,"d":"483"},{"v":794.3410575183357,"d":"794"},{"$nulls":3},"15401",6]
["15","BOYACA","Duitama","15238",{"v":1293,"d":"1,293"},{"v":1380,"d":"1,380"},{"v":1727,"d":"1,727"},{"$nulls":7},20,null,"15403",{"v":734.982557940278,"d":"735"},{"v":1070.851589403998,"d":"1,071"},{"v":1805.834147344276,"d":"1,806"},{"$nulls":3},"15403",20]
["15","BOYACA","El Cocuy","15244",42,46,52,{"$nulls":7},121,null,"15407",{"v":2767.068202558196,"d":"2,767"},{"v":7454.85060006385,"d":"7,455"},{"v":10221.918802622045,"d":"10,222"},{"$nulls":3},"15407",121]
["15","BOYACA","El Espino","15248",33,33,35,{"$nulls":7},36,null,"15425",{"v":1039.9133708909653,"d":"1,040"},{"v":1985.7347312665827,"d":"1,986"},{"v":3025.6481021575482,"d":"3,026"},{"$nulls":3},"15425",36]
["15","BOYACA","Firavitoba","15272",58,60,73,{"$nulls":7},45,null,"15442",{"v":1212.921950559954,"d":"1,213"},{"v":2354.0380032844687,"d":"2,354"},{"v":3566.9599538444227,"d":"3,567"},{"$nulls":3},"15442",45]
["15","BOYACA","Floresta","15276",30,31,36,{"$nulls":7},56,null,"15455",{"v":2236.4260331969253,"d":"2,236"},{"v":3793.987512421807,"d":"3,794"},{"v":6030.413545618732,"d":"6,030"},{"$nulls":3},"15455",56]
["15","BOYACA","Gachantiva","15293",33,34,37,{"$nulls":7},40,null,"15464",{"v":924.9716079133948,"d":"925"},{"v":1876.9317052842093,"d":"1,877"},{"v":2801.903313197604,"d":"2,802"},{"$nulls":3},"15464",40]
["15","BOYACA","Gameza","15296",51,55,66,{"$nulls":7},39,null,"15466",{"v":885.3140790594814,"d":"885"},{"v":1750.3159576078735,"d":"1,750"},{"v":2635.630036667355,"d":"2,636"},{"$nulls":3},"15466",39]
["15","BOYACA","Garagoa","15299",172,180,216,{"$nulls":7},167,null,"15469",{"v":5970.578561991697,"d":"5,971"},{"v":9599.042829249891,"d":"9,599"},{"v":15569.621391241588,"d":"15,570"},{"$nulls":3},"15469",167]
["15","BOYACA","Guacamayas","15317",17,18,23,{"$nulls":7},57,null,"15476",{"v":949.2185116089906,"d":"949"},{"v":2352.0863513146383,"d":"2,352"},{"v":3301.304862923629,"d":"3,301"},{"$nulls":3},"15476",57]
["15","BOYACA","Guateque","15322",90,93,116,{"$nulls":7},67,null,"15480",{"v":1845.1793145964753,"d":"1,845"},{"v":3683.298776267203,"d":"3,683"},{"v":5528.4780908636785,"d":"5,528"},{"$nulls":3},"15480",67]
["15","BOYACA","Guayata","15325",34,34,32,{"$nulls":7},121,null,"15491",{"v":2516.5091003525026,"d":"2,517"},{"v":7263.598396642534,"d":"7,264"},{"v":9780.107496995037,"d":"9,780"},{"$nulls":3},"15491",121]
["15","BOYACA","Güican","15332",60,71,77,{"$nulls":7},40,null,"15494",{"v":1114.7377282117272,"d":"1,115"},{"v":2137.5226613610635,"d":"2,138"},{"v":3252.2603895727907,"d":"3,252"},{"$nulls":3},"15494",40]
["15","BOYACA","Iza","15362",17,19,26,{"$nulls":7},20,null,"15500",{"v":484.2986568547825,"d":"484"},{"v":1194.5644919289407,"d":"1,195"},{"v":1678.8631487837233,"d":"1,679"},{"$nulls":3},"15500",20]
["15","BOYACA","Jenesano","15367",60,63,89,{"$nulls":7},69,null,"15507",{"v":1350.5272393745877,"d":"1,351"},{"v":3405.6430056482905,"d":"3,406"},{"$f":"R259+S259","v":{"v":4756.170245022879,"d":"4,756"}},{"$nulls":3},"15507",69]
["15","BOYACA","Jerico","15368",49,50,51,{"$nulls":7},16,null,"15511",{"v":695.645172211574,"d":"696"},{"v":900.0116677881169,"d":"900"},{"v":1595.6568399996909,"d":"1,596"},{"$nulls":3},"15511",16]
["15","BOYACA","Labranzagrande","15377",33,33,43,{"$nulls":7},23,null,"15514",{"v":711.7266269264597,"d":"712"},{"v":1345.5469111693646,"d":"1,346"},{"v":2057.2735380958243,"d":"2,057"},{"$nulls":3},"15514",23]
["15","BOYACA","La Capilla","15380",24,27,27,{"$nulls":7},257,null,"15516",{"v":7876.591592493187,"d":"7,877"},{"v":15094.282426062302,"d":"15,094"},{"v":22970.87401855549,"d":"22,971"},{"$nulls":3},"15516",257]
["15","BOYACA","La Victoria","15401",7,12,12,{"$nulls":7},18,null,"15518",{"v":389.24501568951575,"d":"389"},{"v":1025.0025950240345,"d":"1,025"},{"v":1414.2476107135503,"d":"1,414"},{"$nulls":3},"15518",18]
["15","BOYACA","La Uvita","15403",31,28,35,{"$nulls":7},15,null,"15522",{"v":419.32943474628007,"d":"419"},{"v":673.6750016765493,"d":"674"},{"v":1093.0044364228293,"d":"1,093"},{"$nulls":3},"15522",15]
["15","BOYACA","Villa de Leyva","15407",181,186,200,{"$nulls":7},55,null,"15531",{"v":1715.5896268399092,"d":"1,716"},{"v":2977.3418056261,"d":"2,977"},{"v":4692.931432466009,"d":"4,693"},{"$nulls":3},"15531",55]
["15","BOYACA","Macanal","15425",29,30,40,{"$nulls":7},26,null,"15533",{"v":300.05577687868,"d":"300"},{"v":1096.7017443364402,"d":"1,097"},{"v":1396.7575212151203,"d":"1,397"},{"$nulls":3},"15533",26]
["15","BOYACA","Maripi","15442",45,48,65,{"$nulls":7},31,null,"15537",{"v":1083.1790656748042,"d":"1,083"},{"v":1741.153404699957,"d":"1,741"},{"v":2824.332470374761,"d":"2,824"},{"$nulls":3},"15537",31]
["15","BOYACA","Miraflores","15455",81,81,95,{"$nulls":7},55,null,"15542",{"v":1437.0398960204298,"d":"1,437"},{"v":2657.8374661185553,"d":"2,658"},{"v":4094.877362138985,"d":"4,095"},{"$nulls":3},"15542",55]
["15","BOYACA","Mongua","15464",51,52,62,{"$nulls":7},16,null,"15550",{"v":269.52521950714794,"d":"270"},{"v":735.9764274664399,"d":"736"},{"v":1005.5016469735879,"d":"1,006"},{"$nulls":3},"15550",16]
["15","BOYACA","Mongui","15466",43,44,55,{"$nulls":7},417,null,"15572",{"v":9506.77095897811,"d":"9,507"},{"v":21258.78063165886,"d":"21,259"},{"v":30765.55159063697,"d":"30,766"},{"$nulls":3},"15572",417]
["15","BOYACA","Moniquira","15469",248,252,304,{"$nulls":7},36,null,"15580",{"v":1282.9433219830785,"d":"1,283"},{"v":2106.2567119942573,"d":"2,106"},{"v":3389.200033977336,"d":"3,389"},{"$nulls":3},"15580",36]
["15","BOYACA","Motavita","15476",58,60,95,{"$nulls":7},90,null,"15599",{"v":1987.4325186959936,"d":"1,987"},{"v":4218.972072519255,"d":"4,219"},{"v":6206.404591215249,"d":"6,206"},{"$nulls":3},"15599",90]
["15","BOYACA","Muzo","15480",102,109,113,{"$nulls":7},61,null,"15600",{"v":1140.363384236973,"d":"1,140"},{"v":3468.7285684304666,"d":"3,469"},{"v":4609.09195266744,"d":"4,609"},{"$nulls":3},"15600",61]
["15","BOYACA","Nobsa","15491",135,137,173,{"$nulls":7},18,null,"15621",{"v":676.805392950335,"d":"677"},{"v":902.8576140682275,"d":"903"},{"v":1579.6630070185624,"d":"1,580"},{"$nulls":3},"15621",18]
["15","BOYACA","Nuevo Colon","15494",50,54,73,{"$nulls":7},124,null,"15632",{"v":2295.100253074185,"d":"2,295"},{"v":5647.849067256083,"d":"5,648"},{"v":7942.949320330268,"d":"7,943"},{"$nulls":3},"15632",124]
["15","BOYACA","Oicata","15500",26,29,38,{"$nulls":7},48,null,"15638",{"v":700.9077120289804,"d":"701"},{"v":2457.6690959579587,"d":"2,458"},{"v":3158.576807986939,"d":"3,159"},{"$nulls":3},"15638",48]
["15","BOYACA","Otanche","15507",86,90,119,{"$nulls":7},173,null,"15646",{"v":3291.9377230384994,"d":"3,292"},{"v":8098.924695494399,"d":"8,099"},{"v":11390.862418532899,"d":"11,391"},{"$nulls":3},"15646",173]
["15","BOYACA","Pachavita","15511",15,16,19,{"$nulls":7},10,null,"15660",{"v":439.7084776684774,"d":"440"},{"v":678.9853364637956,"d":"679"},{"v":1118.693814132273,"d":"1,119"},{"$nulls":3},"15660",10]
["15","BOYACA","Paez","15514",30,30,38,{"$nulls":7},36,null,"15664",{"v":1108.0601049370252,"d":"1,108"},{"v":2020.4169671529576,"d":"2,020"},{"v":3128.477072089983,"d":"3,128"},{"$nulls":3},"15664",36]
["15","BOYACA","Paipa","15516",416,414,469,{"$nulls":7},41,null,"15667",{"v":998.6457951261032,"d":"999"},{"v":2261.1188886848495,"d":"2,261"},{"v":3259.7646838109526,"d":"3,260"},{"$nulls":3},"15667",41]
["15","BOYACA","Pajarito","15518",26,30,34,{"$nulls":7},20,null,"15673",{"v":1140.088129138015,"d":"1,140"},{"v":1154.5230080640492,"d":"1,155"},{"v":2294.611137202064,"d":"2,295"},{"$nulls":3},"15673",20]
["15","BOYACA","Panqueba","15522",17,19,22,{"$nulls":7},23,null,"15676",{"v":621.8795594813183,"d":"622"},{"v":1163.4463975173608,"d":"1,163"},{"v":1785.325956998679,"d":"1,785"},{"$nulls":3},"15676",23]
["15","BOYACA","Pauna","15531",69,69,82,{"$nulls":7},61,null,"15681",{"v":1243.5648193441893,"d":"1,244"},{"v":2802.4866025402775,"d":"2,802"},{"v":4046.051421884467,"d":"4,046"},{"$nulls":3},"15681",61]
["15","BOYACA","Paya","15533",25,29,37,{"$nulls":7},59,null,"15686",{"v":1540.595284078973,"d":"1,541"},{"v":3288.374248090914,"d":"3,288"},{"v":4828.969532169887,"d":"4,829"},{"$nulls":3},"15686",59]
["15","BOYACA","Paz de Rio","15537",46,48,55,{"$nulls":7},29,null,"15690",{"v":810.8198268778374,"d":"811"},{"v":1463.9324503007306,"d":"1,464"},{"v":2274.752277178568,"d":"2,275"},{"$nulls":3},"15690",29]
["15","BOYACA","Pesca","15542",73,79,99,{"$nulls":7},87,null,"15693",{"v":2008.616112866362,"d":"2,009"},{"v":5955.676789191326,"d":"5,956"},{"v":7964.2929020576885,"d":"7,964"},{"$nulls":3},"15693",87]
["15","BOYACA","Pisba","15550",22,22,24,{"$nulls":7},24,null,"15696",{"v":590.3817207626474,"d":"590"},{"v":1242.112939057806,"d":"1,242"},{"v":1832.4946598204533,"d":"1,832"},{"$nulls":3},"15696",24]
["15","BOYACA","Puerto Boyaca","15572",717,725,815,{"$nulls":7},17,null,"15720",{"v":636.5417838274547,"d":"637"},{"v":831.2559387229273,"d":"831"},{"v":1467.7977225503819,"d":"1,468"},{"$nulls":3},"15720",17]
["15","BOYACA","Quipama","15580",46,48,50,{"$nulls":7},8,null,"15723",{"v":262.46382586430633,"d":"262"},{"v":449.89368015606095,"d":"450"},{"v":712.3575060203673,"d":"712"},{"$nulls":3},"15723",8]
["15","BOYACA","Ramiriqui","15599",107,112,137,{"$nulls":7},67,null,"15740",{"v":1259.595472910826,"d":"1,260"},{"v":2662.126320671197,"d":"2,662"},{"v":3921.7217935820227,"d":"3,922"},{"$nulls":3},"15740",67]
["15","BOYACA","Raquira","15600",94,103,109,{"$nulls":7},61,null,"15753",{"v":2828.913232181896,"d":"2,829"},{"v":3649.0843565668692,"d":"3,649"},{"v":6477.997588748765,"d":"6,478"},{"$nulls":3},"15753",61]
["15","BOYACA","Rondon","15621",19,21,30,{"$nulls":7},67,null,"15755",{"v":1537.5625540320518,"d":"1,538"},{"v":2834.0170820634667,"d":"2,834"},{"v":4371.579636095518,"d":"4,372"},{"$nulls":3},"15755",67]
["15","BOYACA","Saboya","15632",138,139,164,{"$nulls":7},69,null,"15757",{"v":1537.891820226298,"d":"1,538"},{"v":3368.494208627059,"d":"3,368"},{"v":4906.386028853357,"d":"4,906"},{"$nulls":3},"15757",69]
["15","BOYACA","Sachica","15638",100,105,99,{"$nulls":7},890,null,"15759",{"v":37092.9194761421,"d":"37,093"},{"v":58923.0202239436,"d":"58,923"},{"v":96015.9397000857,"d":"96,016"},{"$nulls":3},"15759",890]
["15","BOYACA","Samaca","15646",327,336,344,{"$nulls":7},18,null,"15761",{"v":757.8429969808222,"d":"758"},{"v":1100.5199052444498,"d":"1,101"},{"v":1858.3629022252721,"d":"1,858"},{"$nulls":3},"15761",18]
["15","BOYACA","San Eduardo","15660",15,17,18,{"$nulls":7},26,null,"15762",{"v":551.142330136224,"d":"551"},{"v":1257.9337861015506,"d":"1,258"},{"v":1809.0761162377746,"d":"1,809"},{"$nulls":3},"15762",26]
["15","BOYACA","San Jose de Pare","15664",53,51,55,{"$nulls":7},71,null,"15763",{"v":1402.1662080813383,"d":"1,402"},{"v":3354.730825615698,"d":"3,355"},{"v":4756.897033697036,"d":"4,757"},{"$nulls":3},"15763",71]
["15","BOYACA","San Luis de Gaceno","15667",51,52,66,{"$nulls":7},61,null,"15764",{"v":1083.3902563048296,"d":"1,083"},{"v":2464.0150621275493,"d":"2,464"},{"v":3547.405318432379,"d":"3,547"},{"$nulls":3},"15764",61]
["15","BOYACA","San Mateo","15673",28,33,44,{"$nulls":7},18,null,"15774",{"v":701.9083898380006,"d":"702"},{"v":1066.6453528398522,"d":"1,067"},{"v":1768.5537426778528,"d":"1,769"},{"$nulls":3},"15774",18]
["15","BOYACA","San Miguel de Sema","15676",24,31,34,{"$nulls":7},48,null,"15776",{"v":1088.9654290938518,"d":"1,089"},{"v":2616.707797255478,"d":"2,617"},{"v":3705.6732263493295,"d":"3,706"},{"$nulls":3},"15776",48]
["15","BOYACA","San Pablo de Borbur","15681",61,76,84,{"$nulls":7},26,null,"15778",{"v":1036.7468613386498,"d":"1,037"},{"v":1628.6880584448131,"d":"1,629"},{"v":2665.4349197834626,"d":"2,665"},{"$nulls":3},"15778",26]
["15","BOYACA","Santana","15686",132,132,129,{"$nulls":7},48,null,"15790",{"v":1108.738457129727,"d":"1,109"},{"v":2354.6311851825494,"d":"2,355"},{"v":3463.3696423122765,"d":"3,463"},{"$nulls":3},"15790",48]
["15","BOYACA","Santa Maria","15690",39,41,44,{"$nulls":7},22,null,"15798",{"v":1029.7787725123032,"d":"1,030"},{"v":1502.1041953534173,"d":"1,502"},{"v":2531.8829678657203,"d":"2,532"},{"$nulls":3},"15798",22]
["15","BOYACA","Santa Rosa de Viterbo","15693",92,93,113,{"$nulls":7},70,null,"15804",{"v":2017.355293294765,"d":"2,017"},{"v":3537.1759623694243,"d":"3,537"},{"v":5554.531255664189,"d":"5,555"},{"$nulls":3},"15804",70]
["15","BOYACA","Santa Sofia","15696",42,42,52,{"$nulls":7},94,null,"15806",{"v":1964.4103051945067,"d":"1,964"},{"v":5807.666797324467,"d":"5,808"},{"v":7772.077102518973,"d":"7,772"},{"$nulls":3},"15806",94]
["15","BOYACA","Sativanorte","15720",19,22,24,{"$nulls":7},25,null,"15808",{"v":570.8028639689552,"d":"571"},{"v":1349.2889719720404,"d":"1,349"},{"v":1920.0918359409957,"d":"1,920"},{"$nulls":3},"15808",25]
["15","BOYACA","Sativasur","15723",7,8,9,{"$nulls":7},24,null,"15810",{"v":911.9090932747438,"d":"912"},{"v":1339.9992331397991,"d":"1,340"},{"v":2251.908326414543,"d":"2,252"},{"$nulls":3},"15810",24]
["15","BOYACA","Siachoque","15740",88,97,116,{"$nulls":7},78,null,"15814",{"v":1654.187461939659,"d":"1,654"},{"v":3626.6077404304524,"d":"3,627"},{"v":5280.795202370111,"d":"5,281"},{"$nulls":3},"15814",78]
["15","BOYACA","Soata","15753",83,90,114,{"$nulls":7},41,null,"15816",{"v":981.3899116937514,"d":"981"},{"v":1712.7095027083337,"d":"1,713"},{"v":2694.099414402085,"d":"2,694"},{"$nulls":3},"15816",41]
["15","BOYACA","Socota","15755",89,92,102,{"$nulls":7},33,null,"15820",{"v":665.86680981418,"d":"666"},{"v":1539.6175215412932,"d":"1,540"},{"v":2205.484331355473,"d":"2,205"},{"$nulls":3},"15820",33]
["15","BOYACA","Socha","15757",110,118,119,{"$nulls":7},49,null,"15822",{"v":902.9276435754011,"d":"903"},{"v":2095.6124959302724,"d":"2,096"},{"v":2998.5401395056733,"d":"2,999"},{"$nulls":3},"15822",49]
["15","BOYACA","Sogamoso","15759",{"v":1536,"d":"1,536"},{"v":1575,"d":"1,575"},{"v":1847,"d":"1,847"},{"$nulls":7},11,null,"15832",{"v":322.9569905483781,"d":"323"},{"v":627.327774322455,"d":"627"},{"v":950.284764870833,"d":"950"},{"$nulls":3},"15832",11]
["15","BOYACA","Somondoco","15761",14,15,21,{"$nulls":7},47,null,"15835",{"v":1493.212900030177,"d":"1,493"},{"v":2407.945452349248,"d":"2,408"},{"v":3901.158352379425,"d":"3,901"},{"$nulls":3},"15835",47]
["15","BOYACA","Sora","15762",29,30,37,{"$nulls":7},72,null,"15837",{"v":1557.3126587036909,"d":"1,557"},{"v":3434.58408336774,"d":"3,435"},{"v":4991.896742071431,"d":"4,992"},{"$nulls":3},"15837",72]
["15","BOYACA","Sotaquira","15763",80,82,86,{"$nulls":7},15,null,"15839",{"v":444.1964894583781,"d":"444"},{"v":836.8630406669315,"d":"837"},{"v":1281.0595301253097,"d":"1,281"},{"$nulls":3},"15839",15]
["15","BOYACA","Soraca","15764",95,95,100,{"$nulls":7},65,null,"15842",{"v":1473.4091216327465,"d":"1,473"},{"v":3004.3526052374896,"d":"3,004"},{"v":4477.761726870236,"d":"4,478"},{"$nulls":3},"15842",65]
["15","BOYACA","Susacon","15774",17,17,23,{"$nulls":7},137,null,"15861",{"v":2513.47345187041,"d":"2,513"},{"v":6669.099090754275,"d":"6,669"},{"v":9182.572542624685,"d":"9,183"},{"$nulls":3},"15861",137]
["15","BOYACA","Sutamarchan","15776",80,81,79,{"$nulls":7},22,null,"15879",{"v":655.8379799826355,"d":"656"},{"v":1116.4487369784679,"d":"1,116"},{"v":1772.2867169611034,"d":"1,772"},{"$nulls":3},"15879",22]
["15","BOYACA","Sutatenza","15778",35,37,38,{"$nulls":7},36,null,"15897",{"v":1115.6223336461449,"d":"1,116"},{"v":1836.8333225480349,"d":"1,837"},{"v":2952.45565619418,"d":"2,952"},{"$nulls":3},"15897",36]
["15","BOYACA","Tasco","15790",62,64,77,{"$nulls":7},2409,null,"17001",{"v":148330.26733993297,"d":"148,330"},{"v":202798.92724502584,"d":"202,799"},{"v":351129.19458495884,"d":"351,129"},{"$nulls":3},"17001",2409]
["15","BOYACA","Tenza","15798",35,37,38,{"$nulls":7},163,null,"17013",{"v":5339.542785215112,"d":"5,340"},{"v":9847.655702926808,"d":"9,848"},{"v":15187.19848814192,"d":"15,187"},{"$nulls":3},"17013",163]
["15","BOYACA","Tibana","15804",72,87,102,{"$nulls":7},244,null,"17042",{"v":8155.730921636688,"d":"8,156"},{"v":15796.432509484544,"d":"15,796"},{"v":23952.163431121233,"d":"23,952"},{"$nulls":3},"17042",244]
["15","BOYACA","Tibasosa","15806",95,101,141,{"$nulls":7},79,null,"17050",{"v":2951.658702379305,"d":"2,952"},{"v":4332.07880903288,"d":"4,332"},{"$f":"R323+S323","v":{"v":7283.737511412184,"d":"7,284"}},{"$nulls":3},"17050",79]
["15","BOYACA","Tinjaca","15808",35,36,38,{"$nulls":7},82,null,"17088",{"v":2301.597640963658,"d":"2,302"},{"v":4357.403191661691,"d":"4,357"},{"v":6659.000832625349,"d":"6,659"},{"$nulls":3},"17088",82]
["15","BOYACA","Tipacoque","15810",37,38,47,{"$nulls":7},335,null,"17174",{"v":16760.553801809627,"d":"16,761"},{"v":23213.754869246797,"d":"23,214"},{"v":39974.308671056424,"d":"39,974"},{"$nulls":3},"17174",335]
["15","BOYACA","Toca","15814",134,137,154,{"$nulls":7},83,null,"17272",{"v":2416.052419975347,"d":"2,416"},{"v":4728.666560117688,"d":"4,729"},{"v":7144.7189800930355,"d":"7,145"},{"$nulls":3},"17272",83]
["15","BOYACA","Togüi","15816",56,61,66,{"$nulls":7},559,null,"17380",{"v":18854.941395183687,"d":"18,855"},{"v":32343.631712183236,"d":"32,344"},{"v":51198.57310736692,"d":"51,199"},{"$nulls":3},"17380",559]
["15","BOYACA","Topaga","15820",36,37,45,{"$nulls":7},38,null,"17388",{"v":1410.5036955235948,"d":"1,411"},{"v":2489.3546531504066,"d":"2,489"},{"v":3899.8583486740017,"d":"3,900"},{"$nulls":3},"17388",38]
["15","BOYACA","Tota","15822",61,61,72,{"$nulls":7},129,null,"17433",{"v":4397.041555413958,"d":"4,397"},{"v":7479.703584217161,"d":"7,480"},{"v":11876.745139631119,"d":"11,877"},{"$nulls":3},"17433",129]
["15","BOYACA","Tunungua","15832",20,23,28,{"$nulls":7},76,null,"17442",{"v":1382.372625414748,"d":"1,382"},{"v":3972.093766050206,"d":"3,972"},{"v":5354.466391464954,"d":"5,354"},{"$nulls":3},"17442",76]
["15","BOYACA","Turmeque","15835",58,58,72,{"$nulls":7},105,null,"17444",{"v":3024.620653094531,"d":"3,025"},{"v":5549.323203127895,"d":"5,549"},{"v":8573.943856222426,"d":"8,574"},{"$nulls":3},"17444",105]
["15","BOYACA","Tuta","15837",117,119,131,{"$nulls":7},17,null,"17446",{"v":505.7504118102596,"d":"506"},{"v":1085.0450909641686,"d":"1,085"},{"v":1590.7955027744283,"d":"1,591"},{"$nulls":3},"17446",17]
["15","BOYACA","Tutaza","15839",16,20,24,{"$nulls":7},143,null,"17486",{"v":5245.443701966358,"d":"5,245"},{"v":8930.74410415819,"d":"8,931"},{"v":14176.187806124548,"d":"14,176"},{"$nulls":3},"17486",143]
["15","BOYACA","Umbita","15842",80,84,85,{"$nulls":7},52,null,"17495",{"v":1226.6570785017461,"d":"1,227"},{"v":2609.189618437466,"d":"2,609"},{"v":3835.846696939212,"d":"3,836"},{"$nulls":3},"17495",52]
["15","BOYACA","Ventaquemada","15861",168,174,211,{"$nulls":7},94,null,"17513",{"v":3795.655345431689,"d":"3,796"},{"v":6563.489864027761,"d":"6,563"},{"v":10359.14520945945,"d":"10,359"},{"$nulls":3},"17513",94]
["15","BOYACA","Viracacha","15879",25,25,30,{"$nulls":7},115,null,"17524",{"v":2976.514692883644,"d":"2,977"},{"v":6815.079510333683,"d":"6,815"},{"v":9791.594203217326,"d":"9,792"},{"$nulls":3},"17524",115]
["15","BOYACA","Zetaquira","15897",43,45,52,{"$nulls":7},152,null,"17541",{"v":4894.35807180636,"d":"4,894"},{"v":8143.444226928963,"d":"8,143"},{"v":13037.802298735323,"d":"13,038"},{"$nulls":3},"17541",152]
["17","CALDAS","Manizales","17001",{"v":3331,"d":"3,331"},{"v":3523,"d":"3,523"},{"v":4036,"d":"4,036"},{"$nulls":7},372,null,"17614",{"v":13349.529050755302,"d":"13,350"},{"v":21842.56590311575,"d":"21,843"},{"v":35192.09495387105,"d":"35,192"},{"$nulls":3},"17614",372]
["17","CALDAS","Aguadas","17013",205,209,250,{"$nulls":7},68,null,"17616",{"v":2397.3246294132514,"d":"2,397"},{"v":4606.884992947111,"d":"4,607"},{"v":7004.209622360362,"d":"7,004"},{"$nulls":3},"17616",68]
["17","CALDAS","Anserma","17042",304,321,358,{"$nulls":7},124,null,"17653",{"v":5036.431674875367,"d":"5,036"},{"v":8235.781375184539,"d":"8,236"},{"v":13272.213050059905,"d":"13,272"},{"$nulls":3},"17653",124]
["17","CALDAS","Aranzazu","17050",121,132,156,{"$nulls":7},165,null,"17662",{"v":4625.404006737992,"d":"4,625"},{"v":8273.340384689658,"d":"8,273"},{"v":12898.74439142765,"d":"12,899"},{"$nulls":3},"17662",165]
["17","CALDAS","Belalcazar","17088",134,139,152,{"$nulls":7},36,null,"17665",{"v":1093.1655905030934,"d":"1,093"},{"v":2062.484030465293,"d":"2,062"},{"v":3155.6496209683864,"d":"3,156"},{"$nulls":3},"17665",36]
["17","CALDAS","Chinchina","17174",513,551,603,{"$nulls":7},207,null,"17777",{"v":6582.537996981739,"d":"6,583"},{"v":12768.215106081667,"d":"12,768"},{"v":19350.753103063405,"d":"19,351"},{"$nulls":3},"17777",207]
["17","CALDAS","Filadelfia","17272",89,87,97,{"$nulls":7},83,null,"17867",{"v":1827.6970632928576,"d":"1,828"},{"v":4321.570821819537,"d":"4,322"},{"v":6149.267885112395,"d":"6,149"},{"$nulls":3},"17867",83]
["17","CALDAS","La Dorada","17380",841,917,{"v":1021,"d":"1,021"},{"$nulls":7},421,null,"17873",{"v":9967.016932929031,"d":"9,967"},{"v":30686.022071533353,"d":"30,686"},{"v":40653.039004462385,"d":"40,653"},{"$nulls":3},"17873",421]
["17","CALDAS","La Merced","17388",49,49,58,{"$nulls":7},83,null,"17877",{"v":3558.9434751894587,"d":"3,559"},{"v":5596.4639628160285,"d":"5,596"},{"v":9155.407438005488,"d":"9,155"},{"$nulls":3},"17877",83]
["17","CALDAS","Manzanares","17433",179,184,208,{"$nulls":7},1438,null,"18001",{"v":35847.35572983993,"d":"35,847"},{"v":77274.20149723263,"d":"77,274"},{"v":113121.55722707257,"d":"113,122"},{"$nulls":3},"18001",1438]
["17","CALDAS","Marmato","17442",129,129,129,{"$nulls":7},44,null,"18029",{"v":847.5007812351555,"d":"848"},{"v":1852.9657927271471,"d":"1,853"},{"v":2700.4665739623024,"d":"2,700"},{"$nulls":3},"18029",44]
["17","CALDAS","Marquetalia","17444",155,159,168,{"$nulls":7},111,null,"18094",{"v":1690.1761960549693,"d":"1,690"},{"v":4637.656702179792,"d":"4,638"},{"v":6327.832898234761,"d":"6,328"},{"$nulls":3},"18094",111]
["17","CALDAS","Marulanda","17446",23,31,31,{"$nulls":7},358,null,"18150",{"v":3563.9754167030414,"d":"3,564"},{"v":12720.134074485686,"d":"12,720"},{"v":16284.109491188727,"d":"16,284"},{"$nulls":3},"18150",358]
["17","CALDAS","Neira","17486",201,206,250,{"$nulls":7},87,null,"18205",{"v":1403.8172332309166,"d":"1,404"},{"v":3127.2262921111505,"d":"3,127"},{"v":4531.043525342067,"d":"4,531"},{"$nulls":3},"18205",87]
["17","CALDAS","Norcasia","17495",102,102,102,{"$nulls":7},183,null,"18247",{"v":3526.9020290176377,"d":"3,527"},{"v":8022.297884549138,"d":"8,022"},{"v":11549.199913566776,"d":"11,549"},{"$nulls":3},"18247",183]
["17","CALDAS","Pacora","17513",129,130,143,{"$nulls":7},188,null,"18256",{"v":2181.610214705866,"d":"2,182"},{"v":7634.737162352472,"d":"7,635"},{"v":9816.347377058339,"d":"9,816"},{"$nulls":3},"18256",188]
["17","CALDAS","Palestina","17524",171,179,186,{"$nulls":7},165,null,"18410",{"v":1800.6569721304186,"d":"1,801"},{"v":6025.9482967603535,"d":"6,026"},{"v":7826.605268890772,"d":"7,827"},{"$nulls":3},"18410",165]
["17","CALDAS","Pensilvania","17541",157,169,210,{"$nulls":7},125,null,"18460",{"v":1164.6277319839378,"d":"1,165"},{"v":3867.4868764593557,"d":"3,867"},{"v":5032.114608443293,"d":"5,032"},{"$nulls":3},"18460",125]
["17","CALDAS","Riosucio","17614",520,556,633,{"$nulls":7},38,null,"18479",{"v":639.7278979727726,"d":"640"},{"v":1587.4036643279128,"d":"1,587"},{"v":2227.1315623006853,"d":"2,227"},{"$nulls":3},"18479",38]
["17","CALDAS","Risaralda","17616",108,113,121,{"$nulls":7},280,null,"18592",{"v":3848.558202144555,"d":"3,849"},{"v":10824.964226629581,"d":"10,825"},{"v":14673.522428774137,"d":"14,674"},{"$nulls":3},"18592",280]
["17","CALDAS","Salamina","17653",156,159,178,{"$nulls":7},151,null,"18610",{"v":1690.3901441966061,"d":"1,690"},{"v":5398.078073943374,"d":"5,398"},{"v":7088.46821813998,"d":"7,088"},{"$nulls":3},"18610",151]
["17","CALDAS","Samana","17662",189,206,240,{"$nulls":7},563,null,"18753",{"v":6049.891658482626,"d":"6,050"},{"v":22015.003105842552,"d":"22,015"},{"v":28064.894764325178,"d":"28,065"},{"$nulls":3},"18753",563]
["17","CALDAS","San Jose","17665",56,56,63,{"$nulls":7},134,null,"18756",{"v":1113.745472173657,"d":"1,114"},{"v":4654.553403286269,"d":"4,655"},{"v":5768.2988754599255,"d":"5,768"},{"$nulls":3},"18756",134]
["17","CALDAS","Supia","17777",318,352,369,{"$nulls":7},72,null,"18785",{"v":954.9001339424609,"d":"955"},{"v":2617.620940384374,"d":"2,618"},{"v":3572.521074326835,"d":"3,573"},{"$nulls":3},"18785",72]
["17","CALDAS","Victoria","17867",78,78,116,{"$nulls":7},77,null,"18860",{"v":1113.3609289445915,"d":"1,113"},{"v":2937.391982676022,"d":"2,937"},{"v":4050.7529116206133,"d":"4,051"},{"$nulls":3},"18860",77]
["17","CALDAS","Villamaria","17873",337,350,457,{"$nulls":7},2039,null,"19001",{"v":86633.2821387567,"d":"86,633"},{"v":150256.95086912008,"d":"150,257"},{"v":236890.23300787678,"d":"236,890"},{"$nulls":3},"19001",2039]
["17","CALDAS","Viterbo","17877",126,130,143,{"$nulls":7},136,null,"19022",{"v":3504.7565288384703,"d":"3,505"},{"v":7978.484217373806,"d":"7,978"},{"v":11483.240746212276,"d":"11,483"},{"$nulls":3},"19022",136]
["18","CAQUETA","Florencia","18001",{"v":2662,"d":"2,662"},{"v":2728,"d":"2,728"},{"v":2884,"d":"2,884"},{"$nulls":7},214,null,"19050",{"v":3600.648274426655,"d":"3,601"},{"v":12222.416437635553,"d":"12,222"},{"v":15823.064712062209,"d":"15,823"},{"$nulls":3},"19050",214]
["18","CAQUETA","Albania","18029",74,80,80,{"$nulls":7},164,null,"19075",{"v":4087.024744469651,"d":"4,087"},{"v":9495.568576322836,"d":"9,496"},{"v":13582.593320792486,"d":"13,583"},{"$nulls":3},"19075",164]
["18","CAQUETA","Belen de Los Andaquies","18094",151,161,190,{"$nulls":7},243,null,"19100",{"v":8642.516932856946,"d":"8,643"},{"v":16420.053689878725,"d":"16,420"},{"v":25062.57062273567,"d":"25,063"},{"$nulls":3},"19100",243]
["18","CAQUETA","Cartagena del Chaira","18150",515,582,641,{"$nulls":7},280,null,"19110",{"v":4131.929370265561,"d":"4,132"},{"v":13867.101500374818,"d":"13,867"},{"v":17999.03087064038,"d":"17,999"},{"$nulls":3},"19110",280]
["18","CAQUETA","Curillo","18205",164,172,191,{"$nulls":7},353,null,"19130",{"v":7277.205165339798,"d":"7,277"},{"v":18317.260743286857,"d":"18,317"},{"v":25594.465908626655,"d":"25,594"},{"$nulls":3},"19130",353]
["18","CAQUETA","El Doncello","18247",274,282,336,{"$nulls":7},427,null,"19137",{"v":5168.975296547052,"d":"5,169"},{"v":17224.430476440248,"d":"17,224"},{"v":22393.4057729873,"d":"22,393"},{"$nulls":3},"19137",427]
["18","CAQUETA","El Paujil","18256",238,248,268,{"$nulls":7},247,null,"19142",{"v":4324.933385039787,"d":"4,325"},{"v":13380.799649500284,"d":"13,381"},{"v":17705.73303454007,"d":"17,706"},{"$nulls":3},"19142",247]
["18","CAQUETA","La Montañita","18410",199,237,248,{"$nulls":7},202,null,"19212",{"v":4743.091751186637,"d":"4,743"},{"v":11447.881304841705,"d":"11,448"},{"v":16190.973056028342,"d":"16,191"},{"$nulls":3},"19212",202]
["18","CAQUETA","Milan","18460",134,152,166,{"$nulls":7},399,null,"19256",{"v":9644.084263144208,"d":"9,644"},{"v":23310.560669730294,"d":"23,311"},{"v":32954.6449328745,"d":"32,955"},{"$nulls":3},"19256",399]
["18","CAQUETA","Morelia","18479",74,76,75,{"$nulls":7},36,null,"19290",{"v":1271.6111444665828,"d":"1,272"},{"v":2326.472071827665,"d":"2,326"},{"v":3598.083216294248,"d":"3,598"},{"$nulls":3},"19290",36]
["18","CAQUETA","Puerto Rico","18592",385,420,444,{"$nulls":7},158,null,"19300",{"v":2442.2414258554763,"d":"2,442"},{"v":9124.494695164192,"d":"9,124"},{"v":11566.736121019669,"d":"11,567"},{"$nulls":3},"19300",158]
["18","CAQUETA","San Jose del Fragua","18610",226,235,250,{"$nulls":7},304,null,"19318",{"v":4087.5742062020836,"d":"4,088"},{"v":11080.383659948098,"d":"11,080"},{"v":15167.957866150182,"d":"15,168"},{"$nulls":3},"19318",304]
["18","CAQUETA","San Vicente del Caguan","18753",{"v":1064,"d":"1,064"},{"v":1160,"d":"1,160"},{"v":1170,"d":"1,170"},{"$nulls":7},298,null,"19355",{"v":4228.360483312418,"d":"4,228"},{"v":12126.558364314382,"d":"12,127"},{"v":16354.9188476268,"d":"16,355"},{"$nulls":3},"19355",298]
["18","CAQUETA","Solano","18756",160,163,205,{"$nulls":7},187,null,"19364",{"v":2087.527269336,"d":"2,088"},{"v":7934.11547648817,"d":"7,934"},{"v":10021.64274582417,"d":"10,022"},{"$nulls":3},"19364",187]
["18","CAQUETA","Solita","18785",136,159,161,{"$nulls":7},74,null,"19392",{"v":2449.5919689728366,"d":"2,450"},{"v":4649.360800946483,"d":"4,649"},{"v":7098.95276991932,"d":"7,099"},{"$nulls":3},"19392",74]
["18","CAQUETA","Valparaiso","18860",108,114,117,{"$nulls":7},178,null,"19397",{"v":4322.37854356235,"d":"4,322"},{"v":10745.916069181052,"d":"10,746"},{"v":15068.294612743402,"d":"15,068"},{"$nulls":3},"19397",178]
["85","CASANARE","Yopal","85001",{"v":2640,"d":"2,640"},{"v":2712,"d":"2,712"},{"v":2838,"d":"2,838"},{"$nulls":7},222,null,"19418",{"v":1533.3070070977572,"d":"1,533"},{"v":7548.831123298137,"d":"7,549"},{"v":9082.138130395893,"d":"9,082"},{"$nulls":3},"19418",222]
["85","CASANARE","Aguazul","85010",508,562,565,{"$nulls":7},162,null,"19450",{"v":3874.1318269417256,"d":"3,874"},{"v":9957.762472737368,"d":"9,958"},{"v":13831.894299679094,"d":"13,832"},{"$nulls":3},"19450",162]
["85","CASANARE","Chameza","85015",24,27,35,{"$nulls":7},241,null,"19455",{"v":5847.5273004797955,"d":"5,848"},{"v":14548.557685093801,"d":"14,549"},{"v":20396.084985573598,"d":"20,396"},{"$nulls":3},"19455",241]
["85","CASANARE","Hato Corozal","85125",192,208,206,{"$nulls":7},373,null,"19473",{"v":4712.701679457658,"d":"4,713"},{"v":17113.033292848148,"d":"17,113"},{"v":21825.734972305807,"d":"21,826"},{"$nulls":3},"19473",373]
["85","CASANARE","La Salina","85136",14,18,21,{"$nulls":7},74,null,"19513",{"v":1808.9985507631254,"d":"1,809"},{"v":4478.8477108600155,"d":"4,479"},{"v":6287.846261623141,"d":"6,288"},{"$nulls":3},"19513",74]
["85","CASANARE","Mani","85139",283,292,267,{"$nulls":7},531,null,"19517",{"v":4699.103307204208,"d":"4,699"},{"v":18577.908714505214,"d":"18,578"},{"v":23277.012021709423,"d":"23,277"},{"$nulls":3},"19517",531]
["85","CASANARE","Monterrey","85162",247,250,255,{"$nulls":7},290,null,"19532",{"v":7256.238332141498,"d":"7,256"},{"v":16609.231400661327,"d":"16,609"},{"$f":"R387+S387","v":{"v":23865.469732802827,"d":"23,865"}},{"$nulls":3},"19532",290]
["85","CASANARE","Nunchia","85225",138,142,136,{"$nulls":7},104,null,"19533",{"v":1010.3631621478326,"d":"1,010"},{"v":3937.0343176462975,"d":"3,937"},{"v":4947.39747979413,"d":"4,947"},{"$nulls":3},"19533",104]
["85","CASANARE","Orocue","85230",175,177,189,{"$nulls":7},321,null,"19548",{"v":7693.642844844887,"d":"7,694"},{"v":18377.33653347367,"d":"18,377"},{"v":26070.979378318556,"d":"26,071"},{"$nulls":3},"19548",321]
["85","CASANARE","Paz de Ariporo","85250",650,672,715,{"$nulls":7},319,null,"19573",{"v":12462.486239072445,"d":"12,462"},{"v":18874.064400268806,"d":"18,874"},{"v":31336.55063934125,"d":"31,337"},{"$nulls":3},"19573",319]
["85","CASANARE","Pore","85263",197,201,210,{"$nulls":7},148,null,"19585",{"v":2470.9194737561456,"d":"2,471"},{"v":7771.534359993064,"d":"7,772"},{"v":10242.453833749209,"d":"10,242"},{"$nulls":3},"19585",148]
["85","CASANARE","Recetor","85279",16,19,19,{"$nulls":7},71,null,"19622",{"v":2555.8956252722637,"d":"2,556"},{"v":5010.278893122974,"d":"5,010"},{"v":7566.174518395238,"d":"7,566"},{"$nulls":3},"19622",71]
["85","CASANARE","Sabanalarga","85300",34,33,38,{"$nulls":7},75,null,"19693",{"v":1964.8726174079138,"d":"1,965"},{"v":4984.961380792759,"d":"4,985"},{"v":6949.833998200673,"d":"6,950"},{"$nulls":3},"19693",75]
["85","CASANARE","Sacama","85315",33,36,43,{"$nulls":7},846,null,"19698",{"v":23432.779042061506,"d":"23,433"},{"v":50779.44452396997,"d":"50,779"},{"v":74212.22356603148,"d":"74,212"},{"$nulls":3},"19698",846]
["85","CASANARE","San Luis de Palenque","85325",119,124,145,{"$nulls":7},47,null,"19701",{"v":740.3663135890395,"d":"740"},{"v":2308.633983431924,"d":"2,309"},{"v":3049.0002970209634,"d":"3,049"},{"$nulls":3},"19701",47]
["85","CASANARE","Tamara","85400",105,105,115,{"$nulls":7},339,null,"19743",{"v":5426.693263369885,"d":"5,427"},{"v":16472.98134918614,"d":"16,473"},{"v":21899.674612556024,"d":"21,900"},{"$nulls":3},"19743",339]
["85","CASANARE","Tauramena","85410",324,384,396,{"$nulls":7},102,null,"19760",{"v":2348.0488955776495,"d":"2,348"},{"v":6354.031755034923,"d":"6,354"},{"v":8702.080650612572,"d":"8,702"},{"$nulls":3},"19760",102]
["85","CASANARE","Trinidad","85430",218,226,250,{"$nulls":7},291,null,"19780",{"v":3211.116913669488,"d":"3,211"},{"v":14060.724963591607,"d":"14,061"},{"v":17271.841877261097,"d":"17,272"},{"$nulls":3},"19780",291]
["85","CASANARE","Villanueva","85440",601,632,618,{"$nulls":7},64,null,"19785",{"v":1499.4880224922638,"d":"1,499"},{"v":4349.835336686429,"d":"4,350"},{"v":5849.323359178693,"d":"5,849"},{"$nulls":3},"19785",64]
["19","CAUCA","Popayan","19001",{"v":3721,"d":"3,721"},{"v":3756,"d":"3,756"},{"v":4098,"d":"4,098"},{"$nulls":7},251,null,"19807",{"v":7124.234705847633,"d":"7,124"},{"v":15980.532120500797,"d":"15,981"},{"v":23104.76682634843,"d":"23,105"},{"$nulls":3},"19807",251]
["19","CAUCA","Almaguer","19022",181,198,210,{"$nulls":7},311,null,"19809",{"v":2392.796026755562,"d":"2,393"},{"v":10503.312229971689,"d":"10,503"},{"v":12896.10825672725,"d":"12,896"},{"$nulls":3},"19809",311]
["19","CAUCA","Argelia","19050",440,445,461,{"$nulls":7},344,null,"19821",{"v":3970.4572898076653,"d":"3,970"},{"v":16126.09187500826,"d":"16,126"},{"v":20096.549164815926,"d":"20,097"},{"$nulls":3},"19821",344]
["19","CAUCA","Balboa","19075",264,272,305,{"$nulls":7},246,null,"19824",{"v":2739.891666072516,"d":"2,740"},{"v":10998.1829831704,"d":"10,998"},{"v":13738.074649242915,"d":"13,738"},{"$nulls":3},"19824",246]
["19","CAUCA","Bolivar","19100",379,399,451,{"$nulls":7},165,null,"19845",{"v":2946.871377727986,"d":"2,947"},{"v":9736.288231291926,"d":"9,736"},{"v":12683.159609019913,"d":"12,683"},{"$nulls":3},"19845",165]
["19","CAUCA","Buenos Aires","19110",429,445,475,{"$nulls":7},4836,null,"20001",{"v":116621.96803132468,"d":"116,622"},{"v":235047.81912965397,"d":"235,048"},{"v":351669.78716097865,"d":"351,670"},{"$nulls":3},"20001",4836]
["19","CAUCA","Cajibio","19130",451,456,503,{"$nulls":7},1078,null,"20011",{"v":21060.723591289796,"d":"21,061"},{"v":51968.38353382195,"d":"51,968"},{"v":73029.10712511174,"d":"73,029"},{"$nulls":3},"20011",1078]
["19","CAUCA","Caldono","19137",761,805,853,{"$nulls":7},646,null,"20013",{"v":11439.31771917974,"d":"11,439"},{"v":27248.285701376888,"d":"27,248"},{"v":38687.603420556625,"d":"38,688"},{"$nulls":3},"20013",646]
["19","CAUCA","Caloto","19142",357,382,405,{"$nulls":7},225,null,"20032",{"v":3247.262947167279,"d":"3,247"},{"v":8590.735469514959,"d":"8,591"},{"v":11837.998416682238,"d":"11,838"},{"$nulls":3},"20032",225]
["19","CAUCA","Corinto","19212",535,541,556,{"$nulls":7},263,null,"20045",{"v":2708.6740010333037,"d":"2,709"},{"v":9576.512954666763,"d":"9,577"},{"v":12285.186955700066,"d":"12,285"},{"$nulls":3},"20045",263]
["19","CAUCA","El Tambo","19256",551,575,606,{"$nulls":7},452,null,"20060",{"v":6516.4181464877765,"d":"6,516"},{"v":18450.58299345942,"d":"18,451"},{"v":24967.001139947195,"d":"24,967"},{"$nulls":3},"20060",452]
["19","CAUCA","Florencia","19290",68,70,73,{"$nulls":7},410,null,"20175",{"v":5605.363034733202,"d":"5,605"},{"v":14317.455127307128,"d":"14,317"},{"v":19922.81816204033,"d":"19,923"},{"$nulls":3},"20175",410]
["19","CAUCA","Guachene","19300",382,390,394,{"$nulls":7},306,null,"20178",{"v":4710.162488844568,"d":"4,710"},{"v":12398.192122834524,"d":"12,398"},{"v":17108.35461167909,"d":"17,108"},{"$nulls":3},"20178",306]
["19","CAUCA","Guapi","19318",461,493,547,{"$nulls":7},404,null,"20228",{"v":5898.392999748662,"d":"5,898"},{"v":16686.174648683056,"d":"16,686"},{"v":22584.56764843172,"d":"22,585"},{"$nulls":3},"20228",404]
["19","CAUCA","Inza","19355",476,483,553,{"$nulls":7},330,null,"20238",{"v":5028.651419493381,"d":"5,029"},{"v":13223.534034148957,"d":"13,224"},{"v":18252.185453642338,"d":"18,252"},{"$nulls":3},"20238",330]
["19","CAUCA","Jambalo","19364",330,337,350,{"$nulls":7},459,null,"20250",{"v":4795.754667024711,"d":"4,796"},{"v":17025.745237232568,"d":"17,026"},{"v":21821.499904257278,"d":"21,821"},{"$nulls":3},"20250",459]
["19","CAUCA","La Sierra","19392",112,114,142,{"$nulls":7},145,null,"20295",{"v":2416.270974293041,"d":"2,416"},{"v":6808.953153969211,"d":"6,809"},{"v":9225.224128262253,"d":"9,225"},{"$nulls":3},"20295",145]
["19","CAUCA","La Vega","19397",209,235,263,{"$nulls":7},38,null,"20310",{"v":768.8546705290073,"d":"769"},{"v":1980.634905223027,"d":"1,981"},{"v":2749.4895757520344,"d":"2,749"},{"$nulls":3},"20310",38]
["19","CAUCA","Lopez","19418",335,341,354,{"$nulls":7},172,null,"20383",{"v":2443.8750670732907,"d":"2,444"},{"v":7866.1308486489415,"d":"7,866"},{"v":10310.005915722231,"d":"10,310"},{"$nulls":3},"20383",172]
["19","CAUCA","Mercaderes","19450",176,182,197,{"$nulls":7},545,null,"20400",{"v":5363.766624031956,"d":"5,364"},{"v":21906.850102494427,"d":"21,907"},{"v":27270.616726526383,"d":"27,271"},{"$nulls":3},"20400",545]
["19","CAUCA","Miranda","19455",746,760,763,{"$nulls":7},103,null,"20443",{"v":1839.7952333007233,"d":"1,840"},{"v":4666.906115025473,"d":"4,667"},{"v":6506.701348326196,"d":"6,507"},{"$nulls":3},"20443",103]
["19","CAUCA","Morales","19473",534,535,580,{"$nulls":7},195,null,"20517",{"v":3522.3566164414437,"d":"3,522"},{"v":8402.175544366235,"d":"8,402"},{"v":11924.53216080768,"d":"11,925"},{"$nulls":3},"20517",195]
["19","CAUCA","Padilla","19513",111,122,123,{"$nulls":7},222,null,"20550",{"v":3228.209942604038,"d":"3,228"},{"v":9419.979569387637,"d":"9,420"},{"v":12648.189511991675,"d":"12,648"},{"$nulls":3},"20550",222]
["19","CAUCA","Paez","19517",792,806,865,{"$nulls":7},400,null,"20570",{"v":2912.964207108074,"d":"2,913"},{"v":11218.876786183238,"d":"11,219"},{"v":14131.840993291313,"d":"14,132"},{"$nulls":3},"20570",400]
["19","CAUCA","Patia","19532",406,433,458,{"$nulls":7},146,null,"20614",{"v":2156.1110224094164,"d":"2,156"},{"v":7816.775316496336,"d":"7,817"},{"v":9972.886338905751,"d":"9,973"},{"$nulls":3},"20614",146]
["19","CAUCA","Piamonte","19533",159,168,166,{"$nulls":7},300,null,"20621",{"v":3870.612823408906,"d":"3,871"},{"v":12486.206006909364,"d":"12,486"},{"v":16356.81883031827,"d":"16,357"},{"$nulls":3},"20621",300]
["19","CAUCA","Piendamo","19548",532,576,620,{"$nulls":7},274,null,"20710",{"v":4723.797148515775,"d":"4,724"},{"v":12513.437063021633,"d":"12,513"},{"v":17237.23421153741,"d":"17,237"},{"$nulls":3},"20710",274]
["19","CAUCA","Puerto Tejada","19573",613,644,654,{"$nulls":7},199,null,"20750",{"v":3197.19512310547,"d":"3,197"},{"v":8618.29846537806,"d":"8,618"},{"v":11815.49358848353,"d":"11,815"},{"$nulls":3},"20750",199]
["19","CAUCA","Purace","19585",233,242,274,{"$nulls":7},281,null,"20770",{"v":3433.35506186718,"d":"3,433"},{"v":12695.268348846377,"d":"12,695"},{"v":16128.623410713557,"d":"16,129"},{"$nulls":3},"20770",281]
["19","CAUCA","Rosas","19622",103,106,131,{"$nulls":7},177,null,"20787",{"v":2564.430432569933,"d":"2,564"},{"v":6515.723685441172,"d":"6,516"},{"v":9080.154118011105,"d":"9,080"},{"$nulls":3},"20787",177]
["19","CAUCA","San Sebastian","19693",84,103,117,{"$nulls":7},3995,null,"23001",{"v":124833.30936952753,"d":"124,833"},{"v":225327.7838040419,"d":"225,328"},{"v":350161.0931735694,"d":"350,161"},{"$nulls":3},"23001",3995]
["19","CAUCA","Santander de Quilichao","19698",{"v":1547,"d":"1,547"},{"v":1569,"d":"1,569"},{"v":1617,"d":"1,617"},{"$nulls":7},475,null,"23068",{"v":7172.351570760185,"d":"7,172"},{"v":19281.408519353216,"d":"19,281"},{"v":26453.7600901134,"d":"26,454"},{"$nulls":3},"23068",475]
["19","CAUCA","Santa Rosa","19701",44,47,62,{"$nulls":7},205,null,"23079",{"v":3472.166874504536,"d":"3,472"},{"v":8901.174730081693,"d":"8,901"},{"v":12373.341604586229,"d":"12,373"},{"$nulls":3},"23079",205]
["19","CAUCA","Silvia","19743",495,550,628,{"$nulls":7},152,null,"23090",{"v":2859.749383350679,"d":"2,860"},{"v":6435.178304027093,"d":"6,435"},{"v":9294.927687377773,"d":"9,295"},{"$nulls":3},"23090",152]
["19","CAUCA","Sotara","19760",99,104,129,{"$nulls":7},823,null,"23162",{"v":24101.043687146506,"d":"24,101"},{"v":47720.31530591399,"d":"47,720"},{"v":71821.3589930605,"d":"71,821"},{"$nulls":3},"23162",823]
["19","CAUCA","Suarez","19780",329,350,355,{"$nulls":7},141,null,"23168",{"v":3092.537868992377,"d":"3,093"},{"v":7682.79323779722,"d":"7,683"},{"v":10775.331106789597,"d":"10,775"},{"$nulls":3},"23168",141]
["19","CAUCA","Sucre","19785",85,80,92,{"$nulls":7},365,null,"23182",{"v":9515.006555958544,"d":"9,515"},{"v":21191.895051956417,"d":"21,192"},{"v":30706.90160791496,"d":"30,707"},{"$nulls":3},"23182",365]
["19","CAUCA","Timbio","19807",377,397,446,{"$nulls":7},492,null,"23189",{"v":12966.045778716016,"d":"12,966"},{"v":26005.0954404595,"d":"26,005"},{"v":38971.141219175515,"d":"38,971"},{"$nulls":3},"23189",492]
["19","CAUCA","Timbiqui","19809",502,516,550,{"$nulls":7},144,null,"23300",{"v":3853.736797993578,"d":"3,854"},{"v":8531.868768512708,"d":"8,532"},{"v":12385.605566506285,"d":"12,386"},{"$nulls":3},"23300",144]
["19","CAUCA","Toribio","19821",575,611,628,{"$nulls":7},138,null,"23350",{"v":2020.6642725426577,"d":"2,021"},{"v":6453.957427296664,"d":"6,454"},{"v":8474.621699839321,"d":"8,475"},{"$nulls":3},"23350",138]
["19","CAUCA","Totoro","19824",342,349,397,{"$nulls":7},954,null,"23417",{"v":25715.338288134164,"d":"25,715"},{"v":49681.14244305392,"d":"49,681"},{"v":75396.48073118809,"d":"75,396"},{"$nulls":3},"23417",954]
["19","CAUCA","Villa Rica","19845",266,275,273,{"$nulls":7},187,null,"23419",{"v":2993.477036630431,"d":"2,993"},{"v":8048.07158696081,"d":"8,048"},{"v":11041.548623591241,"d":"11,042"},{"$nulls":3},"23419",187]
["20","CESAR","Valledupar","20001",{"v":8720,"d":"8,720"},{"v":8947,"d":"8,947"},{"v":9609,"d":"9,609"},{"$nulls":7},168,null,"23464",{"v":3326.6338223959983,"d":"3,327"},{"v":8653.553214131616,"d":"8,654"},{"v":11980.187036527615,"d":"11,980"},{"$nulls":3},"23464",168]
["20","CESAR","Aguachica","20011",{"v":1774,"d":"1,774"},{"v":1963,"d":"1,963"},{"v":1981,"d":"1,981"},{"$nulls":7},843,null,"23466",{"v":14591.998983491196,"d":"14,592"},{"v":36689.86385823101,"d":"36,690"},{"v":51281.862841722206,"d":"51,282"},{"$nulls":3},"23466",843]
["20","CESAR","Agustin Codazzi","20013",{"v":1343,"d":"1,343"},{"v":1449,"d":"1,449"},{"v":1424,"d":"1,424"},{"$nulls":7},298,null,"23500",{"v":4410.610073688973,"d":"4,411"},{"v":12783.182292046065,"d":"12,783"},{"v":17193.79236573504,"d":"17,194"},{"$nulls":3},"23500",298]
["20","CESAR","Astrea","20032",429,429,463,{"$nulls":7},563,null,"23555",{"v":15563.799856238686,"d":"15,564"},{"v":27493.215585750135,"d":"27,493"},{"v":43057.01544198882,"d":"43,057"},{"$nulls":3},"23555",563]
["20","CESAR","Becerril","20045",537,537,490,{"$nulls":7},330,null,"23570",{"v":5851.704236412992,"d":"5,852"},{"v":15344.539379548796,"d":"15,345"},{"v":21196.243615961786,"d":"21,196"},{"$nulls":3},"23570",330]
["20","CESAR","Bosconia","20060",886,886,900,{"$nulls":7},230,null,"23574",{"v":4032.4135086939705,"d":"4,032"},{"v":10098.538427727193,"d":"10,099"},{"v":14130.951936421163,"d":"14,131"},{"$nulls":3},"23574",230]
["20","CESAR","Chimichagua","20175",682,687,700,{"$nulls":7},460,null,"23580",{"v":5400.338526386843,"d":"5,400"},{"v":17882.8017128658,"d":"17,883"},{"v":23283.140239252643,"d":"23,283"},{"$nulls":3},"23580",460]
["20","CESAR","Chiriguana","20178",555,559,580,{"$nulls":7},144,null,"23586",{"v":3209.543102883445,"d":"3,210"},{"v":7420.5151599069195,"d":"7,421"},{"v":10630.058262790364,"d":"10,630"},{"$nulls":3},"23586",144]
["20","CESAR","Curumani","20228",721,736,728,{"$nulls":7},879,null,"23660",{"v":22001.560522086696,"d":"22,002"},{"v":47394.8618826741,"d":"47,395"},{"v":69396.4224047608,"d":"69,396"},{"$nulls":3},"23660",879]
["20","CESAR","El Copey","20238",632,634,652,{"$nulls":7},473,null,"23670",{"v":6638.533863570887,"d":"6,639"},{"v":20029.894908855837,"d":"20,030"},{"$f":"R451+S451","v":{"v":26668.428772426723,"d":"26,668"}},{"$nulls":3},"23670",473]
["20","CESAR","El Paso","20250",952,969,917,{"$nulls":7},316,null,"23672",{"v":5167.761684918516,"d":"5,168"},{"v":15044.272878435435,"d":"15,044"},{"v":20212.03456335395,"d":"20,212"},{"$nulls":3},"23672",316]
["20","CESAR","Gamarra","20295",220,219,227,{"$nulls":7},332,null,"23675",{"v":6764.5736260192825,"d":"6,765"},{"v":15432.603292196323,"d":"15,433"},{"v":22197.176918215606,"d":"22,197"},{"$nulls":3},"23675",332]
["20","CESAR","Gonzalez","20310",56,57,64,{"$nulls":7},239,null,"23678",{"v":3876.712018940967,"d":"3,877"},{"v":11491.469254879303,"d":"11,491"},{"v":15368.18127382027,"d":"15,368"},{"$nulls":3},"23678",239]
["20","CESAR","La Gloria","20383",242,242,273,{"$nulls":7},151,null,"23682",{"v":1118.8711762701337,"d":"1,119"},{"v":5537.992324038731,"d":"5,538"},{"v":6656.863500308864,"d":"6,657"},{"$nulls":3},"23682",151]
["20","CESAR","La Jagua de Ibirico","20400",934,942,950,{"$nulls":7},388,null,"23686",{"v":9735.277411632642,"d":"9,735"},{"v":22703.349877853372,"d":"22,703"},{"v":32438.627289486016,"d":"32,439"},{"$nulls":3},"23686",388]
["20","CESAR","Manaure","20443",208,208,205,{"$nulls":7},1030,null,"23807",{"v":14282.487517844384,"d":"14,282"},{"v":38542.452260430524,"d":"38,542"},{"v":52824.93977827491,"d":"52,825"},{"$nulls":3},"23807",1030]
["20","CESAR","Pailitas","20517",362,368,372,{"$nulls":7},599,null,"23815",{"v":5055.317974764465,"d":"5,055"},{"v":22064.40508427838,"d":"22,064"},{"v":27119.723059042844,"d":"27,120"},{"$nulls":3},"23815",599]
["20","CESAR","Pelaya","20550",390,402,405,{"$nulls":7},342,null,"23855",{"v":5623.398891705814,"d":"5,623"},{"v":15231.400406034798,"d":"15,231"},{"v":20854.79929774061,"d":"20,855"},{"$nulls":3},"23855",342]
["20","CESAR","Pueblo Bello","20570",697,710,815,{"$nulls":7},74,null,"25001",{"v":4551.9406427650665,"d":"4,552"},{"v":5022.803416857443,"d":"5,023"},{"v":9574.74405962251,"d":"9,575"},{"$nulls":3},"25001",74]
["20","CESAR","Rio de Oro","20614",230,230,230,{"$nulls":7},49,null,"25019",{"v":875.0341476945653,"d":"875"},{"v":2945.997583526239,"d":"2,946"},{"v":3821.0317312208044,"d":"3,821"},{"$nulls":3},"25019",49]
["20","CESAR","La Paz","20621",542,547,563,{"$nulls":7},113,null,"25035",{"v":2208.7126476703274,"d":"2,209"},{"v":6761.571410614188,"d":"6,762"},{"v":8970.284058284515,"d":"8,970"},{"$nulls":3},"25035",113]
["20","CESAR","San Alberto","20710",485,503,612,{"$nulls":7},103,null,"25040",{"v":2885.4603862596196,"d":"2,885"},{"v":5804.635004171572,"d":"5,805"},{"v":8690.095390431192,"d":"8,690"},{"$nulls":3},"25040",103]
["20","CESAR","San Diego","20750",339,345,370,{"$nulls":7},78,null,"25053",{"v":2529.8560027638396,"d":"2,530"},{"v":4477.805972145054,"d":"4,478"},{"v":7007.661974908893,"d":"7,008"},{"$nulls":3},"25053",78]
["20","CESAR","San Martin","20770",454,466,483,{"$nulls":7},14,null,"25086",{"v":413.32463322704336,"d":"413"},{"v":760.5485576879071,"d":"761"},{"v":1173.8731909149506,"d":"1,174"},{"$nulls":3},"25086",14]
["20","CESAR","Tamalameque","20787",270,270,291,{"$nulls":7},18,null,"25095",{"v":542.2293649802994,"d":"542"},{"v":965.334786558278,"d":"965"},{"v":1507.5641515385773,"d":"1,508"},{"$nulls":3},"25095",18]
["27","CHOCO","Quibdo","27001",{"v":2888,"d":"2,888"},{"v":2965,"d":"2,965"},{"v":3185,"d":"3,185"},{"$nulls":7},91,null,"25099",{"v":1505.8941210603175,"d":"1,506"},{"v":5063.12170367906,"d":"5,063"},{"v":6569.015824739377,"d":"6,569"},{"$nulls":3},"25099",91]
["27","CHOCO","Acandi","27006",254,270,274,{"$nulls":7},48,null,"25120",{"v":723.1071270890044,"d":"723"},{"v":2177.030034826878,"d":"2,177"},{"v":2900.137161915882,"d":"2,900"},{"$nulls":3},"25120",48]
["27","CHOCO","Alto Baudo","27025",488,502,547,{"$nulls":7},80,null,"25123",{"v":1766.1253252601432,"d":"1,766"},{"v":4357.553571660074,"d":"4,358"},{"v":6123.678896920217,"d":"6,124"},{"$nulls":3},"25123",80]
["27","CHOCO","Atrato","27050",89,106,114,{"$nulls":7},680,null,"25126",{"v":14680.017545047602,"d":"14,680"},{"v":43057.43516109174,"d":"43,057"},{"v":57737.45270613934,"d":"57,737"},{"$nulls":3},"25126",680]
["27","CHOCO","Bagado","27073",281,301,319,{"$nulls":7},94,null,"25148",{"v":3090.0917875843606,"d":"3,090"},{"v":5399.714109937831,"d":"5,400"},{"v":8489.805897522192,"d":"8,490"},{"$nulls":3},"25148",94]
["27","CHOCO","Bahia Solano","27075",230,236,236,{"$nulls":7},137,null,"25151",{"v":4003.5337650998413,"d":"4,004"},{"v":7659.341881989749,"d":"7,659"},{"v":11662.87564708959,"d":"11,663"},{"$nulls":3},"25151",137]
["27","CHOCO","Bajo Baudo","27077",309,397,412,{"$nulls":7},65,null,"25154",{"v":1565.9801343155962,"d":"1,566"},{"v":3320.2674365684616,"d":"3,320"},{"v":4886.2475708840575,"d":"4,886"},{"$nulls":3},"25154",65]
["27","CHOCO","Bojaya","27099",268,306,337,{"$nulls":7},29,null,"25168",{"v":952.452609235514,"d":"952"},{"v":1719.4373790663335,"d":"1,719"},{"v":2671.8899883018476,"d":"2,672"},{"$nulls":3},"25168",29]
["27","CHOCO","El Canton del San Pablo","27135",102,102,129,{"$nulls":7},994,null,"25175",{"v":35289.1612940869,"d":"35,289"},{"v":69904.46822143495,"d":"69,904"},{"v":105193.62951552184,"d":"105,194"},{"$nulls":3},"25175",994]
["27","CHOCO","Carmen del Darien","27150",167,206,188,{"$nulls":7},81,null,"25178",{"v":1783.137922463226,"d":"1,783"},{"v":4259.572681069567,"d":"4,260"},{"v":6042.710603532792,"d":"6,043"},{"$nulls":3},"25178",81]
["27","CHOCO","Certegui","27160",160,163,168,{"$nulls":7},86,null,"25181",{"v":2281.847686097287,"d":"2,282"},{"v":4878.797432771376,"d":"4,879"},{"v":7160.645118868663,"d":"7,161"},{"$nulls":3},"25181",86]
["27","CHOCO","Condoto","27205",195,204,209,{"$nulls":7},197,null,"25183",{"v":3628.7755735232563,"d":"3,629"},{"v":9695.135426489904,"d":"9,695"},{"v":13323.91100001316,"d":"13,324"},{"$nulls":3},"25183",197]
["27","CHOCO","El Carmen de Atrato","27245",167,208,205,{"$nulls":7},198,null,"25200",{"v":2915.266990092152,"d":"2,915"},{"v":10813.695590778336,"d":"10,814"},{"v":13728.962580870488,"d":"13,729"},{"$nulls":3},"25200",198]
["27","CHOCO","El Litoral del San Juan","27250",257,260,295,{"$nulls":7},273,null,"25214",{"v":4626.372788998616,"d":"4,626"},{"v":17158.84447332066,"d":"17,159"},{"v":21785.217262319275,"d":"21,785"},{"$nulls":3},"25214",273]
["27","CHOCO","Istmina","27361",556,622,635,{"$nulls":7},73,null,"25224",{"v":1134.8519268705863,"d":"1,135"},{"v":3426.9600924871743,"d":"3,427"},{"v":4561.812019357761,"d":"4,562"},{"$nulls":3},"25224",73]
["27","CHOCO","Jurado","27372",123,130,135,{"$nulls":7},184,null,"25245",{"v":5195.069100727164,"d":"5,195"},{"v":10436.779553331311,"d":"10,437"},{"v":15631.848654058474,"d":"15,632"},{"$nulls":3},"25245",184]
["27","CHOCO","Lloro","27413",218,283,300,{"$nulls":7},37,null,"25258",{"v":1180.123327504959,"d":"1,180"},{"v":1807.1200863563195,"d":"1,807"},{"v":2987.2434138612784,"d":"2,987"},{"$nulls":3},"25258",37]
["27","CHOCO","Medio Atrato","27425",108,119,153,{"$nulls":7},210,null,"25260",{"v":2639.4379220621563,"d":"2,639"},{"v":11477.677863852789,"d":"11,478"},{"v":14117.115785914944,"d":"14,117"},{"$nulls":3},"25260",210]
["27","CHOCO","Medio Baudo","27430",252,297,305,{"$nulls":7},1194,null,"25269",{"v":29884.143969364588,"d":"29,884"},{"v":73200.799046853,"d":"73,201"},{"v":103084.94301621758,"d":"103,085"},{"$nulls":3},"25269",1194]
["27","CHOCO","Medio San Juan","27450",197,210,222,{"$nulls":7},97,null,"25279",{"v":2635.612560050162,"d":"2,636"},{"v":5362.538126002537,"d":"5,363"},{"v":7998.150686052699,"d":"7,998"},{"$nulls":3},"25279",97]
["27","CHOCO","Novita","27491",106,110,135,{"$nulls":7},56,null,"25281",{"v":1157.271351334896,"d":"1,157"},{"v":2455.517798383041,"d":"2,456"},{"v":3612.789149717937,"d":"3,613"},{"$nulls":3},"25281",56]
["27","CHOCO","Nuqui","27495",144,167,176,{"$nulls":7},779,null,"25286",{"v":18106.06257706043,"d":"18,106"},{"v":49529.21353190758,"d":"49,529"},{"v":67635.27610896801,"d":"67,635"},{"$nulls":3},"25286",779]
["27","CHOCO","Rio Iro","27580",110,119,131,{"$nulls":7},40,null,"25288",{"v":845.1428712050971,"d":"845"},{"v":2195.454787237537,"d":"2,195"},{"v":3040.597658442634,"d":"3,041"},{"$nulls":3},"25288",40]
["27","CHOCO","Rio Quito","27600",128,134,170,{"$nulls":7},1019,null,"25290",{"v":45497.02066317267,"d":"45,497"},{"v":65792.02338724252,"d":"65,792"},{"v":111289.04405041519,"d":"111,289"},{"$nulls":3},"25290",1019]
["27","CHOCO","Riosucio","27615",644,775,678,{"$nulls":7},34,null,"25293",{"v":1145.9036528107656,"d":"1,146"},{"v":1796.4406976982586,"d":"1,796"},{"v":2942.3443505090245,"d":"2,942"},{"$nulls":3},"25293",34]
["27","CHOCO","San Jose del Palmar","27660",109,112,114,{"$nulls":7},161,null,"25295",{"v":1568.1199785072379,"d":"1,568"},{"v":8972.552744646757,"d":"8,973"},{"v":10540.672723153995,"d":"10,541"},{"$nulls":3},"25295",161]
["27","CHOCO","Sipi","27745",64,66,97,{"$nulls":7},62,null,"25297",{"v":2858.097025648753,"d":"2,858"},{"v":3441.0724438556995,"d":"3,441"},{"v":6299.1694695044525,"d":"6,299"},{"$nulls":3},"25297",62]
["27","CHOCO","Tado","27787",336,353,377,{"$nulls":7},24,null,"25299",{"v":871.786233339817,"d":"872"},{"v":1245.0944093576886,"d":"1,245"},{"v":2116.8806426975057,"d":"2,117"},{"$nulls":3},"25299",24]
["27","CHOCO","Unguia","27800",248,269,257,{"$nulls":7},720,null,"25307",{"v":41975.26230078642,"d":"41,975"},{"v":48917.90143268809,"d":"48,918"},{"v":90893.1637334745,"d":"90,893"},{"$nulls":3},"25307",720]
["27","CHOCO","Union Panamericana","27810",102,109,118,{"$nulls":7},69,null,"25312",{"v":931.4088904787126,"d":"931"},{"v":3447.5701996854123,"d":"3,448"},{"v":4378.9790901641245,"d":"4,379"},{"$nulls":3},"25312",69]
["23","CORDOBA","Monteria","23001",{"v":7266,"d":"7,266"},{"v":7429,"d":"7,429"},{"v":8150,"d":"8,150"},{"$nulls":7},132,null,"25317",{"v":2129.301851044685,"d":"2,129"},{"v":6015.983110456972,"d":"6,016"},{"v":8145.284961501657,"d":"8,145"},{"$nulls":3},"25317",132]
["23","CORDOBA","Ayapel","23068",764,770,790,{"$nulls":7},212,null,"25320",{"v":5788.838308973713,"d":"5,789"},{"v":14897.229582424512,"d":"14,897"},{"v":20686.067891398226,"d":"20,686"},{"$nulls":3},"25320",212]
["23","CORDOBA","Buenavista","23079",304,309,323,{"$nulls":7},139,null,"25322",{"v":2396.8767207303526,"d":"2,397"},{"v":7618.240457287042,"d":"7,618"},{"v":10015.117178017394,"d":"10,015"},{"$nulls":3},"25322",139]
["23","CORDOBA","Canalete","23090",302,303,319,{"$nulls":7},18,null,"25324",{"v":578.4565713279953,"d":"578"},{"v":1104.4826330985493,"d":"1,104"},{"v":1682.9392044265446,"d":"1,683"},{"$nulls":3},"25324",18]
["23","CORDOBA","Cerete","23162",{"v":1288,"d":"1,288"},{"v":1299,"d":"1,299"},{"v":1395,"d":"1,395"},{"$nulls":7},51,null,"25326",{"v":1205.5287487896446,"d":"1,206"},{"v":2988.412147398888,"d":"2,988"},{"v":4193.940896188533,"d":"4,194"},{"$nulls":3},"25326",51]
["23","CORDOBA","Chima","23168",170,175,204,{"$nulls":7},36,null,"25328",{"v":811.2912767237356,"d":"811"},{"v":1894.0342174634998,"d":"1,894"},{"v":2705.3254941872356,"d":"2,705"},{"$nulls":3},"25328",36]
["23","CORDOBA","Chinu","23182",595,628,688,{"$nulls":7},61,null,"25335",{"v":770.9561351968896,"d":"771"},{"v":2893.8272848475926,"d":"2,894"},{"v":3664.783420044482,"d":"3,665"},{"$nulls":3},"25335",61]
["23","CORDOBA","Cienaga de Oro","23189",843,879,990,{"$nulls":7},31,null,"25339",{"v":582.8958054972699,"d":"583"},{"v":1534.7481684414597,"d":"1,535"},{"v":2117.6439739387297,"d":"2,118"},{"$nulls":3},"25339",31]
["23","CORDOBA","Cotorra","23300",253,261,263,{"$nulls":7},15,null,"25368",{"v":660.2718555149254,"d":"660"},{"v":897.2041239761088,"d":"897"},{"v":1557.4759794910342,"d":"1,557"},{"$nulls":3},"25368",15]
["23","CORDOBA","La Apartada","23350",256,261,278,{"$nulls":7},43,null,"25372",{"v":1632.647529594147,"d":"1,633"},{"v":2438.406595692868,"d":"2,438"},{"v":4071.0541252870153,"d":"4,071"},{"$nulls":3},"25372",43]
["23","CORDOBA","Lorica","23417",{"v":1651,"d":"1,651"},{"v":1700,"d":"1,700"},{"v":1798,"d":"1,798"},{"$nulls":7},229,null,"25377",{"v":5036.501294175387,"d":"5,037"},{"v":15278.093549882135,"d":"15,278"},{"v":20314.594844057523,"d":"20,315"},{"$nulls":3},"25377",229]
["23","CORDOBA","Los Cordobas","23419",265,276,300,{"$nulls":7},240,null,"25386",{"v":9502.833501057938,"d":"9,503"},{"v":14945.821352335406,"d":"14,946"},{"v":24448.654853393346,"d":"24,449"},{"$nulls":3},"25386",240]
["23","CORDOBA","Momil","23464",246,256,263,{"$nulls":7},65,null,"25394",{"v":2843.711921085206,"d":"2,844"},{"v":3907.7041070244068,"d":"3,908"},{"v":6751.416028109613,"d":"6,751"},{"$nulls":3},"25394",65]
["23","CORDOBA","Montelibano","23466",{"v":1323,"d":"1,323"},{"v":1376,"d":"1,376"},{"v":1561,"d":"1,561"},{"$nulls":7},39,null,"25398",{"v":1684.958981200127,"d":"1,685"},{"v":2418.7186745498434,"d":"2,419"},{"v":4103.677655749971,"d":"4,104"},{"$nulls":3},"25398",39]
["23","CORDOBA","Moñitos","23500",410,436,443,{"$nulls":7},142,null,"25402",{"v":3281.0317259953463,"d":"3,281"},{"v":7802.00243177039,"d":"7,802"},{"v":11083.034157765736,"d":"11,083"},{"$nulls":3},"25402",142]
["23","CORDOBA","Planeta Rica","23555",{"v":1012,"d":"1,012"},{"v":1012,"d":"1,012"},{"v":1139,"d":"1,139"},{"$nulls":7},99,null,"25407",{"v":1482.9244531301692,"d":"1,483"},{"v":4577.642097984592,"d":"4,578"},{"v":6060.566551114761,"d":"6,061"},{"$nulls":3},"25407",99]
["23","CORDOBA","Pueblo Nuevo","23570",472,486,534,{"$nulls":7},45,null,"25426",{"v":1462.6954779085545,"d":"1,463"},{"v":2632.7275850734395,"d":"2,633"},{"v":4095.423062981994,"d":"4,095"},{"$nulls":3},"25426",45]
["23","CORDOBA","Puerto Escondido","23574",566,566,598,{"$nulls":7},1009,null,"25430",{"v":17658.40040331691,"d":"17,658"},{"v":59805.88058623614,"d":"59,806"},{"v":77464.28098955305,"d":"77,464"},{"$nulls":3},"25430",1009]
["23","CORDOBA","Puerto Libertador","23580",827,834,848,{"$nulls":7},21,null,"25436",{"v":979.3541942325901,"d":"979"},{"v":1531.9718043835212,"d":"1,532"},{"$f":"R515+S515","v":{"v":2511.325998616111,"d":"2,511"}},{"$nulls":3},"25436",21]
["23","CORDOBA","Purisima","23586",246,258,270,{"$nulls":7},73,null,"25438",{"v":1561.968449765751,"d":"1,562"},{"v":3399.6268066018138,"d":"3,400"},{"v":4961.595256367565,"d":"4,962"},{"$nulls":3},"25438",73]
["23","CORDOBA","Sahagun","23660",{"v":1333,"d":"1,333"},{"v":1379,"d":"1,379"},{"v":1482,"d":"1,482"},{"$nulls":7},1152,null,"25473",{"v":18111.49320562855,"d":"18,111"},{"v":71690.91789744238,"d":"71,691"},{"v":89802.41110307093,"d":"89,802"},{"$nulls":3},"25473",1152]
["23","CORDOBA","San Andres Sotavento","23670",839,852,868,{"$nulls":7},15,null,"25483",{"v":520.1902875474417,"d":"520"},{"v":1047.1527320464743,"d":"1,047"},{"v":1567.3430195939159,"d":"1,567"},{"$nulls":3},"25483",15]
["23","CORDOBA","San Antero","23672",541,547,575,{"$nulls":7},132,null,"25486",{"v":1868.8514160279578,"d":"1,869"},{"v":6349.750886162294,"d":"6,350"},{"v":8218.602302190251,"d":"8,219"},{"$nulls":3},"25486",132]
["23","CORDOBA","San Bernardo del Viento","23675",548,556,548,{"$nulls":7},68,null,"25488",{"v":1119.4473609382737,"d":"1,119"},{"v":6011.491616570431,"d":"6,011"},{"v":7130.938977508705,"d":"7,131"},{"$nulls":3},"25488",68]
["23","CORDOBA","San Carlos","23678",322,318,346,{"$nulls":7},23,null,"25489",{"v":851.0529968652087,"d":"851"},{"v":1517.6282752404038,"d":"1,518"},{"v":2368.6812721056126,"d":"2,369"},{"$nulls":3},"25489",23]
["23","CORDOBA","San Jose de Ure","23682",146,159,179,{"$nulls":7},44,null,"25491",{"v":1250.804345288197,"d":"1,251"},{"v":2670.9989767209527,"d":"2,671"},{"v":3921.8033220091497,"d":"3,922"},{"$nulls":3},"25491",44]
["23","CORDOBA","San Pelayo","23686",693,694,733,{"$nulls":7},32,null,"25506",{"v":1022.4793451379276,"d":"1,022"},{"v":1837.5116474777672,"d":"1,838"},{"v":2859.9909926156947,"d":"2,860"},{"$nulls":3},"25506",32]
["23","CORDOBA","Tierralta","23807",{"v":2214,"d":"2,214"},{"v":2223,"d":"2,223"},{"v":2304,"d":"2,304"},{"$nulls":7},198,null,"25513",{"v":6464.573576305399,"d":"6,465"},{"v":10564.826583175594,"d":"10,565"},{"v":17029.400159480992,"d":"17,029"},{"$nulls":3},"25513",198]
["23","CORDOBA","Tuchin","23815",772,796,844,{"$nulls":7},31,null,"25518",{"v":1022.283234666832,"d":"1,022"},{"v":1723.4127902713224,"d":"1,723"},{"v":2745.6960249381546,"d":"2,746"},{"$nulls":3},"25518",31]
["23","CORDOBA","Valencia","23855",609,613,637,{"$nulls":7},36,null,"25524",{"v":975.6337662930118,"d":"976"},{"v":2172.333903384049,"d":"2,172"},{"v":3147.9676696770607,"d":"3,148"},{"$nulls":3},"25524",36]
["25","CUNDINAMARCA","Agua de Dios","25001",93,96,111,{"$nulls":7},91,null,"25530",{"v":891.1728208692215,"d":"891"},{"v":3945.8558878770627,"d":"3,946"},{"v":4837.028708746284,"d":"4,837"},{"$nulls":3},"25530",91]
["25","CUNDINAMARCA","Alban","25019",46,48,56,{"$nulls":7},77,null,"25535",{"v":1750.9732272243327,"d":"1,751"},{"v":4158.389653127752,"d":"4,158"},{"v":5909.362880352085,"d":"5,909"},{"$nulls":3},"25535",77]
["25","CUNDINAMARCA","Anapoima","25035",131,142,158,{"$nulls":7},130,null,"25572",{"v":2133.7066237451318,"d":"2,134"},{"v":7424.298853051723,"d":"7,424"},{"v":9558.005476796854,"d":"9,558"},{"$nulls":3},"25572",130]
["25","CUNDINAMARCA","Anolaima","25040",125,140,173,{"$nulls":7},29,null,"25580",{"v":726.5784188912903,"d":"727"},{"v":1311.5129358400673,"d":"1,312"},{"v":2038.0913547313576,"d":"2,038"},{"$nulls":3},"25580",29]
["25","CUNDINAMARCA","Arbelaez","25053",93,97,112,{"$nulls":7},36,null,"25592",{"v":1167.1917637404954,"d":"1,167"},{"v":1972.7156149825548,"d":"1,973"},{"v":3139.90737872305,"d":"3,140"},{"$nulls":3},"25592",36]
["25","CUNDINAMARCA","Beltran","25086",17,17,21,{"$nulls":7},47,null,"25594",{"v":998.1564768743127,"d":"998"},{"v":2221.7539095374045,"d":"2,222"},{"v":3219.9103864117174,"d":"3,220"},{"$nulls":3},"25594",47]
["25","CUNDINAMARCA","Bituima","25095",12,13,18,{"$nulls":7},49,null,"25596",{"v":1760.9196458292536,"d":"1,761"},{"v":2502.387920582174,"d":"2,502"},{"v":4263.307566411428,"d":"4,263"},{"$nulls":3},"25596",49]
["25","CUNDINAMARCA","Bojaca","25099",97,99,114,{"$nulls":7},62,null,"25599",{"v":1816.4841672360656,"d":"1,816"},{"v":3549.9584402420032,"d":"3,550"},{"v":5366.442607478069,"d":"5,366"},{"$nulls":3},"25599",62]
["25","CUNDINAMARCA","Cabrera","25120",71,71,72,{"$nulls":7},106,null,"25612",{"v":1933.441953258804,"d":"1,933"},{"v":6204.930348295852,"d":"6,205"},{"v":8138.372301554657,"d":"8,138"},{"$nulls":3},"25612",106]
["25","CUNDINAMARCA","Cachipay","25123",102,111,126,{"$nulls":7},90,null,"25645",{"v":2000.3912782421207,"d":"2,000"},{"v":5116.514654129359,"d":"5,117"},{"v":7116.905932371479,"d":"7,117"},{"$nulls":3},"25645",90]
["25","CUNDINAMARCA","Cajica","25126",737,827,905,{"$nulls":7},71,null,"25649",{"v":1609.7298519777924,"d":"1,610"},{"v":3720.188151353474,"d":"3,720"},{"v":5329.918003331266,"d":"5,330"},{"$nulls":3},"25649",71]
["25","CUNDINAMARCA","Caparrapi","25148",96,110,124,{"$nulls":7},39,null,"25653",{"v":982.6838093085441,"d":"983"},{"v":2077.4442879959834,"d":"2,077"},{"v":3060.1280973045277,"d":"3,060"},{"$nulls":3},"25653",39]
["25","CUNDINAMARCA","Caqueza","25151",208,218,238,{"$nulls":7},86,null,"25658",{"v":1443.7192105233833,"d":"1,444"},{"v":4857.212585902083,"d":"4,857"},{"v":6300.931796425467,"d":"6,301"},{"$nulls":3},"25658",86]
["25","CUNDINAMARCA","Carmen de Carupa","25154",91,100,106,{"$nulls":7},64,null,"25662",{"v":2204.722363831896,"d":"2,205"},{"v":3335.546950499097,"d":"3,336"},{"v":5540.269314330993,"d":"5,540"},{"$nulls":3},"25662",64]
["25","CUNDINAMARCA","Chaguani","25168",25,27,29,{"$nulls":7},86,null,"25718",{"v":2210.833543624313,"d":"2,211"},{"v":4694.2046388673025,"d":"4,694"},{"v":6905.038182491615,"d":"6,905"},{"$nulls":3},"25718",86]
["25","CUNDINAMARCA","Chia","25175",{"v":1640,"d":"1,640"},{"v":1767,"d":"1,767"},{"v":1866,"d":"1,866"},{"$nulls":7},102,null,"25736",{"v":1612.2539178241113,"d":"1,612"},{"v":5620.773735508833,"d":"5,621"},{"v":7233.027653332944,"d":"7,233"},{"$nulls":3},"25736",102]
["25","CUNDINAMARCA","Chipaque","25178",103,106,117,{"$nulls":7},290,null,"25740",{"v":5477.184105725468,"d":"5,477"},{"v":16765.7121741895,"d":"16,766"},{"v":22242.896279914967,"d":"22,243"},{"$nulls":3},"25740",290]
["25","CUNDINAMARCA","Choachi","25181",115,115,120,{"$nulls":7},178,null,"25743",{"v":4086.3222724138986,"d":"4,086"},{"v":9661.03227948898,"d":"9,661"},{"v":13747.354551902878,"d":"13,747"},{"$nulls":3},"25743",178]
["25","CUNDINAMARCA","Choconta","25183",293,316,334,{"$nulls":7},128,null,"25745",{"v":1684.1016579456473,"d":"1,684"},{"v":5977.915004839117,"d":"5,978"},{"v":7662.016662784764,"d":"7,662"},{"$nulls":3},"25745",128]
["25","CUNDINAMARCA","Cogua","25200",214,229,233,{"$nulls":7},5989,null,"25754",{"v":94541.80372152515,"d":"94,542"},{"v":353102.2391474418,"d":"353,102"},{"v":447644.04286896694,"d":"447,644"},{"$nulls":3},"25754",5989]
["25","CUNDINAMARCA","Cota","25214",250,265,296,{"$nulls":7},201,null,"25758",{"v":4576.732142369004,"d":"4,577"},{"v":13755.388290256798,"d":"13,755"},{"v":18332.1204326258,"d":"18,332"},{"$nulls":3},"25758",201]
["25","CUNDINAMARCA","Cucunuba","25224",107,111,113,{"$nulls":7},125,null,"25769",{"v":2411.7107868078297,"d":"2,412"},{"v":7646.993809786311,"d":"7,647"},{"v":10058.704596594142,"d":"10,059"},{"$nulls":3},"25769",125]
["25","CUNDINAMARCA","El Colegio","25245",225,241,268,{"$nulls":7},158,null,"25772",{"v":2488.926720002383,"d":"2,489"},{"v":8313.783684807882,"d":"8,314"},{"v":10802.710404810265,"d":"10,803"},{"$nulls":3},"25772",158]
["25","CUNDINAMARCA","El Peñon","25258",39,47,54,{"$nulls":7},44,null,"25777",{"v":1016.6177348898127,"d":"1,017"},{"v":2266.8274574359657,"d":"2,267"},{"v":3283.4451923257784,"d":"3,283"},{"$nulls":3},"25777",44]
["25","CUNDINAMARCA","El Rosal","25260",373,381,385,{"$nulls":7},61,null,"25779",{"v":1071.7609913094414,"d":"1,072"},{"v":2908.0349375555024,"d":"2,908"},{"v":3979.7959288649436,"d":"3,980"},{"$nulls":3},"25779",61]
["25","CUNDINAMARCA","Facatativa","25269",{"v":1856,"d":"1,856"},{"v":2004,"d":"2,004"},{"v":2085,"d":"2,085"},{"$nulls":7},60,null,"25781",{"v":780.3236770229938,"d":"780"},{"v":2734.440730574325,"d":"2,734"},{"v":3514.7644075973185,"d":"3,515"},{"$nulls":3},"25781",60]
["25","CUNDINAMARCA","Fomeque","25279",145,157,163,{"$nulls":7},183,null,"25785",{"v":3105.8980963496524,"d":"3,106"},{"v":10979.283133724559,"d":"10,979"},{"v":14085.181230074211,"d":"14,085"},{"$nulls":3},"25785",183]
["25","CUNDINAMARCA","Fosca","25281",88,85,95,{"$nulls":7},81,null,"25793",{"v":1019.0532069405449,"d":"1,019"},{"v":3689.13635115493,"d":"3,689"},{"v":4708.189558095475,"d":"4,708"},{"$nulls":3},"25793",81]
["25","CUNDINAMARCA","Funza","25286",{"v":1442,"d":"1,442"},{"v":1454,"d":"1,454"},{"v":1549,"d":"1,549"},{"$nulls":7},77,null,"25797",{"v":1457.5416892390967,"d":"1,458"},{"v":4251.619333616432,"d":"4,252"},{"v":5709.161022855529,"d":"5,709"},{"$nulls":3},"25797",77]
["25","CUNDINAMARCA","Fuquene","25288",65,66,69,{"$nulls":7},180,null,"25799",{"v":3286.337083822383,"d":"3,286"},{"v":11076.678065131018,"d":"11,077"},{"v":14363.015148953402,"d":"14,363"},{"$nulls":3},"25799",180]
["25","CUNDINAMARCA","Fusagasuga","25290",{"v":1607,"d":"1,607"},{"v":1614,"d":"1,614"},{"v":1774,"d":"1,774"},{"$nulls":7},39,null,"25805",{"v":985.5105767201708,"d":"986"},{"v":1817.0203881084067,"d":"1,817"},{"v":2802.5309648285775,"d":"2,803"},{"$nulls":3},"25805",39]
["25","CUNDINAMARCA","Gachala","25293",30,35,44,{"$nulls":7},22,null,"25807",{"v":678.5457962696797,"d":"679"},{"v":1274.8645444206873,"d":"1,275"},{"v":1953.4103406903669,"d":"1,953"},{"$nulls":3},"25807",22]
["25","CUNDINAMARCA","Gachancipa","25295",252,250,252,{"$nulls":7},108,null,"25815",{"v":3660.3034637318515,"d":"3,660"},{"v":6921.334824989554,"d":"6,921"},{"v":10581.638288721406,"d":"10,582"},{"$nulls":3},"25815",108]
["25","CUNDINAMARCA","Gacheta","25297",77,83,102,{"$nulls":7},383,null,"25817",{"v":6088.6033903397565,"d":"6,089"},{"v":21205.710872313404,"d":"21,206"},{"v":27294.314262653163,"d":"27,294"},{"$nulls":3},"25817",383]
["25","CUNDINAMARCA","Gama","25299",25,28,39,{"$nulls":7},29,null,"25823",{"v":1069.6006066932068,"d":"1,070"},{"v":1700.493372235207,"d":"1,700"},{"v":2770.093978928414,"d":"2,770"},{"$nulls":3},"25823",29]
["25","CUNDINAMARCA","Girardot","25307",{"v":1370,"d":"1,370"},{"v":1589,"d":"1,589"},{"v":1669,"d":"1,669"},{"$nulls":7},60,null,"25839",{"v":2121.875860110975,"d":"2,122"},{"v":3228.6408502429917,"d":"3,229"},{"v":5350.516710353966,"d":"5,351"},{"$nulls":3},"25839",60]
["25","CUNDINAMARCA","Granada","25312",80,86,96,{"$nulls":7},52,null,"25841",{"v":1432.8621226674902,"d":"1,433"},{"v":2924.754071749533,"d":"2,925"},{"v":4357.6161944170235,"d":"4,358"},{"$nulls":3},"25841",52]
["25","CUNDINAMARCA","Guacheta","25317",199,208,230,{"$nulls":7},403,null,"25843",{"v":9217.11949951785,"d":"9,217"},{"v":20977.41574206852,"d":"20,977"},{"v":30194.535241586367,"d":"30,195"},{"$nulls":3},"25843",403]
["25","CUNDINAMARCA","Guaduas","25320",238,243,262,{"$nulls":7},58,null,"25845",{"v":1334.1394428176145,"d":"1,334"},{"v":3209.0743019720007,"d":"3,209"},{"v":4543.213744789615,"d":"4,543"},{"$nulls":3},"25845",58]
["25","CUNDINAMARCA","Guasca","25322",164,175,199,{"$nulls":7},31,null,"25851",{"v":1116.413871581569,"d":"1,116"},{"v":1812.6427500995424,"d":"1,813"},{"v":2929.056621681111,"d":"2,929"},{"$nulls":3},"25851",31]
["25","CUNDINAMARCA","Guataqui","25324",20,22,25,{"$nulls":7},50,null,"25862",{"v":1909.6317566740297,"d":"1,910"},{"v":2838.6450990809744,"d":"2,839"},{"v":4748.276855755004,"d":"4,748"},{"$nulls":3},"25862",50]
["25","CUNDINAMARCA","Guatavita","25326",69,75,81,{"$nulls":7},36,null,"25867",{"v":945.6154880402803,"d":"946"},{"v":1816.9631368216887,"d":"1,817"},{"v":2762.578624861969,"d":"2,763"},{"$nulls":3},"25867",36]
["25","CUNDINAMARCA","Guayabal de Siquima","25328",42,44,50,{"$nulls":7},15,null,"25871",{"v":499.57121064113284,"d":"500"},{"v":707.9840178853976,"d":"708"},{"v":1207.5552285265305,"d":"1,208"},{"$nulls":3},"25871",15]
["25","CUNDINAMARCA","Guayabetal","25335",98,99,106,{"$nulls":7},174,null,"25873",{"v":2361.75941945145,"d":"2,362"},{"v":7806.709073936387,"d":"7,807"},{"v":10168.468493387836,"d":"10,168"},{"$nulls":3},"25873",174]
["25","CUNDINAMARCA","Gutierrez","25339",53,57,57,{"$nulls":7},207,null,"25875",{"v":8335.786660050302,"d":"8,336"},{"v":12633.847829185008,"d":"12,634"},{"v":20969.634489235308,"d":"20,970"},{"$nulls":3},"25875",207]
["25","CUNDINAMARCA","Jerusalen","25368",22,24,28,{"$nulls":7},108,null,"25878",{"v":3115.1423902942984,"d":"3,115"},{"v":5510.235085072287,"d":"5,510"},{"v":8625.377475366586,"d":"8,625"},{"$nulls":3},"25878",108]
["25","CUNDINAMARCA","Junin","25372",47,52,58,{"$nulls":7},93,null,"25885",{"v":3114.3099523364367,"d":"3,114"},{"v":5133.596497277748,"d":"5,134"},{"v":8247.906449614185,"d":"8,248"},{"$nulls":3},"25885",93]
["25","CUNDINAMARCA","La Calera","25377",185,209,264,{"$nulls":7},36,null,"25898",{"v":793.3938700869492,"d":"793"},{"v":2073.3735754516097,"d":"2,073"},{"v":2866.7674455385586,"d":"2,867"},{"$nulls":3},"25898",36]
["25","CUNDINAMARCA","La Mesa","25386",383,390,442,{"$nulls":7},1085,null,"25899",{"v":32623.859915860143,"d":"32,624"},{"v":67359.90718933266,"d":"67,360"},{"v":99983.7671051928,"d":"99,984"},{"$nulls":3},"25899",1085]
["25","CUNDINAMARCA","La Palma","25394",70,76,105,{"$nulls":7},1363,null,"27001",{"v":25290.704320802615,"d":"25,291"},{"v":55173.490937089744,"d":"55,173"},{"v":80464.19525789237,"d":"80,464"},{"$nulls":3},"27001",1363]
["25","CUNDINAMARCA","La Peña","25398",40,43,54,{"$nulls":7},141,null,"27006",{"v":1423.954465532658,"d":"1,424"},{"v":5994.057633325962,"d":"5,994"},{"v":7418.01209885862,"d":"7,418"},{"$nulls":3},"27006",141]
["25","CUNDINAMARCA","La Vega","25402",179,187,205,{"$nulls":7},339,null,"27025",{"v":2606.1481726320853,"d":"2,606"},{"v":11304.095046830978,"d":"11,304"},{"v":13910.243219463064,"d":"13,910"},{"$nulls":3},"27025",339]
["25","CUNDINAMARCA","Lenguazaque","25407",127,136,141,{"$nulls":7},55,null,"27050",{"v":932.8279814068637,"d":"933"},{"v":2571.8458734820233,"d":"2,572"},{"$f":"R579+S579","v":{"v":3504.673854888887,"d":"3,505"}},{"$nulls":3},"27050",55]
["25","CUNDINAMARCA","Macheta","25426",54,58,64,{"$nulls":7},153,null,"27073",{"v":1301.393881504147,"d":"1,301"},{"v":4210.854604470545,"d":"4,211"},{"v":5512.248485974693,"d":"5,512"},{"$nulls":3},"27073",153]
["25","CUNDINAMARCA","Madrid","25430",{"v":1416,"d":"1,416"},{"v":1511,"d":"1,511"},{"v":1542,"d":"1,542"},{"$nulls":7},108,null,"27075",{"v":1463.7570203369066,"d":"1,464"},{"v":4291.703212789434,"d":"4,292"},{"v":5755.46023312634,"d":"5,755"},{"$nulls":3},"27075",108]
["25","CUNDINAMARCA","Manta","25436",26,27,34,{"$nulls":7},381,null,"27077",{"v":2566.7486726872194,"d":"2,567"},{"v":11893.785949465804,"d":"11,894"},{"v":14460.534622153024,"d":"14,461"},{"$nulls":3},"27077",381]
["25","CUNDINAMARCA","Medina","25438",90,97,114,{"$nulls":7},165,null,"27099",{"v":1599.4912528248146,"d":"1,599"},{"v":4655.0799385558785,"d":"4,655"},{"v":6254.571191380694,"d":"6,255"},{"$nulls":3},"27099",165]
["25","CUNDINAMARCA","Mosquera","25473",{"v":1185,"d":"1,185"},{"v":1239,"d":"1,239"},{"v":1401,"d":"1,401"},{"$nulls":7},69,null,"27135",{"v":1038.9894403872288,"d":"1,039"},{"v":2521.4891777102794,"d":"2,521"},{"v":3560.478618097508,"d":"3,560"},{"$nulls":3},"27135",69]
["25","CUNDINAMARCA","Nariño","25483",30,34,29,{"$nulls":7},229,null,"27150",{"v":718.6346030399949,"d":"719"},{"v":7872.5797494224935,"d":"7,873"},{"v":8591.214352462488,"d":"8,591"},{"$nulls":3},"27150",229]
["25","CUNDINAMARCA","Nemocon","25486",218,223,232,{"$nulls":7},58,null,"27160",{"v":682.669372564158,"d":"683"},{"v":2397.7682895053244,"d":"2,398"},{"v":3080.4376620694825,"d":"3,080"},{"$nulls":3},"27160",58]
["25","CUNDINAMARCA","Nilo","25488",67,75,90,{"$nulls":7},126,null,"27205",{"v":1874.8249467398941,"d":"1,875"},{"v":5093.773860251995,"d":"5,094"},{"v":6968.598806991889,"d":"6,969"},{"$nulls":3},"27205",126]
["25","CUNDINAMARCA","Nimaima","25489",17,18,35,{"$nulls":7},78,null,"27245",{"v":1416.6672867193913,"d":"1,417"},{"v":3438.1782892151887,"d":"3,438"},{"v":4854.84557593458,"d":"4,855"},{"$nulls":3},"27245",78]
["25","CUNDINAMARCA","Nocaima","25491",40,40,58,{"$nulls":7},283,null,"27250",{"v":1260.1775062311717,"d":"1,260"},{"v":8967.31827381963,"d":"8,967"},{"v":10227.495780050802,"d":"10,227"},{"$nulls":3},"27250",283]
["25","CUNDINAMARCA","Venecia","25506",45,52,60,{"$nulls":7},321,null,"27361",{"v":5078.416163585958,"d":"5,078"},{"v":13071.602946770126,"d":"13,072"},{"v":18150.019110356086,"d":"18,150"},{"$nulls":3},"27361",321]
["25","CUNDINAMARCA","Pacho","25513",269,276,317,{"$nulls":7},85,null,"27372",{"v":497.506062815938,"d":"498"},{"v":2690.391950919505,"d":"2,690"},{"v":3187.898013735443,"d":"3,188"},{"$nulls":3},"27372",85]
["25","CUNDINAMARCA","Paime","25518",26,28,38,{"$nulls":7},144,null,"27413",{"v":1360.7022588203263,"d":"1,361"},{"v":3523.729663130289,"d":"3,524"},{"v":4884.431921950615,"d":"4,884"},{"$nulls":3},"27413",144]
["25","CUNDINAMARCA","Pandi","25524",39,46,52,{"$nulls":7},100,null,"27425",{"v":916.6728466244916,"d":"917"},{"v":4755.860681558706,"d":"4,756"},{"v":5672.533528183198,"d":"5,673"},{"$nulls":3},"27425",100]
["25","CUNDINAMARCA","Paratebueno","25530",159,152,152,{"$nulls":7},185,null,"27430",{"v":1378.989728333826,"d":"1,379"},{"v":6138.14952340966,"d":"6,138"},{"v":7517.139251743486,"d":"7,517"},{"$nulls":3},"27430",185]
["25","CUNDINAMARCA","Pasca","25535",108,111,112,{"$nulls":7},115,null,"27450",{"v":1243.8412777349467,"d":"1,244"},{"v":4288.733721009569,"d":"4,289"},{"v":5532.574998744516,"d":"5,533"},{"$nulls":3},"27450",115]
["25","CUNDINAMARCA","Puerto Salgar","25572",170,176,212,{"$nulls":7},94,null,"27491",{"v":1067.9572540790068,"d":"1,068"},{"v":3724.180238749357,"d":"3,724"},{"v":4792.137492828364,"d":"4,792"},{"$nulls":3},"27491",94]
["25","CUNDINAMARCA","Puli","25580",18,21,24,{"$nulls":7},217,null,"27495",{"v":1033.7821175992365,"d":"1,034"},{"v":6544.8321717653325,"d":"6,545"},{"v":7578.614289364569,"d":"7,579"},{"$nulls":3},"27495",217]
["25","CUNDINAMARCA","Quebradanegra","25592",38,38,42,{"$nulls":7},65,null,"27580",{"v":914.3341135655804,"d":"914"},{"v":2113.886515927114,"d":"2,114"},{"v":3028.2206294926946,"d":"3,028"},{"$nulls":3},"27580",65]
["25","CUNDINAMARCA","Quetame","25594",77,80,83,{"$nulls":7},90,null,"27600",{"v":1385.7481034266011,"d":"1,386"},{"v":3477.9012796461166,"d":"3,478"},{"v":4863.649383072718,"d":"4,864"},{"$nulls":3},"27600",90]
["25","CUNDINAMARCA","Quipile","25596",57,60,64,{"$nulls":7},499,null,"27615",{"v":2753.786013380907,"d":"2,754"},{"v":24642.452829274334,"d":"24,642"},{"v":27396.238842655242,"d":"27,396"},{"$nulls":3},"27615",499]
["25","CUNDINAMARCA","Apulo","25599",88,88,104,{"$nulls":7},53,null,"27660",{"v":543.8076845539061,"d":"544"},{"v":2066.313054511906,"d":"2,066"},{"v":2610.1207390658124,"d":"2,610"},{"$nulls":3},"27660",53]
["25","CUNDINAMARCA","Ricaurte","25612",116,121,137,{"$nulls":7},34,null,"27745",{"v":404.2270228145403,"d":"404"},{"v":1301.967004946891,"d":"1,302"},{"v":1706.1940277614312,"d":"1,706"},{"$nulls":3},"27745",34]
["25","CUNDINAMARCA","San Antonio del Tequendama","25645",92,100,100,{"$nulls":7},194,null,"27787",{"v":2950.187685814336,"d":"2,950"},{"v":7302.934074383305,"d":"7,303"},{"v":10253.121760197642,"d":"10,253"},{"$nulls":3},"27787",194]
["25","CUNDINAMARCA","San Bernardo","25649",101,102,121,{"$nulls":7},140,null,"27800",{"v":1163.5224348421202,"d":"1,164"},{"v":5254.601150170074,"d":"5,255"},{"v":6418.123585012194,"d":"6,418"},{"$nulls":3},"27800",140]
["25","CUNDINAMARCA","San Cayetano","25653",29,29,38,{"$nulls":7},66,null,"27810",{"v":918.8582764139936,"d":"919"},{"v":3029.601592591839,"d":"3,030"},{"v":3948.459869005833,"d":"3,948"},{"$nulls":3},"27810",66]
["25","CUNDINAMARCA","San Francisco","25658",102,102,105,{"$nulls":7},2871,null,"41001",{"v":105685.19826802102,"d":"105,685"},{"v":159621.41078700876,"d":"159,621"},{"v":265306.6090550298,"d":"265,307"},{"$nulls":3},"41001",2871]
["25","CUNDINAMARCA","San Juan de Rio Seco","25662",81,85,95,{"$nulls":7},277,null,"41006",{"v":3801.964852608258,"d":"3,802"},{"v":10506.128053744036,"d":"10,506"},{"v":14308.092906352294,"d":"14,308"},{"$nulls":3},"41006",277]
["25","CUNDINAMARCA","Sasaima","25718",98,108,119,{"$nulls":7},87,null,"41013",{"v":1647.738942091571,"d":"1,648"},{"v":3669.3506036293647,"d":"3,669"},{"v":5317.089545720935,"d":"5,317"},{"$nulls":3},"41013",87]
["25","CUNDINAMARCA","Sesquile","25736",133,140,145,{"$nulls":7},158,null,"41016",{"v":3139.542999951065,"d":"3,140"},{"v":6860.383178760532,"d":"6,860"},{"v":9999.926178711597,"d":"10,000"},{"$nulls":3},"41016",158]
["25","CUNDINAMARCA","Sibate","25740",435,442,483,{"$nulls":7},216,null,"41020",{"v":4200.558960697505,"d":"4,201"},{"v":9513.42410387545,"d":"9,513"},{"v":13713.983064572956,"d":"13,714"},{"$nulls":3},"41020",216]
["25","CUNDINAMARCA","Silvania","25743",244,244,273,{"$nulls":7},33,null,"41026",{"v":652.0673972377298,"d":"652"},{"v":1938.1931544363147,"d":"1,938"},{"v":2590.2605516740446,"d":"2,590"},{"$nulls":3},"41026",33]
["25","CUNDINAMARCA","Simijaca","25745",166,168,195,{"$nulls":7},69,null,"41078",{"v":1496.6094888042876,"d":"1,497"},{"v":3552.9659820745346,"d":"3,553"},{"v":5049.575470878823,"d":"5,050"},{"$nulls":3},"41078",69]
["25","CUNDINAMARCA","Soacha","25754",{"v":7639,"d":"7,639"},{"v":7886,"d":"7,886"},{"v":8783,"d":"8,783"},{"$nulls":7},259,null,"41132",{"v":7005.003662258551,"d":"7,005"},{"v":13412.322906309442,"d":"13,412"},{"v":20417.326568567994,"d":"20,417"},{"$nulls":3},"41132",259]
["25","CUNDINAMARCA","Sopo","25758",275,284,306,{"$nulls":7},61,null,"41206",{"v":1440.2229406622482,"d":"1,440"},{"v":2900.4975575034396,"d":"2,900"},{"v":4340.720498165688,"d":"4,341"},{"$nulls":3},"41206",61]
["25","CUNDINAMARCA","Subachoque","25769",154,154,178,{"$nulls":7},40,null,"41244",{"v":757.6658338895759,"d":"758"},{"v":1791.7789758835252,"d":"1,792"},{"v":2549.444809773101,"d":"2,549"},{"$nulls":3},"41244",40]
["25","CUNDINAMARCA","Suesca","25772",204,224,240,{"$nulls":7},676,null,"41298",{"v":16036.668639056592,"d":"16,037"},{"v":31454.584690375574,"d":"31,455"},{"v":47491.25332943216,"d":"47,491"},{"$nulls":3},"41298",676]
["25","CUNDINAMARCA","Supata","25777",40,38,48,{"$nulls":7},231,null,"41306",{"v":4860.650125865337,"d":"4,861"},{"v":10414.705458279095,"d":"10,415"},{"v":15275.355584144432,"d":"15,275"},{"$nulls":3},"41306",231]
["25","CUNDINAMARCA","Susa","25779",72,99,87,{"$nulls":7},181,null,"41319",{"v":3137.181773934656,"d":"3,137"},{"v":7598.326114175411,"d":"7,598"},{"v":10735.507888110067,"d":"10,736"},{"$nulls":3},"41319",181]
["25","CUNDINAMARCA","Sutatausa","25781",71,77,77,{"$nulls":7},68,null,"41349",{"v":1267.4712560901562,"d":"1,267"},{"v":3070.193158215832,"d":"3,070"},{"v":4337.664414305988,"d":"4,338"},{"$nulls":3},"41349",68]
["25","CUNDINAMARCA","Tabio","25785",235,238,245,{"$nulls":7},93,null,"41357",{"v":1654.0451156790652,"d":"1,654"},{"v":3795.5021755442303,"d":"3,796"},{"v":5449.547291223295,"d":"5,450"},{"$nulls":3},"41357",93]
["25","CUNDINAMARCA","Tausa","25793",118,127,128,{"$nulls":7},234,null,"41359",{"v":4358.2426689590075,"d":"4,358"},{"v":11123.974723589501,"d":"11,124"},{"v":15482.217392548508,"d":"15,482"},{"$nulls":3},"41359",234]
["25","CUNDINAMARCA","Tena","25797",80,86,99,{"$nulls":7},131,null,"41378",{"v":2117.8384461855985,"d":"2,118"},{"v":5508.992174820278,"d":"5,509"},{"v":7626.830621005876,"d":"7,627"},{"$nulls":3},"41378",131]
["25","CUNDINAMARCA","Tenjo","25799",219,224,236,{"$nulls":7},624,null,"41396",{"v":10993.231280726339,"d":"10,993"},{"v":25800.644849899643,"d":"25,801"},{"v":36793.876130625984,"d":"36,794"},{"$nulls":3},"41396",624]
["25","CUNDINAMARCA","Tibacuy","25805",36,40,43,{"$nulls":7},69,null,"41483",{"v":985.4715131712934,"d":"985"},{"v":2609.0957848949315,"d":"2,609"},{"v":3594.567298066225,"d":"3,595"},{"$nulls":3},"41483",69]
["25","CUNDINAMARCA","Tibirita","25807",19,20,25,{"$nulls":7},133,null,"41503",{"v":1513.1445947301731,"d":"1,513"},{"v":4813.905900346876,"d":"4,814"},{"v":6327.050495077048,"d":"6,327"},{"$nulls":3},"41503",133]
["25","CUNDINAMARCA","Tocaima","25815",146,149,148,{"$nulls":7},62,null,"41518",{"v":955.4958857680922,"d":"955"},{"v":2818.118667117538,"d":"2,818"},{"v":3773.61455288563,"d":"3,774"},{"$nulls":3},"41518",62]
["25","CUNDINAMARCA","Tocancipa","25817",561,623,649,{"$nulls":7},224,null,"41524",{"v":4017.0597750268607,"d":"4,017"},{"v":11554.903023052662,"d":"11,555"},{"v":15571.962798079523,"d":"15,572"},{"$nulls":3},"41524",224]
["25","CUNDINAMARCA","Topaipi","25823",27,29,35,{"$nulls":7},105,null,"41530",{"v":1710.145242561086,"d":"1,710"},{"v":4833.509735704553,"d":"4,834"},{"v":6543.654978265639,"d":"6,544"},{"$nulls":3},"41530",105]
["25","CUNDINAMARCA","Ubala","25839",64,64,81,{"$nulls":7},142,null,"41548",{"v":2022.5790347171187,"d":"2,023"},{"v":5616.998028044042,"d":"5,617"},{"v":7639.577062761161,"d":"7,640"},{"$nulls":3},"41548",142]
["25","CUNDINAMARCA","Ubaque","25841",64,70,77,{"$nulls":7},1156,null,"41551",{"v":27381.187653268724,"d":"27,381"},{"v":55884.661004696194,"d":"55,885"},{"v":83265.84865796492,"d":"83,266"},{"$nulls":3},"41551",1156]
["25","CUNDINAMARCA","Villa de San Diego de Ubate","25843",651,699,766,{"$nulls":7},190,null,"41615",{"v":3547.1399487914264,"d":"3,547"},{"v":11110.129779835948,"d":"11,110"},{"v":14657.269728627374,"d":"14,657"},{"$nulls":3},"41615",190]
["25","CUNDINAMARCA","Une","25845",94,94,94,{"$nulls":7},109,null,"41660",{"v":1681.799920367864,"d":"1,682"},{"v":4277.420575357604,"d":"4,277"},{"v":5959.220495725468,"d":"5,959"},{"$nulls":3},"41660",109]
["25","CUNDINAMARCA","utica","25851",30,30,33,{"$nulls":7},279,null,"41668",{"v":6153.7309972121075,"d":"6,154"},{"v":14519.418840116658,"d":"14,519"},{"v":20673.149837328765,"d":"20,673"},{"$nulls":3},"41668",279]
["25","CUNDINAMARCA","Vergara","25862",55,63,65,{"$nulls":7},101,null,"41676",{"v":1832.2543903126518,"d":"1,832"},{"v":4327.931996383172,"d":"4,328"},{"v":6160.186386695824,"d":"6,160"},{"$nulls":3},"41676",101]
["25","CUNDINAMARCA","Viani","25867",39,40,57,{"$nulls":7},224,null,"41770",{"v":3192.0035447541577,"d":"3,192"},{"v":9468.246211711186,"d":"9,468"},{"v":12660.249756465344,"d":"12,660"},{"$nulls":3},"41770",224]
["25","CUNDINAMARCA","Villagomez","25871",18,18,22,{"$nulls":7},175,null,"41791",{"v":2665.9662529423085,"d":"2,666"},{"v":7456.091337688138,"d":"7,456"},{"v":10122.057590630448,"d":"10,122"},{"$nulls":3},"41791",175]
["25","CUNDINAMARCA","Villapinzon","25873",240,250,251,{"$nulls":7},96,null,"41797",{"v":1770.2015018720774,"d":"1,770"},{"v":4557.892580299408,"d":"4,558"},{"v":6328.094082171486,"d":"6,328"},{"$nulls":3},"41797",96]
["25","CUNDINAMARCA","Villeta","25875",291,303,387,{"$nulls":7},104,null,"41799",{"v":2039.2349581092158,"d":"2,039"},{"v":4876.330519221085,"d":"4,876"},{"v":6915.5654773303,"d":"6,916"},{"$nulls":3},"41799",104]
["25","CUNDINAMARCA","Viota","25878",139,139,144,{"$nulls":7},70,null,"41801",{"v":1462.3015737030432,"d":"1,462"},{"v":3351.4402572236036,"d":"3,351"},{"v":4813.741830926647,"d":"4,814"},{"$nulls":3},"41801",70]
["25","CUNDINAMARCA","Yacopi","25885",112,116,150,{"$nulls":7},188,null,"41807",{"v":3741.1462541882174,"d":"3,741"},{"v":9324.316327730454,"d":"9,324"},{"v":13065.462581918671,"d":"13,065"},{"$nulls":3},"41807",188]
["25","CUNDINAMARCA","Zipacon","25898",34,34,44,{"$nulls":7},52,null,"41872",{"v":1425.1629419608985,"d":"1,425"},{"v":3098.2196250095353,"d":"3,098"},{"v":4523.382566970434,"d":"4,523"},{"$nulls":3},"41872",52]
["25","CUNDINAMARCA","Zipaquira","25899",{"v":1732,"d":"1,732"},{"v":1826,"d":"1,826"},{"v":2089,"d":"2,089"},{"$nulls":7},59,null,"41885",{"v":1549.123591293243,"d":"1,549"},{"v":3417.6348286454217,"d":"3,418"},{"v":4966.758419938665,"d":"4,967"},{"$nulls":3},"41885",59]
["94","GUAINIA","Inirida","94001",688,722,725,{"$nulls":7},2232,null,"44001",{"v":42400.32592229549,"d":"42,400"},{"v":85305.56662974552,"d":"85,306"},{"$f":"R643+S643","v":{"v":127705.89255204101,"d":"127,706"}},{"$nulls":3},"44001",2232]
["94","GUAINIA","Barranco Minas (ANM)","94343",146,177,185,{"$nulls":7},377,null,"44035",{"v":3579.927991776573,"d":"3,580"},{"v":13779.481505008405,"d":"13,779"},{"v":17359.409496784978,"d":"17,359"},{"$nulls":3},"44035",377]
["94","GUAINIA","San Felipe (ANM)","94883",27,30,25,{"$nulls":7},396,null,"44078",{"v":4532.480705285269,"d":"4,532"},{"v":16395.988188861946,"d":"16,396"},{"v":20928.468894147216,"d":"20,928"},{"$nulls":3},"44078",396]
["94","GUAINIA","Puerto Colombia (ANM)","94884",20,23,29,{"$nulls":7},483,null,"44090",{"v":3655.9460975332927,"d":"3,656"},{"v":17464.47362669189,"d":"17,464"},{"v":21120.419724225183,"d":"21,120"},{"$nulls":3},"44090",483]
["94","GUAINIA","La Guadalupe (ANM)","94885",7,8,8,{"$nulls":7},145,null,"44098",{"v":1562.738248784854,"d":"1,563"},{"v":6148.7465883595505,"d":"6,149"},{"v":7711.484837144404,"d":"7,711"},{"$nulls":3},"44098",145]
["94","GUAINIA","Cacahual (ANM)","94886",8,9,12,{"$nulls":7},68,null,"44110",{"v":1513.3681397349412,"d":"1,513"},{"v":3416.3082431586117,"d":"3,416"},{"v":4929.676382893553,"d":"4,930"},{"$nulls":3},"44110",68]
["94","GUAINIA","Pana Pana (ANM)","94887",17,19,26,{"$nulls":7},463,null,"44279",{"v":6751.635123444392,"d":"6,752"},{"v":18716.991970774514,"d":"18,717"},{"v":25468.627094218908,"d":"25,469"},{"$nulls":3},"44279",463]
["94","GUAINIA","Morichal (ANM)","94888",9,10,14,{"$nulls":7},243,null,"44378",{"v":2300.8817796762755,"d":"2,301"},{"v":9446.10329740278,"d":"9,446"},{"v":11746.985077079056,"d":"11,747"},{"$nulls":3},"44378",243]
["44","GUAJIRA","Riohacha","44001",{"v":5198,"d":"5,198"},{"v":5371,"d":"5,371"},{"v":5773,"d":"5,773"},{"$nulls":7},42,null,"44420",{"v":298.0070733380352,"d":"298"},{"v":1620.9626007571364,"d":"1,621"},{"v":1918.9696740951717,"d":"1,919"},{"$nulls":3},"44420",42]
["44","GUAJIRA","Albania","44035",750,752,740,{"$nulls":7},2091,null,"44430",{"v":32826.97156201512,"d":"32,827"},{"v":77115.64810580836,"d":"77,116"},{"v":109942.61966782348,"d":"109,943"},{"$nulls":3},"44430",2091]
["44","GUAJIRA","Barrancas","44078",760,780,755,{"$nulls":7},1262,null,"44560",{"v":6783.916555988342,"d":"6,784"},{"v":36072.824457712006,"d":"36,073"},{"v":42856.741013700346,"d":"42,857"},{"$nulls":3},"44560",1262]
["44","GUAJIRA","Dibulla","44090",874,941,983,{"$nulls":7},463,null,"44650",{"v":11188.557015747576,"d":"11,189"},{"v":21417.973000963895,"d":"21,418"},{"v":32606.53001671147,"d":"32,607"},{"$nulls":3},"44650",463]
["44","GUAJIRA","Distraccion","44098",249,249,249,{"$nulls":7},2186,null,"44847",{"v":18159.28117391694,"d":"18,159"},{"v":78834.71590562174,"d":"78,835"},{"v":96993.99707953868,"d":"96,994"},{"$nulls":3},"44847",2186]
["44","GUAJIRA","El Molino","44110",136,141,147,{"$nulls":7},110,null,"44855",{"v":1852.6865727624772,"d":"1,853"},{"v":4784.780737831818,"d":"4,785"},{"v":6637.467310594296,"d":"6,637"},{"$nulls":3},"44855",110]
["44","GUAJIRA","Fonseca","44279",907,915,928,{"$nulls":7},300,null,"44874",{"v":4856.439048115532,"d":"4,856"},{"v":12207.448310695072,"d":"12,207"},{"v":17063.887358810603,"d":"17,064"},{"$nulls":3},"44874",300]
["44","GUAJIRA","Hatonuevo","44378",447,448,448,{"$nulls":7},4472,null,"47001",{"v":127511.01917172864,"d":"127,511"},{"v":241188.89575314018,"d":"241,189"},{"v":368699.91492486885,"d":"368,700"},{"$nulls":3},"47001",4472]
["44","GUAJIRA","La Jagua del Pilar","44420",50,51,56,{"$nulls":7},189,null,"47030",{"v":1822.631690120244,"d":"1,823"},{"v":6835.75127220919,"d":"6,836"},{"v":8658.382962329433,"d":"8,658"},{"$nulls":3},"47030",189]
["44","GUAJIRA","Maicao","44430",{"v":4606,"d":"4,606"},{"v":4849,"d":"4,849"},{"v":5186,"d":"5,186"},{"$nulls":7},430,null,"47053",{"v":4587.490037967009,"d":"4,587"},{"v":17274.24073087746,"d":"17,274"},{"v":21861.73076884447,"d":"21,862"},{"$nulls":3},"47053",430]
["44","GUAJIRA","Manaure","44560",{"v":1719,"d":"1,719"},{"v":1890,"d":"1,890"},{"v":1947,"d":"1,947"},{"$nulls":7},321,null,"47058",{"v":5106.673290254942,"d":"5,107"},{"v":13306.118735607673,"d":"13,306"},{"v":18412.792025862615,"d":"18,413"},{"$nulls":3},"47058",321]
["44","GUAJIRA","San Juan del Cesar","44650",912,921,907,{"$nulls":7},92,null,"47161",{"v":1623.0588637047854,"d":"1,623"},{"v":4079.8622760316503,"d":"4,080"},{"v":5702.921139736436,"d":"5,703"},{"$nulls":3},"47161",92]
["44","GUAJIRA","Uribia","44847",{"v":3839,"d":"3,839"},{"v":4151,"d":"4,151"},{"v":4250,"d":"4,250"},{"$nulls":7},230,null,"47170",{"v":2609.642360000513,"d":"2,610"},{"v":9821.722577590434,"d":"9,822"},{"v":12431.364937590946,"d":"12,431"},{"$nulls":3},"47170",230]
["44","GUAJIRA","Urumita","44855",157,170,174,{"$nulls":7},1165,null,"47189",{"v":24883.06927487185,"d":"24,883"},{"v":53604.44596710467,"d":"53,604"},{"v":78487.51524197652,"d":"78,488"},{"$nulls":3},"47189",1165]
["44","GUAJIRA","Villanueva","44874",507,515,520,{"$nulls":7},93,null,"47205",{"v":2233.871308214303,"d":"2,234"},{"v":4546.284135287537,"d":"4,546"},{"v":6780.15544350184,"d":"6,780"},{"$nulls":3},"47205",93]
["95","GUAVIARE","San Jose del Guaviare","95001",998,{"v":1007,"d":"1,007"},{"v":1055,"d":"1,055"},{"$nulls":7},714,null,"47245",{"v":11979.33301071669,"d":"11,979"},{"v":28518.87595294322,"d":"28,519"},{"v":40498.20896365991,"d":"40,498"},{"$nulls":3},"47245",714]
["95","GUAVIARE","Calamar","95015",124,134,137,{"$nulls":7},221,null,"47258",{"v":3060.0905524669374,"d":"3,060"},{"v":10041.053801421294,"d":"10,041"},{"v":13101.144353888232,"d":"13,101"},{"$nulls":3},"47258",221]
["95","GUAVIARE","El Retorno","95025",170,200,208,{"$nulls":7},221,null,"47268",{"v":2370.209908287753,"d":"2,370"},{"v":8758.62398520361,"d":"8,759"},{"v":11128.833893491363,"d":"11,129"},{"$nulls":3},"47268",221]
["95","GUAVIARE","Miraflores","95200",55,60,70,{"$nulls":7},726,null,"47288",{"v":15379.614242095446,"d":"15,380"},{"v":29536.61033760734,"d":"29,537"},{"v":44916.224579702786,"d":"44,916"},{"$nulls":3},"47288",726]
["41","HUILA","Neiva","41001",{"v":5389,"d":"5,389"},{"v":5464,"d":"5,464"},{"v":6196,"d":"6,196"},{"$nulls":7},270,null,"47318",{"v":5777.306739665062,"d":"5,777"},{"v":11027.344081245514,"d":"11,027"},{"v":16804.650820910574,"d":"16,805"},{"$nulls":3},"47318",270]
["41","HUILA","Acevedo","41006",552,559,623,{"$nulls":7},228,null,"47460",{"v":2825.6327611663546,"d":"2,826"},{"v":8695.057218053635,"d":"8,695"},{"v":11520.68997921999,"d":"11,521"},{"$nulls":3},"47460",228]
["41","HUILA","Agrado","41013",131,140,167,{"$nulls":7},88,null,"47541",{"v":1569.6305193118462,"d":"1,570"},{"v":3773.979277632532,"d":"3,774"},{"v":5343.609796944378,"d":"5,344"},{"$nulls":3},"47541",88]
["41","HUILA","Aipe","41016",255,258,296,{"$nulls":7},145,null,"47545",{"v":1552.7340817337686,"d":"1,553"},{"v":5134.803882520246,"d":"5,135"},{"v":6687.537964254014,"d":"6,688"},{"$nulls":3},"47545",145]
["41","HUILA","Algeciras","41020",343,350,412,{"$nulls":7},360,null,"47551",{"v":7021.545570885697,"d":"7,022"},{"v":16206.122405392422,"d":"16,206"},{"v":23227.66797627812,"d":"23,228"},{"$nulls":3},"47551",360]
["41","HUILA","Altamira","41026",42,43,52,{"$nulls":7},646,null,"47555",{"v":11359.30715955019,"d":"11,359"},{"v":26584.390743961805,"d":"26,584"},{"v":37943.697903511995,"d":"37,944"},{"$nulls":3},"47555",646]
["41","HUILA","Baraya","41078",98,98,100,{"$nulls":7},341,null,"47570",{"v":3677.315323731401,"d":"3,677"},{"v":13579.148661836798,"d":"13,579"},{"v":17256.4639855682,"d":"17,256"},{"$nulls":3},"47570",341]
["41","HUILA","Campoalegre","41132",438,449,525,{"$nulls":7},103,null,"47605",{"v":1493.4405715049527,"d":"1,493"},{"v":5129.660193371732,"d":"5,130"},{"v":6623.1007648766845,"d":"6,623"},{"$nulls":3},"47605",103]
["41","HUILA","Colombia","41206",111,112,124,{"$nulls":7},184,null,"47660",{"v":1842.2322840007027,"d":"1,842"},{"v":6713.328725330676,"d":"6,713"},{"v":8555.561009331379,"d":"8,556"},{"$nulls":3},"47660",184]
["41","HUILA","Elias","41244",55,55,59,{"$nulls":7},96,null,"47675",{"v":1788.6084563188801,"d":"1,789"},{"v":4843.267995553706,"d":"4,843"},{"v":6631.876451872586,"d":"6,632"},{"$nulls":3},"47675",96]
["41","HUILA","Garzon","41298",{"v":1220,"d":"1,220"},{"v":1243,"d":"1,243"},{"v":1388,"d":"1,388"},{"$nulls":7},209,null,"47692",{"v":4058.0760496053617,"d":"4,058"},{"v":8245.756014964785,"d":"8,246"},{"v":12303.832064570146,"d":"12,304"},{"$nulls":3},"47692",209]
["41","HUILA","Gigante","41306",332,342,398,{"$nulls":7},142,null,"47703",{"v":1581.1878404280087,"d":"1,581"},{"v":4932.486034997018,"d":"4,932"},{"v":6513.673875425026,"d":"6,514"},{"$nulls":3},"47703",142]
["41","HUILA","Guadalupe","41319",286,293,330,{"$nulls":7},262,null,"47707",{"v":3675.3990125991163,"d":"3,675"},{"v":10720.634139995456,"d":"10,721"},{"v":14396.033152594573,"d":"14,396"},{"$nulls":3},"47707",262]
["41","HUILA","Hobo","41349",118,123,137,{"$nulls":7},112,null,"47720",{"v":1647.1221076601391,"d":"1,647"},{"v":4709.514922001463,"d":"4,710"},{"v":6356.637029661602,"d":"6,357"},{"$nulls":3},"47720",112]
["41","HUILA","Iquira","41357",206,207,221,{"$nulls":7},293,null,"47745",{"v":3437.4810765940238,"d":"3,437"},{"v":12331.466670887654,"d":"12,331"},{"v":15768.947747481678,"d":"15,769"},{"$nulls":3},"47745",293]
["41","HUILA","Isnos","41359",422,423,465,{"$nulls":7},135,null,"47798",{"v":1970.7633034742562,"d":"1,971"},{"v":5562.851063109223,"d":"5,563"},{"v":7533.614366583479,"d":"7,534"},{"$nulls":3},"47798",135]
["41","HUILA","La Argentina","41378",244,248,259,{"$nulls":7},101,null,"47960",{"v":1297.4053755370476,"d":"1,297"},{"v":4469.158680817599,"d":"4,469"},{"v":5766.564056354647,"d":"5,767"},{"$nulls":3},"47960",101]
["41","HUILA","La Plata","41396",{"v":1082,"d":"1,082"},{"v":1143,"d":"1,143"},{"v":1240,"d":"1,240"},{"$nulls":7},794,null,"47980",{"v":8191.11655031662,"d":"8,191"},{"v":30992.855027857622,"d":"30,993"},{"v":39183.97157817424,"d":"39,184"},{"$nulls":3},"47980",794]
["41","HUILA","Nataga","41483",108,116,127,{"$nulls":7},4001,null,"50001",{"v":120682.2167488812,"d":"120,682"},{"v":248730.95179443585,"d":"248,731"},{"v":369413.16854331706,"d":"369,413"},{"$nulls":3},"50001",4001]
["41","HUILA","Oporapa","41503",216,216,227,{"$nulls":7},710,null,"50006",{"v":16119.316216549785,"d":"16,119"},{"v":41744.40403797489,"d":"41,744"},{"v":57863.72025452468,"d":"57,864"},{"$nulls":3},"50006",710]
["41","HUILA","Paicol","41518",85,87,100,{"$nulls":7},70,null,"50110",{"v":719.571432447953,"d":"720"},{"v":2811.3273740050936,"d":"2,811"},{"v":3530.8988064530467,"d":"3,531"},{"$nulls":3},"50110",70]
["41","HUILA","Palermo","41524",327,339,382,{"$nulls":7},55,null,"50124",{"v":837.7620117999469,"d":"838"},{"v":2677.8460533232646,"d":"2,678"},{"v":3515.6080651232114,"d":"3,516"},{"$nulls":3},"50124",55]
["41","HUILA","Palestina","41530",206,209,224,{"$nulls":7},146,null,"50150",{"v":1667.356247623199,"d":"1,667"},{"v":7164.148878662282,"d":"7,164"},{"v":8831.505126285481,"d":"8,832"},{"$nulls":3},"50150",146]
["41","HUILA","Pital","41548",217,228,240,{"$nulls":7},56,null,"50223",{"v":979.7045004441669,"d":"980"},{"v":3028.510177719627,"d":"3,029"},{"v":4008.214678163794,"d":"4,008"},{"$nulls":3},"50223",56]
["41","HUILA","Pitalito","41551",{"v":2154,"d":"2,154"},{"v":2414,"d":"2,414"},{"v":2496,"d":"2,496"},{"$nulls":7},202,null,"50226",{"v":3861.324429308408,"d":"3,861"},{"v":10142.308526077893,"d":"10,142"},{"v":14003.632955386302,"d":"14,004"},{"$nulls":3},"50226",202]
["41","HUILA","Rivera","41615",323,331,356,{"$nulls":7},14,null,"50245",{"v":333.0282795186075,"d":"333"},{"v":665.944846317996,"d":"666"},{"v":998.9731258366036,"d":"999"},{"$nulls":3},"50245",14]
["41","HUILA","Saladoblanco","41660",223,231,253,{"$nulls":7},69,null,"50251",{"v":1311.4558361231777,"d":"1,311"},{"v":3066.10976232057,"d":"3,066"},{"v":4377.565598443748,"d":"4,378"},{"$nulls":3},"50251",69]
["41","HUILA","San Agustin","41668",465,475,553,{"$nulls":7},37,null,"50270",{"v":857.5438071178097,"d":"858"},{"v":1673.885151843128,"d":"1,674"},{"v":2531.4289589609375,"d":"2,531"},{"$nulls":3},"50270",37]
["41","HUILA","Santa Maria","41676",194,200,215,{"$nulls":7},113,null,"50287",{"v":1973.2826906544465,"d":"1,973"},{"v":5327.102169911966,"d":"5,327"},{"v":7300.384860566412,"d":"7,300"},{"$nulls":3},"50287",113]
["41","HUILA","Suaza","41770",401,415,412,{"$nulls":7},629,null,"50313",{"v":14949.2998666967,"d":"14,949"},{"v":30818.991124363532,"d":"30,819"},{"v":45768.29099106023,"d":"45,768"},{"$nulls":3},"50313",629]
["41","HUILA","Tarqui","41791",269,277,290,{"$nulls":7},117,null,"50318",{"v":1945.5175979407645,"d":"1,946"},{"v":6360.204147132074,"d":"6,360"},{"v":8305.721745072839,"d":"8,306"},{"$nulls":3},"50318",117]
["41","HUILA","Tesalia","41797",150,150,178,{"$nulls":7},88,null,"50325",{"v":990.4337316687877,"d":"990"},{"v":2749.518778687587,"d":"2,750"},{"v":3739.9525103563747,"d":"3,740"},{"$nulls":3},"50325",88]
["41","HUILA","Tello","41799",168,170,192,{"$nulls":7},97,null,"50330",{"v":1788.872678997596,"d":"1,789"},{"v":4411.752327244754,"d":"4,412"},{"v":6200.6250062423505,"d":"6,201"},{"$nulls":3},"50330",97]
["41","HUILA","Teruel","41801",137,141,146,{"$nulls":7},317,null,"50350",{"v":1442.3625022008737,"d":"1,442"},{"v":11805.027329977978,"d":"11,805"},{"v":13247.389832178851,"d":"13,247"},{"$nulls":3},"50350",317]
["41","HUILA","Timana","41807",310,318,321,{"$nulls":7},91,null,"50370",{"v":1226.4082228715174,"d":"1,226"},{"v":4084.7218232391856,"d":"4,085"},{"v":5311.130046110703,"d":"5,311"},{"$nulls":3},"50370",91]
["41","HUILA","Villavieja","41872",90,93,100,{"$nulls":7},98,null,"50400",{"v":1827.617290560735,"d":"1,828"},{"v":4678.159836762998,"d":"4,678"},{"v":6505.777127323732,"d":"6,506"},{"$nulls":3},"50400",98]
["41","HUILA","Yaguara","41885",92,98,110,{"$nulls":7},91,null,"50450",{"v":1118.0346717851398,"d":"1,118"},{"v":3500.2844146554335,"d":"3,500"},{"v":4618.319086440573,"d":"4,618"},{"$nulls":3},"50450",91]
[null,"MAGDALENA","Santa Marta","47001",{"v":8239,"d":"8,239"},{"v":8392,"d":"8,392"},{"v":8689,"d":"8,689"},{"$nulls":7},491,null,"50568",{"v":4689.529638173705,"d":"4,690"},{"v":18308.35767044901,"d":"18,308"},{"$f":"R707+S707","v":{"v":22997.887308622718,"d":"22,998"}},{"$nulls":3},"50568",491]
["47","MAGDALENA","Algarrobo","47030",309,309,322,{"$nulls":7},281,null,"50573",{"v":5325.460175806121,"d":"5,325"},{"v":13008.960890718517,"d":"13,009"},{"v":18334.42106652464,"d":"18,334"},{"$nulls":3},"50573",281]
["47","MAGDALENA","Aracataca","47053",674,690,704,{"$nulls":7},100,null,"50577",{"v":1463.7933952431165,"d":"1,464"},{"v":4392.640911808916,"d":"4,393"},{"v":5856.434307052033,"d":"5,856"},{"$nulls":3},"50577",100]
["47","MAGDALENA","Ariguani","47058",526,551,572,{"$nulls":7},121,null,"50590",{"v":1765.1522233962335,"d":"1,765"},{"v":5572.317605887928,"d":"5,572"},{"v":7337.469829284161,"d":"7,337"},{"$nulls":3},"50590",121]
["47","MAGDALENA","Cerro San Antonio","47161",145,152,167,{"$nulls":7},147,null,"50606",{"v":2835.7130954410673,"d":"2,836"},{"v":8245.504462439616,"d":"8,246"},{"v":11081.217557880684,"d":"11,081"},{"$nulls":3},"50606",147]
["47","MAGDALENA","Chivolo","47170",375,394,399,{"$nulls":7},127,null,"50680",{"v":1403.8158876010625,"d":"1,404"},{"v":5594.149954307273,"d":"5,594"},{"v":6997.965841908335,"d":"6,998"},{"$nulls":3},"50680",127]
["47","MAGDALENA","Cienaga","47189",{"v":2112,"d":"2,112"},{"v":2182,"d":"2,182"},{"v":2309,"d":"2,309"},{"$nulls":7},75,null,"50683",{"v":1276.9164053235008,"d":"1,277"},{"v":3876.3373956813593,"d":"3,876"},{"v":5153.25380100486,"d":"5,153"},{"$nulls":3},"50683",75]
["47","MAGDALENA","Concordia","47205",144,150,172,{"$nulls":7},11,null,"50686",{"v":257.73956482998676,"d":"258"},{"v":518.5182304569197,"d":"519"},{"v":776.2577952869065,"d":"776"},{"$nulls":3},"50686",11]
["47","MAGDALENA","El Banco","47245",{"v":1358,"d":"1,358"},{"v":1358,"d":"1,358"},{"v":1633,"d":"1,633"},{"$nulls":7},237,null,"50689",{"v":4973.567998156133,"d":"4,974"},{"v":11212.822420813874,"d":"11,213"},{"v":16186.390418970008,"d":"16,186"},{"$nulls":3},"50689",237]
["47","MAGDALENA","El Piñon","47258",298,300,309,{"$nulls":7},163,null,"50711",{"v":2743.7683134006475,"d":"2,744"},{"v":7151.115669365625,"d":"7,151"},{"v":9894.883982766272,"d":"9,895"},{"$nulls":3},"50711",163]
["47","MAGDALENA","El Reten","47268",490,498,515,{"$nulls":7},2334,null,"52001",{"v":109648.83145079878,"d":"109,649"},{"v":182176.59754262283,"d":"182,177"},{"v":291825.4289934216,"d":"291,825"},{"$nulls":3},"52001",2334]
["47","MAGDALENA","Fundacion","47288",{"v":1437,"d":"1,437"},{"v":1670,"d":"1,670"},{"v":1820,"d":"1,820"},{"$nulls":7},58,null,"52019",{"v":1897.0706431279928,"d":"1,897"},{"v":4189.308806765114,"d":"4,189"},{"v":6086.379449893107,"d":"6,086"},{"$nulls":3},"52019",58]
["47","MAGDALENA","Guamal","47318",465,474,512,{"$nulls":7},45,null,"52022",{"v":1509.5497483110112,"d":"1,510"},{"v":3301.726713787516,"d":"3,302"},{"v":4811.276462098527,"d":"4,811"},{"$nulls":3},"52022",45]
["47","MAGDALENA","Nueva Granada","47460",392,402,421,{"$nulls":7},43,null,"52036",{"v":2028.061299208514,"d":"2,028"},{"v":3768.3181542758357,"d":"3,768"},{"v":5796.379453484349,"d":"5,796"},{"$nulls":3},"52036",43]
["47","MAGDALENA","Pedraza","47541",178,178,180,{"$nulls":7},62,null,"52051",{"v":1516.4826315904897,"d":"1,516"},{"v":3688.0623173044833,"d":"3,688"},{"v":5204.544948894973,"d":"5,205"},{"$nulls":3},"52051",62]
["47","MAGDALENA","Pijiño del Carmen","47545",315,317,343,{"$nulls":7},644,null,"52079",{"v":4740.287914375565,"d":"4,740"},{"v":22752.25655890877,"d":"22,752"},{"v":27492.54447328434,"d":"27,493"},{"$nulls":3},"52079",644]
["47","MAGDALENA","Pivijay","47551",715,730,743,{"$nulls":7},36,null,"52083",{"v":1329.8301523126304,"d":"1,330"},{"v":2862.3497113556805,"d":"2,862"},{"v":4192.179863668311,"d":"4,192"},{"$nulls":3},"52083",36]
["47","MAGDALENA","Plato","47555",{"v":1315,"d":"1,315"},{"v":1316,"d":"1,316"},{"v":1325,"d":"1,325"},{"$nulls":7},160,null,"52110",{"v":4555.208314983585,"d":"4,555"},{"v":10335.166701121012,"d":"10,335"},{"v":14890.375016104597,"d":"14,890"},{"$nulls":3},"52110",160]
["47","MAGDALENA","Puebloviejo","47570",498,516,542,{"$nulls":7},50,null,"52203",{"v":2073.345930034843,"d":"2,073"},{"v":3629.4395355628235,"d":"3,629"},{"v":5702.785465597666,"d":"5,703"},{"$nulls":3},"52203",50]
["47","MAGDALENA","Remolino","47605",142,147,151,{"$nulls":7},79,null,"52207",{"v":2409.6127006099605,"d":"2,410"},{"v":6095.691038296943,"d":"6,096"},{"v":8505.303738906903,"d":"8,505"},{"$nulls":3},"52207",79]
["47","MAGDALENA","Sabanas de San Angel","47660",377,386,375,{"$nulls":7},46,null,"52210",{"v":1614.9274140425214,"d":"1,615"},{"v":3113.9915588620097,"d":"3,114"},{"v":4728.918972904531,"d":"4,729"},{"$nulls":3},"52210",46]
["47","MAGDALENA","Salamina","47675",164,164,174,{"$nulls":7},113,null,"52215",{"v":2884.7352884464,"d":"2,885"},{"v":6766.214988441176,"d":"6,766"},{"v":9650.950276887575,"d":"9,651"},{"$nulls":3},"52215",113]
["47","MAGDALENA","San Sebastian de Buenavista","47692",360,372,387,{"$nulls":7},64,null,"52224",{"v":1989.775879063491,"d":"1,990"},{"v":4043.1066047528666,"d":"4,043"},{"v":6032.882483816357,"d":"6,033"},{"$nulls":3},"52224",64]
["47","MAGDALENA","San Zenon","47703",237,237,223,{"$nulls":7},277,null,"52227",{"v":6226.495304145839,"d":"6,226"},{"v":16466.21031455405,"d":"16,466"},{"v":22692.70561869989,"d":"22,693"},{"$nulls":3},"52227",277]
["47","MAGDALENA","Santa Ana","47707",371,399,460,{"$nulls":7},39,null,"52233",{"v":1317.6754358347246,"d":"1,318"},{"v":2559.609073977995,"d":"2,560"},{"v":3877.28450981272,"d":"3,877"},{"$nulls":3},"52233",39]
["47","MAGDALENA","Santa Barbara de Pinto","47720",203,203,204,{"$nulls":7},102,null,"52240",{"v":2256.042425817513,"d":"2,256"},{"v":6733.092688443923,"d":"6,733"},{"v":8989.135114261437,"d":"8,989"},{"$nulls":3},"52240",102]
["47","MAGDALENA","Sitionuevo","47745",533,551,565,{"$nulls":7},263,null,"52250",{"v":2703.8815415460367,"d":"2,704"},{"v":8920.801817648538,"d":"8,921"},{"v":11624.683359194576,"d":"11,625"},{"$nulls":3},"52250",263]
["47","MAGDALENA","Tenerife","47798",300,303,327,{"$nulls":7},44,null,"52254",{"v":1469.4891662384232,"d":"1,469"},{"v":3363.1233345439587,"d":"3,363"},{"v":4832.612500782382,"d":"4,833"},{"$nulls":3},"52254",44]
["47","MAGDALENA","Zapayan","47960",158,163,185,{"$nulls":7},82,null,"52256",{"v":1727.1366788341463,"d":"1,727"},{"v":5390.624721541548,"d":"5,391"},{"v":7117.761400375694,"d":"7,118"},{"$nulls":3},"52256",82]
["47","MAGDALENA","Zona Bananera","47980",{"v":1443,"d":"1,443"},{"v":1501,"d":"1,501"},{"v":1379,"d":"1,379"},{"$nulls":7},94,null,"52258",{"v":2839.181685134645,"d":"2,839"},{"v":6547.371839276713,"d":"6,547"},{"v":9386.553524411358,"d":"9,387"},{"$nulls":3},"52258",94]
["50","META","Villavicencio","50001",{"v":6851,"d":"6,851"},{"v":7182,"d":"7,182"},{"v":7739,"d":"7,739"},{"$nulls":7},82,null,"52260",{"v":3204.707248655397,"d":"3,205"},{"v":6028.490195034565,"d":"6,028"},{"v":9233.197443689962,"d":"9,233"},{"$nulls":3},"52260",82]
["50","META","Acacias","50006",{"v":1201,"d":"1,201"},{"v":1220,"d":"1,220"},{"v":1272,"d":"1,272"},{"$nulls":7},47,null,"52287",{"v":1657.8555725133149,"d":"1,658"},{"v":3083.5264226783834,"d":"3,084"},{"v":4741.3819951916985,"d":"4,741"},{"$nulls":3},"52287",47]
["50","META","Barranca de Upia","50110",104,107,118,{"$nulls":7},113,null,"52317",{"v":3757.5895750353784,"d":"3,758"},{"v":8936.622548422063,"d":"8,937"},{"v":12694.21212345744,"d":"12,694"},{"$nulls":3},"52317",113]
["50","META","Cabuyaro","50124",88,89,103,{"$nulls":7},70,null,"52320",{"v":2672.4044228905395,"d":"2,672"},{"v":5049.051042787774,"d":"5,049"},{"v":7721.455465678314,"d":"7,721"},{"$nulls":3},"52320",70]
["50","META","Castilla la Nueva","50150",241,248,248,{"$nulls":7},40,null,"52323",{"v":1354.8663139561936,"d":"1,355"},{"v":3192.972248580978,"d":"3,193"},{"v":4547.838562537172,"d":"4,548"},{"$nulls":3},"52323",40]
["50","META","Cubarral","50223",82,82,97,{"$nulls":7},54,null,"52352",{"v":1526.8682691774632,"d":"1,527"},{"v":3349.3197288522106,"d":"3,349"},{"v":4876.1879980296735,"d":"4,876"},{"$nulls":3},"52352",54]
["50","META","Cumaral","50226",317,334,347,{"$nulls":7},43,null,"52354",{"v":1472.4694741740077,"d":"1,472"},{"v":3342.3356604332757,"d":"3,342"},{"v":4814.805134607283,"d":"4,815"},{"$nulls":3},"52354",43]
["50","META","El Calvario","50245",16,18,19,{"$nulls":7},840,null,"52356",{"v":26819.200424314073,"d":"26,819"},{"v":52363.77681916037,"d":"52,364"},{"v":79182.97724347444,"d":"79,183"},{"$nulls":3},"52356",840]
["50","META","El Castillo","50251",107,107,120,{"$nulls":7},114,null,"52378",{"v":4338.352703846629,"d":"4,338"},{"v":8417.92134855095,"d":"8,418"},{"v":12756.274052397579,"d":"12,756"},{"$nulls":3},"52378",114]
["50","META","El Dorado","50270",56,62,63,{"$nulls":7},52,null,"52381",{"v":2300.389156865374,"d":"2,300"},{"v":4391.815084339392,"d":"4,392"},{"v":6692.204241204767,"d":"6,692"},{"$nulls":3},"52381",52]
["50","META","Fuente de Oro","50287",197,204,211,{"$nulls":7},50,null,"52385",{"v":855.7600023747532,"d":"856"},{"v":2872.6924625920306,"d":"2,873"},{"v":3728.4524649667837,"d":"3,728"},{"$nulls":3},"52385",50]
["50","META","Granada","50313",{"v":1069,"d":"1,069"},{"v":1153,"d":"1,153"},{"v":1230,"d":"1,230"},{"$nulls":7},84,null,"52390",{"v":847.0233832525983,"d":"847"},{"v":2919.0342874443786,"d":"2,919"},{"v":3766.057670696977,"d":"3,766"},{"$nulls":3},"52390",84]
["50","META","Guamal","50318",178,202,208,{"$nulls":7},198,null,"52399",{"v":7264.251671447259,"d":"7,264"},{"v":14380.868815010235,"d":"14,381"},{"v":21645.120486457494,"d":"21,645"},{"$nulls":3},"52399",198]
["50","META","Mapiripan","50325",129,137,152,{"$nulls":7},79,null,"52405",{"v":1777.8812583500694,"d":"1,778"},{"v":4189.810680163817,"d":"4,190"},{"v":5967.691938513886,"d":"5,968"},{"$nulls":3},"52405",79]
["50","META","Mesetas","50330",144,149,178,{"$nulls":7},57,null,"52411",{"v":2403.727337773499,"d":"2,404"},{"v":4422.280220523018,"d":"4,422"},{"v":6826.007558296517,"d":"6,826"},{"$nulls":3},"52411",57]
["50","META","La Macarena","50350",226,228,231,{"$nulls":7},63,null,"52418",{"v":1843.2994440108441,"d":"1,843"},{"v":4085.039964257715,"d":"4,085"},{"v":5928.339408268559,"d":"5,928"},{"$nulls":3},"52418",63]
["50","META","Uribe","50370",186,192,175,{"$nulls":7},308,null,"52427",{"v":1153.5160039740047,"d":"1,154"},{"v":10030.10706328337,"d":"10,030"},{"v":11183.623067257375,"d":"11,184"},{"$nulls":3},"52427",308]
["50","META","Lejanias","50400",171,163,176,{"$nulls":7},65,null,"52435",{"v":1629.3750141123398,"d":"1,629"},{"v":3938.84862538407,"d":"3,939"},{"v":5568.22363949641,"d":"5,568"},{"$nulls":3},"52435",65]
["50","META","Puerto Concordia","50450",152,159,175,{"$nulls":7},110,null,"52473",{"v":1060.0356598185267,"d":"1,060"},{"v":5555.001296955812,"d":"5,555"},{"v":6615.036956774338,"d":"6,615"},{"$nulls":3},"52473",110]
["50","META","Puerto Gaitan","50568",924,982,{"v":1066,"d":"1,066"},{"$nulls":7},27,null,"52480",{"v":857.6037403286109,"d":"858"},{"v":1982.40247239725,"d":"1,982"},{"v":2840.0062127258607,"d":"2,840"},{"$nulls":3},"52480",27]
["50","META","Puerto Lopez","50573",539,553,581,{"$nulls":7},287,null,"52490",{"v":2327.6438465415636,"d":"2,328"},{"v":10148.120439983515,"d":"10,148"},{"v":12475.764286525078,"d":"12,476"},{"$nulls":3},"52490",287]
["50","META","Puerto Lleras","50577",138,142,146,{"$nulls":7},40,null,"52506",{"v":1437.896335151179,"d":"1,438"},{"v":3164.984184255377,"d":"3,165"},{"v":4602.880519406556,"d":"4,603"},{"$nulls":3},"52506",40]
["50","META","Puerto Rico","50590",179,184,200,{"$nulls":7},145,null,"52520",{"v":1023.7886515702089,"d":"1,024"},{"v":5815.622727955864,"d":"5,816"},{"v":6839.411379526073,"d":"6,839"},{"$nulls":3},"52520",145]
["50","META","Restrepo","50606",233,261,277,{"$nulls":7},74,null,"52540",{"v":1987.1831402955293,"d":"1,987"},{"v":4460.314973759082,"d":"4,460"},{"v":6447.4981140546115,"d":"6,447"},{"$nulls":3},"52540",74]
["50","META","San Carlos de Guaroa","50680",226,227,239,{"$nulls":7},67,null,"52560",{"v":2448.399823408007,"d":"2,448"},{"v":4370.476271223302,"d":"4,370"},{"v":6818.876094631309,"d":"6,819"},{"$nulls":3},"52560",67]
["50","META","San Juan de Arama","50683",105,108,119,{"$nulls":7},39,null,"52565",{"v":1087.805798660277,"d":"1,088"},{"v":2456.7284134995643,"d":"2,457"},{"v":3544.5342121598414,"d":"3,545"},{"$nulls":3},"52565",39]
["50","META","San Juanito","50686",34,38,30,{"$nulls":7},53,null,"52573",{"v":2035.5282617472608,"d":"2,036"},{"v":3577.9280081644238,"d":"3,578"},{"v":5613.456269911685,"d":"5,613"},{"$nulls":3},"52573",53]
["50","META","San Martin","50689",308,322,355,{"$nulls":7},99,null,"52585",{"v":3854.8189061991216,"d":"3,855"},{"v":7717.912814946438,"d":"7,718"},{"v":11572.73172114556,"d":"11,573"},{"$nulls":3},"52585",99]
["50","META","Vistahermosa","50711",283,296,300,{"$nulls":7},206,null,"52612",{"v":2729.9402080497944,"d":"2,730"},{"v":8244.21633755602,"d":"8,244"},{"v":10974.156545605814,"d":"10,974"},{"$nulls":3},"52612",206]
["52","NARIÑO","Pasto","52001",{"v":4337,"d":"4,337"},{"v":4562,"d":"4,562"},{"v":4911,"d":"4,911"},{"$nulls":7},142,null,"52621",{"v":1539.390666840797,"d":"1,539"},{"v":5120.632107237283,"d":"5,121"},{"v":6660.02277407808,"d":"6,660"},{"$nulls":3},"52621",142]
["52","NARIÑO","Alban","52019",77,88,103,{"$nulls":7},170,null,"52678",{"v":5868.241131987534,"d":"5,868"},{"v":12631.944679855902,"d":"12,632"},{"v":18500.185811843436,"d":"18,500"},{"$nulls":3},"52678",170]
["52","NARIÑO","Aldana","52022",77,77,105,{"$nulls":7},110,null,"52683",{"v":4890.9318762318335,"d":"4,891"},{"v":8868.844847037064,"d":"8,869"},{"v":13759.776723268897,"d":"13,760"},{"$nulls":3},"52683",110]
["52","NARIÑO","Ancuya","52036",50,57,70,{"$nulls":7},59,null,"52685",{"v":1650.8367733101982,"d":"1,651"},{"v":4137.445785966394,"d":"4,137"},{"v":5788.282559276593,"d":"5,788"},{"$nulls":3},"52685",59]
["52","NARIÑO","Arboleda","52051",69,69,80,{"$nulls":7},119,null,"52687",{"v":3852.612752476906,"d":"3,853"},{"v":8150.5956458175,"d":"8,151"},{"v":12003.208398294406,"d":"12,003"},{"$nulls":3},"52687",119]
["52","NARIÑO","Barbacoas","52079",784,798,819,{"$nulls":7},94,null,"52693",{"v":3502.169292514569,"d":"3,502"},{"v":6475.50639674101,"d":"6,476"},{"$f":"R771+S771","v":{"v":9977.675689255579,"d":"9,978"}},{"$nulls":3},"52693",94]
["52","NARIÑO","Belen","52083",55,56,68,{"$nulls":7},47,null,"52694",{"v":1301.4611867111357,"d":"1,301"},{"v":3029.9726396416454,"d":"3,030"},{"v":4331.433826352781,"d":"4,331"},{"$nulls":3},"52694",47]
["52","NARIÑO","Buesaco","52110",196,210,275,{"$nulls":7},147,null,"52696",{"v":1075.7686851517367,"d":"1,076"},{"v":5413.688764658863,"d":"5,414"},{"v":6489.457449810599,"d":"6,489"},{"$nulls":3},"52696",147]
["52","NARIÑO","Colon","52203",70,80,94,{"$nulls":7},80,null,"52699",{"v":1683.7049925573583,"d":"1,684"},{"v":4955.479322375636,"d":"4,955"},{"v":6639.184314932994,"d":"6,639"},{"$nulls":3},"52699",80]
["52","NARIÑO","Consaca","52207",82,85,102,{"$nulls":7},43,null,"52720",{"v":1461.419482792784,"d":"1,461"},{"v":3284.1368317726983,"d":"3,284"},{"v":4745.556314565482,"d":"4,746"},{"$nulls":3},"52720",43]
["52","NARIÑO","Contadero","52210",70,70,87,{"$nulls":7},102,null,"52786",{"v":3637.8825808701245,"d":"3,638"},{"v":8127.11962813912,"d":"8,127"},{"v":11765.002209009244,"d":"11,765"},{"$nulls":3},"52786",102]
["52","NARIÑO","Cordoba","52215",167,170,205,{"$nulls":7},79,null,"52788",{"v":2373.092813243607,"d":"2,373"},{"v":5995.970119861711,"d":"5,996"},{"v":8369.062933105319,"d":"8,369"},{"$nulls":3},"52788",79]
["52","NARIÑO","Cuaspud","52224",95,97,117,{"$nulls":7},2477,null,"52835",{"v":29150.773907281164,"d":"29,151"},{"v":109854.7695200508,"d":"109,855"},{"v":139005.54342733196,"d":"139,006"},{"$nulls":3},"52835",2477]
["52","NARIÑO","Cumbal","52227",353,353,432,{"$nulls":7},286,null,"52838",{"v":9516.198714035092,"d":"9,516"},{"v":20354.58768345783,"d":"20,355"},{"v":29870.78639749292,"d":"29,871"},{"$nulls":3},"52838",286]
["52","NARIÑO","Cumbitara","52233",140,143,125,{"$nulls":7},69,null,"52885",{"v":2299.7305835453103,"d":"2,300"},{"v":4916.014696633364,"d":"4,916"},{"v":7215.745280178675,"d":"7,216"},{"$nulls":3},"52885",69]
["52","NARIÑO","Chachagüi","52240",136,148,151,{"$nulls":7},5953,null,"54001",{"v":200653.3365251658,"d":"200,653"},{"v":350090.76306238153,"d":"350,091"},{"v":550744.0995875474,"d":"550,744"},{"$nulls":3},"54001",5953]
["52","NARIÑO","El Charco","52250",529,529,530,{"$nulls":7},327,null,"54003",{"v":4863.119487707165,"d":"4,863"},{"v":14470.755079210656,"d":"14,471"},{"v":19333.87456691782,"d":"19,334"},{"$nulls":3},"54003",327]
["52","NARIÑO","El Peñol","52254",46,48,61,{"$nulls":7},86,null,"54051",{"v":1713.6572242541022,"d":"1,714"},{"v":4246.0024257801315,"d":"4,246"},{"v":5959.659650034234,"d":"5,960"},{"$nulls":3},"54051",86]
["52","NARIÑO","El Rosario","52256",75,75,95,{"$nulls":7},65,null,"54099",{"v":1342.6961985333796,"d":"1,343"},{"v":3816.4282511332767,"d":"3,816"},{"v":5159.124449666657,"d":"5,159"},{"$nulls":3},"54099",65]
["52","NARIÑO","El Tablon de Gomez","52258",137,140,164,{"$nulls":7},68,null,"54109",{"v":690.3681006837743,"d":"690"},{"v":2684.984494580588,"d":"2,685"},{"v":3375.352595264362,"d":"3,375"},{"$nulls":3},"54109",68]
["52","NARIÑO","El Tambo","52260",115,119,152,{"$nulls":7},23,null,"54125",{"v":602.246892161178,"d":"602"},{"v":1245.389356302161,"d":"1,245"},{"v":1847.6362484633391,"d":"1,848"},{"$nulls":3},"54125",23]
["52","NARIÑO","Funes","52287",56,59,69,{"$nulls":7},107,null,"54128",{"v":1456.681424041236,"d":"1,457"},{"v":4546.2439126071495,"d":"4,546"},{"v":6002.925336648385,"d":"6,003"},{"$nulls":3},"54128",107]
["52","NARIÑO","Guachucal","52317",186,193,216,{"$nulls":7},152,null,"54172",{"v":2925.871957858984,"d":"2,926"},{"v":8090.005651296529,"d":"8,090"},{"v":11015.877609155514,"d":"11,016"},{"$nulls":3},"54172",152]
["52","NARIÑO","Guaitarilla","52320",87,86,115,{"$nulls":7},107,null,"54174",{"v":1832.428418715514,"d":"1,832"},{"v":5308.1813571548955,"d":"5,308"},{"v":7140.609775870409,"d":"7,141"},{"$nulls":3},"54174",107]
["52","NARIÑO","Gualmatan","52323",50,51,65,{"$nulls":7},209,null,"54206",{"v":2700.0316344396842,"d":"2,700"},{"v":8116.755208760673,"d":"8,117"},{"v":10816.786843200356,"d":"10,817"},{"$nulls":3},"54206",209]
["52","NARIÑO","Iles","52352",71,71,100,{"$nulls":7},72,null,"54223",{"v":1663.601192914173,"d":"1,664"},{"v":3586.9782311266254,"d":"3,587"},{"v":5250.579424040799,"d":"5,251"},{"$nulls":3},"54223",72]
["52","NARIÑO","Imues","52354",53,56,64,{"$nulls":7},34,null,"54239",{"v":997.0097068963577,"d":"997"},{"v":2065.7220452415463,"d":"2,066"},{"v":3062.731752137904,"d":"3,063"},{"$nulls":3},"54239",34]
["52","NARIÑO","Ipiales","52356",{"v":1467,"d":"1,467"},{"v":1473,"d":"1,473"},{"v":1667,"d":"1,667"},{"$nulls":7},144,null,"54245",{"v":2202.5542852926264,"d":"2,203"},{"v":5687.37928238052,"d":"5,687"},{"v":7889.933567673146,"d":"7,890"},{"$nulls":3},"54245",144]
["52","NARIÑO","La Cruz","52378",156,168,195,{"$nulls":7},250,null,"54250",{"v":1722.6125898836735,"d":"1,723"},{"v":8999.304180458297,"d":"8,999"},{"v":10721.91677034197,"d":"10,722"},{"$nulls":3},"54250",250]
["52","NARIÑO","La Florida","52381",79,87,95,{"$nulls":7},262,null,"54261",{"v":4381.864631003325,"d":"4,382"},{"v":12860.210566829224,"d":"12,860"},{"v":17242.07519783255,"d":"17,242"},{"$nulls":3},"54261",262]
["52","NARIÑO","La Llanada","52385",65,67,74,{"$nulls":7},52,null,"54313",{"v":1174.0696739432376,"d":"1,174"},{"v":3471.8397496978296,"d":"3,472"},{"v":4645.909423641067,"d":"4,646"},{"$nulls":3},"54313",52]
["52","NARIÑO","La Tola","52390",153,160,161,{"$nulls":7},126,null,"54344",{"v":1129.7487939952578,"d":"1,130"},{"v":4284.273465012209,"d":"4,284"},{"v":5414.022259007467,"d":"5,414"},{"$nulls":3},"54344",126]
["52","NARIÑO","La Union","52399",325,334,380,{"$nulls":7},52,null,"54347",{"v":1064.805619413109,"d":"1,065"},{"v":3172.921618483595,"d":"3,173"},{"v":4237.7272378967045,"d":"4,238"},{"$nulls":3},"54347",52]
["52","NARIÑO","Leiva","52405",114,120,123,{"$nulls":7},57,null,"54377",{"v":1228.778763992751,"d":"1,229"},{"v":2747.96207267249,"d":"2,748"},{"v":3976.740836665241,"d":"3,977"},{"$nulls":3},"54377",57]
["52","NARIÑO","Linares","52411",72,81,97,{"$nulls":7},136,null,"54385",{"v":1217.969457663264,"d":"1,218"},{"v":5067.050784871045,"d":"5,067"},{"v":6285.020242534309,"d":"6,285"},{"$nulls":3},"54385",136]
["52","NARIÑO","Los Andes","52418",96,100,118,{"$nulls":7},78,null,"54398",{"v":1283.721617055085,"d":"1,284"},{"v":3345.356648582675,"d":"3,345"},{"v":4629.07826563776,"d":"4,629"},{"$nulls":3},"54398",78]
["52","NARIÑO","Magüi","52427",191,196,223,{"$nulls":7},747,null,"54405",{"v":14280.742831503914,"d":"14,281"},{"v":44247.7597697944,"d":"44,248"},{"v":58528.502601298314,"d":"58,529"},{"$nulls":3},"54405",747]
["52","NARIÑO","Mallama","52435",87,90,113,{"$nulls":7},36,null,"54418",{"v":600.197787181289,"d":"600"},{"v":1770.5655284794736,"d":"1,771"},{"v":2370.7633156607626,"d":"2,371"},{"$nulls":3},"54418",36]
["52","NARIÑO","Mosquera","52473",154,162,170,{"$nulls":7},35,null,"54480",{"v":659.4792503817138,"d":"659"},{"v":1986.9623749894367,"d":"1,987"},{"v":2646.4416253711506,"d":"2,646"},{"$nulls":3},"54480",35]
["52","NARIÑO","Nariño","52480",39,40,47,{"$nulls":7},1044,null,"54498",{"v":27296.09546126035,"d":"27,296"},{"v":57463.82999895348,"d":"57,464"},{"v":84759.92546021382,"d":"84,760"},{"$nulls":3},"54498",1044]
["52","NARIÑO","Olaya Herrera","52490",529,559,578,{"$nulls":7},378,null,"54518",{"v":11817.498808744855,"d":"11,817"},{"v":24610.46574911914,"d":"24,610"},{"v":36427.96455786399,"d":"36,428"},{"$nulls":3},"54518",378]
["52","NARIÑO","Ospina","52506",57,62,80,{"$nulls":7},46,null,"54520",{"v":1022.511578566644,"d":"1,023"},{"v":2424.3917182914483,"d":"2,424"},{"v":3446.9032968580923,"d":"3,447"},{"$nulls":3},"54520",46]
["52","NARIÑO","Francisco Pizarro","52520",131,132,155,{"$nulls":7},89,null,"54553",{"v":2419.408047358672,"d":"2,419"},{"v":3954.0458737416443,"d":"3,954"},{"v":6373.453921100316,"d":"6,373"},{"$nulls":3},"54553",89]
["52","NARIÑO","Policarpa","52540",200,200,183,{"$nulls":7},44,null,"54599",{"v":1733.9502733683044,"d":"1,734"},{"v":2729.5141261877734,"d":"2,730"},{"v":4463.464399556078,"d":"4,463"},{"$nulls":3},"54599",44]
["52","NARIÑO","Potosi","52560",133,141,168,{"$nulls":7},95,null,"54660",{"v":1802.3368492458449,"d":"1,802"},{"v":4478.138969142194,"d":"4,478"},{"v":6280.4758183880385,"d":"6,280"},{"$nulls":3},"54660",95]
["52","NARIÑO","Providencia","52565",54,55,66,{"$nulls":7},132,null,"54670",{"v":1279.4340570507502,"d":"1,279"},{"v":4988.0218867916765,"d":"4,988"},{"v":6267.455943842427,"d":"6,267"},{"$nulls":3},"54670",132]
["52","NARIÑO","Puerres","52573",79,87,113,{"$nulls":7},70,null,"54673",{"v":905.0860719563116,"d":"905"},{"v":3387.570099053387,"d":"3,388"},{"v":4292.6561710096985,"d":"4,293"},{"$nulls":3},"54673",70]
["52","NARIÑO","Pupiales","52585",169,169,214,{"$nulls":7},30,null,"54680",{"v":559.6776841240994,"d":"560"},{"v":1594.0956632609664,"d":"1,594"},{"v":2153.773347385066,"d":"2,154"},{"$nulls":3},"54680",30]
["52","NARIÑO","Ricaurte","52612",305,320,348,{"$nulls":7},272,null,"54720",{"v":3394.8487822006728,"d":"3,395"},{"v":11264.844159706425,"d":"11,265"},{"v":14659.692941907098,"d":"14,660"},{"$nulls":3},"54720",272]
["52","NARIÑO","Roberto Payan","52621",198,207,227,{"$nulls":7},56,null,"54743",{"v":855.2906440202873,"d":"855"},{"v":2802.635162326374,"d":"2,803"},{"v":3657.9258063466614,"d":"3,658"},{"$nulls":3},"54743",56]
["52","NARIÑO","Samaniego","52678",300,312,324,{"$nulls":7},200,null,"54800",{"v":1848.557162349574,"d":"1,849"},{"v":7227.418584375175,"d":"7,227"},{"v":9075.97574672475,"d":"9,076"},{"$nulls":3},"54800",200]
["52","NARIÑO","Sandona","52683",184,191,217,{"$nulls":7},610,null,"54810",{"v":6567.773191674711,"d":"6,568"},{"v":24784.696412542708,"d":"24,785"},{"v":31352.46960421742,"d":"31,352"},{"$nulls":3},"54810",610]
["52","NARIÑO","San Bernardo","52685",78,80,90,{"$nulls":7},143,null,"54820",{"v":2946.3667385926865,"d":"2,946"},{"v":6872.2797004182785,"d":"6,872"},{"v":9818.646439010965,"d":"9,819"},{"$nulls":3},"54820",143]
["52","NARIÑO","San Lorenzo","52687",162,165,194,{"$nulls":7},53,null,"54871",{"v":815.162286467095,"d":"815"},{"v":2169.869514876913,"d":"2,170"},{"v":2985.031801344008,"d":"2,985"},{"$nulls":3},"54871",53]
["52","NARIÑO","San Pablo","52693",136,139,148,{"$nulls":7},870,null,"54874",{"v":22999.656961194683,"d":"23,000"},{"v":50389.57954102174,"d":"50,390"},{"v":73389.23650221643,"d":"73,389"},{"$nulls":3},"54874",870]
["52","NARIÑO","San Pedro de Cartago","52694",73,76,97,{"$nulls":7},1696,null,"63001",{"v":109076.36571864519,"d":"109,076"},{"v":136938.62439566507,"d":"136,939"},{"v":246014.99011431026,"d":"246,015"},{"$nulls":3},"63001",1696]
["52","NARIÑO","Santa Barbara","52696",147,155,196,{"$nulls":7},23,null,"63111",{"v":582.7363947852454,"d":"583"},{"v":1340.4677541567107,"d":"1,340"},{"v":1923.2041489419562,"d":"1,923"},{"$nulls":3},"63111",23]
["52","NARIÑO","Santacruz","52699",106,109,124,{"$nulls":7},462,null,"63130",{"v":17571.43129669458,"d":"17,571"},{"v":33124.200072629894,"d":"33,124"},{"v":50695.631369324474,"d":"50,696"},{"$nulls":3},"63130",462]
["52","NARIÑO","Sapuyes","52720",56,61,76,{"$nulls":7},177,null,"63190",{"v":6271.005690335361,"d":"6,271"},{"v":12792.739027942735,"d":"12,793"},{"v":19063.744718278096,"d":"19,064"},{"$nulls":3},"63190",177]
["52","NARIÑO","Taminango","52786",162,166,176,{"$nulls":7},39,null,"63212",{"v":1199.0659828219145,"d":"1,199"},{"v":2496.593445833426,"d":"2,497"},{"v":3695.6594286553404,"d":"3,696"},{"$nulls":3},"63212",39]
["52","NARIÑO","Tangua","52788",88,90,122,{"$nulls":7},75,null,"63272",{"v":2952.561388582301,"d":"2,953"},{"v":5357.440472586702,"d":"5,357"},{"v":8310.001861169003,"d":"8,310"},{"$nulls":3},"63272",75]
["52","NARIÑO","San Andres de Tumaco","52835",{"v":3328,"d":"3,328"},{"v":3427,"d":"3,427"},{"v":3556,"d":"3,556"},{"$nulls":7},45,null,"63302",{"v":1825.7321892322025,"d":"1,826"},{"v":3195.8620579660474,"d":"3,196"},{"v":5021.59424719825,"d":"5,022"},{"$nulls":3},"63302",45]
["52","NARIÑO","Tuquerres","52838",447,461,558,{"$nulls":7},229,null,"63401",{"v":7835.338145192558,"d":"7,835"},{"v":15493.138502338621,"d":"15,493"},{"v":23328.476647531177,"d":"23,328"},{"$nulls":3},"63401",229]
["52","NARIÑO","Yacuanquer","52885",95,101,115,{"$nulls":7},245,null,"63470",{"v":9679.590182105594,"d":"9,680"},{"v":16607.66964455992,"d":"16,608"},{"v":26287.25982666551,"d":"26,287"},{"$nulls":3},"63470",245]
["54","NORTE","Cucuta","54001",{"v":11096,"d":"11,096"},{"v":11285,"d":"11,285"},{"v":11345,"d":"11,345"},{"$nulls":7},33,null,"63548",{"v":1454.2092805328764,"d":"1,454"},{"v":2205.6304822846105,"d":"2,206"},{"v":3659.839762817487,"d":"3,660"},{"$nulls":3},"63548",33]
["54","NORTE","Abrego","54003",522,543,593,{"$nulls":7},188,null,"63594",{"v":9208.68484624033,"d":"9,209"},{"v":13674.47667573401,"d":"13,674"},{"v":22883.16152197434,"d":"22,883"},{"$nulls":3},"63594",188]
["54","NORTE","Arboledas","54051",100,112,117,{"$nulls":7},56,null,"63690",{"v":1266.9701086212287,"d":"1,267"},{"v":4185.716773545386,"d":"4,186"},{"v":5452.686882166615,"d":"5,453"},{"$nulls":3},"63690",56]
["54","NORTE","Bochalema","54099",111,111,114,{"$nulls":7},2800,null,"66001",{"v":167724.2041693516,"d":"167,724"},{"v":214373.9832442192,"d":"214,374"},{"v":382098.1874135708,"d":"382,098"},{"$nulls":3},"66001",2800]
["54","NORTE","Bucarasica","54109",88,95,95,{"$nulls":7},81,null,"66045",{"v":3016.1824770202247,"d":"3,016"},{"v":5250.077829833704,"d":"5,250"},{"v":8266.260306853928,"d":"8,266"},{"$nulls":3},"66045",81]
["54","NORTE","Cacota","54125",33,37,44,{"$nulls":7},44,null,"66075",{"v":1416.9833207170946,"d":"1,417"},{"v":2714.2741301066562,"d":"2,714"},{"$f":"R835+S835","v":{"v":4131.25745082375,"d":"4,131"}},{"$nulls":3},"66075",44]
["54","NORTE","Cachira","54128",128,130,137,{"$nulls":7},181,null,"66088",{"v":6109.505106829556,"d":"6,110"},{"v":10557.850089886128,"d":"10,558"},{"v":16667.35519671568,"d":"16,667"},{"$nulls":3},"66088",181]
["54","NORTE","Chinacota","54172",193,208,216,{"$nulls":7},1358,null,"66170",{"v":58356.93815557038,"d":"58,357"},{"v":101292.33943838366,"d":"101,292"},{"v":159649.27759395403,"d":"159,649"},{"$nulls":3},"66170",1358]
["54","NORTE","Chitaga","54174",155,160,169,{"$nulls":7},88,null,"66318",{"v":2844.405393880541,"d":"2,844"},{"v":5235.9143926461875,"d":"5,236"},{"v":8080.319786526728,"d":"8,080"},{"$nulls":3},"66318",88]
["54","NORTE","Convencion","54206",405,400,387,{"$nulls":7},48,null,"66383",{"v":1765.626637126484,"d":"1,766"},{"v":3174.866752570264,"d":"3,175"},{"v":4940.493389696748,"d":"4,940"},{"$nulls":3},"66383",48]
["54","NORTE","Cucutilla","54223",84,84,100,{"$nulls":7},188,null,"66400",{"v":9963.184039480431,"d":"9,963"},{"v":12476.903526591124,"d":"12,477"},{"v":22440.087566071554,"d":"22,440"},{"$nulls":3},"66400",188]
["54","NORTE","Durania","54239",65,68,63,{"$nulls":7},124,null,"66440",{"v":4096.221870167319,"d":"4,096"},{"v":6925.9965468042865,"d":"6,926"},{"v":11022.218416971606,"d":"11,022"},{"$nulls":3},"66440",124]
["54","NORTE","El Carmen","54245",202,229,230,{"$nulls":7},202,null,"66456",{"v":2507.257333795986,"d":"2,507"},{"v":6533.4436889740155,"d":"6,533"},{"v":9040.701022770001,"d":"9,041"},{"$nulls":3},"66456",202]
["54","NORTE","El Tarra","54250",534,536,556,{"$nulls":7},210,null,"66572",{"v":1939.0688523254098,"d":"1,939"},{"v":5838.4034502332925,"d":"5,838"},{"v":7777.472302558703,"d":"7,777"},{"$nulls":3},"66572",210]
["54","NORTE","El Zulia","54261",499,507,495,{"$nulls":7},215,null,"66594",{"v":5747.399559403022,"d":"5,747"},{"v":11370.845807344514,"d":"11,371"},{"v":17118.245366747535,"d":"17,118"},{"$nulls":3},"66594",215]
["54","NORTE","Gramalote","54313",59,65,74,{"$nulls":7},492,null,"66682",{"v":20350.529259814182,"d":"20,351"},{"v":35135.46352980125,"d":"35,135"},{"v":55485.99278961543,"d":"55,486"},{"$nulls":3},"66682",492]
["54","NORTE","Hacari","54344",222,226,248,{"$nulls":7},90,null,"66687",{"v":2847.9463349666185,"d":"2,848"},{"v":5266.3813490421,"d":"5,266"},{"v":8114.327684008718,"d":"8,114"},{"$nulls":3},"66687",90]
["54","NORTE","Herran","54347",34,35,50,{"$nulls":7},3809,null,"68001",{"v":204363.3371147998,"d":"204,363"},{"v":278781.3635656312,"d":"278,781"},{"v":483144.700680431,"d":"483,145"},{"$nulls":3},"68001",3809]
["54","NORTE","Labateca","54377",74,85,79,{"$nulls":7},10,null,"68013",{"v":405.4911756600227,"d":"405"},{"v":804.4929930770247,"d":"804"},{"v":1209.9841687370474,"d":"1,210"},{"$nulls":3},"68013",10]
["54","NORTE","La Esperanza","54385",193,197,207,{"$nulls":7},31,null,"68020",{"v":777.5359680852396,"d":"778"},{"v":1728.4115019232008,"d":"1,728"},{"v":2505.94747000844,"d":"2,506"},{"$nulls":3},"68020",31]
["54","NORTE","La Playa","54398",132,132,142,{"$nulls":7},67,null,"68051",{"v":1463.8044273053767,"d":"1,464"},{"v":3722.4582967572687,"d":"3,722"},{"v":5186.262724062645,"d":"5,186"},{"$nulls":3},"68051",67]
["54","NORTE","Los Patios","54405",904,{"v":1019,"d":"1,019"},{"v":1123,"d":"1,123"},{"$nulls":7},245,null,"68077",{"v":6600.294436197189,"d":"6,600"},{"v":14391.882316046853,"d":"14,392"},{"v":20992.176752244042,"d":"20,992"},{"$nulls":3},"68077",245]
["54","NORTE","Lourdes","54418",55,55,64,{"$nulls":7},81,null,"68079",{"v":1735.478069899669,"d":"1,735"},{"v":4539.0058247550005,"d":"4,539"},{"v":6274.48389465467,"d":"6,274"},{"$nulls":3},"68079",81]
["54","NORTE","Mutiscua","54480",49,57,58,{"$nulls":7},1713,null,"68081",{"v":50666.82897125203,"d":"50,667"},{"v":93464.99653274944,"d":"93,465"},{"v":144131.82550400146,"d":"144,132"},{"$nulls":3},"68081",1713]
["54","NORTE","Ocaña","54498",{"v":1644,"d":"1,644"},{"v":1755,"d":"1,755"},{"v":1770,"d":"1,770"},{"$nulls":7},53,null,"68092",{"v":837.1261308710903,"d":"837"},{"v":2573.679030038412,"d":"2,574"},{"v":3410.805160909502,"d":"3,411"},{"$nulls":3},"68092",53]
["54","NORTE","Pamplona","54518",580,602,632,{"$nulls":7},90,null,"68101",{"v":2046.185119783492,"d":"2,046"},{"v":4545.614853284123,"d":"4,546"},{"v":6591.799973067615,"d":"6,592"},{"$nulls":3},"68101",90]
["54","NORTE","Pamplonita","54520",67,71,72,{"$nulls":7},17,null,"68121",{"v":443.6031277565285,"d":"444"},{"v":828.9781600545548,"d":"829"},{"v":1272.5812878110833,"d":"1,273"},{"$nulls":3},"68121",17]
["54","NORTE","Puerto Santander","54553",289,290,281,{"$nulls":7},18,null,"68132",{"v":229.29241181680118,"d":"229"},{"v":978.2825004078486,"d":"978"},{"v":1207.5749122246498,"d":"1,208"},{"$nulls":3},"68132",18]
["54","NORTE","Ragonvalia","54599",90,92,95,{"$nulls":7},36,null,"68147",{"v":1468.9084858196982,"d":"1,469"},{"v":2234.3958133038996,"d":"2,234"},{"v":3703.304299123598,"d":"3,703"},{"$nulls":3},"68147",36]
["54","NORTE","Salazar","54660",131,133,152,{"$nulls":7},36,null,"68152",{"v":865.0747863244505,"d":"865"},{"v":1778.3083671889158,"d":"1,778"},{"v":2643.3831535133663,"d":"2,643"},{"$nulls":3},"68152",36]
["54","NORTE","San Calixto","54670",184,206,208,{"$nulls":7},17,null,"68160",{"v":301.2404075858994,"d":"301"},{"v":873.9524137737246,"d":"874"},{"v":1175.192821359624,"d":"1,175"},{"$nulls":3},"68160",17]
["54","NORTE","San Cayetano","54673",98,99,110,{"$nulls":7},56,null,"68162",{"v":1307.2963612320686,"d":"1,307"},{"v":3021.4815413648635,"d":"3,021"},{"v":4328.777902596932,"d":"4,329"},{"$nulls":3},"68162",56]
["54","NORTE","Santiago","54680",41,42,44,{"$nulls":7},93,null,"68167",{"v":2453.8656140030935,"d":"2,454"},{"v":5137.457758324736,"d":"5,137"},{"v":7591.323372327829,"d":"7,591"},{"$nulls":3},"68167",93]
["54","NORTE","Sardinata","54720",434,435,440,{"$nulls":7},20,null,"68169",{"v":544.6280848978138,"d":"545"},{"v":1214.9898095007006,"d":"1,215"},{"v":1759.6178943985144,"d":"1,760"},{"$nulls":3},"68169",20]
["54","NORTE","Silos","54743",65,70,73,{"$nulls":7},23,null,"68176",{"v":556.2367718108223,"d":"556"},{"v":1197.240856976618,"d":"1,197"},{"v":1753.4776287874404,"d":"1,753"},{"$nulls":3},"68176",23]
["54","NORTE","Teorama","54800",404,400,370,{"$nulls":7},34,null,"68179",{"v":957.7108785877632,"d":"958"},{"v":2136.581978902669,"d":"2,137"},{"v":3094.292857490432,"d":"3,094"},{"$nulls":3},"68179",34]
["54","NORTE","Tibu","54810",{"v":1456,"d":"1,456"},{"v":1545,"d":"1,545"},{"v":1468,"d":"1,468"},{"$nulls":7},306,null,"68190",{"v":5008.957431709181,"d":"5,009"},{"v":15307.020534588955,"d":"15,307"},{"v":20315.97796629814,"d":"20,316"},{"$nulls":3},"68190",306]
["54","NORTE","Toledo","54820",236,242,244,{"$nulls":7},46,null,"68207",{"v":1296.8806439864104,"d":"1,297"},{"v":2403.0489123353514,"d":"2,403"},{"v":3699.929556321762,"d":"3,700"},{"$nulls":3},"68207",46]
["54","NORTE","Villa Caro","54871",60,68,76,{"$nulls":7},27,null,"68209",{"v":457.49108659051,"d":"457"},{"v":1398.3487942141933,"d":"1,398"},{"v":1855.8398808047032,"d":"1,856"},{"$nulls":3},"68209",27]
["54","NORTE","Villa del Rosario","54874",{"v":1443,"d":"1,443"},{"v":1622,"d":"1,622"},{"v":1439,"d":"1,439"},{"$nulls":7},24,null,"68211",{"v":1042.3540637274177,"d":"1,042"},{"v":1477.9516729575917,"d":"1,478"},{"v":2520.3057366850094,"d":"2,520"},{"$nulls":3},"68211",24]
["86","PUTUMAYO","Mocoa","86001",737,809,876,{"$nulls":7},38,null,"68217",{"v":1159.787210783787,"d":"1,160"},{"v":2115.366358870897,"d":"2,115"},{"v":3275.153569654684,"d":"3,275"},{"$nulls":3},"68217",38]
["86","PUTUMAYO","Colon","86219",56,60,79,{"$nulls":7},107,null,"68229",{"v":2186.3286981181286,"d":"2,186"},{"v":5687.420562307213,"d":"5,687"},{"v":7873.749260425342,"d":"7,874"},{"$nulls":3},"68229",107]
["86","PUTUMAYO","Orito","86320",590,590,674,{"$nulls":7},202,null,"68235",{"v":1945.5868036912075,"d":"1,946"},{"v":9579.15737699439,"d":"9,579"},{"v":11524.744180685597,"d":"11,525"},{"$nulls":3},"68235",202]
["86","PUTUMAYO","Puerto Asis","86568",996,{"v":1040,"d":"1,040"},{"v":1020,"d":"1,020"},{"$nulls":7},17,null,"68245",{"v":426.721695762428,"d":"427"},{"v":876.4570249612482,"d":"876"},{"v":1303.1787207236762,"d":"1,303"},{"$nulls":3},"68245",17]
["86","PUTUMAYO","Puerto Caicedo","86569",204,221,225,{"$nulls":7},56,null,"68250",{"v":710.2820078577447,"d":"710"},{"v":2298.428576427632,"d":"2,298"},{"v":3008.7105842853766,"d":"3,009"},{"$nulls":3},"68250",56]
["86","PUTUMAYO","Puerto Guzman","86571",252,277,286,{"$nulls":7},122,null,"68255",{"v":2607.151575486956,"d":"2,607"},{"v":5961.643017800227,"d":"5,962"},{"v":8568.794593287184,"d":"8,569"},{"$nulls":3},"68255",122]
["86","PUTUMAYO","Leguizamo","86573",366,384,418,{"$nulls":7},22,null,"68264",{"v":403.7621244839361,"d":"404"},{"v":1092.1904025200888,"d":"1,092"},{"v":1495.952527004025,"d":"1,496"},{"$nulls":3},"68264",22]
["86","PUTUMAYO","Sibundoy","86749",161,163,199,{"$nulls":7},25,null,"68266",{"v":840.6936733291586,"d":"841"},{"v":1477.7146821307072,"d":"1,478"},{"v":2318.4083554598656,"d":"2,318"},{"$nulls":3},"68266",25]
["86","PUTUMAYO","San Francisco","86755",58,60,79,{"$nulls":7},49,null,"68271",{"v":1051.7718881762487,"d":"1,052"},{"v":2346.547363795955,"d":"2,347"},{"v":3398.3192519722033,"d":"3,398"},{"$nulls":3},"68271",49]
["86","PUTUMAYO","San Miguel","86757",288,288,299,{"$nulls":7},1995,null,"68276",{"v":75866.4194476744,"d":"75,866"},{"v":141657.7642878635,"d":"141,658"},{"v":217524.18373553792,"d":"217,524"},{"$nulls":3},"68276",1995]
["86","PUTUMAYO","Santiago","86760",108,116,131,{"$nulls":7},21,null,"68296",{"v":764.7212995241705,"d":"765"},{"v":1187.974312218434,"d":"1,188"},{"v":1952.6956117426046,"d":"1,953"},{"$nulls":3},"68296",21]
["86","PUTUMAYO","Valle del Guamuez","86865",507,507,509,{"$nulls":7},35,null,"68298",{"v":640.1493184828503,"d":"640"},{"v":1632.8373961376763,"d":"1,633"},{"v":2272.9867146205265,"d":"2,273"},{"$nulls":3},"68298",35]
["86","PUTUMAYO","Villagarzon","86885",402,418,444,{"$nulls":7},1260,null,"68307",{"v":31671.214302370303,"d":"31,671"},{"v":78962.49013255883,"d":"78,962"},{"v":110633.70443492912,"d":"110,634"},{"$nulls":3},"68307",1260]
["63","QUINDIO","Armenia","63001",{"v":2952,"d":"2,952"},{"v":3244,"d":"3,244"},{"v":3525,"d":"3,525"},{"$nulls":7},50,null,"68318",{"v":1155.9425159008485,"d":"1,156"},{"v":2522.08089181151,"d":"2,522"},{"v":3678.0234077123587,"d":"3,678"},{"$nulls":3},"68318",50]
["63","QUINDIO","Buenavista","63111",27,29,31,{"$nulls":7},35,null,"68320",{"v":1087.5147541568572,"d":"1,088"},{"v":1840.4782617990402,"d":"1,840"},{"v":2927.993015955897,"d":"2,928"},{"$nulls":3},"68320",35]
["63","QUINDIO","Calarca","63130",638,648,682,{"$nulls":7},24,null,"68322",{"v":399.6762039021112,"d":"400"},{"v":1035.4939060464817,"d":"1,035"},{"v":1435.1701099485929,"d":"1,435"},{"$nulls":3},"68322",24]
["63","QUINDIO","Circasia","63190",207,221,258,{"$nulls":7},26,null,"68324",{"v":959.01875255606,"d":"959"},{"v":1736.5699556182783,"d":"1,737"},{"v":2695.5887081743385,"d":"2,696"},{"$nulls":3},"68324",26]
["63","QUINDIO","Cordoba","63212",64,67,68,{"$nulls":7},37,null,"68327",{"v":768.6829448137689,"d":"769"},{"v":2323.713088791492,"d":"2,324"},{"v":3092.3960336052605,"d":"3,092"},{"$nulls":3},"68327",37]
["63","QUINDIO","Filandia","63272",90,91,118,{"$nulls":7},19,null,"68344",{"v":366.36449350588333,"d":"366"},{"v":1026.8440896758707,"d":"1,027"},{"v":1393.208583181754,"d":"1,393"},{"$nulls":3},"68344",19]
["63","QUINDIO","Genova","63302",78,78,94,{"$nulls":7},26,null,"68368",{"v":679.0167324764215,"d":"679"},{"v":1374.3125946040886,"d":"1,374"},{"v":2053.32932708051,"d":"2,053"},{"$nulls":3},"68368",26]
["63","QUINDIO","La Tebaida","63401",362,393,441,{"$nulls":7},11,null,"68370",{"v":208.84432789041017,"d":"209"},{"v":572.7249717216129,"d":"573"},{"v":781.5692996120231,"d":"782"},{"$nulls":3},"68370",11]
["63","QUINDIO","Montenegro","63470",459,464,470,{"$nulls":7},52,null,"68377",{"v":1194.3860473623633,"d":"1,194"},{"v":2636.9128001912486,"d":"2,637"},{"v":3831.298847553612,"d":"3,831"},{"$nulls":3},"68377",52]
["63","QUINDIO","Pijao","63548",56,56,65,{"$nulls":7},90,null,"68385",{"v":1930.5552443645074,"d":"1,931"},{"v":4481.211747941455,"d":"4,481"},{"v":6411.766992305962,"d":"6,412"},{"$nulls":3},"68385",90]
["63","QUINDIO","Quimbaya","63594",312,319,342,{"$nulls":7},35,null,"68397",{"v":1004.0930585949576,"d":"1,004"},{"v":2037.502803141353,"d":"2,038"},{"v":3041.595861736311,"d":"3,042"},{"$nulls":3},"68397",35]
["63","QUINDIO","Salento","63690",53,55,62,{"$nulls":7},358,null,"68406",{"v":7073.259792508129,"d":"7,073"},{"v":20035.803711772693,"d":"20,036"},{"v":27109.06350428082,"d":"27,109"},{"$nulls":3},"68406",358]
["66","RISARALDA","Pereira","66001",{"v":4663,"d":"4,663"},{"v":4745,"d":"4,745"},{"v":5733,"d":"5,733"},{"$nulls":7},126,null,"68418",{"v":1693.1904667672256,"d":"1,693"},{"v":6439.254066657779,"d":"6,439"},{"v":8132.444533425005,"d":"8,132"},{"$nulls":3},"68418",126]
["66","RISARALDA","Apia","66045",125,125,128,{"$nulls":7},17,null,"68425",{"v":598.3041281756673,"d":"598"},{"v":835.3965859049077,"d":"835"},{"v":1433.700714080575,"d":"1,434"},{"$nulls":3},"68425",17]
["66","RISARALDA","Balboa","66075",50,57,67,{"$nulls":7},166,null,"68432",{"v":5247.032844662406,"d":"5,247"},{"v":9422.618589213518,"d":"9,423"},{"v":14669.651433875924,"d":"14,670"},{"$nulls":3},"68432",166]
["66","RISARALDA","Belen de Umbria","66088",280,280,299,{"$nulls":7},35,null,"68444",{"v":882.3901047517589,"d":"882"},{"v":2144.3037961657747,"d":"2,144"},{"v":3026.6939009175335,"d":"3,027"},{"$nulls":3},"68444",35]
["66","RISARALDA","Dosquebradas","66170",{"v":1861,"d":"1,861"},{"v":2158,"d":"2,158"},{"v":2271,"d":"2,271"},{"$nulls":7},97,null,"68464",{"v":1826.7770764961092,"d":"1,827"},{"v":4359.339987652913,"d":"4,359"},{"$f":"R899+S899","v":{"v":6186.117064149023,"d":"6,186"}},{"$nulls":3},"68464",97]
["66","RISARALDA","Guatica","66318",109,113,131,{"$nulls":7},32,null,"68468",{"v":1059.0256066663142,"d":"1,059"},{"v":1703.7632715963998,"d":"1,704"},{"v":2762.788878262714,"d":"2,763"},{"$nulls":3},"68468",32]
["66","RISARALDA","La Celia","66383",78,84,93,{"$nulls":7},47,null,"68498",{"v":1099.5679432939928,"d":"1,100"},{"v":2494.0399214546323,"d":"2,494"},{"v":3593.607864748625,"d":"3,594"},{"$nulls":3},"68498",47]
["66","RISARALDA","La Virginia","66400",387,391,462,{"$nulls":7},86,null,"68500",{"v":2051.870328705707,"d":"2,052"},{"v":4828.227292662241,"d":"4,828"},{"v":6880.097621367948,"d":"6,880"},{"$nulls":3},"68500",86]
["66","RISARALDA","Marsella","66440",173,188,195,{"$nulls":7},28,null,"68502",{"v":1076.448341176069,"d":"1,076"},{"v":1621.172052254522,"d":"1,621"},{"v":2697.6203934305913,"d":"2,698"},{"$nulls":3},"68502",28]
["66","RISARALDA","Mistrato","66456",385,400,413,{"$nulls":7},10,null,"68522",{"v":288.4401908334364,"d":"288"},{"v":593.5782352144616,"d":"594"},{"v":882.0184260478981,"d":"882"},{"$nulls":3},"68522",10]
["66","RISARALDA","Pueblo Rico","66572",625,625,569,{"$nulls":7},21,null,"68524",{"v":507.7334627894689,"d":"508"},{"v":1103.6267412563716,"d":"1,104"},{"v":1611.3602040458404,"d":"1,611"},{"$nulls":3},"68524",21]
["66","RISARALDA","Quinchia","66594",332,348,368,{"$nulls":7},39,null,"68533",{"v":758.8093389563401,"d":"759"},{"v":2116.4197236904415,"d":"2,116"},{"v":2875.2290626467816,"d":"2,875"},{"$nulls":3},"68533",39]
["66","RISARALDA","Santa Rosa de Cabal","66682",728,775,830,{"$nulls":7},1327,null,"68547",{"v":29450.016335713866,"d":"29,450"},{"v":83807.44307729827,"d":"83,807"},{"v":113257.45941301214,"d":"113,257"},{"$nulls":3},"68547",1327]
["66","RISARALDA","Santuario","66687",118,122,137,{"$nulls":7},36,null,"68549",{"v":770.5645862225721,"d":"771"},{"v":2358.9863339482267,"d":"2,359"},{"v":3129.5509201707987,"d":"3,130"},{"$nulls":3},"68549",36]
["88","SANANDRES","San Andres","88001",676,712,822,{"$nulls":7},107,null,"68572",{"v":2797.6059429852976,"d":"2,798"},{"v":6032.962077136508,"d":"6,033"},{"v":8830.568020121806,"d":"8,831"},{"$nulls":3},"68572",107]
["88","SANANDRES","Providencia","88564",51,52,61,{"$nulls":7},83,null,"68573",{"v":785.116572422723,"d":"785"},{"v":3392.977555392303,"d":"3,393"},{"v":4178.094127815026,"d":"4,178"},{"$nulls":3},"68573",83]
["68","SANTANDER","Bucaramanga","68001",{"v":8132,"d":"8,132"},{"v":8263,"d":"8,263"},{"v":9012,"d":"9,012"},{"$nulls":7},330,null,"68575",{"v":5671.301740278941,"d":"5,671"},{"v":14483.627808336307,"d":"14,484"},{"v":20154.929548615248,"d":"20,155"},{"$nulls":3},"68575",330]
["68","SANTANDER","Aguada","68013",14,15,17,{"$nulls":7},221,null,"68615",{"v":4480.8377667268915,"d":"4,481"},{"v":11672.303311789805,"d":"11,672"},{"v":16153.141078516695,"d":"16,153"},{"$nulls":3},"68615",221]
["68","SANTANDER","Albania","68020",23,29,31,{"$nulls":7},329,null,"68655",{"v":4775.881350245344,"d":"4,776"},{"v":14917.331004060557,"d":"14,917"},{"v":19693.212354305902,"d":"19,693"},{"$nulls":3},"68655",329]
["68","SANTANDER","Aratoca","68051",113,110,103,{"$nulls":7},59,null,"68669",{"v":1988.9494285960916,"d":"1,989"},{"v":3558.646659080717,"d":"3,559"},{"v":5547.596087676809,"d":"5,548"},{"$nulls":3},"68669",59]
["68","SANTANDER","Barbosa","68077",427,431,456,{"$nulls":7},20,null,"68673",{"v":545.8153001105422,"d":"546"},{"v":1287.8249416211465,"d":"1,288"},{"v":1833.6402417316888,"d":"1,834"},{"$nulls":3},"68673",20]
["68","SANTANDER","Barichara","68079",71,71,79,{"$nulls":7},425,null,"68679",{"v":17460.26030649906,"d":"17,460"},{"v":26784.8524188647,"d":"26,785"},{"v":44245.11272536376,"d":"44,245"},{"$nulls":3},"68679",425]
["68","SANTANDER","Barrancabermeja","68081",{"v":3387,"d":"3,387"},{"v":3435,"d":"3,435"},{"v":4005,"d":"4,005"},{"$nulls":7},20,null,"68682",{"v":606.2282598850877,"d":"606"},{"v":878.9721468719399,"d":"879"},{"v":1485.2004067570276,"d":"1,485"},{"$nulls":3},"68682",20]
["68","SANTANDER","Betulia","68092",63,68,69,{"$nulls":7},31,null,"68684",{"v":919.1851947520595,"d":"919"},{"v":1793.4932846110364,"d":"1,793"},{"v":2712.678479363096,"d":"2,713"},{"$nulls":3},"68684",31]
["68","SANTANDER","Bolivar","68101",85,87,105,{"$nulls":7},18,null,"68686",{"v":572.7922013046012,"d":"573"},{"v":1016.1937081441589,"d":"1,016"},{"v":1588.9859094487601,"d":"1,589"},{"$nulls":3},"68686",18]
["68","SANTANDER","Cabrera","68121",12,12,14,{"$nulls":7},275,null,"68689",{"v":5549.506218347342,"d":"5,550"},{"v":14704.757720960351,"d":"14,705"},{"v":20254.263939307693,"d":"20,254"},{"$nulls":3},"68689",275]
["68","SANTANDER","California","68132",18,21,22,{"$nulls":7},16,null,"68705",{"v":424.87702905788154,"d":"425"},{"v":1063.9841961862196,"d":"1,064"},{"v":1488.8612252441012,"d":"1,489"},{"$nulls":3},"68705",16]
["68","SANTANDER","Capitanejo","68147",57,60,61,{"$nulls":7},31,null,"68720",{"v":622.4804211547244,"d":"622"},{"v":1485.5466567118074,"d":"1,486"},{"v":2108.0270778665317,"d":"2,108"},{"$nulls":3},"68720",31]
["68","SANTANDER","Carcasi","68152",49,54,59,{"$nulls":7},92,null,"68745",{"v":1610.451064951097,"d":"1,610"},{"v":4367.903545610457,"d":"4,368"},{"v":5978.354610561553,"d":"5,978"},{"$nulls":3},"68745",92]
["68","SANTANDER","Cepita","68160",19,20,23,{"$nulls":7},236,null,"68755",{"v":8871.66266114558,"d":"8,872"},{"v":15108.313921519504,"d":"15,108"},{"v":23979.976582665084,"d":"23,980"},{"$nulls":3},"68755",236]
["68","SANTANDER","Cerrito","68162",91,101,100,{"$nulls":7},72,null,"68770",{"v":1909.8560352555194,"d":"1,910"},{"v":4200.771627584591,"d":"4,201"},{"v":6110.627662840111,"d":"6,111"},{"$nulls":3},"68770",72]
["68","SANTANDER","Charala","68167",122,135,168,{"$nulls":7},52,null,"68773",{"v":1445.3899539207118,"d":"1,445"},{"v":2926.1335632676196,"d":"2,926"},{"v":4371.523517188331,"d":"4,372"},{"$nulls":3},"68773",52]
["68","SANTANDER","Charta","68169",23,24,29,{"$nulls":7},30,null,"68780",{"v":680.0288879582446,"d":"680"},{"v":1681.5750845212935,"d":"1,682"},{"v":2361.6039724795382,"d":"2,362"},{"$nulls":3},"68780",30]
["68","SANTANDER","Chima","68176",26,27,35,{"$nulls":7},63,null,"68820",{"v":975.9463416710356,"d":"976"},{"v":3358.8170989695514,"d":"3,359"},{"v":4334.763440640587,"d":"4,335"},{"$nulls":3},"68820",63]
["68","SANTANDER","Chipata","68179",32,33,42,{"$nulls":7},51,null,"68855",{"v":1016.71242235837,"d":"1,017"},{"v":2750.399274265563,"d":"2,750"},{"v":3767.111696623933,"d":"3,767"},{"$nulls":3},"68855",51]
["68","SANTANDER","Cimitarra","68190",430,437,441,{"$nulls":7},163,null,"68861",{"v":4558.683793214297,"d":"4,559"},{"v":11292.586484559148,"d":"11,293"},{"v":15851.270277773445,"d":"15,851"},{"$nulls":3},"68861",163]
["68","SANTANDER","Concepcion","68207",67,68,73,{"$nulls":7},16,null,"68867",{"v":270.8091990432955,"d":"271"},{"v":948.6373786414542,"d":"949"},{"v":1219.4465776847496,"d":"1,219"},{"$nulls":3},"68867",16]
["68","SANTANDER","Confines","68209",37,38,42,{"$nulls":7},57,null,"68872",{"v":1607.280500337786,"d":"1,607"},{"v":3378.419877080924,"d":"3,378"},{"v":4985.70037741871,"d":"4,986"},{"$nulls":3},"68872",57]
["68","SANTANDER","Contratacion","68211",32,35,42,{"$nulls":7},75,null,"68895",{"v":2093.9347664201687,"d":"2,094"},{"v":3878.347414319323,"d":"3,878"},{"v":5972.282180739492,"d":"5,972"},{"$nulls":3},"68895",75]
["68","SANTANDER","Coromoro","68217",72,73,73,{"$nulls":7},2413,null,"70001",{"v":88038.66312359636,"d":"88,039"},{"v":130392.40280661435,"d":"130,392"},{"v":218431.0659302107,"d":"218,431"},{"$nulls":3},"70001",2413]
["68","SANTANDER","Curiti","68229",115,129,151,{"$nulls":7},104,null,"70110",{"v":2355.747431618264,"d":"2,356"},{"v":4657.188077856707,"d":"4,657"},{"v":7012.935509474972,"d":"7,013"},{"$nulls":3},"70110",104]
["68","SANTANDER","El Carmen de Chucuri","68235",241,250,253,{"$nulls":7},149,null,"70124",{"v":2358.334243343137,"d":"2,358"},{"v":6846.116454553618,"d":"6,846"},{"v":9204.450697896755,"d":"9,204"},{"$nulls":3},"70124",149]
["68","SANTANDER","El Guacamayo","68245",18,17,23,{"$nulls":7},74,null,"70204",{"v":1652.0004635875457,"d":"1,652"},{"v":3662.1864432548286,"d":"3,662"},{"v":5314.186906842375,"d":"5,314"},{"$nulls":3},"70204",74]
["68","SANTANDER","El Peñon","68250",52,56,70,{"$nulls":7},578,null,"70215",{"v":16474.36004980999,"d":"16,474"},{"v":31008.069540966746,"d":"31,008"},{"v":47482.42959077674,"d":"47,482"},{"$nulls":3},"70215",578]
["68","SANTANDER","El Playon","68255",201,209,218,{"$nulls":7},147,null,"70221",{"v":2126.513907606479,"d":"2,127"},{"v":9228.626545854968,"d":"9,229"},{"v":11355.140453461447,"d":"11,355"},{"$nulls":3},"70221",147]
["68","SANTANDER","Encino","68264",30,30,35,{"$nulls":7},40,null,"70230",{"v":972.8991904704155,"d":"973"},{"v":1970.2113562104664,"d":"1,970"},{"v":2943.110546680882,"d":"2,943"},{"$nulls":3},"70230",40]
["68","SANTANDER","Enciso","68266",38,40,40,{"$nulls":7},98,null,"70233",{"v":1993.0440980915887,"d":"1,993"},{"v":4351.326100903925,"d":"4,351"},{"v":6344.370198995513,"d":"6,344"},{"$nulls":3},"70233",98]
["68","SANTANDER","Florian","68271",61,62,70,{"$nulls":7},219,null,"70235",{"v":4090.863445437664,"d":"4,091"},{"v":9753.600253103712,"d":"9,754"},{"v":13844.463698541376,"d":"13,844"},{"$nulls":3},"70235",219]
["68","SANTANDER","Floridablanca","68276",{"v":3462,"d":"3,462"},{"v":3417,"d":"3,417"},{"v":3716,"d":"3,716"},{"$nulls":7},192,null,"70265",{"v":2981.7895863525405,"d":"2,982"},{"v":7659.794489781746,"d":"7,660"},{"v":10641.584076134286,"d":"10,642"},{"$nulls":3},"70265",192]
["68","SANTANDER","Galan","68296",33,33,43,{"$nulls":7},106,null,"70400",{"v":2432.5243357067266,"d":"2,433"},{"v":5511.564900433123,"d":"5,512"},{"v":7944.089236139849,"d":"7,944"},{"$nulls":3},"70400",106]
["68","SANTANDER","Gambita","68298",47,48,51,{"$nulls":7},200,null,"70418",{"v":4789.40104229896,"d":"4,789"},{"v":10216.155743091189,"d":"10,216"},{"v":15005.556785390148,"d":"15,006"},{"$nulls":3},"70418",200]
["68","SANTANDER","Giron","68307",{"v":2233,"d":"2,233"},{"v":2268,"d":"2,268"},{"v":2288,"d":"2,288"},{"$nulls":7},367,null,"70429",{"v":8609.032065513324,"d":"8,609"},{"v":15861.340423819616,"d":"15,861"},{"v":24470.37248933294,"d":"24,470"},{"$nulls":3},"70429",367]
["68","SANTANDER","Guaca","68318",65,67,78,{"$nulls":7},134,null,"70473",{"v":3198.836045829923,"d":"3,199"},{"v":6881.375196147179,"d":"6,881"},{"v":10080.211241977102,"d":"10,080"},{"$nulls":3},"70473",134]
["68","SANTANDER","Guadalupe","68320",35,39,56,{"$nulls":7},192,null,"70508",{"v":5614.708557028026,"d":"5,615"},{"v":9974.644317865235,"d":"9,975"},{"v":15589.352874893262,"d":"15,589"},{"$nulls":3},"70508",192]
["68","SANTANDER","Guapota","68322",22,22,27,{"$nulls":7},148,null,"70523",{"v":2125.7875826158447,"d":"2,126"},{"v":6405.285680710647,"d":"6,405"},{"v":8531.073263326492,"d":"8,531"},{"$nulls":3},"70523",148]
["68","SANTANDER","Guavata","68324",23,28,31,{"$nulls":7},450,null,"70670",{"v":7930.619436514706,"d":"7,931"},{"v":21061.409352722214,"d":"21,061"},{"v":28992.02878923692,"d":"28,992"},{"$nulls":3},"70670",450]
["68","SANTANDER","Güepsa","68327",50,55,67,{"$nulls":7},282,null,"70678",{"v":4650.767057215199,"d":"4,651"},{"v":12607.089991760526,"d":"12,607"},{"v":17257.857048975726,"d":"17,258"},{"$nulls":3},"70678",282]
["68","SANTANDER","Hato","68344",25,26,28,{"$nulls":7},113,null,"70702",{"v":3278.905995414978,"d":"3,279"},{"v":6217.312067161406,"d":"6,217"},{"v":9496.218062576383,"d":"9,496"},{"$nulls":3},"70702",113]
["68","SANTANDER","Jesus Maria","68368",27,30,35,{"$nulls":7},587,null,"70708",{"v":14237.51982283299,"d":"14,238"},{"v":25233.71394237623,"d":"25,234"},{"v":39471.233765209225,"d":"39,471"},{"$nulls":3},"70708",587]
["68","SANTANDER","Jordan","68370",14,19,21,{"$nulls":7},522,null,"70713",{"v":15431.366962166381,"d":"15,431"},{"v":20722.304524001236,"d":"20,722"},{"v":36153.671486167616,"d":"36,154"},{"$nulls":3},"70713",522]
["68","SANTANDER","La Belleza","68377",76,78,87,{"$nulls":7},166,null,"70717",{"v":4391.609176762055,"d":"4,392"},{"v":8089.763610383334,"d":"8,090"},{"v":12481.372787145388,"d":"12,481"},{"$nulls":3},"70717",166]
["68","SANTANDER","Landazuri","68385",127,129,147,{"$nulls":7},267,null,"70742",{"v":7193.44657403893,"d":"7,193"},{"v":13501.211178629641,"d":"13,501"},{"v":20694.657752668572,"d":"20,695"},{"$nulls":3},"70742",267]
["68","SANTANDER","La Paz","68397",36,37,43,{"$nulls":7},265,null,"70771",{"v":5444.391873397195,"d":"5,444"},{"v":12691.186478883075,"d":"12,691"},{"v":18135.57835228027,"d":"18,136"},{"$nulls":3},"70771",265]
["68","SANTANDER","Lebrija","68406",540,568,577,{"$nulls":7},331,null,"70820",{"v":6513.759449483521,"d":"6,514"},{"v":14491.114454984816,"d":"14,491"},{"v":21004.87390446834,"d":"21,005"},{"$nulls":3},"70820",331]
["68","SANTANDER","Los Santos","68418",171,174,178,{"$nulls":7},194,null,"70823",{"v":4291.821986981947,"d":"4,292"},{"v":9540.71969212358,"d":"9,541"},{"v":13832.541679105529,"d":"13,833"},{"$nulls":3},"70823",194]
["68","SANTANDER","Macaravita","68425",20,27,30,{"$nulls":7},3448,null,"73001",{"v":164669.89886710752,"d":"164,670"},{"v":244487.2088834614,"d":"244,487"},{"v":409157.1077505689,"d":"409,157"},{"$nulls":3},"73001",3448]
["68","SANTANDER","Malaga","68432",276,276,298,{"$nulls":7},32,null,"73024",{"v":1014.684234792123,"d":"1,015"},{"v":1804.3933403205212,"d":"1,804"},{"v":2819.0775751126444,"d":"2,819"},{"$nulls":3},"73024",32]
["68","SANTANDER","Matanza","68444",55,61,63,{"$nulls":7},66,null,"73026",{"v":1733.4452656831438,"d":"1,733"},{"v":3682.821564739409,"d":"3,683"},{"v":5416.266830422553,"d":"5,416"},{"$nulls":3},"73026",66]
["68","SANTANDER","Mogotes","68464",131,137,141,{"$nulls":7},48,null,"73030",{"v":1536.4691209014488,"d":"1,536"},{"v":2726.0746455941476,"d":"2,726"},{"$f":"R963+S963","v":{"v":4262.543766495596,"d":"4,263"}},{"$nulls":3},"73030",48]
["68","SANTANDER","Molagavita","68468",38,41,43,{"$nulls":7},94,null,"73043",{"v":1654.3207870723404,"d":"1,654"},{"v":4257.290557145752,"d":"4,257"},{"v":5911.611344218092,"d":"5,912"},{"$nulls":3},"73043",94]
["68","SANTANDER","Ocamonte","68498",47,48,59,{"$nulls":7},78,null,"73055",{"v":2798.667122791429,"d":"2,799"},{"v":5068.949883225034,"d":"5,069"},{"v":7867.617006016462,"d":"7,868"},{"$nulls":3},"73055",78]
["68","SANTANDER","Oiba","68500",124,134,147,{"$nulls":7},196,null,"73067",{"v":3197.0736754471154,"d":"3,197"},{"v":7715.664101539524,"d":"7,716"},{"v":10912.73777698664,"d":"10,913"},{"$nulls":3},"73067",196]
["68","SANTANDER","Onzaga","68502",39,42,46,{"$nulls":7},142,null,"73124",{"v":3285.773885362254,"d":"3,286"},{"v":8019.919343904523,"d":"8,020"},{"v":11305.693229266777,"d":"11,306"},{"$nulls":3},"73124",142]
["68","SANTANDER","Palmar","68522",13,13,19,{"$nulls":7},71,null,"73148",{"v":1587.4832568894353,"d":"1,587"},{"v":4564.5363708720615,"d":"4,565"},{"v":6152.019627761497,"d":"6,152"},{"$nulls":3},"73148",71]
["68","SANTANDER","Palmas del Socorro","68524",28,30,36,{"$nulls":7},54,null,"73152",{"v":1337.5405608671497,"d":"1,338"},{"v":2649.6268112230714,"d":"2,650"},{"v":3987.167372090221,"d":"3,987"},{"$nulls":3},"73152",54]
["68","SANTANDER","Paramo","68533",53,53,61,{"$nulls":7},446,null,"73168",{"v":10558.715791643846,"d":"10,559"},{"v":21166.27325547509,"d":"21,166"},{"v":31724.989047118936,"d":"31,725"},{"$nulls":3},"73168",446]
["68","SANTANDER","Piedecuesta","68547",{"v":1846,"d":"1,846"},{"v":1860,"d":"1,860"},{"v":1921,"d":"1,921"},{"$nulls":7},65,null,"73200",{"v":1514.0647332969213,"d":"1,514"},{"v":3398.548075080491,"d":"3,399"},{"v":4912.612808377412,"d":"4,913"},{"$nulls":3},"73200",65]
["68","SANTANDER","Pinchote","68549",37,38,42,{"$nulls":7},207,null,"73217",{"v":5287.630631277918,"d":"5,288"},{"v":8787.330655274443,"d":"8,787"},{"v":14074.961286552361,"d":"14,075"},{"$nulls":3},"73217",207]
["68","SANTANDER","Puente Nacional","68572",113,116,132,{"$nulls":7},70,null,"73226",{"v":1890.251186938662,"d":"1,890"},{"v":3282.6816506998234,"d":"3,283"},{"v":5172.932837638486,"d":"5,173"},{"$nulls":3},"73226",70]
["68","SANTANDER","Puerto Parra","68573",121,130,132,{"$nulls":7},60,null,"73236",{"v":1805.7218113906667,"d":"1,806"},{"v":3351.9508211331886,"d":"3,352"},{"v":5157.672632523855,"d":"5,158"},{"$nulls":3},"73236",60]
["68","SANTANDER","Puerto Wilches","68575",504,500,515,{"$nulls":7},467,null,"73268",{"v":21083.59851604563,"d":"21,084"},{"v":31499.241039221433,"d":"31,499"},{"v":52582.83955526706,"d":"52,583"},{"$nulls":3},"73268",467]
["68","SANTANDER","Rionegro","68615",340,343,358,{"$nulls":7},60,null,"73270",{"v":1536.619224913487,"d":"1,537"},{"v":3024.9540219248447,"d":"3,025"},{"v":4561.573246838332,"d":"4,562"},{"$nulls":3},"73270",60]
["68","SANTANDER","Sabana de Torres","68655",560,566,581,{"$nulls":7},197,null,"73275",{"v":3292.8328774027186,"d":"3,293"},{"v":12447.861392615107,"d":"12,448"},{"v":15740.694270017826,"d":"15,741"},{"$nulls":3},"73275",197]
["68","SANTANDER","San Andres","68669",81,81,82,{"$nulls":7},238,null,"73283",{"v":6402.69160838738,"d":"6,403"},{"v":13486.982856890829,"d":"13,487"},{"v":19889.674465278207,"d":"19,890"},{"$nulls":3},"73283",238]
["68","SANTANDER","San Benito","68673",19,23,27,{"$nulls":7},234,null,"73319",{"v":6914.659897240038,"d":"6,915"},{"v":13616.567802066704,"d":"13,617"},{"v":20531.227699306743,"d":"20,531"},{"$nulls":3},"73319",234]
["68","SANTANDER","San Gil","68679",768,805,873,{"$nulls":7},57,null,"73347",{"v":1033.9936591228773,"d":"1,034"},{"v":3081.097911596194,"d":"3,081"},{"v":4115.091570719072,"d":"4,115"},{"$nulls":3},"73347",57]
["68","SANTANDER","San Joaquin","68682",28,29,30,{"$nulls":7},153,null,"73349",{"v":8593.966578575088,"d":"8,594"},{"v":10489.84009534512,"d":"10,490"},{"v":19083.806673920208,"d":"19,084"},{"$nulls":3},"73349",153]
["68","SANTANDER","San Jose de Miranda","68684",47,46,51,{"$nulls":7},88,null,"73352",{"v":1973.7987801014087,"d":"1,974"},{"v":4785.080792997713,"d":"4,785"},{"v":6758.879573099121,"d":"6,759"},{"$nulls":3},"73352",88]
["68","SANTANDER","San Miguel","68686",26,30,31,{"$nulls":7},129,null,"73408",{"v":4766.046889229103,"d":"4,766"},{"v":7909.35456380022,"d":"7,909"},{"v":12675.401453029323,"d":"12,675"},{"$nulls":3},"73408",129]
["68","SANTANDER","San Vicente de Chucuri","68689",356,375,391,{"$nulls":7},258,null,"73411",{"v":10304.927763447244,"d":"10,305"},{"v":15096.204424210024,"d":"15,096"},{"v":25401.13218765727,"d":"25,401"},{"$nulls":3},"73411",258]
["68","SANTANDER","Santa Barbara","68705",24,25,29,{"$nulls":7},280,null,"73443",{"v":9186.555014986423,"d":"9,187"},{"v":16597.942212049402,"d":"16,598"},{"v":25784.497227035827,"d":"25,784"},{"$nulls":3},"73443",280]
["68","SANTANDER","Santa Helena del Opon","68720",48,50,57,{"$nulls":7},267,null,"73449",{"v":8139.360182777599,"d":"8,139"},{"v":17224.42959720405,"d":"17,224"},{"v":25363.78977998165,"d":"25,364"},{"$nulls":3},"73449",267]
["68","SANTANDER","Simacota","68745",108,115,123,{"$nulls":7},39,null,"73461",{"v":649.1555201193196,"d":"649"},{"v":1745.8238170255731,"d":"1,746"},{"v":2394.9793371448927,"d":"2,395"},{"$nulls":3},"73461",39]
["68","SANTANDER","Socorro","68755",391,394,422,{"$nulls":7},105,null,"73483",{"v":3935.244173621414,"d":"3,935"},{"v":5924.241316727195,"d":"5,924"},{"v":9859.485490348608,"d":"9,859"},{"$nulls":3},"73483",105]
["68","SANTANDER","Suaita","68770",98,94,104,{"$nulls":7},301,null,"73504",{"v":6391.196321127809,"d":"6,391"},{"v":13848.26665175049,"d":"13,848"},{"v":20239.462972878297,"d":"20,239"},{"$nulls":3},"73504",301]
["68","SANTANDER","Sucre","68773",54,54,78,{"$nulls":7},88,null,"73520",{"v":1999.5279066448604,"d":"2,000"},{"v":4053.550470380894,"d":"4,054"},{"v":6053.078377025754,"d":"6,053"},{"$nulls":3},"73520",88]
["68","SANTANDER","Surata","68780",42,42,53,{"$nulls":7},47,null,"73547",{"v":878.7366989561383,"d":"879"},{"v":2921.6776525257005,"d":"2,922"},{"v":3800.414351481839,"d":"3,800"},{"$nulls":3},"73547",47]
["68","SANTANDER","Tona","68820",108,109,119,{"$nulls":7},264,null,"73555",{"v":3952.979939658227,"d":"3,953"},{"v":10640.787400126577,"d":"10,641"},{"v":14593.767339784805,"d":"14,594"},{"$nulls":3},"73555",264]
["68","SANTANDER","Valle de San Jose","68855",76,78,78,{"$nulls":7},66,null,"73563",{"v":1925.1048988378589,"d":"1,925"},{"v":3470.22620294656,"d":"3,470"},{"v":5395.331101784419,"d":"5,395"},{"$nulls":3},"73563",66]
["68","SANTANDER","Velez","68861",213,215,228,{"$nulls":7},165,null,"73585",{"v":6008.599303668484,"d":"6,009"},{"v":9835.22906370999,"d":"9,835"},{"v":15843.828367378475,"d":"15,844"},{"$nulls":3},"73585",165]
["68","SANTANDER","Vetas","68867",18,20,21,{"$nulls":7},242,null,"73616",{"v":3254.2232954493593,"d":"3,254"},{"v":9143.0094045476,"d":"9,143"},{"v":12397.23269999696,"d":"12,397"},{"$nulls":3},"73616",242]
["68","SANTANDER","Villanueva","68872",82,85,105,{"$nulls":7},49,null,"73622",{"v":810.8888512288462,"d":"811"},{"v":2334.7106184680824,"d":"2,335"},{"v":3145.5994696969287,"d":"3,146"},{"$nulls":3},"73622",49]
["68","SANTANDER","Zapatoca","68895",111,116,135,{"$nulls":7},197,null,"73624",{"v":4652.474456787956,"d":"4,652"},{"v":8910.089429024123,"d":"8,910"},{"v":13562.56388581208,"d":"13,563"},{"$nulls":3},"73624",197]
["70","SUCRE","Sincelejo","70001",{"v":4453,"d":"4,453"},{"v":5044,"d":"5,044"},{"v":5168,"d":"5,168"},{"$nulls":7},106,null,"73671",{"v":2875.8102982433447,"d":"2,876"},{"v":6137.2399625702255,"d":"6,137"},{"v":9013.05026081357,"d":"9,013"},{"$nulls":3},"73671",106]
["70","SUCRE","Buenavista","70110",160,162,168,{"$nulls":7},120,null,"73675",{"v":2459.7977383838625,"d":"2,460"},{"v":5152.01508422068,"d":"5,152"},{"v":7611.812822604543,"d":"7,612"},{"$nulls":3},"73675",120]
["70","SUCRE","Caimito","70124",231,226,228,{"$nulls":7},95,null,"73678",{"v":2795.813458759132,"d":"2,796"},{"v":5454.681089289883,"d":"5,455"},{"v":8250.494548049015,"d":"8,250"},{"$nulls":3},"73678",95]
["70","SUCRE","Coloso","70204",105,113,130,{"$nulls":7},47,null,"73686",{"v":1005.683519430779,"d":"1,006"},{"v":2379.8138783238624,"d":"2,380"},{"v":3385.4973977546415,"d":"3,385"},{"$nulls":3},"73686",47]
["70","SUCRE","Corozal","70215",920,933,995,{"$nulls":7},24,null,"73770",{"v":881.9911951646094,"d":"882"},{"v":1554.730331698086,"d":"1,555"},{"v":2436.7215268626956,"d":"2,437"},{"$nulls":3},"73770",24]
["70","SUCRE","Coveñas","70221",276,278,269,{"$nulls":7},45,null,"73854",{"v":995.254178190755,"d":"995"},{"v":2171.5243996899853,"d":"2,172"},{"v":3166.77857788074,"d":"3,167"},{"$nulls":3},"73854",45]
["70","SUCRE","Chalan","70230",62,67,86,{"$nulls":7},91,null,"73861",{"v":2754.486050862787,"d":"2,754"},{"v":5254.425403469913,"d":"5,254"},{"v":8008.9114543327005,"d":"8,009"},{"$nulls":3},"73861",91]
["70","SUCRE","El Roble","70233",130,137,149,{"$nulls":7},77,null,"73870",{"v":1787.0122654392321,"d":"1,787"},{"v":3832.3904352490854,"d":"3,832"},{"v":5619.402700688317,"d":"5,619"},{"$nulls":3},"73870",77]
["70","SUCRE","Galeras","70235",351,360,383,{"$nulls":7},37,null,"73873",{"v":1180.8853377483474,"d":"1,181"},{"v":1968.6872977462897,"d":"1,969"},{"v":3149.5726354946373,"d":"3,150"},{"$nulls":3},"73873",37]
["70","SUCRE","Guaranda","70265",325,342,352,{"$nulls":7},15649,null,"76001",{"v":727837.1344815658,"d":"727,837"},{"v":998254.5041872887,"d":"998,255"},{"v":1726091.6386688545,"d":"1,726,092"},{"$nulls":3},"76001",15649]
["70","SUCRE","La Union","70400",185,185,188,{"$nulls":7},115,null,"76020",{"v":3457.2283434738606,"d":"3,457"},{"v":5976.105042356786,"d":"5,976"},{"v":9433.333385830647,"d":"9,433"},{"$nulls":3},"76020",115]
["70","SUCRE","Los Palmitos","70418",318,325,356,{"$nulls":7},170,null,"76036",{"v":4601.248963294607,"d":"4,601"},{"v":9570.449252090755,"d":"9,570"},{"v":14171.698215385362,"d":"14,172"},{"$nulls":3},"76036",170]
["70","SUCRE","Majagual","70429",613,644,677,{"$nulls":7},149,null,"76041",{"v":4053.7387606683387,"d":"4,054"},{"v":7197.371235804905,"d":"7,197"},{"v":11251.109996473244,"d":"11,251"},{"$nulls":3},"76041",149]
["70","SUCRE","Morroa","70473",235,242,274,{"$nulls":7},47,null,"76054",{"v":1160.60890599525,"d":"1,161"},{"v":2101.300043235052,"d":"2,101"},{"v":3261.908949230302,"d":"3,262"},{"$nulls":3},"76054",47]
["70","SUCRE","Ovejas","70508",336,357,380,{"$nulls":7},145,null,"76100",{"v":3155.0805490872153,"d":"3,155"},{"v":6279.38272572725,"d":"6,279"},{"v":9434.463274814465,"d":"9,434"},{"$nulls":3},"76100",145]
["70","SUCRE","Palmito","70523",230,234,257,{"$nulls":7},3505,null,"76109",{"v":56404.04772342299,"d":"56,404"},{"v":125967.71614288747,"d":"125,968"},{"v":182371.76386631047,"d":"182,372"},{"$nulls":3},"76109",3505]
["70","SUCRE","Sampues","70670",725,752,774,{"$nulls":7},958,null,"76111",{"v":44018.37759125977,"d":"44,018"},{"v":55561.47696389412,"d":"55,561"},{"v":99579.8545551539,"d":"99,580"},{"$nulls":3},"76111",958]
["70","SUCRE","San Benito Abad","70678",462,462,445,{"$nulls":7},186,null,"76113",{"v":5877.134737043509,"d":"5,877"},{"v":10361.956833680979,"d":"10,362"},{"v":16239.091570724488,"d":"16,239"},{"$nulls":3},"76113",186]
["70","SUCRE","San Juan de Betulia","70702",178,187,192,{"$nulls":7},212,null,"76122",{"v":8180.027889445061,"d":"8,180"},{"v":12061.961015868372,"d":"12,062"},{"v":20241.988905313432,"d":"20,242"},{"$nulls":3},"76122",212]
["70","SUCRE","San Marcos","70708",965,{"v":1020,"d":"1,020"},{"v":1050,"d":"1,050"},{"$nulls":7},144,null,"76126",{"v":3469.978201386294,"d":"3,470"},{"v":7869.010852141712,"d":"7,869"},{"v":11338.989053528006,"d":"11,339"},{"$nulls":3},"76126",144]
["70","SUCRE","San Onofre","70713",761,782,888,{"$nulls":7},772,null,"76130",{"v":18915.675939359855,"d":"18,916"},{"v":41162.36519237089,"d":"41,162"},{"v":60078.041131730744,"d":"60,078"},{"$nulls":3},"76130",772]
["70","SUCRE","San Pedro","70717",281,290,303,{"$nulls":7},984,null,"76147",{"v":48980.906637326676,"d":"48,981"},{"v":59092.36890905155,"d":"59,092"},{"v":108073.27554637822,"d":"108,073"},{"$nulls":3},"76147",984]
["70","SUCRE","San Luis de Since","70742",411,429,467,{"$nulls":7},403,null,"76233",{"v":8718.704231702748,"d":"8,719"},{"v":20348.216172576358,"d":"20,348"},{"v":29066.920404279106,"d":"29,067"},{"$nulls":3},"76233",403]
["70","SUCRE","Sucre","70771",354,369,432,{"$nulls":7},77,null,"76243",{"v":1693.6065869962183,"d":"1,694"},{"v":3549.202194994652,"d":"3,549"},{"v":5242.808781990871,"d":"5,243"},{"$nulls":3},"76243",77]
["70","SUCRE","Santiago de Tolu","70820",561,576,627,{"$nulls":7},55,null,"76246",{"v":1838.8364053922662,"d":"1,839"},{"v":2636.0032974869246,"d":"2,636"},{"v":4474.839702879191,"d":"4,475"},{"$nulls":3},"76246",55]
["70","SUCRE","Tolu Viejo","70823",315,326,348,{"$nulls":7},448,null,"76248",{"v":14405.535928708323,"d":"14,406"},{"v":24728.550644523963,"d":"24,729"},{"v":39134.086573232285,"d":"39,134"},{"$nulls":3},"76248",448]
["73","TOLIMA","Ibague","73001",{"v":5830,"d":"5,830"},{"v":6201,"d":"6,201"},{"v":7117,"d":"7,117"},{"$nulls":7},80,null,"76250",{"v":2237.859115802269,"d":"2,238"},{"v":3471.427422721331,"d":"3,471"},{"v":5709.2865385236,"d":"5,709"},{"$nulls":3},"76250",80]
["73","TOLIMA","Alpujarra","73024",43,46,52,{"$nulls":7},477,null,"76275",{"v":16176.148231389896,"d":"16,176"},{"v":24945.798685205224,"d":"24,946"},{"v":41121.946916595116,"d":"41,122"},{"$nulls":3},"76275",477]
["73","TOLIMA","Alvarado","73026",85,100,105,{"$nulls":7},174,null,"76306",{"v":5153.328724570698,"d":"5,153"},{"v":9856.934931035881,"d":"9,857"},{"v":15010.263655606579,"d":"15,010"},{"$nulls":3},"76306",174]
["73","TOLIMA","Ambalema","73030",64,68,83,{"$nulls":7},266,null,"76318",{"v":8353.525060791351,"d":"8,354"},{"v":14386.746670713459,"d":"14,387"},{"$f":"R1027+S1027","v":{"v":22740.27173150481,"d":"22,740"}},{"$nulls":3},"76318",266]
["73","TOLIMA","Anzoategui","73043",123,132,135,{"$nulls":7},1276,null,"76364",{"v":30713.462388700038,"d":"30,713"},{"v":74769.32493682294,"d":"74,769"},{"v":105482.78732552298,"d":"105,483"},{"$nulls":3},"76364",1276]
["73","TOLIMA","Armero","73055",119,119,139,{"$nulls":7},111,null,"76377",{"v":2859.2257768428767,"d":"2,859"},{"v":6785.9989738895665,"d":"6,786"},{"v":9645.224750732443,"d":"9,645"},{"$nulls":3},"76377",111]
["73","TOLIMA","Ataco","73067",289,304,330,{"$nulls":7},271,null,"76400",{"v":8683.560239808145,"d":"8,684"},{"v":14764.061763225445,"d":"14,764"},{"v":23447.62200303359,"d":"23,448"},{"$nulls":3},"76400",271]
["73","TOLIMA","Cajamarca","73124",272,272,270,{"$nulls":7},89,null,"76403",{"v":3367.8526479368848,"d":"3,368"},{"v":4864.470227403719,"d":"4,864"},{"v":8232.322875340604,"d":"8,232"},{"$nulls":3},"76403",89]
["73","TOLIMA","Carmen de Apicala","73148",121,129,137,{"$nulls":7},96,null,"76497",{"v":3058.226140057748,"d":"3,058"},{"v":4991.874457327782,"d":"4,992"},{"v":8050.10059738553,"d":"8,050"},{"$nulls":3},"76497",96]
["73","TOLIMA","Casabianca","73152",79,83,90,{"$nulls":7},2534,null,"76520",{"v":102868.14527837104,"d":"102,868"},{"v":154732.99320158624,"d":"154,733"},{"v":257601.1384799573,"d":"257,601"},{"$nulls":3},"76520",2534]
["73","TOLIMA","Chaparral","73168",753,783,844,{"$nulls":7},425,null,"76563",{"v":12009.09538106551,"d":"12,009"},{"v":20498.316570306844,"d":"20,498"},{"v":32507.411951372356,"d":"32,507"},{"$nulls":3},"76563",425]
["73","TOLIMA","Coello","73200",55,58,75,{"$nulls":7},124,null,"76606",{"v":3405.960345654263,"d":"3,406"},{"v":6455.652534790124,"d":"6,456"},{"v":9861.612880444387,"d":"9,862"},{"$nulls":3},"76606",124]
["73","TOLIMA","Coyaima","73217",330,330,352,{"$nulls":7},127,null,"76616",{"v":3618.806281163237,"d":"3,619"},{"v":6438.269931644971,"d":"6,438"},{"v":10057.076212808208,"d":"10,057"},{"$nulls":3},"76616",127]
["73","TOLIMA","Cunday","73226",86,87,102,{"$nulls":7},278,null,"76622",{"v":10031.496053118917,"d":"10,031"},{"v":15610.07866628941,"d":"15,610"},{"v":25641.574719408327,"d":"25,642"},{"$nulls":3},"76622",278]
["73","TOLIMA","Dolores","73236",94,100,118,{"$nulls":7},136,null,"76670",{"v":2779.1491320864716,"d":"2,779"},{"v":7362.269943098227,"d":"7,362"},{"v":10141.419075184698,"d":"10,141"},{"$nulls":3},"76670",136]
["73","TOLIMA","Espinal","73268",949,967,{"v":1018,"d":"1,018"},{"$nulls":7},302,null,"76736",{"v":12175.95663088733,"d":"12,176"},{"v":17198.841916070487,"d":"17,199"},{"v":29374.79854695782,"d":"29,375"},{"$nulls":3},"76736",302]
["73","TOLIMA","Falan","73270",61,63,86,{"$nulls":7},127,null,"76823",{"v":3727.44102957052,"d":"3,727"},{"v":5871.0201782721615,"d":"5,871"},{"v":9598.461207842682,"d":"9,598"},{"$nulls":3},"76823",127]
["73","TOLIMA","Flandes","73275",204,210,228,{"$nulls":7},166,null,"76828",{"v":4245.61083344566,"d":"4,246"},{"v":7731.484948583268,"d":"7,731"},{"v":11977.09578202893,"d":"11,977"},{"$nulls":3},"76828",166]
["73","TOLIMA","Fresno","73283",400,401,422,{"$nulls":7},1684,null,"76834",{"v":64443.597341940826,"d":"64,444"},{"v":94801.26621042735,"d":"94,801"},{"v":159244.8635523682,"d":"159,245"},{"$nulls":3},"76834",1684]
["73","TOLIMA","Guamo","73319",342,332,357,{"$nulls":7},42,null,"76845",{"v":998.237454310753,"d":"998"},{"v":2235.989453990248,"d":"2,236"},{"v":3234.226908301001,"d":"3,234"},{"$nulls":3},"76845",42]
["73","TOLIMA","Herveo","73347",53,62,68,{"$nulls":7},55,null,"76863",{"v":2026.6000388449606,"d":"2,027"},{"v":2868.765259747442,"d":"2,869"},{"v":4895.365298592403,"d":"4,895"},{"$nulls":3},"76863",55]
["73","TOLIMA","Honda","73349",277,291,332,{"$nulls":7},97,null,"76869",{"v":2314.995814866935,"d":"2,315"},{"v":5418.361702027635,"d":"5,418"},{"v":7733.35751689457,"d":"7,733"},{"$nulls":3},"76869",97]
["73","TOLIMA","Icononzo","73352",114,123,137,{"$nulls":7},126,null,"76890",{"v":3436.391796333534,"d":"3,436"},{"v":6935.596440975046,"d":"6,936"},{"v":10371.98823730858,"d":"10,372"},{"$nulls":3},"76890",126]
["73","TOLIMA","Lerida","73408",191,193,240,{"$nulls":7},868,null,"76892",{"v":25039.409935400538,"d":"25,039"},{"v":48778.82498858227,"d":"48,779"},{"v":73818.23492398282,"d":"73,818"},{"$nulls":3},"76892",868]
["73","TOLIMA","Libano","73411",441,450,533,{"$nulls":7},349,null,"76895",{"v":11261.258898029113,"d":"11,261"},{"v":18161.489416307377,"d":"18,161"},{"v":29422.748314336488,"d":"29,423"},{"$nulls":3},"76895",349]
["73","TOLIMA","Mariquita","73443",432,432,491,{"$nulls":7},841,null,"81001",{"v":17588.01944690581,"d":"17,588"},{"v":43870.458828430164,"d":"43,870"},{"v":61458.478275335976,"d":"61,458"},{"$nulls":3},"81001",841]
["73","TOLIMA","Melgar","73449",511,527,552,{"$nulls":7},559,null,"81065",{"v":6682.049497253416,"d":"6,682"},{"v":23962.47437300652,"d":"23,962"},{"v":30644.523870259938,"d":"30,645"},{"$nulls":3},"81065",559]
["73","TOLIMA","Murillo","73461",37,40,61,{"$nulls":7},33,null,"81220",{"v":650.4404622629336,"d":"650"},{"v":1802.6688732852767,"d":"1,803"},{"v":2453.1093355482103,"d":"2,453"},{"$nulls":3},"81220",33]
["73","TOLIMA","Natagaima","73483",188,203,230,{"$nulls":7},217,null,"81300",{"v":2602.417126652531,"d":"2,602"},{"v":8546.78592590442,"d":"8,547"},{"v":11149.20305255695,"d":"11,149"},{"$nulls":3},"81300",217]
["73","TOLIMA","Ortega","73504",359,364,417,{"$nulls":7},45,null,"81591",{"v":696.9682540347875,"d":"697"},{"v":2143.58560097109,"d":"2,144"},{"v":2840.5538550058777,"d":"2,841"},{"$nulls":3},"81591",45]
["73","TOLIMA","Palocabildo","73520",126,135,155,{"$nulls":7},607,null,"81736",{"v":10323.922521168093,"d":"10,324"},{"v":27441.984091182483,"d":"27,442"},{"v":37765.906612350576,"d":"37,766"},{"$nulls":3},"81736",607]
["73","TOLIMA","Piedras","73547",45,47,74,{"$nulls":7},489,null,"81794",{"v":7199.438639898744,"d":"7,199"},{"v":20980.17407840893,"d":"20,980"},{"v":28179.612718307675,"d":"28,180"},{"$nulls":3},"81794",489]
["73","TOLIMA","Planadas","73555",596,595,603,{"$nulls":7},1450,null,"85001",{"v":31850.838295178768,"d":"31,851"},{"v":82824.40743030609,"d":"82,824"},{"v":114675.24572548486,"d":"114,675"},{"$nulls":3},"85001",1450]
["73","TOLIMA","Prado","73563",103,113,118,{"$nulls":7},317,null,"85010",{"v":5596.600877179887,"d":"5,597"},{"v":17165.003124820618,"d":"17,165"},{"v":22761.604002000506,"d":"22,762"},{"$nulls":3},"85010",317]
["73","TOLIMA","Purificacion","73585",226,253,287,{"$nulls":7},23,null,"85015",{"v":384.26600747138247,"d":"384"},{"v":1148.9908908439634,"d":"1,149"},{"v":1533.2568983153458,"d":"1,533"},{"$nulls":3},"85015",23]
["73","TOLIMA","Rioblanco","73616",430,481,483,{"$nulls":7},136,null,"85125",{"v":1525.300162540511,"d":"1,525"},{"v":4930.873897907488,"d":"4,931"},{"v":6456.174060447999,"d":"6,456"},{"$nulls":3},"85125",136]
["73","TOLIMA","Roncesvalles","73622",78,88,90,{"$nulls":7},16,null,"85136",{"v":164.67022716831264,"d":"165"},{"v":566.4674365928103,"d":"566"},{"v":731.1376637611229,"d":"731"},{"$nulls":3},"85136",16]
["73","TOLIMA","Rovira","73624",338,344,374,{"$nulls":7},150,null,"85139",{"v":2111.6823587560943,"d":"2,112"},{"v":7683.736797714206,"d":"7,684"},{"v":9795.4191564703,"d":"9,795"},{"$nulls":3},"85139",150]
["73","TOLIMA","Saldaña","73671",160,160,179,{"$nulls":7},154,null,"85162",{"v":2215.1429960173464,"d":"2,215"},{"v":8027.8705187299365,"d":"8,028"},{"v":10243.013514747283,"d":"10,243"},{"$nulls":3},"85162",154]
["73","TOLIMA","San Antonio","73675",196,206,214,{"$nulls":7},76,null,"85225",{"v":1249.8594758177844,"d":"1,250"},{"v":3750.6177625275886,"d":"3,751"},{"v":5000.477238345373,"d":"5,000"},{"$nulls":3},"85225",76]
["73","TOLIMA","San Luis","73678",108,114,134,{"$nulls":7},140,null,"85230",{"v":1428.7863860385796,"d":"1,429"},{"v":5206.821525266616,"d":"5,207"},{"v":6635.607911305196,"d":"6,636"},{"$nulls":3},"85230",140]
["73","TOLIMA","Santa Isabel","73686",77,77,87,{"$nulls":7},360,null,"85250",{"v":5604.592712464782,"d":"5,605"},{"v":15899.386745025153,"d":"15,899"},{"v":21503.979457489935,"d":"21,504"},{"$nulls":3},"85250",360]
["73","TOLIMA","Suarez","73770",35,37,42,{"$nulls":7},118,null,"85263",{"v":1484.0462621449044,"d":"1,484"},{"v":5120.039630170072,"d":"5,120"},{"v":6604.085892314976,"d":"6,604"},{"$nulls":3},"85263",118]
["73","TOLIMA","Valle de San Juan","73854",52,54,59,{"$nulls":7},13,null,"85279",{"v":285.6647820380142,"d":"286"},{"v":789.2127743155195,"d":"789"},{"v":1074.8775563535337,"d":"1,075"},{"$nulls":3},"85279",13]
["73","TOLIMA","Venadillo","73861",116,137,169,{"$nulls":7},25,null,"85300",{"v":584.3139242992952,"d":"584"},{"v":1563.922948978657,"d":"1,564"},{"v":2148.2368732779523,"d":"2,148"},{"$nulls":3},"85300",25]
["73","TOLIMA","Villahermosa","73870",92,96,104,{"$nulls":7},20,null,"85315",{"v":250.58746582955723,"d":"251"},{"v":895.6575762687451,"d":"896"},{"v":1146.2450420983023,"d":"1,146"},{"$nulls":3},"85315",20]
["73","TOLIMA","Villarrica","73873",79,71,75,{"$nulls":7},80,null,"85325",{"v":1180.0564770680044,"d":"1,180"},{"v":3548.2107791327016,"d":"3,548"},{"v":4728.2672562007065,"d":"4,728"},{"$nulls":3},"85325",80]
["76","VALLE","Cali","76001",{"v":30985,"d":"30,985"},{"v":32098,"d":"32,098"},{"v":33029,"d":"33,029"},{"$nulls":7},68,null,"85400",{"v":1001.0704617398815,"d":"1,001"},{"v":2661.4548660400615,"d":"2,661"},{"v":3662.525327779943,"d":"3,663"},{"$nulls":3},"85400",68]
["76","VALLE","Alcala","76020",153,169,179,{"$nulls":7},232,null,"85410",{"v":3078.3048272810465,"d":"3,078"},{"v":11283.64424628722,"d":"11,284"},{"v":14361.949073568267,"d":"14,362"},{"$nulls":3},"85410",232]
["76","VALLE","Andalucia","76036",154,164,200,{"$nulls":7},129,null,"85430",{"v":1605.2073224041274,"d":"1,605"},{"v":5698.028196115381,"d":"5,698"},{"v":7303.235518519508,"d":"7,303"},{"$nulls":3},"85430",129]
["76","VALLE","Ansermanuevo","76041",187,195,236,{"$nulls":7},312,null,"85440",{"v":4999.840637373974,"d":"5,000"},{"v":16278.124371059092,"d":"16,278"},{"v":21277.965008433064,"d":"21,278"},{"$nulls":3},"85440",312]
["76","VALLE","Argelia","76054",62,66,65,{"$nulls":7},462,null,"86001",{"v":10570.372809683155,"d":"10,570"},{"v":26959.27274759572,"d":"26,959"},{"v":37529.64555727888,"d":"37,530"},{"$nulls":3},"86001",462]
["76","VALLE","Bolivar","76100",255,255,262,{"$nulls":7},41,null,"86219",{"v":1012.2607229613185,"d":"1,012"},{"v":2425.5066796531523,"d":"2,426"},{"v":3437.767402614471,"d":"3,438"},{"$nulls":3},"86219",41]
[null,"VALLE","Buenaventura","76109",{"v":4570,"d":"4,570"},{"v":4637,"d":"4,637"},{"v":5304,"d":"5,304"},{"$nulls":7},370,null,"86320",{"v":5489.719859531347,"d":"5,490"},{"v":16926.130425140218,"d":"16,926"},{"v":22415.850284671564,"d":"22,416"},{"$nulls":3},"86320",370]
["76","VALLE","Guadalajara de Buga","76111",{"v":1111,"d":"1,111"},{"v":1192,"d":"1,192"},{"v":1525,"d":"1,525"},{"$nulls":7},597,null,"86568",{"v":10425.243295226423,"d":"10,425"},{"v":30178.803246131203,"d":"30,179"},{"v":40604.046541357624,"d":"40,604"},{"$nulls":3},"86568",597]
["76","VALLE","Bugalagrande","76113",176,181,209,{"$nulls":7},137,null,"86569",{"v":1871.8462887576954,"d":"1,872"},{"v":7085.382338111576,"d":"7,085"},{"v":8957.228626869271,"d":"8,957"},{"$nulls":3},"86569",137]
["76","VALLE","Caicedonia","76122",270,275,297,{"$nulls":7},416,null,"86571",{"v":2301.203040112734,"d":"2,301"},{"v":15181.977874838287,"d":"15,182"},{"v":17483.180914951023,"d":"17,483"},{"$nulls":3},"86571",416]
["76","VALLE","Calima","76126",199,202,198,{"$nulls":7},332,null,"86573",{"v":2768.5842929608734,"d":"2,769"},{"v":12228.138158423215,"d":"12,228"},{"v":14996.722451384088,"d":"14,997"},{"$nulls":3},"86573",332]
["76","VALLE","Candelaria","76130",886,904,960,{"$nulls":7},114,null,"86749",{"v":3162.6551556838676,"d":"3,163"},{"v":6836.602760660817,"d":"6,837"},{"v":9999.257916344684,"d":"9,999"},{"$nulls":3},"86749",114]
["76","VALLE","Cartago","76147",{"v":1134,"d":"1,134"},{"v":1202,"d":"1,202"},{"v":1385,"d":"1,385"},{"$nulls":7},47,null,"86755",{"v":1108.2349961075254,"d":"1,108"},{"v":2388.4299898972477,"d":"2,388"},{"v":3496.664986004773,"d":"3,497"},{"$nulls":3},"86755",47]
["76","VALLE","Dagua","76233",455,452,494,{"$nulls":7},188,null,"86757",{"v":2336.377046410973,"d":"2,336"},{"v":8491.122125219455,"d":"8,491"},{"v":10827.499171630428,"d":"10,827"},{"$nulls":3},"86757",188]
["76","VALLE","El aguila","76243",76,80,92,{"$nulls":7},63,null,"86760",{"v":1365.7034033384975,"d":"1,366"},{"v":3074.1961087503196,"d":"3,074"},{"v":4439.899512088818,"d":"4,440"},{"$nulls":3},"86760",63]
["76","VALLE","El Cairo","76246",61,64,84,{"$nulls":7},299,null,"86865",{"v":5016.883372386519,"d":"5,017"},{"v":15640.818022251497,"d":"15,641"},{"v":20657.701394638018,"d":"20,658"},{"$nulls":3},"86865",299]
["76","VALLE","El Cerrito","76248",559,570,629,{"$nulls":7},227,null,"86885",{"v":3566.5813112237674,"d":"3,567"},{"v":10533.863508298164,"d":"10,534"},{"v":14100.44481952193,"d":"14,100"},{"$nulls":3},"86885",227]
["76","VALLE","El Dovio","76250",155,153,171,{"$nulls":7},411,null,"88001",{"v":12859.871094612226,"d":"12,860"},{"v":26132.105665404913,"d":"26,132"},{"v":38991.97676001714,"d":"38,992"},{"$nulls":3},"88001",411]
["76","VALLE","Florida","76275",710,722,771,{"$nulls":7},50,null,"88564",{"v":810.1562803083373,"d":"810"},{"v":2762.956739831276,"d":"2,763"},{"v":3573.1130201396136,"d":"3,573"},{"$nulls":3},"88564",50]
["76","VALLE","Ginebra","76306",183,199,213,{"$nulls":7},563,null,"91001",{"v":6871.085882307159,"d":"6,871"},{"v":20721.76601021161,"d":"20,722"},{"v":27592.851892518767,"d":"27,593"},{"$nulls":3},"91001",563]
["76","VALLE","Guacari","76318",333,343,369,{"$nulls":7},24,null,"91263",{"v":31.722175911499768,"d":"32"},{"v":775.919732533356,"d":"776"},{"$f":"R1091+S1091","v":{"v":807.6419084448557,"d":"808"}},{"$nulls":3},"91263",24]
["76","VALLE","Jamundi","76364",{"v":1491,"d":"1,491"},{"v":1495,"d":"1,495"},{"v":1643,"d":"1,643"},{"$nulls":7},42,null,"91405",{"v":39.78947737651611,"d":"40"},{"v":1006.4010386669104,"d":"1,006"},{"v":1046.1905160434264,"d":"1,046"},{"$nulls":3},"91405",42]
["76","VALLE","La Cumbre","76377",113,115,131,{"$nulls":7},52,null,"91407",{"v":60.46665069274254,"d":"60"},{"v":1538.3500075534866,"d":"1,538"},{"v":1598.8166582462293,"d":"1,599"},{"$nulls":3},"91407",52]
["76","VALLE","La Union","76400",330,341,364,{"$nulls":7},8,null,"91430",{"v":7.12176838397524,"d":"7"},{"v":269.61581233727736,"d":"270"},{"v":276.7375807212526,"d":"277"},{"$nulls":3},"91430",8]
["76","VALLE","La Victoria","76403",97,115,126,{"$nulls":7},23,null,"91460",{"v":19.185599975908836,"d":"19"},{"v":717.6085739270636,"d":"718"},{"v":736.7941739029725,"d":"737"},{"$nulls":3},"91460",23]
["76","VALLE","Obando","76497",128,152,128,{"$nulls":7},8,null,"91530",{"v":7.983133838468327,"d":"8"},{"v":284.1416060637166,"d":"284"},{"v":292.12473990218496,"d":"292"},{"$nulls":3},"91530",8]
["76","VALLE","Palmira","76520",{"v":2928,"d":"2,928"},{"v":3215,"d":"3,215"},{"v":3720,"d":"3,720"},{"$nulls":7},13,null,"91536",{"v":9.412094204559224,"d":"9"},{"v":395.8246355388609,"d":"396"},{"v":405.23672974342014,"d":"405"},{"$nulls":3},"91536",13]
["76","VALLE","Pradera","76563",549,574,595,{"$nulls":7},138,null,"91540",{"v":666.907568065611,"d":"667"},{"v":3947.848525493261,"d":"3,948"},{"v":4614.756093558872,"d":"4,615"},{"$nulls":3},"91540",138]
["76","VALLE","Restrepo","76606",188,209,230,{"$nulls":7},29,null,"91669",{"v":22.716433632348732,"d":"23"},{"v":634.7292779393105,"d":"635"},{"v":657.4457115716592,"d":"657"},{"$nulls":3},"91669",29]
["76","VALLE","Riofrio","76616",151,167,183,{"$nulls":7},49,null,"91798",{"v":46.38677213352557,"d":"46"},{"v":1452.8599359002217,"d":"1,453"},{"v":1499.2467080337472,"d":"1,499"},{"$nulls":3},"91798",49]
["76","VALLE","Roldanillo","76622",323,331,384,{"$nulls":7},397,null,"94001",{"v":3482.1590756777537,"d":"3,482"},{"v":13954.481685590865,"d":"13,954"},{"v":17436.64076126862,"d":"17,437"},{"$nulls":3},"94001",397]
["76","VALLE","San Pedro","76670",128,133,158,{"$nulls":7},144,null,"94343",{"v":96.82107568422418,"d":"97"},{"v":2983.009857416503,"d":"2,983"},{"v":3079.830933100727,"d":"3,080"},{"$nulls":3},"94343",144]
["76","VALLE","Sevilla","76736",360,368,428,{"$nulls":7},24,null,"94883",{"v":15.744030900716629,"d":"16"},{"v":643.048622355938,"d":"643"},{"v":658.7926532566547,"d":"659"},{"$nulls":3},"94883",24]
["76","VALLE","Toro","76823",107,129,157,{"$nulls":7},30,null,"94884",{"v":19.06302417901103,"d":"19"},{"v":712.796119698513,"d":"713"},{"v":731.859143877524,"d":"732"},{"$nulls":3},"94884",30]
["76","VALLE","Trujillo","76828",196,222,229,{"$nulls":7},7,null,"94885",{"v":2.6736851099323706,"d":"3"},{"v":96.84343998561677,"d":"97"},{"v":99.51712509554913,"d":"100"},{"$nulls":3},"94885",7]
["76","VALLE","Tulua","76834",{"v":2015,"d":"2,015"},{"v":2063,"d":"2,063"},{"v":2394,"d":"2,394"},{"$nulls":7},17,null,"94886",{"v":8.156546129286928,"d":"8"},{"v":309.2688681305975,"d":"309"},{"v":317.42541425988446,"d":"317"},{"$nulls":3},"94886",17]
["76","VALLE","Ulloa","76845",41,40,52,{"$nulls":7},21,null,"94887",{"v":28.888286097946022,"d":"29"},{"v":724.344788380511,"d":"724"},{"v":753.233074478457,"d":"753"},{"$nulls":3},"94887",21]
["76","VALLE","Versalles","76863",66,76,97,{"$nulls":7},14,null,"94888",{"v":8.689476607280206,"d":"9"},{"v":347.3434916316139,"d":"347"},{"v":356.0329682388941,"d":"356"},{"$nulls":3},"94888",14]
["76","VALLE","Vijes","76869",110,124,118,{"$nulls":7},573,null,"95001",{"v":9612.176879420998,"d":"9,612"},{"v":24001.465017095023,"d":"24,001"},{"v":33613.64189651602,"d":"33,614"},{"$nulls":3},"95001",573]
["76","VALLE","Yotoco","76890",153,154,162,{"$nulls":7},96,null,"95015",{"v":1110.3014383340433,"d":"1,110"},{"v":4323.062995698774,"d":"4,323"},{"v":5433.364434032817,"d":"5,433"},{"$nulls":3},"95015",96]
["76","VALLE","Yumbo","76892",{"v":1078,"d":"1,078"},{"v":1122,"d":"1,122"},{"v":1218,"d":"1,218"},{"$nulls":7},152,null,"95025",{"v":1725.6289901489677,"d":"1,726"},{"v":5597.015864787416,"d":"5,597"},{"v":7322.644854936383,"d":"7,323"},{"$nulls":3},"95025",152]
["76","VALLE","Zarzal","76895",392,425,522,{"$nulls":7},77,null,"95200",{"v":898.2423954555419,"d":"898"},{"v":2853.044059298524,"d":"2,853"},{"v":3751.286454754066,"d":"3,751"},{"$nulls":3},"95200",77]
["97","VAUPES","Mitu","97001",504,511,543,{"$nulls":7},493,null,"97001",{"v":3206.23920219266,"d":"3,206"},{"v":12047.573445610193,"d":"12,048"},{"v":15253.812647802853,"d":"15,254"},{"$nulls":3},"97001",493]
["97","VAUPES","Caruru","97161",56,62,61,{"$nulls":7},52,null,"97161",{"v":301.9435520443532,"d":"302"},{"v":1133.4809621047164,"d":"1,133"},{"v":1435.4245141490696,"d":"1,435"},{"$nulls":3},"97161",52]
["97","VAUPES","Pacoa (ANM)","97511",79,82,93,{"$nulls":7},76,null,"97511",{"v":47.43976744288339,"d":"47"},{"v":1481.5488143987418,"d":"1,482"},{"v":1528.988581841625,"d":"1,529"},{"$nulls":3},"97511",76]
["97","VAUPES","Taraira","97666",38,42,48,{"$nulls":7},28,null,"97666",{"v":147.1762574894488,"d":"147"},{"v":871.5065216697694,"d":"872"},{"v":1018.6827791592182,"d":"1,019"},{"$nulls":3},"97666",28]
["97","VAUPES","Papunaua (ANM)","97777",5,6,9,{"$nulls":7},7,null,"97777",{"v":8.080402086933,"d":"8"},{"v":271.2536685440198,"d":"271"},{"v":279.3340706309528,"d":"279"},{"$nulls":3},"97777",7]
["97","VAUPES","Yavarate (ANM)","97889",18,20,25,{"$nulls":7},27,null,"97889",{"v":13.121927982668094,"d":"13"},{"v":347.1271698356312,"d":"347"},{"v":360.2490978182993,"d":"360"},{"$nulls":3},"97889",27]
["99","VICHADA","Puerto Carreño","99001",500,500,529,{"$nulls":7},187,null,"99001",{"v":3184.884049166566,"d":"3,185"},{"v":9035.840536212287,"d":"9,036"},{"v":12220.724585378852,"d":"12,221"},{"$nulls":3},"99001",187]
["99","VICHADA","La Primavera","99524",172,185,210,{"$nulls":7},111,null,"99524",{"v":1430.2681974020309,"d":"1,430"},{"v":4093.659716255672,"d":"4,094"},{"v":5523.927913657702,"d":"5,524"},{"$nulls":3},"99524",111]
["99","VICHADA","Santa Rosalia","99624",87,87,89,{"$nulls":7},49,null,"99624",{"v":409.3885397491039,"d":"409"},{"v":1780.791956930103,"d":"1,781"},{"v":2190.180496679207,"d":"2,190"},{"$nulls":3},"99624",49]
["99","VICHADA","Cumaribo","99773",904,943,{"v":1022,"d":"1,022"},{"$nulls":7},1024,null,"99773",{"v":4618.155757624476,"d":"4,618"},{"v":30821.912756593658,"d":"30,822"},{"v":35440.06851421813,"d":"35,440"},{"$nulls":3},"99773",1024]
[]
[null,null,"TOTAL NACIONAL",null,{"$f":"SUM(E2:E1122)","v":{"v":648771,"d":"648,771"}},{"$f":"SUM(F2:F1122)","v":{"v":675212,"d":"675,212"}},{"$f":"SUM(G2:G1122)","v":{"v":718736,"d":"718,736"}},{"$nulls":7},{"$f":"SUM(O2:O1122)","v":{"v":386710,"d":"386,710"}},null,null,{"$f":"SUM(R2:R1122)","v":{"v":11834496.922302464,"d":"11,834,497"}},{"$f":"SUM(S2:S1122)","v":{"v":22400150.99999997,"d":"22,400,151"}},{"$f":"SUM(T2:T1122)","v":{"v":34234647.92230239,"d":"34,234,648"}}]
[{"$nulls":13},"Fuente: ","http://www.dane.gov.co/files/investigaciones/poblacion/proyepobla06_20/Edades_Simples_1985-2020.xls"]

{"sheet":"1_PLANTILLA_MENSUAL","index":1,"n_rows":100,"n_cols":491,"rows_kept":100,"merged":[[1,0,1,2],[1,142,1,143],[2,0,2,2],[3,0,3,2],[4,0,5,2],[4,3,6,3],[4,4,4,7],[4,8,4,30],[4,31,4,62],[4,63,5,66],[4,67,4,100],[4,101,4,108],[4,109,4,119],[4,120,4,123],[4,124,4,149],[4,150,4,180],[4,181,4,211],[4,212,4,213],[4,214,4,219],[4,220,4,225],[4,226,4,243],[4,244,4,260],[4,261,4,279],[4,280,4,289],[4,290,4,301],[4,302,4,358],[4,359,4,370],[4,371,4,385],[4,386,4,391],[4,392,4,420],[4,421,4,434],[4,435,4,439],[4,440,4,441],[4,442,5,443],[5,4,6,4],[5,5,6,5],[5,6,6,6],[5,7,6,7],[5,8,5,9],[5,10,5,12],[5,13,5,15],[5,16,5,18],[5,19,5,21],[5,22,5,24],[5,25,5,27],[5,28,5,30],[5,31,5,34],[5,35,5,38],[5,39,5,42],[5,43,5,46],[5,47,5,50],[5,51,5,54],[5,55,5,58],[5,59,5,62],[5,67,5,69],[5,70,5,72],[5,73,5,75],[5,76,5,78],[5,79,5,81],[5,82,5,84],[5,93,5,95],[5,96,5,98],[5,99,5,100],[5,109,5,111],[5,112,5,114],[5,124,5,126],[5,127,5,129],[5,130,5,132],[5,133,5,135],[5,136,5,138],[5,139,5,141],[5,150,5,152],[5,153,5,155],[5,156,5,158],[5,159,5,161],[5,162,5,164],[5,165,5,167],[5,176,5,180],[5,181,5,183],[5,184,5,186],[5,187,5,189],[5,190,5,192],[5,193,5,195],[5,196,5,198],[5,207,5,211],[5,214,5,215],[5,217,5,218],[5,220,5,221],[5,223,5,224],[5,226,5,236],[5,237,5,243],[5,245,5,260],[5,261,6,261],[5,262,6,262],[5,263,6,263],[5,264,6,264],[5,265,6,265],[5,266,6,266],[5,267,6,267],[5,268,6,268],[5,269,6,269],[5,270,6,270],[5,271,6,271],[5,272,6,272],[5,273,6,273],[5,274,6,274],[5,275,6,275],[5,276,6,276],[5,277,6,277],[5,278,6,278],[5,280,5,289],[5,290,5,297],[5,298,5,301],[5,302,5,306],[5,307,5,311],[5,312,5,316],[5,317,5,320],[5,321,5,325],[5,326,5,330],[5,331,5,334],[5,335,5,339],[5,340,5,344],[5,345,5,348],[5,349,5,353],[5,354,5,358],[5,359,5,364],[5,365,5,370],[5,371,5,372],[5,373,5,375],[5,376,5,378],[5,381,5,383],[5,386,5,388],[5,389,5,390],[5,392,5,394],[5,395,5,397],[5,398,5,400],[5,401,5,403],[5,404,5,406],[5,407,5,409],[5,410,5,412],[5,413,5,415],[5,416,5,418],[5,419,5,420],[5,421,5,422],[5,423,5,424],[5,425,5,428],[5,429,5,431],[5,433,6,433],[5,434,6,434],[5,435,5,437],[5,438,5,439],[5,440,5,441],[5,464,5,471],[5,474,5,480],[5,481,5,483],[5,484,5,485],[5,486,5,487],[6,85,6,89],[6,90,6,91],[6,101,6,105],[6,106,6,108],[6,115,6,119],[6,142,6,146],[6,147,6,149],[6,168,6,172],[6,173,6,175],[6,199,6,203],[6,204,6,206],[7,0,26,0],[7,1,26,1],[7,2,26,2],[27,0,46,0],[27,1,46,1],[27,2,46,2],[47,0,66,0],[47,1,66,1],[47,2,66,2],[67,0,86,2]]}
[{"$nulls":4},{"$f":"D1+1","v":1},2,3,{"$f":"G1+1","v":4},{"$f":"H1+1","v":5},{"$f":"I1+1","v":6},{"$f":"J1+1","v":7},{"$f":"K1+1","v":8},{"$f":"L1+1","v":9},{"$f":"M1+1","v":10},{"$f":"N1+1","v":11},{"$f":"O1+1","v":12},{"$f":"P1+1","v":13},{"$f":"Q1+1","v":14},{"$f":"R1+1","v":15},{"$f":"S1+1","v":16},{"$f":"T1+1","v":17},{"$f":"U1+1","v":18},{"$f":"V1+1","v":19},{"$f":"W1+1","v":20},{"$f":"X1+1","v":21},{"$f":"Y1+1","v":22},{"$f":"Z1+1","v":23},{"$f":"AA1+1","v":24},{"$f":"#REF!+1","v":{"$error":"#REF!"}},{"$f":"AC1+1","v":{"$error":"#REF!"}},{"$f":"AD1+1","v":{"$error":"#REF!"}},{"$f":"AE1+1","v":{"$error":"#REF!"}},{"$f":"AF1+1","v":{"$error":"#REF!"}},{"$f":"AG1+1","v":{"$error":"#REF!"}},null,{"$f":"AH1+1","v":{"$error":"#REF!"}},{"$f":"AJ1+1","v":{"$error":"#REF!"}},{"$f":"AK1+1","v":{"$error":"#REF!"}},null,{"$f":"AL1+1","v":{"$error":"#REF!"}},{"$f":"AN1+1","v":{"$error":"#REF!"}},{"$f":"AO1+1","v":{"$error":"#REF!"}},null,{"$f":"AP1+1","v":{"$error":"#REF!"}},{"$f":"AR1+1","v":{"$error":"#REF!"}},{"$f":"AS1+1","v":{"$error":"#REF!"}},null,{"$f":"AT1+1","v":{"$error":"#REF!"}},{"$f":"AV1+1","v":{"$error":"#REF!"}},{"$f":"AW1+1","v":{"$error":"#REF!"}},null,{"$f":"AX1+1","v":{"$error":"#REF!"}},{"$f":"AZ1+1","v":{"$error":"#REF!"}},{"$f":"BA1+1","v":{"$error":"#REF!"}},{"$f":"BB1+1","v":{"$error":"#REF!"}},{"$f":"BC1+1","v":{"$error":"#REF!"}},{"$f":"BD1+1","v":{"$error":"#REF!"}},{"$f":"BE1+1","v":{"$error":"#REF!"}},{"$f":"BF1+1","v":{"$error":"#REF!"}},{"$f":"BG1+1","v":{"$error":"#REF!"}},{"$f":"BH1+1","v":{"$error":"#REF!"}},{"$f":"BI1+1","v":{"$error":"#REF!"}},{"$f":"BJ1+1","v":{"$error":"#REF!"}},{"$f":"BK1+1","v":{"$error":"#REF!"}},{"$f":"BL1+1","v":{"$error":"#REF!"}},{"$f":"BM1+1","v":{"$error":"#REF!"}},null,{"$f":"#REF!+1","v":{"$error":"#REF!"}},{"$f":"BP1+1","v":{"$error":"#REF!"}},{"$f":"BQ1+1","v":{"$error":"#REF!"}},{"$f":"BR1+1","v":{"$error":"#REF!"}},{"$f":"BS1+1","v":{"$error":"#REF!"}},{"$f":"BT1+1","v":{"$error":"#REF!"}},{"$f":"BU1+1","v":{"$error":"#REF!"}},{"$f":"BV1+1","v":{"$error":"#REF!"}},{"$f":"BW1+1","v":{"$error":"#REF!"}},{"$f":"BX1+1","v":{"$error":"#REF!"}},{"$f":"BY1+1","v":{"$error":"#REF!"}},{"$f":"BZ1+1","v":{"$error":"#REF!"}},{"$f":"CA1+1","v":{"$error":"#REF!"}},{"$f":"CB1+1","v":{"$error":"#REF!"}},{"$f":"CC1+1","v":{"$error":"#REF!"}},{"$f":"CD1+1","v":{"$error":"#REF!"}},{"$f":"CE1+1","v":{"$error":"#REF!"}},{"$f":"CF1+1","v":{"$error":"#REF!"}},{"$f":"CG1+1","v":{"$error":"#REF!"}},{"$f":"CH1+1","v":{"$error":"#REF!"}},{"$f":"CI1+1","v":{"$error":"#REF!"}},{"$f":"CJ1+1","v":{"$error":"#REF!"}},{"$f":"CK1+1","v":{"$error":"#REF!"}},{"$f":"CL1+1","v":{"$error":"#REF!"}},{"$f":"CM1+1","v":{"$error":"#REF!"}},{"$f":"CN1+1","v":{"$error":"#REF!"}},{"$f":"CO1+1","v":{"$error":"#REF!"}},{"$f":"CP1+1","v":{"$error":"#REF!"}},{"$f":"CQ1+1","v":{"$error":"#REF!"}},{"$f":"CO1+1","v":{"$error":"#REF!"}},{"$f":"CS1+1","v":{"$error":"#REF!"}},{"$f":"CT1+1","v":{"$error":"#REF!"}},{"$f":"#REF!+1","v":{"$error":"#REF!"}},{"$f":"CV1+1","v":{"$error":"#REF!"}},{"$f":"#REF!+1","v":{"$error":"#REF!"}},{"$f":"CX1+1","v":{"$error":"#REF!"}},{"$f":"CY1+1","v":{"$error":"#REF!"}},{"$f":"CZ1+1","v":{"$error":"#REF!"}},{"$f":"DA1+1","v":{"$error":"#REF!"}},{"$f":"DB1+1","v":{"$error":"#REF!"}},{"$f":"DC1+1","v":{"$error":"#REF!"}},{"$f":"DD1+1","v":{"$error":"#REF!"}},{"$f":"#REF!+1","v":{"$error":"#REF!"}},{"$f":"DF1+1","v":{"$error":"#REF!"}},{"$f":"DG1+1","v":{"$error":"#REF!"}},{"$f":"DH1+1","v":{"$error":"#REF!"}},{"$f":"DI1+1","v":{"$error":"#REF!"}},{"$f":"DJ1+1","v":{"$error":"#REF!"}},{"$f":"DK1+1","v":{"$error":"#REF!"}},{"$f":"DL1+1","v":{"$error":"#REF!"}},{"$f":"DM1+1","v":{"$error":"#REF!"}},{"$f":"DN1+1","v":{"$error":"#REF!"}},{"$f":"DO1+1","v":{"$error":"#REF!"}},{"$f":"DK1+1","v":{"$error":"#REF!"}},{"$f":"#REF!+1","v":{"$error":"#REF!"}},{"$f":"#REF!+1","v":{"$error":"#REF!"}},{"$f":"#REF!+1","v":{"$error":"#REF!"}},{"$f":"#REF!+1","v":{"$error":"#REF!"}},{"$f":"DU1+1","v":{"$error":"#REF!"}},{"$f":"DV1+1","v":{"$error":"#REF!"}},{"$f":"DW1+1","v":{"$error":"#REF!"}},{"$f":"DX1+1","v":{"$error":"#REF!"}},{"$f":"DY1+1","v":{"$error":"#REF!"}},{"$f":"DZ1+1","v":{"$error":"#REF!"}},{"$f":"EA1+1","v":{"$error":"#REF!"}},{"$f":"EB1+1","v":{"$error":"#REF!"}},{"$f":"EC1+1","v":{"$error":"#REF!"}},{"$f":"ED1+1","v":{"$error":"#REF!"}},{"$f":"EE1+1","v":{"$error":"#REF!"}},{"$f":"EF1+1","v":{"$error":"#REF!"}},{"$f":"EG1+1","v":{"$error":"#REF!"}},{"$f":"EH1+1","v":{"$error":"#REF!"}},{"$f":"EI1+1","v":{"$error":"#REF!"}},{"$f":"EJ1+1","v":{"$error":"#REF!"}},{"$f":"EK1+1","v":{"$error":"#REF!"}},{"$f":"EL1+1","v":{"$error":"#REF!"}},{"$f":"EM1+1","v":{"$error":"#REF!"}},{"$f":"EN1+1","v":{"$error":"#REF!"}},{"$f":"EO1+1","v":{"$error":"#REF!"}},{"$f":"EP1+1","v":{"$error":"#REF!"}},{"$f":"EQ1+1","v":{"$error":"#REF!"}},{"$f":"ER1+1","v":{"$error":"#REF!"}},{"$f":"ES1+1","v":{"$error":"#REF!"}},{"$f":"ET1+1","v":{"$error":"#REF!"}},{"$f":"EU1+1","v":{"$error":"#REF!"}},{"$f":"EV1+1","v":{"$error":"#REF!"}},{"$f":"EW1+1","v":{"$error":"#REF!"}},{"$f":"EX1+1","v":{"$error":"#REF!"}},{"$f":"EY1+1","v":{"$error":"#REF!"}},{"$f":"EZ1+1","v":{"$error":"#REF!"}},{"$f":"FA1+1","v":{"$error":"#REF!"}},{"$f":"FB1+1","v":{"$error":"#REF!"}},{"$f":"FC1+1","v":{"$error":"#REF!"}},{"$f":"FD1+1","v":{"$error":"#REF!"}},{"$f":"FE1+1","v":{"$error":"#REF!"}},{"$f":"FF1+1","v":{"$error":"#REF!"}},{"$f":"FG1+1","v":{"$error":"#REF!"}},{"$f":"FH1+1","v":{"$error":"#REF!"}},{"$f":"FI1+1","v":{"$error":"#REF!"}},{"$f":"FJ1+1","v":{"$error":"#REF!"}},{"$f":"FK1+1","v":{"$error":"#REF!"}},{"$f":"FL1+1","v":{"$error":"#REF!"}},{"$f":"FM1+1","v":{"$error":"#REF!"}},{"$f":"FN1+1","v":{"$error":"#REF!"}},{"$f":"FO1+1","v":{"$error":"#REF!"}},{"$f":"FP1+1","v":{"$error":"#REF!"}},{"$f":"FQ1+1","v":{"$error":"#REF!"}},{"$f":"FR1+1","v":{"$error":"#REF!"}},{"$f":"FS1+1","v":{"$error":"#REF!"}},{"$f":"FT1+1","v":{"$error":"#REF!"}},{"$f":"FU1+1","v":{"$error":"#REF!"}},{"$f":"FV1+1","v":{"$error":"#REF!"}},{"$f":"FW1+1","v":{"$error":"#REF!"}},{"$f":"FX1+1","v":{"$error":"#REF!"}},{"$f":"FY1+1","v":{"$error":"#REF!"}},{"$f":"FZ1+1","v":{"$error":"#REF!"}},{"$f":"GA1+1","v":{"$error":"#REF!"}},{"$f":"GB1+1","v":{"$error":"#REF!"}},{"$f":"GC1+1","v":{"$error":"#REF!"}},{"$f":"GD1+1","v":{"$error":"#REF!"}},{"$f":"GE1+1","v":{"$error":"#REF!"}},{"$f":"GF1+1","v":{"$error":"#REF!"}},{"$f":"GG1+1","v":{"$error":"#REF!"}},{"$f":"GH1+1","v":{"$error":"#REF!"}},{"$f":"GI1+1","v":{"$error":"#REF!"}},{"$f":"GJ1+1","v":{"$error":"#REF!"}},{"$f":"GK1+1","v":{"$error":"#REF!"}},{"$f":"GL1+1","v":{"$error":"#REF!"}},{"$f":"GM1+1","v":{"$error":"#REF!"}},{"$f":"GN1+1","v":{"$error":"#REF!"}},{"$f":"GO1+1","v":{"$error":"#REF!"}},{"$f":"GP1+1","v":{"$error":"#REF!"}},{"$f":"GQ1+1","v":{"$error":"#REF!"}},{"$f":"GR1+1","v":{"$error":"#REF!"}},{"$f":"GS1+1","v":{"$error":"#REF!"}},{"$f":"GT1+1","v":{"$error":"#REF!"}},{"$f":"GU1+1","v":{"$error":"#REF!"}},{"$f":"GV1+1","v":{"$error":"#REF!"}},{"$f":"GW1+1","v":{"$error":"#REF!"}},{"$f":"GX1+1","v":{"$error":"#REF!"}},{"$f":"GY1+1","v":{"$error":"#REF!"}},{"$f":"GZ1+1","v":{"$error":"#REF!"}},{"$f":"HA1+1","v":{"$error":"#REF!"}},{"$f":"HB1+1","v":{"$error":"#REF!"}},{"$f":"HC1+1","v":{"$error":"#REF!"}},{"$f":"HD1+1","v":{"$error":"#REF!"}},{"$f":"HE1+1","v":{"$error":"#REF!"}},{"$f":"HF1+1","v":{"$error":"#REF!"}},{"$f":"HG1+1","v":{"$error":"#REF!"}},{"$f":"HH1+1","v":{"$error":"#REF!"}},{"$f":"HI1+1","v":{"$error":"#REF!"}},{"$f":"HJ1+1","v":{"$error":"#REF!"}},{"$f":"HK1+1","v":{"$error":"#REF!"}},{"$f":"HL1+1","v":{"$error":"#REF!"}},{"$f":"HM1+1","v":{"$error":"#REF!"}},{"$f":"HN1+1","v":{"$error":"#REF!"}},{"$f":"HO1+1","v":{"$error":"#REF!"}},{"$f":"HP1+1","v":{"$error":"#REF!"}},{"$f":"HQ1+1","v":{"$error":"#REF!"}},{"$f":"HL1+1","v":{"$error":"#REF!"}},{"$f":"HS1+1","v":{"$error":"#REF!"}},{"$f":"HT1+1","v":{"$error":"#REF!"}},{"$f":"HU1+1","v":{"$error":"#REF!"}},{"$f":"HV1+1","v":{"$error":"#REF!"}},{"$f":"HW1+1","v":{"$error":"#REF!"}},{"$f":"HX1+1","v":{"$error":"#REF!"}},{"$f":"HY1+1","v":{"$error":"#REF!"}},{"$f":"HZ1+1","v":{"$error":"#REF!"}},{"$f":"HZ1+1","v":{"$error":"#REF!"}},{"$error":"#REF!"},{"$f":"IC1+1","v":{"$error":"#REF!"}},{"$f":"ID1+1","v":{"$error":"#REF!"}},{"$f":"IE1+1","v":{"$error":"#REF!"}},{"$f":"IF1+1","v":{"$error":"#REF!"}},{"$f":"IG1+1","v":{"$error":"#REF!"}},{"$f":"IG1+1","v":{"$error":"#REF!"}},{"$error":"#REF!"},{"$f":"IJ1+1","v":{"$error":"#REF!"}},{"$f":"IK1+1","v":{"$error":"#REF!"}},{"$f":"IL1+1","v":{"$error":"#REF!"}},{"$f":"IM1+1","v":{"$error":"#REF!"}},{"$f":"IN1+1","v":{"$error":"#REF!"}},{"$f":"IO1+1","v":{"$error":"#REF!"}},{"$f":"IP1+1","v":{"$error":"#REF!"}},{"$f":"IQ1+1","v":{"$error":"#REF!"}},{"$f":"IR1+1","v":{"$error":"#REF!"}},{"$f":"IS1+1","v":{"$error":"#REF!"}},{"$f":"IT1+1","v":{"$error":"#REF!"}},{"$f":"IU1+1","v":{"$error":"#REF!"}},{"$error":"#REF!"},{"$f":"IV1+1","v":{"$error":"#REF!"}},{"$f":"IX1+1","v":{"$error":"#REF!"}},{"$f":"IY1+1","v":{"$error":"#REF!"}},{"$f":"IZ1+1","v":{"$error":"#REF!"}},{"$f":"JA1+1","v":{"$error":"#REF!"}},{"$f":"JB1+1","v":{"$error":"#REF!"}},{"$f":"JC1+1","v":{"$error":"#REF!"}},{"$f":"JD1+1","v":{"$error":"#REF!"}},{"$f":"JE1+1","v":{"$error":"#REF!"}},{"$f":"JF1+1","v":{"$error":"#REF!"}},{"$f":"JG1+1","v":{"$error":"#REF!"}},{"$f":"JH1+1","v":{"$error":"#REF!"}},{"$f":"JI1+1","v":{"$error":"#REF!"}},{"$f":"JJ1+1","v":{"$error":"#REF!"}},{"$f":"JK1+1","v":{"$error":"#REF!"}},{"$f":"JL1+1","v":{"$error":"#REF!"}},{"$f":"JM1+1","v":{"$error":"#REF!"}},{"$f":"JN1+1","v":{"$error":"#REF!"}},{"$f":"JO1+1","v":{"$error":"#REF!"}},{"$f":"JP1+1","v":{"$error":"#REF!"}},{"$f":"JQ1+1","v":{"$error":"#REF!"}},{"$f":"JR1+1","v":{"$error":"#REF!"}},{"$f":"JS1+1","v":{"$error":"#REF!"}},{"$f":"JT1+1","v":{"$error":"#REF!"}},{"$f":"JU1+1","v":{"$error":"#REF!"}},{"$f":"JV1+1","v":{"$error":"#REF!"}},{"$f":"JW1+1","v":{"$error":"#REF!"}},{"$f":"JX1+1","v":{"$error":"#REF!"}},{"$f":"JY1+1","v":{"$error":"#REF!"}},{"$f":"JZ1+1","v":{"$error":"#REF!"}},{"$f":"KA1+1","v":{"$error":"#REF!"}},{"$f":"KA1+1","v":{"$error":"#REF!"}},{"$error":"#REF!"},{"$f":"#REF!+1","v":{"$error":"#REF!"}},{"$f":"KE1+1","v":{"$error":"#REF!"}},{"$f":"KF1+1","v":{"$error":"#REF!"}},{"$f":"KG1+1","v":{"$error":"#REF!"}},{"$f":"KH1+1","v":{"$error":"#REF!"}},{"$f":"KI1+1","v":{"$error":"#REF!"}},{"$f":"KI1+1","v":{"$error":"#REF!"}},{"$error":"#REF!"},{"$f":"KL1+1","v":{"$error":"#REF!"}},{"$f":"KM1+1","v":{"$error":"#REF!"}},{"$f":"KM1+1","v":{"$error":"#REF!"}},{"$error":"#REF!"},{"$f":"#REF!+1","v":{"$error":"#REF!"}},{"$f":"KQ1+1","v":{"$error":"#REF!"}},{"$f":"KR1+1","v":{"$error":"#REF!"}},{"$f":"KS1+1","v":{"$error":"#REF!"}},{"$f":"KT1+1","v":{"$error":"#REF!"}},{"$f":"KU1+1","v":{"$error":"#REF!"}},{"$f":"KV1+1","v":{"$error":"#REF!"}},{"$f":"KW1+1","v":{"$error":"#REF!"}},{"$f":"KX1+1","v":{"$error":"#REF!"}},{"$f":"KY1+1","v":{"$error":"#REF!"}},{"$f":"KZ1+1","v":{"$error":"#REF!"}},{"$f":"LA1+1","v":{"$error":"#REF!"}},{"$f":"LB1+1","v":{"$error":"#REF!"}},{"$f":"LC1+1","v":{"$error":"#REF!"}},{"$f":"LD1+1","v":{"$error":"#REF!"}},{"$f":"LE1+1","v":{"$error":"#REF!"}},{"$f":"LF1+1","v":{"$error":"#REF!"}},{"$f":"LG1+1","v":{"$error":"#REF!"}},{"$f":"LH1+1","v":{"$error":"#REF!"}},{"$f":"LI1+1","v":{"$error":"#REF!"}},{"$f":"LJ1+1","v":{"$error":"#REF!"}},{"$f":"LK1+1","v":{"$error":"#REF!"}},{"$f":"LL1+1","v":{"$error":"#REF!"}},{"$f":"LM1+1","v":{"$error":"#REF!"}},{"$f":"LN1+1","v":{"$error":"#REF!"}},{"$f":"LO1+1","v":{"$error":"#REF!"}},{"$f":"LP1+1","v":{"$error":"#REF!"}},{"$f":"LQ1+1","v":{"$error":"#REF!"}},{"$f":"LR1+1","v":{"$error":"#REF!"}},{"$f":"LS1+1","v":{"$error":"#REF!"}},{"$f":"LT1+1","v":{"$error":"#REF!"}},{"$f":"LU1+1","v":{"$error":"#REF!"}},{"$f":"LV1+1","v":{"$error":"#REF!"}},{"$f":"LW1+1","v":{"$error":"#REF!"}},{"$f":"LX1+1","v":{"$error":"#REF!"}},{"$f":"LY1+1","v":{"$error":"#REF!"}},{"$f":"LZ1+1","v":{"$error":"#REF!"}},{"$f":"MA1+1","v":{"$error":"#REF!"}},{"$f":"MB1+1","v":{"$error":"#REF!"}},{"$f":"MC1+1","v":{"$error":"#REF!"}},{"$f":"MD1+1","v":{"$error":"#REF!"}},{"$f":"ME1+1","v":{"$error":"#REF!"}},{"$f":"MF1+1","v":{"$error":"#REF!"}},{"$f":"MG1+1","v":{"$error":"#REF!"}},{"$f":"MH1+1","v":{"$error":"#REF!"}},{"$f":"MI1+1","v":{"$error":"#REF!"}},{"$f":"MJ1+1","v":{"$error":"#REF!"}},{"$f":"MK1+1","v":{"$error":"#REF!"}},{"$f":"ML1+1","v":{"$error":"#REF!"}},{"$f":"MM1+1","v":{"$error":"#REF!"}},{"$f":"MN1+1","v":{"$error":"#REF!"}},{"$f":"MO1+1","v":{"$error":"#REF!"}},{"$f":"MP1+1","v":{"$error":"#REF!"}},{"$f":"MQ1+1","v":{"$error":"#REF!"}},{"$f":"MR1+1","v":{"$error":"#REF!"}},{"$f":"MS1+1","v":{"$error":"#REF!"}},{"$f":"MT1+1","v":{"$error":"#REF!"}},{"$f":"MU1+1","v":{"$error":"#REF!"}},{"$f":"MV1+1","v":{"$error":"#REF!"}},{"$f":"MW1+1","v":{"$error":"#REF!"}},{"$f":"MX1+1","v":{"$error":"#REF!"}},{"$f":"MY1+1","v":{"$error":"#REF!"}},{"$f":"MZ1+1","v":{"$error":"#REF!"}},{"$f":"NA1+1","v":{"$error":"#REF!"}},{"$f":"NB1+1","v":{"$error":"#REF!"}},{"$f":"NC1+1","v":{"$error":"#REF!"}},{"$f":"ND1+1","v":{"$error":"#REF!"}},{"$f":"NE1+1","v":{"$error":"#REF!"}},{"$f":"NF1+1","v":{"$error":"#REF!"}},{"$f":"#REF!+1","v":{"$error":"#REF!"}},{"$f":"NH1+1","v":{"$error":"#REF!"}},{"$f":"NI1+1","v":{"$error":"#REF!"}},{"$f":"NJ1+1","v":{"$error":"#REF!"}},{"$f":"NK1+1","v":{"$error":"#REF!"}},{"$f":"NL1+1","v":{"$error":"#REF!"}},{"$f":"NM1+1","v":{"$error":"#REF!"}},{"$f":"NN1+1","v":{"$error":"#REF!"}},{"$f":"#REF!+1","v":{"$error":"#REF!"}},{"$f":"NP1+1","v":{"$error":"#REF!"}},{"$f":"#REF!+1","v":{"$error":"#REF!"}},{"$f":"NQ1+1","v":{"$error":"#REF!"}},{"$error":"#REF!"},{"$f":"#REF!+1","v":{"$error":"#REF!"}},{"$f":"#REF!+1","v":{"$error":"#REF!"}},{"$f":"#REF!+1","v":{"$error":"#REF!"}},{"$f":"NW1+1","v":{"$error":"#REF!"}},{"$f":"NX1+1","v":{"$error":"#REF!"}},{"$f":"#REF!+1","v":{"$error":"#REF!"}},{"$f":"NZ1+1","v":{"$error":"#REF!"}},{"$f":"#REF!+1","v":{"$error":"#REF!"}},{"$f":"OB1+1","v":{"$error":"#REF!"}},{"$f":"OC1+1","v":{"$error":"#REF!"}},{"$f":"OD1+1","v":{"$error":"#REF!"}},{"$f":"OE1+1","v":{"$error":"#REF!"}},{"$f":"OF1+1","v":{"$error":"#REF!"}},{"$f":"OG1+1","v":{"$error":"#REF!"}},{"$f":"OH1+1","v":{"$error":"#REF!"}},{"$f":"OI1+1","v":{"$error":"#REF!"}},{"$f":"OJ1+1","v":{"$error":"#REF!"}},{"$f":"OK1+1","v":{"$error":"#REF!"}},{"$f":"OL1+1","v":{"$error":"#REF!"}},{"$f":"OM1+1","v":{"$error":"#REF!"}},{"$f":"ON1+1","v":{"$error":"#REF!"}},{"$f":"OO1+1","v":{"$error":"#REF!"}},{"$f":"OP1+1","v":{"$error":"#REF!"}},{"$f":"OQ1+1","v":{"$error":"#REF!"}},{"$f":"OR1+1","v":{"$error":"#REF!"}},{"$f":"OS1+1","v":{"$error":"#REF!"}},{"$f":"OT1+1","v":{"$error":"#REF!"}},{"$f":"OU1+1","v":{"$error":"#REF!"}},{"$f":"OV1+1","v":{"$error":"#REF!"}},{"$f":"OW1+1","v":{"$error":"#REF!"}},{"$f":"OX1+1","v":{"$error":"#REF!"}},{"$f":"OY1+1","v":{"$error":"#REF!"}},{"$f":"OZ1+1","v":{"$error":"#REF!"}},{"$f":"PA1+1","v":{"$error":"#REF!"}},{"$f":"PB1+1","v":{"$error":"#REF!"}},{"$f":"#REF!+1","v":{"$error":"#REF!"}},{"$f":"PD1+1","v":{"$error":"#REF!"}},{"$f":"PE1+1","v":{"$error":"#REF!"}},{"$f":"PF1+1","v":{"$error":"#REF!"}},{"$f":"PG1+1","v":{"$error":"#REF!"}},{"$f":"PH1+1","v":{"$error":"#REF!"}},{"$f":"PI1+1","v":{"$error":"#REF!"}},{"$f":"PJ1+1","v":{"$error":"#REF!"}},{"$f":"PK1+1","v":{"$error":"#REF!"}},{"$f":"PL1+1","v":{"$error":"#REF!"}},{"$f":"PM1+1","v":{"$error":"#REF!"}},{"$f":"PN1+1","v":{"$error":"#REF!"}},{"$f":"PO1+1","v":{"$error":"#REF!"}},{"$f":"PP1+1","v":{"$error":"#REF!"}},{"$f":"PQ1+1","v":{"$error":"#REF!"}},{"$f":"PR1+1","v":{"$error":"#REF!"}},{"$f":"PS1+1","v":{"$error":"#REF!"}},{"$f":"PT1+1","v":{"$error":"#REF!"}},{"$f":"PU1+1","v":{"$error":"#REF!"}},{"$f":"PV1+1","v":{"$error":"#REF!"}},{"$f":"PW1+1","v":{"$error":"#REF!"}},{"$f":"PX1+1","v":{"$error":"#REF!"}},{"$f":"PY1+1","v":{"$error":"#REF!"}},{"$f":"#REF!+1","v":{"$error":"#REF!"}},{"$f":"QA1+1","v":{"$error":"#REF!"}},null,null,0,{"$nulls":18},".",{"$nulls":22},0]
["NOMBRE DEPARTAMENTO:",null,null,"BOGOTA","CODIGO DEPARTAMENTO:",null,{"$f":"VLOOKUP(D2,Tabla2[[DEPARTAMENTO]:[CODEP]],2,0)","v":"11"}]
["AÑO:",null,null,2022,{"$nulls":440},".",{"$nulls":43},"."]
["MES DE REPORTE",null,null,"Julio",null,"VACUNAS PAI",{"$nulls":12},"VACUNAS PAI",{"$nulls":54},"VACUNAS PAI",{"$nulls":35},"VACUNAS PAI",{"$nulls":32},"VACUNAS PAI",{"$nulls":21},"VACUNAS PAI",{"$nulls":30},"VACUNAS PAI",{"$nulls":16},"VACUNAS PAI",{"$nulls":119},"VACUNAS PAI",{"$nulls":84},"VACUNAS PAI",{"$nulls":22},"VACUNAS PAI"]
["                 MUNICIPIO",null,null,"REGIMEN / \nGRUPO ETNICO","BCG",{"$nulls":3},"HEPATITIS B",{"$nulls":22},"HEPATITIS B  (RESOLUCION. 0459/2012 y Circular 031/2014)",{"$nulls":31},"POBLACION PRIORIZADA PARA HEPATITIS B\n (Entidades Territoriales priorizados )",{"$nulls":3},"ANTIPOLIO INACTIVADA (VIP) ",{"$nulls":33},"POLIO ORAL - VOP ",{"$nulls":7},"PENTAVALENTE\nDPT - HB - Hib",{"$nulls":10},"PENTAVALENTE DPT - HB - Hib (CUANDO EL MINISTERIO LA AUTORICE)",{"$nulls":3},"DPT",{"$nulls":25},"DTPa Acelular Pediatrica",{"$nulls":30},"TOXOIDE TETANICO-DIFTERICO PEDIATRICO (TD) ",{"$nulls":30},"ROTAVIRUS",null,"NEUMOCOCO CONJUGADA DECAVALENTE",{"$nulls":5},"NEUMOCOCO CONJUGADA TRECEVALENTE",{"$nulls":5},"SRP (TRIPLE VIRAL)",{"$nulls":17},"SR (DOBLE VIRAL)",{"$nulls":16},"FIEBRE AMARILLA DOSIS UNICA",{"$nulls":18},"HEPATITIS A                                                                                                                                  (Cohorte de nacidos a partir de 1 de enero de 2012)",{"$nulls":9},"VARICELA\n(Cohorte de nacidos a partir de 1 de julio de 2014)",{"$nulls":11},"TOXOIDE TETANICO-DIFTERICO DE ADULTOS (Td)",{"$nulls":56},"Tdap ACELULAR ",{"$nulls":11},"INFLUENZA",{"$nulls":14},"MENINGOCOCO  (PARA USO EN BROTES)                           ",{"$nulls":5},"V  P  H",{"$nulls":28},"ANTIRRABICA HUMANA \nPRE/POST-EXPOSICION",{"$nulls":13},"INMUNOGLOBULINA\nANTI HEPATITIS B",{"$nulls":4},"INMUNOGLOBULINAS/ANTITOXINAS TETÁNICAS",null,"ANTI TOXINA DIFTERICA (Suero heterólogo)"]
[{"$nulls":4},"NIÑO O NIÑA  RECIEN NACIDO (DE 0 HASTA 29 DÍAS)","NIÑO O NIÑA MENOR  DE UN AÑO                                             (A PARTIR DE 30 DIAS HASTA 11 MESES 29 DIAS)","POBLACION INDIGENA Y RURAL DISPERSA (DE 1 AÑO A 5 AÑOS, 11 MESES, 29 DIAS)","CONTACTOS DE HANSEN  (LEPRA) OTRAS EDADES","RECIEN NACIDO (HASTA 29 DÍAS)",null,"DE 2 A 11 MESES 29 DÍAS ",null,null,"DE 1 AÑO",null,null,"DE 2 AÑOS",null,null,"DE 3 AÑOS",null,null,"DE 4 AÑOS",null,null,"DE 5 AÑOS",null,null,"DE 6 a  18 AÑOS\n(ICBF)",null,null,"DE 1 AÑO",{"$nulls":3},"DE 2 AÑOS",{"$nulls":3},"DE 3 AÑOS",{"$nulls":3},"DE 4 AÑOS",{"$nulls":3},"DE 5 AÑOS",{"$nulls":3},"6 A 14 AÑOS",{"$nulls":3},"DE 15 AÑOS A 17 AÑOS",{"$nulls":3},"DE 18 AÑOS Y MAS",{"$nulls":7},"< DE 1 AÑO                  ",null,null,"DE 1 AÑO",null,null,"DE 2 AÑOS",null,null,"DE 3 AÑOS",null,null,"DE 4 AÑOS",null,null,"DE 5 AÑOS",null,null,"AL AÑO DE LA 3ra DOSIS (De 18 a 23 meses)","DE 2 AÑOS","DE 3 AÑOS","DE 4 AÑOS","DE 5 AÑOS","3 AÑOS","4 AÑOS","5 AÑOS","DE 6 AÑOS",null,null,"DE 7  A 17 AÑOS (AUTORIZADAS POR EL MINISTERIO)",null,null,"DE 18  A 60 AÑOS (AUTORIZADAS POR EL MINISTERIO)",null,"AL AÑO DE LA 3ra DOSIS (De 18 a 23 meses)","DE 2  AÑOS","DE 3 AÑOS","DE 4 AÑOS","DE 5 AÑOS","3 AÑOS","4 AÑOS","5 AÑOS","< DE 1 AÑO",null,null,"DE 1 AÑO",null,null,"AL AÑO DE LA 3ra DOSIS (De 18 a 23 meses)","DE 2  AÑOS","DE 3  AÑOS","DE 4 AÑOS","DE 5 AÑOS","DE 2 AÑOS","DE 3 AÑOS","DE 4  AÑOS","DE 5 AÑOS","< DE 1 AÑO",null,null,"DE 1 AÑO",null,null,"DE 2 AÑOS",null,null,"DE 3 AÑOS",null,null,"DE 4  AÑOS",null,null,"DE 5 AÑOS",null,null,"AL AÑO DE LA 3ra DOSIS (De 18 a 23 meses)","DE 2 AÑOS","DE 3  AÑOS","DE 4 AÑOS","DE 5 AÑOS","3 AÑOS","4 AÑOS","5 AÑOS","< DE 1 AÑO",null,null,"DE 1 AÑO",null,null,"DE 2 AÑOS",null,null,"DE 3 AÑOS",null,null,"DE 4 AÑOS",null,null,"DE 5 AÑOS",null,null,"AL AÑO DE LA 3ra DOSIS (De 18 a 23 meses)","DE 2  AÑOS","DE 3 AÑOS","DE 4 AÑOS","DE 5 AÑOS","3 AÑOS","4 AÑOS","5 AÑOS","DE 6 AÑOS",{"$nulls":4},"< DE 1 AÑO",null,null,"DE 1 AÑO",null,null,"DE 2 AÑOS",null,null,"DE 3 AÑOS",null,null,"DE 4 AÑOS",null,null,"DE 5 AÑOS",null,null,"AL AÑO DE LA 3ra DOSIS (De 18 a 23 meses)","DE 2  AÑOS","DE 3 AÑOS","DE 4 AÑOS","DE 5 AÑOS","3 AÑOS","4 AÑOS","5 AÑOS","DE 6 AÑOS ",{"$nulls":4},"DE 2 MESES A 3 MESES y 21 DIAS","DE 4 MESES A 11 MESES y 29 DIAS","DE 2 A 11 MESES 29 DIAS",null,"DE 12 MESES A\n23  MESES","DE 12 A\n23  MESES",null,"DE 24 MESES A 5 AÑOS","DE 2 A 11 MESES 29 DIAS",null,"DE 12 MESES A\n23  MESES","DE 12 A\n23  MESES",null,"DE 24 MESES A 5 AÑOS","PRIMERA DOSIS",{"$nulls":10},"DOSIS DE REFUERZO",{"$nulls":6},"DOSIS CERO","DOSIS UNICA",{"$nulls":15},"DE 1 AÑO","DE 2 AÑOS","DE 3 AÑOS","DE 4 AÑOS","DE 5 AÑOS","DE 6 AÑOS","DE 7 AÑOS","DE 8 AÑOS","DE 9 AÑOS","DE 10 AÑOS","DE 11 AÑOS","DE 12 AÑOS","DE 13 a 14 AÑOS","DE 15 a 17 AÑOS","18 A 30 AÑOS","31 A 40 AÑOS","41 A 50 AÑOS","51 A 59 AÑOS","SOLO EN SITUACIÓN DE BROTE","DOSIS ÚNICA",{"$nulls":9},"PRIMERA DOSIS",{"$nulls":7},"REFUERZO    ",{"$nulls":3}," NIÑOS Y NIÑAS DE 7 A 9 AÑOS",{"$nulls":4},"GESTANTES DE 9 AÑOS A 17 AÑOS",{"$nulls":4},"GESTANTES DE 18 AÑOS Y MAS",{"$nulls":4},"REFUERZOS GESTANTES\n15 A 49 AÑOS",{"$nulls":3},"MUJERES EN EDAD FERTIL\n(MEF) DE 10 AÑOS A 17 AÑOS",{"$nulls":4},"MUJERES EN EDAD FERTIL\n(MEF) DE 18 A 49 AÑOS",{"$nulls":4},"REFUERZOS\nMEF DE 15 A 49 AÑOS",{"$nulls":3},"HOMBRES DE 10 A 17 AÑOS",{"$nulls":4},"HOMBRES DE 18 A 49 AÑOS",{"$nulls":4},"REFUERZOS\nHOMBRES DE 15 A 49 AÑOS",{"$nulls":3},"OTROS DE 50 A 59 AÑOS",{"$nulls":4},"OTROS DE 60 AÑOS Y MAS",{"$nulls":4}," DE 9 A 17 AÑOS GESTANTES de acuerdo al lineamiento",{"$nulls":5}," DE 18 Y MAS AÑOS GESTANTES   de acuerdo al lineamiento",{"$nulls":5},"DE 6 MESES A 11 MESES",null,"DE 12 MESES A 23 MESES",null,null,"24 A 35 MESES",null,null,"DE 60 Y MAS AÑOS ","GESTANTES A PARTIR DE LA SEMANA 14","DE 3 A 8 AÑOS (Poblaciones autorizadas de acuerdo con los lineamientos emitidos por el MSPS )",null,null,"DE 9 A 17 AÑOS (Poblaciones autorizadas de acuerdo con los lineamientos emitidos por el MSPS )","DE 18 A 59 AÑOS (Poblaciones autorizadas de acuerdo con los lineamientos emitidos por el MSPS )","DE 6 A 11 MESES ",null,null,"12 A 23 MESES",null,"MAYORES DE 2 AÑOS","9 AÑOS",null,null,"10 AÑOS",null,null,"11 AÑOS",null,null,"12 AÑOS",null,null,"13 AÑOS",null,null,"14 AÑOS",null,null,"15 AÑOS",null,null,"16 AÑOS",null,null,"17 AÑOS",null,null,"18 AÑOS a 26 AÑOS",null,"ESQUEMA PRE EXPOSICIÓN OPCION 1 (I.D.) \n(Se aplica previa autorización del Ministerio)",null,"ESQUEMA PRE EXPOSICIÓN OPCION 2 (I.M.)  \n(Se aplica previa autorización del Ministerio)",null,"ESQUEMA POST EXPOSICION Número de dosis aplicadas ",{"$nulls":3},"ESQUEMA POST EXPOSICION ACORTADO (ZAGREB)  Número de dosis aplicadas",null,null,"TOTAL DE ESQUEMAS POST EXPOSICION (USUARIOS CON  ESQUEMA DE VACUNACION  COMPLETO)","INMUNOGLOBULINA ANTIRRÁBICA (Número de frascos utilizados)","No. De personas que recibieron inmunoglobulina antirrabica.","RECIEN NACIDO\n(Hijo de Madre Antigenos + para HB)",null,null,"(RESOLUCION\n0459/2012- circular 031/14)",null,"INMUNOGLOBULINA\nANTI TETANICA (Suero homólogo)",{"$nulls":4},"codepcomure","DOSIS APLICADAS POR BIOLOGICOS",{"$nulls":17},"FLU ",{"$nulls":9},"ANTI RABICA HUMANA \nPRE/POST-EXPOSICION",{"$nulls":6},"INMUNO GLOBULINA\nANTI HEPATITIS B",null,null,"(RESOLUCION\n0459/2012- circular 031/14)",null,"ANTI TOXINA TETANICA"]
["Nº","COD DANE\nMPIO","NOMBRE MUNICIPIO/\nIPS",{"$nulls":5},"RECIEN NACIDO (Primeras 12 Horas)","RECIEN NACIDO Entre 12 horas y 29 dias","1a","2a","3a","1a","2a","3a","1a","2a","3a","1a","2a","3a","1a","2a","3a","1a","2a","3a","1a","2a","3a","1a","2a","3a","Adicional","1a","2a","3a","Adicional","1a","2a","3a","Adicional","1a","2a","3a","Adicional","1a","2a","3a","Adicional","1a","2a","3a","Adicional","1a","2a","3a","Adicional","1a","2a","3a","Adicional","1a","2a","3a","adicional","1a","2a","3a","1a","2a","3a","1a","2a","3a","1a","2a","3a","1a","2a","3a","1a","2a","3a","Primer Refuerzo",{"$nulls":4},"Segundo Refuerzo",null,"Segundo Refuerzo","1a","2a","3a","1a","2a","3a","1a","2a","1er REF.",{"$nulls":4},"2° REF.",null,null,"1a","2a","3a","1a","2a","3a","1er REF de acuerdo a lineamiento",{"$nulls":4},"1a","1a","1a","1a","1a","2a","3a","1a","2a","3a","1a","2a","3a","1a","2a","3a","1a","2a","3a","1a","2a","3a","1er REF.",{"$nulls":4},"2° REF.",null,null,"1a","2a","3a","1a","2a","3a","1a","2a","3a","1a","2a","3a","1a","2a","3a","1a","2a","3a","1er REF.",{"$nulls":4},"2° REF.",null,null,"1a","2a","3a","1er REF.","2° REF.","1a","2a","3a","1a","2a","3a","1a","2a","3a","1a","2a","3a","1a","2a","3a","1a","2a","3a","1er REF.",{"$nulls":4},"2° REF.",null,null,"1a","2a","3a","1er REF.","2° REF.","1a","2a","1a","2a","REF.","1a","2a","ÚNICA ","1a","2a","REF.","1a","2a","ÚNICA ","DE 1 AÑO","DE 2 AÑOS","DE 3 AÑOS","DE 4 AÑOS","DE 5 AÑOS","DE 6 AÑOS","DE 7 AÑOS","DE 8 AÑOS","DE 9 AÑOS","DE 10 AÑOS","DE 11 AÑOS","DE 5 AÑOS","DE 6 AÑOS","DE 7 AÑOS","DE 8 AÑOS","DE 9 AÑOS","DE 10 AÑOS","DE 11 AÑOS","SR * 6 a 11 MESES 29 DIAS","DE 1 AÑO","DE 2 AÑOS","DE 3 AÑOS","DE 4 AÑOS","DE  5 AÑOS","DE 6 AÑOS","DE 7 AÑOS","DE 8 AÑOS","DE 9 AÑOS","DE 10 AÑOS","DE 11 AÑOS","DE 12 a 14 AÑOS","DE 15 a 17 AÑOS","18 A 30 AÑOS","31 A 40 AÑOS","41 Y MAS AÑOS",{"$nulls":18},"6 meses a 11 meses (Con Autorizacion del MSPS de acuerdo a Lineamientos)","DE 1 AÑO","DE 2 AÑOS","DE 3 AÑOS","DE 4 AÑOS","DE 5 AÑOS","DE 6 AÑOS","DE 7 AÑOS","DE 8 AÑOS","DE 9 AÑOS","DE 10 AÑOS","DE 1 AÑO","DE 2 AÑOS ","DE 3 AÑOS","DE 4 AÑOS ","DE 5 AÑOS ","DE 6 AÑOS ","DE 7 AÑOS ","DE 8 AÑOS ","DE 5 AÑOS  (aplicadas a partir del 1 de julio de 2019)","DE 6 AÑOS  (aplicadas a partir del 1 de julio de 2019)","DE 7 AÑOS  (aplicadas a partir del 1 de julio de 2019)","DE 8 AÑOS  (aplicadas a partir del 1 de julio de 2019)","Td1","Td2","Td3","Ref 1","Ref 2","Td1","Td2","Td3","Td4","Td5","Td1","Td2","Td3","Td4","Td5","REF.\n1","REF.\n2","REF.\n3","REF.\n4","Td1","Td2","Td3","Td4","Td5","Td1","Td2","Td3","Td4","Td5","REF.\n1","REF.\n2","REF.\n3","REF.\n4","Td1","Td2","Td3","Td4","Td5","Td1","Td2","Td3","Td4","Td5","REF.\n1","REF.\n2","REF.\n3","REF.\n4","Td1","Td2","Td3","Td4","Td5","Td1","Td2","Td3","Td4","Td5","U DOSIS EN C/EMBARAZO","Corresponde a Td1","Corresponde a Td2","Corresponde a Td3","Corresponde a Td4","Corresponde a Td5","U DOSIS EN C/EMBARAZO","Corresponde a Td1","Corresponde a Td2","Corresponde a Td3","Corresponde a Td4","Corresponde a Td5","1a","2a","1a","2a","ÚNICA","1a","2a","ÚNICA","ÚNICA","ÚNICA","1a","2a","ÚNICA","ÚNICA","ÚNICA","1a","2a","3a","1a","2a","ÚNICA","1a","2a","3a","1a","2a","3a","1a","2a","3a","1a","2a","3a","1a","2a","3a","1a","2a","3a","1a","2a","3a","1a","2a","3a","1a","2a","3a","2a","3a","1a. y 2a\ndía 0","3a y 4a.\ndía 7 ","1a .\ndía 0","2a.\ndía 7","1a.\ndía 0","2a.\ndia 3","3a.\ndía 7","4a .\ndía 14","1era. y 2da dosis 0,0","3a.\ndía 7","4a.\ndía 21","Número de usuarios",null,null,"Número de frascos utilizados","N° recién nacidos que recibieron dosis de Ig en las primeras 12 horas","N° recién nacidos que recibieron dosis de Ig despues de las primeras 12 horas","Número de frascos utilizados","N° Personas que recibieron dosis de Ig","Número de frascos utilizados","N° Personas que recibieron dosis de Ig","Número de frascos utilizados","N° Personas que recibieron dosis de antitoxina","TOTAL DOSIS",null,"BCG","HEPATITIS B","ANTIPOLIO INACTIVADA (VIP) PARENTERAL","ANTIPOLIO (VOP) ORAL","PENTAVALENTE\nDPT - HB - Hib","DPT","DTPa Acelular Pediatrica","TOXOIDE TETANICO-DIFTERICO PEDIATRICO (TD) ","ROTAVIRUS","NEUMOCOCO CONJUGADA DECAVALENTE","NEUMOCOCO CONJUGADA TRECEVALENTE","SRP (TRIPLE VIRAL)","SR","FIEBRE AMARILLA","HEPATITIS A","VARICELA","TOXOIDE TETANICO-DIFTERICO DE ADULTOS (Td)","dTpa. ACELULAR ","DE 6 MESES A 23 MESES","DE 12 MESES A 23 MESES","24 A 35 MESES","DE 60 AÑOS Y MAS","Gestantes a partir de la semana 14","DE 3 A 8 AÑOS (Poblaciones autorizadas de acuerdo con los lineamientos emitidos por el MSPS )","DE 9 A 17 AÑOS (Poblaciones autorizadas de acuerdo con los lineamientos emitidos por el MSPS )","DE 18 A 59 AÑOS (Poblaciones autorizadas de acuerdo con los lineamientos emitidos por el MSPS )","MENINGOCOCO  (PARA USO EN BROTES) ÚNICA","V.  P.  H.","ESQUEMA PRE EXPOSICIÓN OPCION 1 (I.D.) \n(Se aplica previa autorización del Ministerio)","ESQUEMA PRE EXPOSICIÓN OPCION 2 (I.M.)  ","ESQUEMA POST EXPOSICION Número de dosis aplicadas ","ESQUEMA POST EXPOSICION ACORTADO (ZAGREB)  Número de dosis aplicadas","TOTAL DE ESQUEMAS POST EXPOSICION (USUARIOS CON  ESQUEMA DE VACUNACION  COMPLETO)","INMUNOGLOBULINA ANTIRRÁBICA (Número de frascos utilizados)","TOTAL DE ESQUEMAS POST EXPOSICION (USUARIOS CON  ESQUEMA DE VACUNACION  COMPLETO)","RECIEN NACIDO\n(Hijo de Madre Antigenos + para HB)\nNúmero de frascos utilizados","N° recién nacidos que recibieron dosis de Ig en las primeras 12 horas","N° recién nacidos que recibieron dosis de Ig despues de las primeras 12 horas","Número de frascos utilizados","N° Personas que recibieron dosis de Ig","Número de frascos utilizados","N° Personas que recibieron dosis de Ig","ANTI TOXINA DIFTERICA (Suero heterólogo) Número de frascos utilizados","N° Personas que recibieron dosis de antitoxina","TOTAL DOSIS"]
[null,null,"Bogotá","FEMENINO",{"v":3369,"d":"3,369"},68,12,6,{"v":3401,"d":"3,401"},101,1,1,0,0,20,56,2,4,21,5,2,15,2,1,11,0,3,9,0,0,0,0,0,0,0,0,0,0,0,0,0,0,0,0,0,0,0,0,0,0,0,13,0,1,0,3,0,0,0,12,2,0,0,297,61,38,0,{"v":2258,"d":"2,258"},{"v":2203,"d":"2,203"},{"v":2424,"d":"2,424"},2,20,61,3,4,18,4,2,14,2,1,10,1,1,7,{"v":2221,"d":"2,221"},174,52,26,40,0,0,36,0,0,27,0,0,1,0,0,31,7,0,2,1,0,0,{"v":3334,"d":"3,334"},{"v":2257,"d":"2,257"},{"v":2199,"d":"2,199"},{"v":2426,"d":"2,426"},2,0,0,0,0,0,0,0,0,0,0,0,0,0,0,2,21,58,2,4,19,5,1,15,2,1,11,0,2,9,{"v":2245,"d":"2,245"},183,53,30,35,0,0,{"v":3346,"d":"3,346"},1,1,0,0,0,0,0,0,0,0,1,0,0,0,0,0,0,0,7,0,0,0,0,0,0,16,0,0,0,0,6,0,0,0,0,0,0,0,0,0,0,0,0,0,0,0,0,0,0,0,0,0,0,0,0,0,0,0,0,0,0,0,{"v":2521,"d":"2,521"},{"v":2440,"d":"2,440"},403,{"v":2451,"d":"2,451"},{"v":2575,"d":"2,575"},43,50,153,{"v":2255,"d":"2,255"},0,0,0,0,0,{"v":2609,"d":"2,609"},28,18,12,4,2,1,0,0,0,0,{"v":3515,"d":"3,515"},50,28,7,10,3,0,19,217,28,68,89,105,111,99,76,82,74,77,97,70,651,317,234,{"v":2420,"d":"2,420"},171,49,33,34,10,6,6,5,3,6,6,29,80,{"v":1689,"d":"1,689"},762,472,340,0,{"v":2722,"d":"2,722"},51,51,40,46,30,10,8,7,1,{"v":2634,"d":"2,634"},48,51,40,49,29,9,2,{"v":3479,"d":"3,479"},42,37,0,7,0,0,0,19,97,31,0,3,1,{"v":1921,"d":"1,921"},879,373,257,138,17,0,0,0,595,291,92,24,5,{"v":2240,"d":"2,240"},{"v":1513,"d":"1,513"},{"v":1815,"d":"1,815"},{"v":1140,"d":"1,140"},816,173,0,0,0,0,0,0,0,0,0,0,0,0,0,0,0,0,0,4,3,0,2,4,3,1,1,0,1,29,49,69,5,1,0,{"v":1280,"d":"1,280"},838,{"v":1542,"d":"1,542"},508,382,237,{"v":3456,"d":"3,456"},{"v":3570,"d":"3,570"},{"v":1798,"d":"1,798"},{"v":1605,"d":"1,605"},{"v":2877,"d":"2,877"},36,20,211,{"v":30293,"d":"30,293"},{"v":6438,"d":"6,438"},4,0,918,951,{"v":13480,"d":"13,480"},0,0,0,0,0,1,{"v":1550,"d":"1,550"},343,0,649,551,0,601,510,0,502,393,2,440,346,0,425,281,1,468,271,0,339,228,0,179,202,1,47,0,0,0,0,0,0,0,0,0,585,206,155,155,182,51,1,0,1,36,24,0,0,8,1,{"$f":"SUM(E8:QB8)-(PQ8+PS8+PU8+PV8+PX8)","v":{"v":163150,"d":"163,150"}},null,{"$f":"SUM(E8:H8)","v":{"v":3455,"d":"3,455.0"}},{"$f":"SUM(I8:BO8)","v":{"v":4082,"d":"4,082.0"}},{"$f":"SUM(BP8:CW8)","v":{"v":9612,"d":"9,612.0"}},{"$f":"SUM(CX8:DE8)","v":{"v":3375,"d":"3,375.0"}},{"$f":"SUM(DF8:DT8)","v":{"v":6884,"d":"6,884.0"}},{"$f":"SUM(DU8:ET8)","v":{"v":6044,"d":"6,044.0"}},{"$f":"SUM(EU8:FY8)","v":{"v":32,"d":"32.0"}},{"$f":"SUM(FZ8:HD8)","v":{"v":0,"d":"0.0"}},{"$f":"SUM(HE8:HF8)","v":{"v":4961,"d":"4,961.0"}},{"$f":"SUM(HG8:HL8)","v":{"v":5675,"d":"5,675.0"}},{"$f":"SUM(HM8:HR8)","v":{"v":2255,"d":"2,255.0"}},{"$f":"SUM(HS8:IJ8)","v":{"v":6287,"d":"6,287.0"}},{"$f":"SUM(IK8:JA8)","v":{"v":2414,"d":"2,414.0"}},{"$f":"SUM(JB8:JT8)","v":{"v":6121,"d":"6,121.0"}},{"$f":"SUM(JU8:KD8)","v":{"v":2966,"d":"2,966.0"}},{"$f":"SUM(KE8:KP8)","v":{"v":6420,"d":"6,420.0"}},{"$f":"SUM(KQ8:MU8)","v":{"v":12466,"d":"12,466.0"}},{"$f":"SUM(MV8:NG8)","v":{"v":4940,"d":"4,940.0"}},{"$f":"SUM(NH8:NI8)","v":{"v":7026,"d":"7,026.0"}},{"$f":"SUM(NJ8:NL8)","v":{"v":6280,"d":"6,280.0"}},{"$f":"SUM(NM8:NO8)","v":{"v":267,"d":"267.0"}},{"$f":"SUM(NP8)","v":{"v":30293,"d":"30,293.0"}},{"v":6438,"d":"6,438.0"},{"$f":"SUM(NR8:NT8)","v":{"v":922,"d":"922.0"}},{"$f":"SUM(NU8)","v":{"v":951,"d":"951.0"}},{"$f":"SUM(NV8)","v":{"v":13480,"d":"13,480.0"}},{"$f":"SUM(NW8:OB8)","v":{"v":1,"d":"1.0"}},{"$f":"SUM(OC8:PE8)","v":{"v":8329,"d":"8,329.0"}},{"$f":"SUM(PF8:PG8)","v":{"v":0,"d":"0.0"}},{"$f":"SUM(PH8:PI8)","v":{"v":0,"d":"0.0"}},{"$f":"SUM(PJ8:PM8)","v":{"v":0,"d":"0.0"}},{"$f":"SUM(PN8:PP8)","v":{"v":946,"d":"946.0"}},{"$f":"SUM(PQ8)","v":{"v":155,"d":"155.0"}},{"$f":"SUM(PR8)","v":{"v":182,"d":"182.0"}},{"$f":"SUM(PS8)","v":{"v":51,"d":"51.0"}},{"$f":"SUM(PT8:PV8)","v":{"v":2,"d":"2.0"}},{"$f":"SUM(PV8)","v":{"v":1,"d":"1.0"}},{"$f":"SUM(PV8)","v":{"v":1,"d":"1.0"}},{"v":36,"d":"36.0"},{"v":24,"d":"24.0"},{"v":0,"d":"0.0"},{"v":0,"d":"0.0"},{"v":8,"d":"8.0"},{"v":1,"d":"1.0"},{"$f":"SUM(QE8:RU8)-SUM(RI8:RM8)-SUM(RQ8:RT8)","v":{"v":161988,"d":"161,988"}}]
[{"$nulls":3},"MASCULINO",{"v":3161,"d":"3,161"},93,10,4,{"v":3114,"d":"3,114"},109,1,0,1,2,24,39,4,8,15,3,7,4,1,1,5,1,2,4,0,0,0,0,0,0,0,0,0,0,0,0,0,0,0,0,0,0,0,0,0,0,0,1,0,0,0,0,0,0,0,2,0,0,0,274,44,25,7,{"v":2396,"d":"2,396"},{"v":2226,"d":"2,226"},{"v":2475,"d":"2,475"},10,24,41,4,8,15,3,7,5,0,1,5,0,3,4,{"v":2230,"d":"2,230"},207,50,22,39,0,0,31,1,0,23,0,0,7,0,0,23,3,0,0,2,0,0,{"v":3586,"d":"3,586"},{"v":2389,"d":"2,389"},{"v":2228,"d":"2,228"},{"v":2469,"d":"2,469"},7,0,0,0,0,0,0,0,0,0,0,0,0,0,0,4,24,39,4,8,13,3,7,3,1,1,4,0,3,4,{"v":2242,"d":"2,242"},211,54,26,34,0,0,{"v":3600,"d":"3,600"},1,0,4,0,0,0,0,0,1,0,0,0,0,0,0,0,0,0,10,2,1,0,0,0,0,11,0,0,0,1,5,0,0,0,0,0,0,0,0,0,0,0,0,0,0,0,0,0,0,0,0,0,0,0,0,0,0,0,0,0,0,0,{"v":2613,"d":"2,613"},{"v":2487,"d":"2,487"},486,{"v":2498,"d":"2,498"},{"v":2682,"d":"2,682"},48,52,145,{"v":2251,"d":"2,251"},0,0,0,0,0,{"v":2732,"d":"2,732"},26,16,6,8,4,3,0,0,0,0,{"v":3785,"d":"3,785"},47,28,14,5,9,2,17,163,44,74,102,86,125,110,102,111,94,75,92,65,323,203,107,{"v":2389,"d":"2,389"},195,51,18,37,8,5,4,7,4,6,8,20,59,{"v":1578,"d":"1,578"},889,450,265,0,{"v":2838,"d":"2,838"},53,44,37,44,31,26,9,5,2,{"v":2762,"d":"2,762"},50,43,33,48,30,22,1,{"v":3745,"d":"3,745"},47,20,0,7,0,0,2,27,0,0,0,0,0,1,0,0,0,0,0,0,0,0,0,0,0,0,0,0,0,0,0,0,0,0,0,0,21,1,0,0,1,269,52,23,4,0,1,0,0,0,8,0,0,0,1,7,0,0,0,1,0,0,0,0,0,0,0,0,1,0,0,0,{"v":3554,"d":"3,554"},{"v":3726,"d":"3,726"},{"v":1965,"d":"1,965"},{"v":1572,"d":"1,572"},{"v":2825,"d":"2,825"},43,27,288,{"v":20177,"d":"20,177"},2,5,0,{"v":1111,"d":"1,111"},778,{"v":8724,"d":"8,724"},0,0,0,0,0,1,6,0,0,1,3,0,3,0,0,4,0,0,1,1,0,3,0,0,1,0,0,0,2,0,0,0,0,0,0,0,0,0,0,0,0,0,0,562,221,127,127,203,50,2,1,1,6,2,2,1,0,0,{"$f":"SUM(E9:QB9)-(PQ9+PS9+PU9+PV9+PX9)","v":{"v":117928,"d":"117,928"}},null,{"$f":"SUM(E9:H9)","v":{"v":3268,"d":"3,268.0"}},{"$f":"SUM(I9:BO9)","v":{"v":3698,"d":"3,698.0"}},{"$f":"SUM(BP9:CW9)","v":{"v":9837,"d":"9,837.0"}},{"$f":"SUM(CX9:DE9)","v":{"v":3614,"d":"3,614.0"}},{"$f":"SUM(DF9:DT9)","v":{"v":7093,"d":"7,093.0"}},{"$f":"SUM(DU9:ET9)","v":{"v":6285,"d":"6,285.0"}},{"$f":"SUM(EU9:FY9)","v":{"v":36,"d":"36.0"}},{"$f":"SUM(FZ9:HD9)","v":{"v":0,"d":"0.0"}},{"$f":"SUM(HE9:HF9)","v":{"v":5100,"d":"5,100.0"}},{"$f":"SUM(HG9:HL9)","v":{"v":5911,"d":"5,911.0"}},{"$f":"SUM(HM9:HR9)","v":{"v":2251,"d":"2,251.0"}},{"$f":"SUM(HS9:IJ9)","v":{"v":6685,"d":"6,685.0"}},{"$f":"SUM(IK9:JA9)","v":{"v":1893,"d":"1,893.0"}},{"$f":"SUM(JB9:JT9)","v":{"v":5993,"d":"5,993.0"}},{"$f":"SUM(JU9:KD9)","v":{"v":3089,"d":"3,089.0"}},{"$f":"SUM(KE9:KP9)","v":{"v":6801,"d":"6,801.0"}},{"$f":"SUM(KQ9:MU9)","v":{"v":426,"d":"426.0"}},{"$f":"SUM(MV9:NG9)","v":{"v":1,"d":"1.0"}},{"$f":"SUM(NH9:NI9)","v":{"v":7280,"d":"7,280.0"}},{"$f":"SUM(NJ9:NL9)","v":{"v":6362,"d":"6,362.0"}},{"$f":"SUM(NM9:NO9)","v":{"v":358,"d":"358.0"}},{"$f":"SUM(NP9)","v":{"v":20177,"d":"20,177.0"}},{"$f":"SUM(NQ9)","v":{"v":2,"d":"2.0"}},{"$f":"SUM(NR9:NT9)","v":{"v":1116,"d":"1,116.0"}},{"$f":"SUM(NU9)","v":{"v":778,"d":"778.0"}},{"$f":"SUM(NV9)","v":{"v":8724,"d":"8,724.0"}},{"$f":"SUM(NW9:OB9)","v":{"v":1,"d":"1.0"}},{"$f":"SUM(OC9:PE9)","v":{"v":25,"d":"25.0"}},{"$f":"SUM(PF9:PG9)","v":{"v":0,"d":"0.0"}},{"$f":"SUM(PH9:PI9)","v":{"v":0,"d":"0.0"}},{"$f":"SUM(PJ9:PM9)","v":{"v":0,"d":"0.0"}},{"$f":"SUM(PN9:PP9)","v":{"v":910,"d":"910.0"}},{"$f":"SUM(PQ9)","v":{"v":127,"d":"127.0"}},{"$f":"SUM(PR9)","v":{"v":203,"d":"203.0"}},{"$f":"SUM(PS9)","v":{"v":50,"d":"50.0"}},{"$f":"SUM(PT9:PV9)","v":{"v":4,"d":"4.0"}},{"$f":"SUM(PV9)","v":{"v":1,"d":"1.0"}},{"$f":"SUM(PV9)","v":{"v":1,"d":"1.0"}},{"$f":"SUM(PW9)","v":{"v":6,"d":"6.0"}},{"$f":"SUM(PX9)","v":{"v":2,"d":"2.0"}},{"$f":"SUM(PY9)","v":{"v":2,"d":"2.0"}},{"$f":"SUM(PZ9)","v":{"v":1,"d":"1.0"}},{"$f":"SUM(QA9)","v":{"v":0,"d":"0.0"}},{"$f":"SUM(QB9)","v":{"v":0,"d":"0.0"}},{"$f":"SUM(QE9:RU9)-SUM(RI9:RM9)-SUM(RQ9:RT9)","v":{"v":116810,"d":"116,810"}}]
[{"$nulls":3},"OTRO",1,0,0,0,1,0,0,0,0,0,0,0,0,0,0,0,0,0,0,0,0,0,0,0,0,0,0,0,0,0,0,0,0,0,0,0,0,0,0,0,0,0,0,0,0,0,0,0,0,0,0,0,0,0,0,0,0,0,0,0,0,0,0,0,0,0,0,0,0,0,0,0,0,0,0,0,0,0,0,0,0,0,0,0,0,0,0,0,0,0,0,0,0,0,0,0,0,0,0,0,0,0,0,0,0,0,0,0,0,0,0,0,0,0,0,0,0,0,0,0,0,0,0,0,0,0,0,0,0,0,0,0,0,0,0,0,0,0,0,0,0,0,0,0,0,0,0,0,0,0,0,0,0,0,0,0,0,0,0,0,0,0,0,0,0,0,0,0,0,0,0,0,0,0,0,0,0,0,0,0,0,0,0,0,0,0,0,0,0,0,0,0,0,0,0,0,0,0,0,0,0,0,0,0,0,0,0,0,0,0,0,0,0,0,0,1,0,0,0,0,0,0,0,0,0,0,0,0,0,0,0,0,0,0,0,0,0,0,0,0,0,0,0,0,0,0,0,0,0,0,0,0,0,0,0,0,0,0,0,0,0,0,0,0,0,0,0,0,0,0,0,0,1,0,0,0,0,0,1,0,0,0,0,0,0,0,0,0,1,0,0,0,0,0,0,0,0,0,0,0,0,0,0,0,0,0,0,0,0,0,0,0,0,0,0,0,0,0,0,0,0,0,0,0,0,0,0,0,0,0,0,0,0,0,0,0,0,0,0,0,0,0,0,0,0,0,0,0,0,0,0,0,0,0,0,0,0,0,0,0,0,0,0,0,0,0,0,0,1,0,0,0,0,0,0,2,0,0,0,0,0,1,0,0,0,0,0,0,0,0,0,0,0,0,0,0,0,0,0,0,0,0,0,0,0,0,0,0,0,0,0,0,0,0,0,0,0,0,0,0,0,0,0,0,0,0,0,0,0,0,0,0,0,0,0,0,0,0,0,0,10,null,{"v":1,"d":"1.0"},{"v":1,"d":"1.0"},{"v":0,"d":"0.0"},{"v":0,"d":"0.0"},{"v":0,"d":"0.0"},{"v":0,"d":"0.0"},{"v":0,"d":"0.0"},{"v":0,"d":"0.0"},{"v":0,"d":"0.0"},{"v":1,"d":"1.0"},{"v":0,"d":"0.0"},{"v":0,"d":"0.0"},{"v":0,"d":"0.0"},{"v":1,"d":"1.0"},{"v":1,"d":"1.0"},{"v":1,"d":"1.0"},{"v":0,"d":"0.0"},{"v":0,"d":"0.0"},{"v":1,"d":"1.0"},{"v":0,"d":"0.0"},{"v":0,"d":"0.0"},{"v":2,"d":"2.0"},{"v":0,"d":"0.0"},{"v":0,"d":"0.0"},{"v":0,"d":"0.0"},{"v":1,"d":"1.0"},{"v":0,"d":"0.0"},{"v":0,"d":"0.0"},{"v":0,"d":"0.0"},{"v":0,"d":"0.0"},{"v":0,"d":"0.0"},{"v":0,"d":"0.0"},{"v":0,"d":"0.0"},{"v":0,"d":"0.0"},{"v":0,"d":"0.0"},{"v":0,"d":"0.0"},{"v":0,"d":"0.0"},{"v":0,"d":"0.0"},{"v":0,"d":"0.0"},{"v":0,"d":"0.0"},{"v":0,"d":"0.0"},{"v":0,"d":"0.0"},{"v":0,"d":"0.0"},{"v":0,"d":"0.0"},10]
[{"$nulls":3},"TOTAL GENERO",{"v":6531,"d":"6,531"},161,22,10,{"v":6516,"d":"6,516"},210,2,1,1,2,44,95,6,12,36,8,9,19,3,2,16,1,5,13,0,0,0,0,0,0,0,0,0,0,0,0,0,0,0,0,0,0,0,0,0,0,0,14,0,1,0,3,0,0,0,14,2,0,0,571,105,63,7,{"v":4654,"d":"4,654"},{"v":4429,"d":"4,429"},{"v":4899,"d":"4,899"},12,44,102,7,12,33,7,9,19,2,2,15,1,4,11,{"v":4451,"d":"4,451"},381,102,48,79,0,0,67,1,0,50,0,0,8,0,0,54,10,0,2,3,0,0,{"v":6920,"d":"6,920"},{"v":4646,"d":"4,646"},{"v":4427,"d":"4,427"},{"v":4895,"d":"4,895"},9,0,0,0,0,0,0,0,0,0,0,0,0,0,0,6,45,97,6,12,32,8,8,18,3,2,15,0,5,13,{"v":4487,"d":"4,487"},394,107,56,69,0,0,{"v":6946,"d":"6,946"},2,1,4,0,0,0,0,0,1,0,1,0,0,0,0,0,0,0,17,2,1,0,0,0,0,27,0,0,0,1,11,0,0,0,0,0,0,0,0,0,0,0,0,0,0,0,0,0,0,0,0,0,0,0,0,0,0,0,0,0,0,0,{"v":5134,"d":"5,134"},{"v":4927,"d":"4,927"},889,{"v":4949,"d":"4,949"},{"v":5257,"d":"5,257"},91,102,299,{"v":4506,"d":"4,506"},0,0,0,0,0,{"v":5341,"d":"5,341"},54,34,18,12,6,4,0,0,0,0,{"v":7300,"d":"7,300"},97,56,21,15,12,2,36,380,72,142,191,191,236,209,178,193,168,152,189,135,974,520,341,{"v":4809,"d":"4,809"},366,100,51,71,18,11,10,12,7,12,14,49,139,{"v":3267,"d":"3,267"},{"v":1652,"d":"1,652"},922,605,0,{"v":5560,"d":"5,560"},104,96,77,90,61,36,17,12,3,{"v":5396,"d":"5,396"},98,95,73,97,59,31,3,{"v":7224,"d":"7,224"},89,57,0,14,0,0,2,46,97,31,0,3,1,{"v":1922,"d":"1,922"},879,373,257,138,17,0,0,0,595,291,92,24,5,{"v":2240,"d":"2,240"},{"v":1513,"d":"1,513"},{"v":1815,"d":"1,815"},{"v":1140,"d":"1,140"},816,173,0,0,0,21,1,0,0,1,269,52,23,4,0,1,0,0,0,12,3,0,2,5,10,1,1,0,2,29,49,69,5,1,0,{"v":1280,"d":"1,280"},838,{"v":1543,"d":"1,543"},508,382,237,{"v":7010,"d":"7,010"},{"v":7297,"d":"7,297"},{"v":3763,"d":"3,763"},{"v":3177,"d":"3,177"},{"v":5702,"d":"5,702"},79,47,499,{"v":50472,"d":"50,472"},{"v":6440,"d":"6,440"},9,0,{"v":2029,"d":"2,029"},{"v":1729,"d":"1,729"},{"v":22205,"d":"22,205"},0,0,0,0,0,2,{"v":1556,"d":"1,556"},343,0,650,554,0,604,510,0,506,393,2,441,347,0,428,281,1,469,271,0,339,230,0,179,202,1,47,0,0,0,0,0,0,0,0,0,{"v":1147,"d":"1,147"},427,282,282,385,101,3,1,2,42,26,2,1,8,1,{"$f":"SUM(QC8:QC10)","v":{"v":281088,"d":"281,088"}},null,{"$f":"SUM(QE8:QE10)","v":{"v":6724,"d":"6,724.0"}},{"$f":"SUM(QF8:QF10)","v":{"v":7781,"d":"7,781.0"}},{"v":19449,"d":"19,449.0"},{"v":6989,"d":"6,989.0"},{"v":13977,"d":"13,977.0"},{"v":12329,"d":"12,329.0"},{"v":68,"d":"68.0"},{"v":0,"d":"0.0"},{"v":10061,"d":"10,061.0"},{"v":11587,"d":"11,587.0"},{"$f":"SUM(QO8:QO10)","v":{"v":4506,"d":"4,506.0"}},{"v":12972,"d":"12,972.0"},{"v":4307,"d":"4,307.0"},{"v":12115,"d":"12,115.0"},{"v":6056,"d":"6,056.0"},{"v":13222,"d":"13,222.0"},{"v":12892,"d":"12,892.0"},{"v":4941,"d":"4,941.0"},{"v":14307,"d":"14,307.0"},{"v":12642,"d":"12,642.0"},{"v":625,"d":"625.0"},{"v":50472,"d":"50,472.0"},{"v":6440,"d":"6,440.0"},{"$f":"SUM(RB8:RB10)","v":{"v":2038,"d":"2,038.0"}},{"v":1729,"d":"1,729.0"},{"v":22205,"d":"22,205.0"},{"v":2,"d":"2.0"},{"v":8354,"d":"8,354.0"},{"v":0,"d":"0.0"},{"v":0,"d":"0.0"},{"v":0,"d":"0.0"},{"v":1856,"d":"1,856.0"},{"$f":"SUM(RK8:RK10)","v":{"v":282,"d":"282.0"}},{"v":385,"d":"385.0"},{"v":101,"d":"101.0"},{"v":6,"d":"6.0"},{"v":2,"d":"2.0"},{"v":2,"d":"2.0"},{"v":42,"d":"42.0"},{"v":26,"d":"26.0"},{"v":2,"d":"2.0"},{"v":1,"d":"1.0"},{"v":8,"d":"8.0"},{"v":1,"d":"1.0"},{"$f":"SUM(RW8:RW10)","v":{"v":278808,"d":"278,808"}}]
[{"$nulls":3},"CONTRIBUTIVO",{"v":4943,"d":"4,943"},116,1,2,{"v":4942,"d":"4,942"},133,2,0,0,1,10,17,0,1,8,2,2,1,1,0,2,0,1,1,0,0,0,0,0,0,0,0,0,0,0,0,0,0,0,0,0,0,0,0,0,0,0,13,0,0,0,1,0,0,0,10,1,0,0,233,53,36,6,{"v":3223,"d":"3,223"},{"v":3076,"d":"3,076"},{"v":3467,"d":"3,467"},1,10,19,1,1,7,2,2,2,1,0,0,0,0,1,{"v":3222,"d":"3,222"},173,33,19,28,0,0,52,0,0,19,0,0,3,0,0,27,5,0,1,0,0,0,{"v":5357,"d":"5,357"},{"v":3217,"d":"3,217"},{"v":3076,"d":"3,076"},{"v":3462,"d":"3,462"},0,0,0,0,0,0,0,0,0,0,0,0,0,0,0,3,10,17,0,1,6,2,1,1,1,0,1,0,0,1,{"v":3236,"d":"3,236"},177,34,20,25,0,0,{"v":5381,"d":"5,381"},2,1,2,0,0,0,0,0,1,0,1,0,0,0,0,0,0,0,12,2,0,0,0,0,0,20,0,0,0,0,6,0,0,0,0,0,0,0,0,0,0,0,0,0,0,0,0,0,0,0,0,0,0,0,0,0,0,0,0,0,0,0,{"v":3743,"d":"3,743"},{"v":3613,"d":"3,613"},521,{"v":3565,"d":"3,565"},{"v":3773,"d":"3,773"},3,10,21,{"v":3384,"d":"3,384"},0,0,0,0,0,{"v":3764,"d":"3,764"},14,7,3,3,0,0,0,0,0,0,{"v":5660,"d":"5,660"},37,18,5,7,4,1,16,263,49,89,116,119,139,143,120,126,109,105,109,74,695,375,228,{"v":3565,"d":"3,565"},186,42,24,32,6,3,4,4,1,7,10,30,102,{"v":2658,"d":"2,658"},{"v":1353,"d":"1,353"},728,486,0,{"v":3939,"d":"3,939"},16,9,4,8,3,2,0,1,1,{"v":3791,"d":"3,791"},13,8,4,20,1,2,0,{"v":5626,"d":"5,626"},40,18,0,8,0,0,0,12,53,10,0,1,0,{"v":1488,"d":"1,488"},653,303,214,123,12,0,0,0,464,231,71,18,5,{"v":1769,"d":"1,769"},{"v":1218,"d":"1,218"},{"v":1450,"d":"1,450"},957,675,136,0,0,0,12,1,0,0,0,178,0,0,0,0,0,0,0,0,10,1,0,2,2,6,0,1,0,2,13,21,32,2,1,0,{"v":1054,"d":"1,054"},542,{"v":1235,"d":"1,235"},419,317,210,{"v":5107,"d":"5,107"},{"v":5452,"d":"5,452"},{"v":2541,"d":"2,541"},{"v":2213,"d":"2,213"},{"v":4318,"d":"4,318"},37,27,344,{"v":38394,"d":"38,394"},{"v":5022,"d":"5,022"},2,0,{"v":1397,"d":"1,397"},{"v":1129,"d":"1,129"},{"v":16280,"d":"16,280"},0,0,0,0,0,0,{"v":1236,"d":"1,236"},290,0,504,447,0,488,406,0,398,307,2,345,274,0,311,212,1,350,220,0,255,174,0,122,167,1,33,0,0,0,0,0,0,0,0,0,893,335,215,215,265,65,1,1,1,32,16,2,1,0,0,{"$f":"SUM(E12:QB12)-(PQ12+PS12+PU12+PV12+PX12)","v":{"v":206270,"d":"206,270"}},null,{"$f":"SUM(E12:H12)","v":{"v":5062,"d":"5,062.0"}},{"$f":"SUM(I12:BO12)","v":{"v":5477,"d":"5,477.0"}},{"$f":"SUM(BP12:CW12)","v":{"v":13362,"d":"13,362.0"}},{"$f":"SUM(CX12:DE12)","v":{"v":5390,"d":"5,390.0"}},{"$f":"SUM(DF12:DT12)","v":{"v":9755,"d":"9,755.0"}},{"$f":"SUM(DU12:ET12)","v":{"v":8917,"d":"8,917.0"}},{"$f":"SUM(EU12:FY12)","v":{"v":47,"d":"47.0"}},{"$f":"SUM(FZ12:HD12)","v":{"v":0,"d":"0.0"}},{"$f":"SUM(HE12:HF12)","v":{"v":7356,"d":"7,356.0"}},{"$f":"SUM(HG12:HL12)","v":{"v":7893,"d":"7,893.0"}},{"$f":"SUM(HM12:HR12)","v":{"v":3384,"d":"3,384.0"}},{"$f":"SUM(HS12:IJ12)","v":{"v":9523,"d":"9,523.0"}},{"$f":"SUM(IK12:JA12)","v":{"v":2875,"d":"2,875.0"}},{"$f":"SUM(JB12:JT12)","v":{"v":9241,"d":"9,241.0"}},{"$f":"SUM(JU12:KD12)","v":{"v":3983,"d":"3,983.0"}},{"$f":"SUM(KE12:KP12)","v":{"v":9523,"d":"9,523.0"}},{"$f":"SUM(KQ12:MU12)","v":{"v":10086,"d":"10,086.0"}},{"$f":"SUM(MV12:NG12)","v":{"v":3846,"d":"3,846.0"}},{"$f":"SUM(NH12:NI12)","v":{"v":10559,"d":"10,559.0"}},{"$f":"SUM(NJ12:NL12)","v":{"v":9072,"d":"9,072.0"}},{"$f":"SUM(NM12:NO12)","v":{"v":408,"d":"408.0"}},{"$f":"SUM(NP12)","v":{"v":38394,"d":"38,394.0"}},{"$f":"SUM(NQ12)","v":{"v":5022,"d":"5,022.0"}},{"$f":"SUM(NR12:NT12)","v":{"v":1399,"d":"1,399.0"}},{"$f":"SUM(NU12)","v":{"v":1129,"d":"1,129.0"}},{"$f":"SUM(NV12)","v":{"v":16280,"d":"16,280.0"}},{"$f":"SUM(NW12:OB12)","v":{"v":0,"d":"0.0"}},{"$f":"SUM(OC12:PE12)","v":{"v":6543,"d":"6,543.0"}},{"$f":"SUM(PF12:PG12)","v":{"v":0,"d":"0.0"}},{"$f":"SUM(PH12:PI12)","v":{"v":0,"d":"0.0"}},{"$f":"SUM(PJ12:PM12)","v":{"v":0,"d":"0.0"}},{"$f":"SUM(PN12:PP12)","v":{"v":1443,"d":"1,443.0"}},{"$f":"SUM(PQ12)","v":{"v":215,"d":"215.0"}},{"$f":"SUM(PR12)","v":{"v":265,"d":"265.0"}},{"$f":"SUM(PS12)","v":{"v":65,"d":"65.0"}},{"$f":"SUM(PT12:PV12)","v":{"v":3,"d":"3.0"}},{"$f":"SUM(PV12)","v":{"v":1,"d":"1.0"}},{"$f":"SUM(PV12)","v":{"v":1,"d":"1.0"}},{"$f":"SUM(PW12)","v":{"v":32,"d":"32.0"}},{"$f":"SUM(PX12)","v":{"v":16,"d":"16.0"}},{"$f":"SUM(PY12)","v":{"v":2,"d":"2.0"}},{"$f":"SUM(PZ12)","v":{"v":1,"d":"1.0"}},{"$f":"SUM(QA12)","v":{"v":0,"d":"0.0"}},{"$f":"SUM(QB12)","v":{"v":0,"d":"0.0"}},{"$f":"SUM(QE12:RU12)-SUM(RI12:RM12)-SUM(RQ12:RT12)","v":{"v":204531,"d":"204,531"}}]
[{"$nulls":3},"SUBSIDIADO",938,26,3,3,952,11,0,0,1,0,11,29,0,3,10,2,0,3,0,1,2,0,2,2,0,0,0,0,0,0,0,0,0,0,0,0,0,0,0,0,0,0,0,0,0,0,0,0,0,1,0,2,0,0,0,2,1,0,0,208,21,12,1,969,956,{"v":1036,"d":"1,036"},2,11,32,0,4,9,2,0,2,0,1,2,0,2,1,946,114,23,10,16,0,0,8,0,0,6,0,0,1,0,0,14,2,0,0,0,0,0,961,969,954,{"v":1036,"d":"1,036"},2,0,0,0,0,0,0,0,0,0,0,0,0,0,0,1,11,29,0,3,10,2,0,2,0,1,2,0,2,2,953,115,23,12,13,0,0,963,0,0,2,0,0,0,0,0,0,0,0,0,0,0,0,0,0,0,5,0,0,0,0,0,0,5,0,0,0,1,1,0,0,0,0,0,0,0,0,0,0,0,0,0,0,0,0,0,0,0,0,0,0,0,0,0,0,0,0,0,0,0,942,939,197,964,{"v":1112,"d":"1,112"},5,20,26,781,0,0,0,0,0,{"v":1120,"d":"1,120"},8,2,1,3,0,2,0,0,0,0,985,16,7,4,3,1,0,16,87,17,25,33,34,37,28,20,31,19,18,45,46,157,87,71,949,111,20,6,12,2,2,0,1,1,0,0,4,14,185,65,44,29,0,{"v":1127,"d":"1,127"},14,6,7,14,5,3,2,4,0,{"v":1124,"d":"1,124"},14,8,7,18,7,3,0,975,15,8,0,4,0,0,1,8,29,13,0,2,1,285,155,48,33,13,5,0,0,0,62,38,12,6,0,259,161,205,117,97,28,0,0,0,6,0,0,0,0,52,8,5,1,0,0,0,0,0,2,2,0,0,2,4,1,0,0,0,13,17,27,3,0,0,169,165,200,68,43,17,{"v":1379,"d":"1,379"},{"v":1407,"d":"1,407"},817,693,{"v":1055,"d":"1,055"},16,10,90,{"v":8154,"d":"8,154"},923,2,0,302,319,{"v":3883,"d":"3,883"},0,0,0,0,0,1,203,28,0,73,60,0,58,54,0,59,51,0,46,37,0,73,38,0,63,26,0,52,29,0,22,19,0,10,0,0,0,0,0,0,0,0,0,148,58,38,38,100,29,1,0,0,7,7,0,0,8,1,{"v":48011,"d":"48,011"},null,{"v":970,"d":"970.0"},{"v":1277,"d":"1,277.0"},{"v":4153,"d":"4,153.0"},{"v":977,"d":"977.0"},{"v":2961,"d":"2,961.0"},{"v":2144,"d":"2,144.0"},{"v":14,"d":"14.0"},{"v":0,"d":"0.0"},{"v":1881,"d":"1,881.0"},{"v":2324,"d":"2,324.0"},{"v":781,"d":"781.0"},{"v":2152,"d":"2,152.0"},{"v":771,"d":"771.0"},{"v":1445,"d":"1,445.0"},{"v":1182,"d":"1,182.0"},{"v":2179,"d":"2,179.0"},{"v":1665,"d":"1,665.0"},{"v":722,"d":"722.0"},{"v":2786,"d":"2,786.0"},{"v":2565,"d":"2,565.0"},{"v":116,"d":"116.0"},{"v":8154,"d":"8,154.0"},{"v":923,"d":"923.0"},{"v":304,"d":"304.0"},{"v":319,"d":"319.0"},{"v":3883,"d":"3,883.0"},{"v":1,"d":"1.0"},{"v":1001,"d":"1,001.0"},{"v":0,"d":"0.0"},{"v":0,"d":"0.0"},{"v":0,"d":"0.0"},{"v":244,"d":"244.0"},{"v":38,"d":"38.0"},{"v":100,"d":"100.0"},{"v":29,"d":"29.0"},{"v":1,"d":"1.0"},{"v":0,"d":"0.0"},{"v":0,"d":"0.0"},{"v":7,"d":"7.0"},{"v":7,"d":"7.0"},{"v":0,"d":"0.0"},{"v":0,"d":"0.0"},{"v":8,"d":"8.0"},{"v":1,"d":"1.0"},{"v":47659,"d":"47,659"}]
[{"$nulls":3},"POBRE NO ASEGURADO",341,12,18,5,346,27,0,1,0,1,23,47,6,8,18,4,7,15,2,1,11,1,2,10,0,0,0,0,0,0,0,0,0,0,0,0,0,0,0,0,0,0,0,0,0,0,0,0,0,0,0,0,0,0,0,2,0,0,0,126,31,13,0,345,262,267,9,23,46,6,7,17,3,7,15,1,1,12,1,2,9,155,89,44,19,33,0,0,4,1,0,25,0,0,4,0,0,3,2,0,1,2,0,0,332,344,262,268,7,0,0,0,0,0,0,0,0,0,0,0,0,0,0,2,24,48,6,8,16,4,7,15,2,1,11,0,3,10,158,97,48,24,29,0,0,331,0,0,0,0,0,0,0,0,0,0,0,0,0,0,0,0,0,0,0,0,1,0,0,0,0,0,0,0,0,0,2,0,0,0,0,0,0,0,0,0,0,0,0,0,0,0,0,0,0,0,0,0,0,0,0,0,0,0,0,0,0,0,314,221,147,266,205,82,72,251,238,0,0,0,0,0,295,32,25,14,6,6,2,0,0,0,0,376,41,30,12,4,7,1,2,20,4,24,34,30,44,27,28,28,30,19,28,15,97,41,31,147,64,36,21,25,10,6,6,7,5,5,3,13,23,327,148,89,61,0,326,74,80,66,68,53,31,15,7,2,322,71,78,62,59,51,25,3,355,31,28,0,2,0,0,1,25,13,7,0,0,0,115,48,7,5,1,0,0,0,0,16,5,1,0,0,119,56,99,24,14,3,0,0,0,3,0,0,0,1,28,1,1,0,0,0,0,0,0,0,0,0,0,1,0,0,0,0,0,2,11,10,0,0,0,31,107,72,8,8,3,338,203,310,172,117,23,8,35,446,340,3,0,207,136,985,0,0,0,0,0,0,54,11,0,34,15,0,24,16,0,28,12,0,16,5,0,17,6,0,19,8,0,10,1,0,16,1,0,2,0,0,0,0,0,0,0,0,0,32,6,3,3,13,4,1,0,1,3,3,0,0,0,0,{"v":15029,"d":"15,029"},null,{"v":376,"d":"376.0"},{"v":702,"d":"702.0"},{"v":1407,"d":"1,407.0"},{"v":340,"d":"340.0"},{"v":881,"d":"881.0"},{"v":844,"d":"844.0"},{"v":3,"d":"3.0"},{"v":0,"d":"0.0"},{"v":535,"d":"535.0"},{"v":1023,"d":"1,023.0"},{"v":238,"d":"238.0"},{"v":851,"d":"851.0"},{"v":502,"d":"502.0"},{"v":996,"d":"996.0"},{"v":722,"d":"722.0"},{"v":1085,"d":"1,085.0"},{"v":596,"d":"596.0"},{"v":252,"d":"252.0"},{"v":541,"d":"541.0"},{"v":599,"d":"599.0"},{"v":66,"d":"66.0"},{"v":446,"d":"446.0"},{"v":340,"d":"340.0"},{"v":210,"d":"210.0"},{"v":136,"d":"136.0"},{"v":985,"d":"985.0"},{"v":0,"d":"0.0"},{"v":295,"d":"295.0"},{"v":0,"d":"0.0"},{"v":0,"d":"0.0"},{"v":0,"d":"0.0"},{"v":41,"d":"41.0"},{"v":3,"d":"3.0"},{"v":13,"d":"13.0"},{"v":4,"d":"4.0"},{"v":2,"d":"2.0"},{"v":1,"d":"1.0"},{"v":1,"d":"1.0"},{"v":3,"d":"3.0"},{"v":3,"d":"3.0"},{"v":0,"d":"0.0"},{"v":0,"d":"0.0"},{"v":0,"d":"0.0"},{"v":0,"d":"0.0"},{"v":14975,"d":"14,975"}]
[{"$nulls":3},"REGIMEN ESPECIAL",309,7,0,0,276,39,0,0,0,0,0,2,0,0,0,0,0,0,0,0,1,0,0,0,0,0,0,0,0,0,0,0,0,0,0,0,0,0,0,0,0,0,0,0,0,0,0,1,0,0,0,0,0,0,0,0,0,0,0,4,0,2,0,117,135,129,0,0,5,0,0,0,0,0,0,0,0,1,0,0,0,128,5,2,0,2,0,0,3,0,0,0,0,0,0,0,0,10,1,0,0,1,0,0,270,116,135,129,0,0,0,0,0,0,0,0,0,0,0,0,0,0,0,0,0,3,0,0,0,0,0,0,0,0,1,0,0,0,140,5,2,0,2,0,0,271,0,0,0,0,0,0,0,0,0,0,0,0,0,0,0,0,0,0,0,0,0,0,0,0,0,2,0,0,0,0,2,0,0,0,0,0,0,0,0,0,0,0,0,0,0,0,0,0,0,0,0,0,0,0,0,0,0,0,0,0,0,0,135,154,24,154,167,1,0,1,103,0,0,0,0,0,162,0,0,0,0,0,0,0,0,0,0,279,3,1,0,1,0,0,2,10,2,4,8,8,16,11,10,8,10,10,7,0,25,17,11,148,5,2,0,2,0,0,0,0,0,0,1,2,0,97,86,61,29,0,168,0,1,0,0,0,0,0,0,0,159,0,1,0,0,0,1,0,268,3,3,0,0,0,0,0,1,2,1,0,0,0,34,23,15,5,1,0,0,0,0,53,17,8,0,0,93,78,61,42,30,6,0,0,0,0,0,0,0,0,11,43,17,3,0,1,0,0,0,0,0,0,0,0,0,0,0,0,0,1,0,0,0,0,0,26,24,36,13,14,7,186,235,95,99,212,3,2,30,{"v":3478,"d":"3,478"},155,2,0,123,145,{"v":1057,"d":"1,057"},0,0,0,0,0,1,63,14,0,39,32,0,34,34,0,21,23,0,34,31,0,27,25,0,37,17,0,22,26,0,19,15,0,2,0,0,0,0,0,0,0,0,0,74,28,26,26,7,3,0,0,0,0,0,0,0,0,0,{"v":11778,"d":"11,778"},null,{"v":316,"d":"316.0"},{"v":325,"d":"325.0"},{"v":527,"d":"527.0"},{"v":282,"d":"282.0"},{"v":380,"d":"380.0"},{"v":424,"d":"424.0"},{"v":4,"d":"4.0"},{"v":0,"d":"0.0"},{"v":289,"d":"289.0"},{"v":347,"d":"347.0"},{"v":103,"d":"103.0"},{"v":446,"d":"446.0"},{"v":159,"d":"159.0"},{"v":433,"d":"433.0"},{"v":169,"d":"169.0"},{"v":435,"d":"435.0"},{"v":545,"d":"545.0"},{"v":121,"d":"121.0"},{"v":421,"d":"421.0"},{"v":406,"d":"406.0"},{"v":35,"d":"35.0"},{"v":3478,"d":"3,478.0"},{"v":155,"d":"155.0"},{"v":125,"d":"125.0"},{"v":145,"d":"145.0"},{"v":1057,"d":"1,057.0"},{"v":1,"d":"1.0"},{"v":515,"d":"515.0"},{"v":0,"d":"0.0"},{"v":0,"d":"0.0"},{"v":0,"d":"0.0"},{"v":128,"d":"128.0"},{"v":26,"d":"26.0"},{"v":7,"d":"7.0"},{"v":3,"d":"3.0"},{"v":0,"d":"0.0"},{"v":0,"d":"0.0"},{"v":0,"d":"0.0"},{"v":0,"d":"0.0"},{"v":0,"d":"0.0"},{"v":0,"d":"0.0"},{"v":0,"d":"0.0"},{"v":0,"d":"0.0"},{"v":0,"d":"0.0"},{"v":11643,"d":"11,643"}]
[{"$nulls":3},"TOTAL REGIMEN",{"v":6531,"d":"6,531"},161,22,10,{"v":6516,"d":"6,516"},210,2,1,1,2,44,95,6,12,36,8,9,19,3,2,16,1,5,13,0,0,0,0,0,0,0,0,0,0,0,0,0,0,0,0,0,0,0,0,0,0,0,14,0,1,0,3,0,0,0,14,2,0,0,571,105,63,7,{"v":4654,"d":"4,654"},{"v":4429,"d":"4,429"},{"v":4899,"d":"4,899"},12,44,102,7,12,33,7,9,19,2,2,15,1,4,11,{"v":4451,"d":"4,451"},381,102,48,79,0,0,67,1,0,50,0,0,8,0,0,54,10,0,2,3,0,0,{"v":6920,"d":"6,920"},{"v":4646,"d":"4,646"},{"v":4427,"d":"4,427"},{"v":4895,"d":"4,895"},9,0,0,0,0,0,0,0,0,0,0,0,0,0,0,6,45,97,6,12,32,8,8,18,3,2,15,0,5,13,{"v":4487,"d":"4,487"},394,107,56,69,0,0,{"v":6946,"d":"6,946"},2,1,4,0,0,0,0,0,1,0,1,0,0,0,0,0,0,0,17,2,1,0,0,0,0,27,0,0,0,1,11,0,0,0,0,0,0,0,0,0,0,0,0,0,0,0,0,0,0,0,0,0,0,0,0,0,0,0,0,0,0,0,{"v":5134,"d":"5,134"},{"v":4927,"d":"4,927"},889,{"v":4949,"d":"4,949"},{"v":5257,"d":"5,257"},91,102,299,{"v":4506,"d":"4,506"},0,0,0,0,0,{"v":5341,"d":"5,341"},54,34,18,12,6,4,0,0,0,0,{"v":7300,"d":"7,300"},97,56,21,15,12,2,36,380,72,142,191,191,236,209,178,193,168,152,189,135,974,520,341,{"v":4809,"d":"4,809"},366,100,51,71,18,11,10,12,7,12,14,49,139,{"v":3267,"d":"3,267"},{"v":1652,"d":"1,652"},922,605,0,{"v":5560,"d":"5,560"},104,96,77,90,61,36,17,12,3,{"v":5396,"d":"5,396"},98,95,73,97,59,31,3,{"v":7224,"d":"7,224"},89,57,0,14,0,0,2,46,97,31,0,3,1,{"v":1922,"d":"1,922"},879,373,257,138,17,0,0,0,595,291,92,24,5,{"v":2240,"d":"2,240"},{"v":1513,"d":"1,513"},{"v":1815,"d":"1,815"},{"v":1140,"d":"1,140"},816,173,0,0,0,21,1,0,0,1,269,52,23,4,0,1,0,0,0,12,3,0,2,5,10,1,1,0,2,29,49,69,5,1,0,{"v":1280,"d":"1,280"},838,{"v":1543,"d":"1,543"},508,382,237,{"v":7010,"d":"7,010"},{"v":7297,"d":"7,297"},{"v":3763,"d":"3,763"},{"v":3177,"d":"3,177"},{"v":5702,"d":"5,702"},79,47,499,{"v":50472,"d":"50,472"},{"v":6440,"d":"6,440"},9,0,{"v":2029,"d":"2,029"},{"v":1729,"d":"1,729"},{"v":22205,"d":"22,205"},0,0,0,0,0,2,{"v":1556,"d":"1,556"},343,0,650,554,0,604,510,0,506,393,2,441,347,0,428,281,1,469,271,0,339,230,0,179,202,1,47,0,0,0,0,0,0,0,0,0,{"v":1147,"d":"1,147"},427,282,282,385,101,3,1,2,42,26,2,1,8,1,{"$f":"SUM(QC12:QC15)","v":{"v":281088,"d":"281,088"}},null,{"$f":"SUM(QE12:QE15)","v":{"v":6724,"d":"6,724.0"}},{"$f":"SUM(QF12:QF15)","v":{"v":7781,"d":"7,781.0"}},{"v":19449,"d":"19,449.0"},{"v":6989,"d":"6,989.0"},{"v":13977,"d":"13,977.0"},{"v":12329,"d":"12,329.0"},{"v":68,"d":"68.0"},{"v":0,"d":"0.0"},{"v":10061,"d":"10,061.0"},{"v":11587,"d":"11,587.0"},{"$f":"SUM(QO12:QO15)","v":{"v":4506,"d":"4,506.0"}},{"v":12972,"d":"12,972.0"},{"v":4307,"d":"4,307.0"},{"v":12115,"d":"12,115.0"},{"v":6056,"d":"6,056.0"},{"v":13222,"d":"13,222.0"},{"v":12892,"d":"12,892.0"},{"v":4941,"d":"4,941.0"},{"v":14307,"d":"14,307.0"},{"v":12642,"d":"12,642.0"},{"v":625,"d":"625.0"},{"v":50472,"d":"50,472.0"},{"v":6440,"d":"6,440.0"},{"$f":"SUM(RB12:RB15)","v":{"v":2038,"d":"2,038.0"}},{"v":1729,"d":"1,729.0"},{"v":22205,"d":"22,205.0"},{"v":2,"d":"2.0"},{"v":8354,"d":"8,354.0"},{"v":0,"d":"0.0"},{"v":0,"d":"0.0"},{"v":0,"d":"0.0"},{"v":1856,"d":"1,856.0"},{"$f":"SUM(RK12:RK15)","v":{"v":282,"d":"282.0"}},{"v":385,"d":"385.0"},{"v":101,"d":"101.0"},{"v":6,"d":"6.0"},{"v":2,"d":"2.0"},{"v":2,"d":"2.0"},{"v":42,"d":"42.0"},{"v":26,"d":"26.0"},{"v":2,"d":"2.0"},{"v":1,"d":"1.0"},{"v":8,"d":"8.0"},{"v":1,"d":"1.0"},{"$f":"SUM(RW12:RW15)","v":{"v":278808,"d":"278,808"}}]
[{"$nulls":3},"INDIGENA",2,0,0,0,3,0,0,0,0,0,2,2,0,0,1,0,0,0,0,0,0,0,0,0,0,0,0,0,0,0,0,0,0,0,0,0,0,0,0,0,0,0,0,0,0,0,0,0,0,0,0,0,0,0,0,0,0,0,0,1,0,0,0,6,4,14,0,2,2,0,0,1,0,0,0,0,0,0,0,0,0,14,1,0,0,0,0,0,0,0,0,0,0,0,0,0,0,1,0,0,0,0,0,0,13,6,4,14,0,0,0,0,0,0,0,0,0,0,0,0,0,0,0,0,2,2,0,0,1,0,0,0,0,0,0,0,0,0,15,1,0,0,0,0,0,13,0,0,0,0,0,0,0,0,0,0,0,0,0,0,0,0,0,0,0,0,0,0,0,0,0,0,0,0,0,0,0,0,0,0,0,0,0,0,0,0,0,0,0,0,0,0,0,0,0,0,0,0,0,0,0,0,0,0,0,0,0,0,6,3,1,5,10,0,3,0,5,0,0,0,0,0,11,0,0,0,0,0,0,0,0,0,0,13,0,0,0,0,0,0,0,1,1,0,0,0,0,0,0,0,0,0,0,0,2,1,0,17,1,0,0,0,0,0,0,0,0,0,0,0,0,4,1,0,0,0,11,0,0,0,0,0,0,0,0,0,11,0,0,0,1,0,0,0,12,0,0,0,0,0,0,0,0,0,0,0,0,0,0,2,0,1,2,0,0,0,0,2,1,0,0,0,2,0,1,1,3,0,0,0,0,0,0,0,0,0,1,1,0,0,0,0,0,0,0,0,0,0,0,0,0,0,0,0,0,0,0,0,0,0,0,3,3,2,1,0,0,15,9,11,6,16,1,0,3,28,9,0,0,16,3,28,0,0,0,0,0,0,2,0,0,2,0,0,1,1,0,1,1,0,0,0,0,0,0,0,0,0,0,0,2,0,1,0,0,0,0,0,0,0,0,0,0,0,0,2,1,0,0,6,1,0,0,0,0,0,0,0,0,0,{"$f":"SUM(E17:QB17)-(PQ17+PS17+PU17+PV17+PX17)","v":438},null,{"$f":"SUM(E17:H17)","v":{"v":2,"d":"2.0"}},{"$f":"SUM(I17:BO17)","v":{"v":9,"d":"9.0"}},{"$f":"SUM(BP17:CW17)","v":{"v":44,"d":"44.0"}},{"$f":"SUM(CX17:DE17)","v":{"v":14,"d":"14.0"}},{"$f":"SUM(DF17:DT17)","v":{"v":24,"d":"24.0"}},{"$f":"SUM(DU17:ET17)","v":{"v":34,"d":"34.0"}},{"$f":"SUM(EU17:FY17)","v":{"v":0,"d":"0.0"}},{"$f":"SUM(FZ17:HD17)","v":{"v":0,"d":"0.0"}},{"$f":"SUM(HE17:HF17)","v":{"v":9,"d":"9.0"}},{"$f":"SUM(HG17:HL17)","v":{"v":19,"d":"19.0"}},{"$f":"SUM(HM17:HR17)","v":{"v":5,"d":"5.0"}},{"$f":"SUM(HS17:IJ17)","v":{"v":24,"d":"24.0"}},{"$f":"SUM(IK17:JA17)","v":{"v":5,"d":"5.0"}},{"$f":"SUM(JB17:JT17)","v":{"v":23,"d":"23.0"}},{"$f":"SUM(JU17:KD17)","v":{"v":11,"d":"11.0"}},{"$f":"SUM(KE17:KP17)","v":{"v":24,"d":"24.0"}},{"$f":"SUM(KQ17:MU17)","v":{"v":17,"d":"17.0"}},{"$f":"SUM(MV17:NG17)","v":{"v":9,"d":"9.0"}},{"$f":"SUM(NH17:NI17)","v":{"v":24,"d":"24.0"}},{"$f":"SUM(NJ17:NL17)","v":{"v":33,"d":"33.0"}},{"$f":"SUM(NM17:NO17)","v":{"v":4,"d":"4.0"}},{"$f":"SUM(NP17)","v":{"v":28,"d":"28.0"}},{"$f":"SUM(NQ17)","v":{"v":9,"d":"9.0"}},{"$f":"SUM(NR17:NT17)","v":{"v":16,"d":"16.0"}},{"$f":"SUM(NU17)","v":{"v":3,"d":"3.0"}},{"$f":"SUM(NV17)","v":{"v":28,"d":"28.0"}},{"$f":"SUM(NW17:OB17)","v":{"v":0,"d":"0.0"}},{"$f":"SUM(OC17:PE17)","v":{"v":11,"d":"11.0"}},{"$f":"SUM(PF17:PG17)","v":{"v":0,"d":"0.0"}},{"$f":"SUM(PH17:PI17)","v":{"v":0,"d":"0.0"}},{"$f":"SUM(PJ17:PM17)","v":{"v":0,"d":"0.0"}},{"$f":"SUM(PN17:PP17)","v":{"v":3,"d":"3.0"}},{"$f":"SUM(PQ17)","v":{"v":0,"d":"0.0"}},{"$f":"SUM(PR17)","v":{"v":6,"d":"6.0"}},{"$f":"SUM(PS17)","v":{"v":1,"d":"1.0"}},{"$f":"SUM(PT17:PV17)","v":{"v":0,"d":"0.0"}},{"$f":"SUM(PV17)","v":{"v":0,"d":"0.0"}},{"$f":"SUM(PV17)","v":{"v":0,"d":"0.0"}},{"$f":"SUM(PW17)","v":{"v":0,"d":"0.0"}},{"$f":"SUM(PX17)","v":{"v":0,"d":"0.0"}},{"$f":"SUM(PY17)","v":{"v":0,"d":"0.0"}},{"$f":"SUM(PZ17)","v":{"v":0,"d":"0.0"}},{"$f":"SUM(QA17)","v":{"v":0,"d":"0.0"}},{"$f":"SUM(QB17)","v":{"v":0,"d":"0.0"}},{"$f":"SUM(QE17:RU17)-SUM(RI17:RM17)-SUM(RQ17:RT17)","v":429}]
[{"$nulls":3},"ROM  (GITANO)",0,0,0,0,0,0,0,0,0,0,0,0,0,0,0,0,0,0,0,0,0,0,0,0,0,0,0,0,0,0,0,0,0,0,0,0,0,0,0,0,0,0,0,0,0,0,0,0,0,0,0,0,0,0,0,0,0,0,0,0,0,0,0,0,1,0,0,0,0,0,0,0,0,0,0,0,0,0,0,0,0,0,0,0,0,0,0,0,0,0,0,0,0,0,0,0,0,0,0,0,0,0,0,0,0,0,1,0,0,0,0,0,0,0,0,0,0,0,0,0,0,0,0,0,0,0,0,0,0,0,0,0,0,0,0,0,0,0,0,0,0,0,0,0,0,0,0,0,0,0,0,0,0,0,0,0,0,0,0,0,0,0,0,0,0,0,0,0,0,0,0,0,0,0,0,0,0,0,0,0,0,0,0,0,0,0,0,0,0,0,0,0,0,0,0,0,0,0,0,0,0,0,0,0,0,0,0,0,0,1,0,1,0,0,0,0,0,0,0,0,0,0,0,0,0,0,0,0,0,0,0,0,0,0,0,0,0,0,0,0,0,0,0,0,0,0,0,0,0,0,0,0,0,0,0,0,0,0,0,0,0,0,0,0,0,0,0,0,0,0,0,0,0,0,0,0,0,0,0,0,0,0,0,0,0,0,0,0,0,0,0,0,0,0,0,0,0,0,0,0,0,0,0,0,0,0,0,0,0,0,0,0,0,0,0,0,0,0,0,0,0,0,0,0,0,0,0,0,0,0,0,0,0,0,0,0,0,0,0,0,0,0,0,0,0,0,0,0,0,0,0,0,0,0,0,0,0,0,0,0,0,0,0,0,0,0,0,0,0,0,0,0,0,0,0,2,0,0,0,0,0,2,0,0,0,0,0,0,0,0,0,0,0,0,0,0,0,0,0,0,0,0,0,0,0,0,0,0,0,0,0,0,0,0,0,0,0,0,0,0,0,0,0,0,0,0,0,0,0,0,0,0,0,0,0,0,0,0,0,0,8,null,{"v":0,"d":"0.0"},{"v":0,"d":"0.0"},{"v":1,"d":"1.0"},{"v":0,"d":"0.0"},{"v":1,"d":"1.0"},{"v":0,"d":"0.0"},{"v":0,"d":"0.0"},{"v":0,"d":"0.0"},{"v":1,"d":"1.0"},{"v":1,"d":"1.0"},{"v":0,"d":"0.0"},{"v":0,"d":"0.0"},{"v":0,"d":"0.0"},{"v":0,"d":"0.0"},{"v":0,"d":"0.0"},{"v":0,"d":"0.0"},{"v":0,"d":"0.0"},{"v":0,"d":"0.0"},{"v":0,"d":"0.0"},{"v":0,"d":"0.0"},{"v":0,"d":"0.0"},{"v":2,"d":"2.0"},{"v":0,"d":"0.0"},{"v":0,"d":"0.0"},{"v":0,"d":"0.0"},{"v":2,"d":"2.0"},{"v":0,"d":"0.0"},{"v":0,"d":"0.0"},{"v":0,"d":"0.0"},{"v":0,"d":"0.0"},{"v":0,"d":"0.0"},{"v":0,"d":"0.0"},{"v":0,"d":"0.0"},{"v":0,"d":"0.0"},{"v":0,"d":"0.0"},{"v":0,"d":"0.0"},{"v":0,"d":"0.0"},{"v":0,"d":"0.0"},{"v":0,"d":"0.0"},{"v":0,"d":"0.0"},{"v":0,"d":"0.0"},{"v":0,"d":"0.0"},{"v":0,"d":"0.0"},{"v":0,"d":"0.0"},8]
[{"$nulls":3},"RAIZAL ",0,0,0,0,0,0,0,0,0,0,0,0,0,0,0,0,0,0,0,0,0,0,0,0,0,0,0,0,0,0,0,0,0,0,0,0,0,0,0,0,0,0,0,0,0,0,0,0,0,0,0,0,0,0,0,0,0,0,0,0,0,0,0,0,0,0,0,0,0,0,0,0,0,0,0,0,0,0,0,0,0,1,0,0,0,0,0,0,0,0,0,0,0,0,0,0,0,0,0,0,0,0,0,0,0,0,0,0,0,0,0,0,0,0,0,0,0,0,0,0,0,0,0,0,0,0,0,0,0,0,0,0,0,0,0,0,0,0,1,0,0,0,0,0,0,0,0,0,0,0,0,0,0,0,0,0,0,0,0,0,0,0,0,0,0,0,0,0,0,0,0,0,0,0,0,0,0,0,0,0,0,0,0,0,0,0,0,0,0,0,0,0,0,0,0,0,0,0,0,0,0,0,0,0,0,0,0,0,0,0,0,0,0,0,0,0,0,0,0,0,0,0,0,0,0,0,0,0,0,0,0,0,0,0,0,0,0,0,0,0,0,0,0,0,0,0,0,0,0,0,0,0,0,0,0,0,0,1,0,0,0,0,0,0,0,0,0,0,0,0,0,0,0,0,0,0,0,0,0,0,0,0,0,0,0,0,0,0,0,0,0,0,0,0,0,0,0,0,0,0,0,0,0,0,0,0,0,0,0,0,0,0,0,0,0,0,0,0,0,0,0,0,0,0,0,0,1,0,0,0,0,0,0,0,0,0,0,0,0,0,0,0,0,0,0,0,0,0,0,0,0,0,0,0,0,0,0,0,0,0,0,0,0,0,0,0,0,0,0,0,1,1,0,0,0,0,0,0,0,0,0,2,0,0,0,0,0,0,0,0,0,0,0,0,0,0,0,0,0,0,0,0,0,0,0,0,0,0,0,0,0,0,0,0,0,0,0,0,0,0,0,0,0,0,0,0,0,0,0,0,0,0,0,0,0,0,0,0,0,0,8,null,{"v":0,"d":"0.0"},{"v":0,"d":"0.0"},{"v":1,"d":"1.0"},{"v":0,"d":"0.0"},{"v":0,"d":"0.0"},{"v":1,"d":"1.0"},{"v":0,"d":"0.0"},{"v":0,"d":"0.0"},{"v":0,"d":"0.0"},{"v":0,"d":"0.0"},{"v":0,"d":"0.0"},{"v":0,"d":"0.0"},{"v":0,"d":"0.0"},{"v":1,"d":"1.0"},{"v":0,"d":"0.0"},{"v":0,"d":"0.0"},{"v":1,"d":"1.0"},{"v":0,"d":"0.0"},{"v":0,"d":"0.0"},{"v":2,"d":"2.0"},{"v":0,"d":"0.0"},{"v":0,"d":"0.0"},{"v":0,"d":"0.0"},{"v":0,"d":"0.0"},{"v":0,"d":"0.0"},{"v":2,"d":"2.0"},{"v":0,"d":"0.0"},{"v":0,"d":"0.0"},{"v":0,"d":"0.0"},{"v":0,"d":"0.0"},{"v":0,"d":"0.0"},{"v":0,"d":"0.0"},{"v":0,"d":"0.0"},{"v":0,"d":"0.0"},{"v":0,"d":"0.0"},{"v":0,"d":"0.0"},{"v":0,"d":"0.0"},{"v":0,"d":"0.0"},{"v":0,"d":"0.0"},{"v":0,"d":"0.0"},{"v":0,"d":"0.0"},{"v":0,"d":"0.0"},{"v":0,"d":"0.0"},{"v":0,"d":"0.0"},8]
[{"$nulls":3},"PALENQUERO",1,0,0,0,1,0,0,0,0,0,0,0,0,0,0,0,0,0,0,0,0,0,0,0,0,0,0,0,0,0,0,0,0,0,0,0,0,0,0,0,0,0,0,0,0,0,0,0,0,0,0,0,0,0,0,0,0,0,0,0,0,0,0,0,0,0,0,0,0,0,0,0,0,0,0,0,0,0,0,0,0,0,0,0,0,0,0,0,0,0,0,0,0,0,0,0,0,0,0,0,0,0,0,0,2,0,0,0,0,0,0,0,0,0,0,0,0,0,0,0,0,0,0,0,0,0,0,0,0,0,0,0,0,0,0,0,0,0,0,0,0,0,0,0,0,2,0,0,0,0,0,0,0,0,0,0,0,0,0,0,0,0,0,0,0,0,0,0,0,0,0,0,0,0,0,0,0,0,0,0,0,0,0,0,0,0,0,0,0,0,0,0,0,0,0,0,0,0,0,0,0,0,0,0,0,0,0,0,0,0,0,0,5,0,0,0,0,0,0,0,0,0,5,0,0,0,0,0,0,0,0,0,0,2,0,0,0,0,0,0,0,0,0,0,0,0,0,1,0,0,0,0,0,0,0,0,0,0,0,0,0,0,0,0,0,0,0,0,0,0,0,1,0,0,0,0,5,0,0,0,0,0,0,0,0,0,5,0,0,0,0,0,0,0,2,0,0,0,0,0,0,0,0,0,0,0,0,0,0,0,0,0,0,0,0,0,0,0,0,0,0,0,1,0,0,2,2,0,0,0,0,0,0,0,0,0,0,0,0,0,0,0,0,0,0,0,0,0,0,0,0,0,0,0,0,0,0,0,0,0,0,0,0,1,0,0,0,0,1,2,2,0,0,0,0,7,0,0,0,0,1,4,0,0,0,0,0,0,1,0,0,0,1,0,0,0,0,0,0,0,0,0,0,0,1,0,0,0,0,0,0,0,0,0,0,0,0,0,0,0,0,0,0,0,0,0,0,0,0,0,0,0,0,0,0,0,0,0,0,0,58,null,{"v":1,"d":"1.0"},{"v":1,"d":"1.0"},{"v":0,"d":"0.0"},{"v":2,"d":"2.0"},{"v":0,"d":"0.0"},{"v":2,"d":"2.0"},{"v":0,"d":"0.0"},{"v":0,"d":"0.0"},{"v":0,"d":"0.0"},{"v":5,"d":"5.0"},{"v":0,"d":"0.0"},{"v":7,"d":"7.0"},{"v":1,"d":"1.0"},{"v":1,"d":"1.0"},{"v":5,"d":"5.0"},{"v":7,"d":"7.0"},{"v":5,"d":"5.0"},{"v":1,"d":"1.0"},{"v":1,"d":"1.0"},{"v":4,"d":"4.0"},{"v":0,"d":"0.0"},{"v":7,"d":"7.0"},{"v":0,"d":"0.0"},{"v":0,"d":"0.0"},{"v":1,"d":"1.0"},{"v":4,"d":"4.0"},{"v":0,"d":"0.0"},{"v":3,"d":"3.0"},{"v":0,"d":"0.0"},{"v":0,"d":"0.0"},{"v":0,"d":"0.0"},{"v":0,"d":"0.0"},{"v":0,"d":"0.0"},{"v":0,"d":"0.0"},{"v":0,"d":"0.0"},{"v":0,"d":"0.0"},{"v":0,"d":"0.0"},{"v":0,"d":"0.0"},{"v":0,"d":"0.0"},{"v":0,"d":"0.0"},{"v":0,"d":"0.0"},{"v":0,"d":"0.0"},{"v":0,"d":"0.0"},{"v":0,"d":"0.0"},58]
[{"$nulls":3},"NEGRO(A), MULATO (A), AFROCOLOMBIANO (A)",17,1,0,0,15,2,0,0,0,0,0,0,0,0,1,0,0,0,0,0,0,0,0,0,0,0,0,0,0,0,0,0,0,0,0,0,0,0,0,0,0,0,0,0,0,0,0,0,0,0,0,1,0,0,0,0,0,0,0,1,0,0,0,8,8,12,0,0,0,0,0,1,0,0,0,0,0,0,0,0,0,17,1,0,0,0,0,0,0,0,0,0,0,0,0,0,0,0,0,0,0,0,0,0,18,8,8,12,0,0,0,0,0,0,0,0,0,0,0,0,0,0,0,0,0,0,0,0,1,0,0,0,0,0,0,0,0,0,17,1,0,0,0,0,0,18,0,0,0,0,0,0,0,0,0,0,0,0,0,0,0,0,0,0,0,0,0,0,0,0,0,0,0,0,0,0,0,0,0,0,0,0,0,0,0,0,0,0,0,0,0,0,0,0,0,0,0,0,0,0,0,0,0,0,0,0,0,0,8,7,2,7,13,0,0,1,14,0,0,0,0,0,13,0,0,0,0,0,0,0,0,0,0,19,0,0,0,0,0,0,0,0,0,0,1,1,0,1,0,0,0,0,0,0,0,0,0,17,0,0,0,0,0,0,0,1,0,0,0,0,1,2,3,0,0,0,13,1,0,0,0,0,0,0,0,0,13,1,0,0,0,0,0,0,19,0,0,0,0,0,0,0,0,1,0,0,0,0,7,3,1,0,0,0,0,0,0,0,2,1,0,0,7,2,3,3,1,0,0,0,0,0,0,0,0,0,1,1,0,0,0,0,0,0,0,0,0,0,0,0,0,0,0,0,0,0,0,0,0,0,0,2,4,5,2,1,0,14,20,10,11,19,0,0,1,34,20,0,0,1,3,34,0,0,0,0,0,0,5,0,0,1,3,0,1,0,0,2,4,0,1,0,0,2,2,0,3,0,0,0,2,0,0,0,0,0,0,0,0,0,0,0,0,0,0,6,1,1,1,9,2,0,0,0,0,0,0,0,0,0,583,null,{"v":18,"d":"18.0"},{"v":20,"d":"20.0"},{"v":47,"d":"47.0"},{"v":18,"d":"18.0"},{"v":28,"d":"28.0"},{"v":37,"d":"37.0"},{"v":0,"d":"0.0"},{"v":0,"d":"0.0"},{"v":15,"d":"15.0"},{"v":23,"d":"23.0"},{"v":14,"d":"14.0"},{"v":32,"d":"32.0"},{"v":3,"d":"3.0"},{"v":24,"d":"24.0"},{"v":14,"d":"14.0"},{"v":33,"d":"33.0"},{"v":33,"d":"33.0"},{"v":14,"d":"14.0"},{"v":34,"d":"34.0"},{"v":40,"d":"40.0"},{"v":1,"d":"1.0"},{"v":34,"d":"34.0"},{"v":20,"d":"20.0"},{"v":1,"d":"1.0"},{"v":3,"d":"3.0"},{"v":34,"d":"34.0"},{"v":0,"d":"0.0"},{"v":26,"d":"26.0"},{"v":0,"d":"0.0"},{"v":0,"d":"0.0"},{"v":0,"d":"0.0"},{"v":8,"d":"8.0"},{"v":1,"d":"1.0"},{"v":9,"d":"9.0"},{"v":2,"d":"2.0"},{"v":0,"d":"0.0"},{"v":0,"d":"0.0"},{"v":0,"d":"0.0"},{"v":0,"d":"0.0"},{"v":0,"d":"0.0"},{"v":0,"d":"0.0"},{"v":0,"d":"0.0"},{"v":0,"d":"0.0"},{"v":0,"d":"0.0"},566]
[{"$nulls":3},"SIN PERTENENCIA ETNICA",{"v":6511,"d":"6,511"},160,22,10,{"v":6497,"d":"6,497"},208,2,1,1,2,42,93,6,12,34,8,9,19,3,2,16,1,5,13,0,0,0,0,0,0,0,0,0,0,0,0,0,0,0,0,0,0,0,0,0,0,0,14,0,1,0,2,0,0,0,14,2,0,0,569,105,63,7,{"v":4640,"d":"4,640"},{"v":4416,"d":"4,416"},{"v":4873,"d":"4,873"},12,42,100,7,12,31,7,9,19,2,2,15,1,4,11,{"v":4419,"d":"4,419"},379,102,48,79,0,0,67,1,0,50,0,0,8,0,0,53,10,0,2,3,0,0,{"v":6887,"d":"6,887"},{"v":4632,"d":"4,632"},{"v":4414,"d":"4,414"},{"v":4869,"d":"4,869"},9,0,0,0,0,0,0,0,0,0,0,0,0,0,0,6,43,95,6,12,30,8,8,18,3,2,15,0,5,13,{"v":4454,"d":"4,454"},392,107,56,69,0,0,{"v":6913,"d":"6,913"},2,1,4,0,0,0,0,0,1,0,1,0,0,0,0,0,0,0,17,2,1,0,0,0,0,27,0,0,0,1,11,0,0,0,0,0,0,0,0,0,0,0,0,0,0,0,0,0,0,0,0,0,0,0,0,0,0,0,0,0,0,0,{"v":5120,"d":"5,120"},{"v":4916,"d":"4,916"},886,{"v":4936,"d":"4,936"},{"v":5229,"d":"5,229"},91,99,298,{"v":4487,"d":"4,487"},0,0,0,0,0,{"v":5312,"d":"5,312"},54,34,18,12,6,4,0,0,0,0,{"v":7266,"d":"7,266"},97,56,21,15,12,2,36,379,71,142,190,190,236,207,178,193,168,152,189,135,972,519,341,{"v":4774,"d":"4,774"},365,100,51,71,18,11,10,11,7,12,14,49,138,{"v":3260,"d":"3,260"},{"v":1648,"d":"1,648"},922,605,0,{"v":5531,"d":"5,531"},103,96,77,90,61,36,17,12,3,{"v":5367,"d":"5,367"},97,95,73,96,59,31,3,{"v":7191,"d":"7,191"},89,57,0,14,0,0,2,46,96,31,0,3,1,{"v":1915,"d":"1,915"},874,372,256,136,17,0,0,0,593,288,91,24,5,{"v":2230,"d":"2,230"},{"v":1511,"d":"1,511"},{"v":1811,"d":"1,811"},{"v":1134,"d":"1,134"},809,173,0,0,0,21,1,0,0,1,267,50,23,4,0,1,0,0,0,12,3,0,2,5,10,1,1,0,2,29,49,69,5,1,0,{"v":1275,"d":"1,275"},831,{"v":1535,"d":"1,535"},505,381,237,{"v":6981,"d":"6,981"},{"v":7267,"d":"7,267"},{"v":3740,"d":"3,740"},{"v":3157,"d":"3,157"},{"v":5666,"d":"5,666"},78,47,495,{"v":50401,"d":"50,401"},{"v":6411,"d":"6,411"},9,0,{"v":2012,"d":"2,012"},{"v":1722,"d":"1,722"},{"v":22135,"d":"22,135"},0,0,0,0,0,2,{"v":1548,"d":"1,548"},343,0,647,550,0,602,509,0,503,388,2,440,347,0,426,278,1,466,271,0,339,226,0,178,202,1,47,0,0,0,0,0,0,0,0,0,{"v":1139,"d":"1,139"},425,281,281,370,98,3,1,2,42,26,2,1,8,1,{"v":279993,"d":"279,993"},null,{"v":6703,"d":"6,703.0"},{"v":7751,"d":"7,751.0"},{"v":19356,"d":"19,356.0"},{"v":6955,"d":"6,955.0"},{"v":13924,"d":"13,924.0"},{"v":12255,"d":"12,255.0"},{"v":68,"d":"68.0"},{"v":0,"d":"0.0"},{"v":10036,"d":"10,036.0"},{"v":11539,"d":"11,539.0"},{"v":4487,"d":"4,487.0"},{"v":12909,"d":"12,909.0"},{"v":4298,"d":"4,298.0"},{"v":12066,"d":"12,066.0"},{"v":6026,"d":"6,026.0"},{"v":13158,"d":"13,158.0"},{"v":12836,"d":"12,836.0"},{"v":4917,"d":"4,917.0"},{"v":14248,"d":"14,248.0"},{"v":12563,"d":"12,563.0"},{"v":620,"d":"620.0"},{"v":50401,"d":"50,401.0"},{"v":6411,"d":"6,411.0"},{"v":2021,"d":"2,021.0"},{"v":1722,"d":"1,722.0"},{"v":22135,"d":"22,135.0"},{"v":2,"d":"2.0"},{"v":8314,"d":"8,314.0"},{"v":0,"d":"0.0"},{"v":0,"d":"0.0"},{"v":0,"d":"0.0"},{"v":1845,"d":"1,845.0"},{"v":281,"d":"281.0"},{"v":370,"d":"370.0"},{"v":98,"d":"98.0"},{"v":6,"d":"6.0"},{"v":2,"d":"2.0"},{"v":2,"d":"2.0"},{"v":42,"d":"42.0"},{"v":26,"d":"26.0"},{"v":2,"d":"2.0"},{"v":1,"d":"1.0"},{"v":8,"d":"8.0"},{"v":1,"d":"1.0"},{"v":277739,"d":"277,739"}]
[{"$nulls":3},"TOTAL ETNICOS",{"v":6531,"d":"6,531"},161,22,10,{"v":6516,"d":"6,516"},210,2,1,1,2,44,95,6,12,36,8,9,19,3,2,16,1,5,13,0,0,0,0,0,0,0,0,0,0,0,0,0,0,0,0,0,0,0,0,0,0,0,14,0,1,0,3,0,0,0,14,2,0,0,571,105,63,7,{"v":4654,"d":"4,654"},{"v":4429,"d":"4,429"},{"v":4899,"d":"4,899"},12,44,102,7,12,33,7,9,19,2,2,15,1,4,11,{"v":4451,"d":"4,451"},381,102,48,79,0,0,67,1,0,50,0,0,8,0,0,54,10,0,2,3,0,0,{"v":6920,"d":"6,920"},{"v":4646,"d":"4,646"},{"v":4427,"d":"4,427"},{"v":4895,"d":"4,895"},9,0,0,0,0,0,0,0,0,0,0,0,0,0,0,6,45,97,6,12,32,8,8,18,3,2,15,0,5,13,{"v":4487,"d":"4,487"},394,107,56,69,0,0,{"v":6946,"d":"6,946"},2,1,4,0,0,0,0,0,1,0,1,0,0,0,0,0,0,0,17,2,1,0,0,0,0,27,0,0,0,1,11,0,0,0,0,0,0,0,0,0,0,0,0,0,0,0,0,0,0,0,0,0,0,0,0,0,0,0,0,0,0,0,{"v":5134,"d":"5,134"},{"v":4927,"d":"4,927"},889,{"v":4949,"d":"4,949"},{"v":5257,"d":"5,257"},91,102,299,{"v":4506,"d":"4,506"},0,0,0,0,0,{"v":5341,"d":"5,341"},54,34,18,12,6,4,0,0,0,0,{"v":7300,"d":"7,300"},97,56,21,15,12,2,36,380,72,142,191,191,236,209,178,193,168,152,189,135,974,520,341,{"v":4809,"d":"4,809"},366,100,51,71,18,11,10,12,7,12,14,49,139,{"v":3267,"d":"3,267"},{"v":1652,"d":"1,652"},922,605,0,{"v":5560,"d":"5,560"},104,96,77,90,61,36,17,12,3,{"v":5396,"d":"5,396"},98,95,73,97,59,31,3,{"v":7224,"d":"7,224"},89,57,0,14,0,0,2,46,97,31,0,3,1,{"v":1922,"d":"1,922"},879,373,257,138,17,0,0,0,595,291,92,24,5,{"v":2240,"d":"2,240"},{"v":1513,"d":"1,513"},{"v":1815,"d":"1,815"},{"v":1140,"d":"1,140"},816,173,0,0,0,21,1,0,0,1,269,52,23,4,0,1,0,0,0,12,3,0,2,5,10,1,1,0,2,29,49,69,5,1,0,{"v":1280,"d":"1,280"},838,{"v":1543,"d":"1,543"},508,382,237,{"v":7010,"d":"7,010"},{"v":7297,"d":"7,297"},{"v":3763,"d":"3,763"},{"v":3177,"d":"3,177"},{"v":5702,"d":"5,702"},79,47,499,{"v":50472,"d":"50,472"},{"v":6440,"d":"6,440"},9,0,{"v":2029,"d":"2,029"},{"v":1729,"d":"1,729"},{"v":22205,"d":"22,205"},0,0,0,0,0,2,{"v":1556,"d":"1,556"},343,0,650,554,0,604,510,0,506,393,2,441,347,0,428,281,1,469,271,0,339,230,0,179,202,1,47,0,0,0,0,0,0,0,0,0,{"v":1147,"d":"1,147"},427,282,282,385,101,3,1,2,42,26,2,1,8,1,{"$f":"SUM(QC17:QC22)","v":{"v":281088,"d":"281,088"}},null,{"$f":"SUM(QE17:QE22)","v":{"v":6724,"d":"6,724.0"}},{"$f":"SUM(QF17:QF22)","v":{"v":7781,"d":"7,781.0"}},{"v":19449,"d":"19,449.0"},{"v":6989,"d":"6,989.0"},{"v":13977,"d":"13,977.0"},{"v":12329,"d":"12,329.0"},{"v":68,"d":"68.0"},{"v":0,"d":"0.0"},{"v":10061,"d":"10,061.0"},{"v":11587,"d":"11,587.0"},{"$f":"SUM(QO17:QO22)","v":{"v":4506,"d":"4,506.0"}},{"v":12972,"d":"12,972.0"},{"v":4307,"d":"4,307.0"},{"v":12115,"d":"12,115.0"},{"v":6056,"d":"6,056.0"},{"v":13222,"d":"13,222.0"},{"v":12892,"d":"12,892.0"},{"v":4941,"d":"4,941.0"},{"v":14307,"d":"14,307.0"},{"v":12642,"d":"12,642.0"},{"v":625,"d":"625.0"},{"v":50472,"d":"50,472.0"},{"v":6440,"d":"6,440.0"},{"$f":"SUM(RB17:RB22)","v":{"v":2038,"d":"2,038.0"}},{"v":1729,"d":"1,729.0"},{"v":22205,"d":"22,205.0"},{"v":2,"d":"2.0"},{"v":8354,"d":"8,354.0"},{"v":0,"d":"0.0"},{"v":0,"d":"0.0"},{"v":0,"d":"0.0"},{"v":1856,"d":"1,856.0"},{"$f":"SUM(RK17:RK22)","v":{"v":282,"d":"282.0"}},{"v":385,"d":"385.0"},{"v":101,"d":"101.0"},{"v":6,"d":"6.0"},{"v":2,"d":"2.0"},{"v":2,"d":"2.0"},{"v":42,"d":"42.0"},{"v":26,"d":"26.0"},{"v":2,"d":"2.0"},{"v":1,"d":"1.0"},{"v":8,"d":"8.0"},{"v":1,"d":"1.0"},{"$f":"SUM(RW17:RW22)","v":{"v":278808,"d":"278,808"}}]
[{"$nulls":3},"EN SITUACION DE DESPLAZADO",0,0,0,0,0,0,0,0,0,0,0,0,0,0,0,0,0,0,0,0,0,0,0,0,0,0,0,0,0,0,0,0,0,0,0,0,0,0,0,0,0,0,0,0,0,0,0,0,0,0,0,0,0,0,0,0,0,0,0,0,0,0,0,0,0,0,0,0,0,0,0,0,0,0,0,0,0,0,0,0,0,0,0,0,0,0,0,0,0,0,0,0,0,0,0,0,0,0,0,0,0,0,0,0,0,0,0,0,0,0,0,0,0,0,0,0,0,0,0,0,0,0,0,0,0,0,0,0,0,0,0,0,0,0,0,0,0,0,0,0,0,0,0,0,0,0,0,0,0,0,0,0,0,0,0,0,0,0,0,0,0,0,0,0,0,0,0,0,0,0,0,0,0,0,0,0,0,0,0,0,0,0,0,0,0,0,0,0,0,0,0,0,0,0,0,0,0,0,0,0,0,0,0,0,0,0,0,0,0,0,0,0,0,0,0,0,0,0,0,0,0,0,0,0,0,0,0,0,0,0,0,0,0,0,0,0,0,0,0,0,0,0,0,0,0,0,0,0,0,0,0,0,0,0,0,0,0,0,0,0,0,0,0,0,0,0,0,0,0,0,0,0,0,0,0,0,0,0,0,0,0,0,0,0,0,0,0,0,0,0,0,0,0,0,0,0,0,0,0,0,0,0,0,0,0,0,0,0,0,0,0,0,0,0,0,0,0,0,0,0,0,0,0,0,0,0,0,0,0,0,0,0,0,0,0,0,0,0,0,0,0,0,0,0,0,0,0,0,0,0,0,0,0,0,0,0,0,0,0,0,0,0,0,0,0,0,0,0,0,0,0,0,0,0,0,0,0,0,0,0,0,0,0,0,0,0,0,0,0,0,0,0,0,0,0,0,0,0,0,0,0,0,0,0,0,0,0,0,0,0,0,0,0,0,0,0,0,0,0,0,0,0,0,0,0,0,0,0,0,0,0,0,0,0,0,0,0,0,0,0,{"$f":"SUM(E24:QB24)-(PQ24+PS24+PU24+PV24+PX24)","v":0},null,{"$f":"SUM(E24:H24)","v":{"v":0,"d":"0.0"}},{"$f":"SUM(I24:BO24)","v":{"v":0,"d":"0.0"}},{"$f":"SUM(BP24:CW24)","v":{"v":0,"d":"0.0"}},{"$f":"SUM(CX24:DE24)","v":{"v":0,"d":"0.0"}},{"$f":"SUM(DF24:DT24)","v":{"v":0,"d":"0.0"}},{"$f":"SUM(DU24:ET24)","v":{"v":0,"d":"0.0"}},{"$f":"SUM(EU24:FY24)","v":{"v":0,"d":"0.0"}},{"$f":"SUM(FZ24:HD24)","v":{"v":0,"d":"0.0"}},{"$f":"SUM(HE24:HF24)","v":{"v":0,"d":"0.0"}},{"$f":"SUM(HG24:HL24)","v":{"v":0,"d":"0.0"}},{"$f":"SUM(HM24:HR24)","v":{"v":0,"d":"0.0"}},{"$f":"SUM(HS24:IJ24)","v":{"v":0,"d":"0.0"}},{"$f":"SUM(IK24:JA24)","v":{"v":0,"d":"0.0"}},{"$f":"SUM(JB24:JT24)","v":{"v":0,"d":"0.0"}},{"$f":"SUM(JU24:KD24)","v":{"v":0,"d":"0.0"}},{"$f":"SUM(KE24:KP24)","v":{"v":0,"d":"0.0"}},{"$f":"SUM(KQ24:MU24)","v":{"v":0,"d":"0.0"}},{"$f":"SUM(MV24:NG24)","v":{"v":0,"d":"0.0"}},{"$f":"SUM(NH24:NI24)","v":{"v":0,"d":"0.0"}},{"$f":"SUM(NJ24:NL24)","v":{"v":0,"d":"0.0"}},{"$f":"SUM(NM24:NO24)","v":{"v":0,"d":"0.0"}},{"$f":"SUM(NP24)","v":{"v":0,"d":"0.0"}},{"$f":"SUM(NQ24)","v":{"v":0,"d":"0.0"}},{"$f":"SUM(NR24:NT24)","v":{"v":0,"d":"0.0"}},{"$f":"SUM(NU24)","v":{"v":0,"d":"0.0"}},{"$f":"SUM(NV24)","v":{"v":0,"d":"0.0"}},{"$f":"SUM(NW24:OB24)","v":{"v":0,"d":"0.0"}},{"$f":"SUM(OC24:PE24)","v":{"v":0,"d":"0.0"}},{"$f":"SUM(PF24:PG24)","v":{"v":0,"d":"0.0"}},{"$f":"SUM(PH24:PI24)","v":{"v":0,"d":"0.0"}},{"$f":"SUM(PJ24:PM24)","v":{"v":0,"d":"0.0"}},{"$f":"SUM(PN24:PP24)","v":{"v":0,"d":"0.0"}},{"$f":"SUM(PQ24)","v":{"v":0,"d":"0.0"}},{"$f":"SUM(PR24)","v":{"v":0,"d":"0.0"}},{"$f":"SUM(PS24)","v":{"v":0,"d":"0.0"}},{"$f":"SUM(PT24:PV24)","v":{"v":0,"d":"0.0"}},{"$f":"SUM(PV24)","v":{"v":0,"d":"0.0"}},{"$f":"SUM(PV24)","v":{"v":0,"d":"0.0"}},{"$f":"SUM(PW24)","v":{"v":0,"d":"0.0"}},{"$f":"SUM(PX24)","v":{"v":0,"d":"0.0"}},{"$f":"SUM(PY24)","v":{"v":0,"d":"0.0"}},{"$f":"SUM(PZ24)","v":{"v":0,"d":"0.0"}},{"$f":"SUM(QA24)","v":{"v":0,"d":"0.0"}},{"$f":"SUM(QB24)","v":{"v":0,"d":"0.0"}},{"$f":"SUM(QE24:RU24)-SUM(RI24:RM24)-SUM(RQ24:RT24)","v":0}]
[{"$nulls":3},"EN CONDICION DE DISCAPACIDAD",0,0,0,0,0,0,0,0,0,0,0,0,0,0,0,0,0,0,0,0,0,0,0,0,0,0,0,0,0,0,0,0,0,0,0,0,0,0,0,0,0,0,0,0,0,0,0,0,0,0,0,0,0,0,0,0,0,0,0,0,0,0,0,0,0,0,0,0,0,0,0,0,0,0,0,0,0,0,0,0,0,0,0,0,0,0,0,0,0,0,0,0,0,0,0,0,0,0,0,0,0,0,0,0,0,0,0,0,0,0,0,0,0,0,0,0,0,0,0,0,0,0,0,0,0,0,0,0,0,0,0,0,0,0,0,0,0,0,0,0,0,0,0,0,0,0,0,0,0,0,0,0,0,0,0,0,0,0,0,0,0,0,0,0,0,0,0,0,0,0,0,0,0,0,0,0,0,0,0,0,0,0,0,0,0,0,0,0,0,0,0,0,0,0,0,0,0,0,0,0,0,0,0,0,0,0,0,0,0,0,0,0,0,0,0,0,0,0,0,0,0,0,0,0,0,0,0,0,0,0,0,0,0,0,0,0,0,0,0,0,0,0,0,0,0,0,0,0,0,0,0,0,0,0,0,0,0,0,0,0,0,0,0,0,0,0,0,0,0,0,0,0,0,0,0,0,0,0,0,0,0,0,0,0,0,0,0,0,0,0,0,0,0,0,0,0,0,0,0,0,0,0,0,0,0,0,0,0,0,0,0,0,0,0,0,0,0,0,0,0,0,0,0,0,0,0,0,0,0,0,0,0,0,0,0,0,0,0,0,0,0,0,0,0,0,0,0,0,0,0,0,0,0,0,0,0,0,0,0,0,0,0,0,0,0,0,0,0,0,0,0,0,0,0,0,0,0,0,0,0,0,0,0,0,0,0,0,0,0,0,0,0,0,0,0,0,0,0,0,0,0,0,0,0,0,0,0,0,0,0,0,0,0,0,0,0,0,0,0,0,0,0,0,0,0,0,0,0,0,0,0,0,0,0,0,0,0,0,0,0,0,null,{"v":0,"d":"0.0"},{"v":0,"d":"0.0"},{"v":0,"d":"0.0"},{"v":0,"d":"0.0"},{"v":0,"d":"0.0"},{"v":0,"d":"0.0"},{"v":0,"d":"0.0"},{"v":0,"d":"0.0"},{"v":0,"d":"0.0"},{"v":0,"d":"0.0"},{"v":0,"d":"0.0"},{"v":0,"d":"0.0"},{"v":0,"d":"0.0"},{"v":0,"d":"0.0"},{"v":0,"d":"0.0"},{"v":0,"d":"0.0"},{"v":0,"d":"0.0"},{"v":0,"d":"0.0"},{"v":0,"d":"0.0"},{"v":0,"d":"0.0"},{"v":0,"d":"0.0"},{"v":0,"d":"0.0"},{"v":0,"d":"0.0"},{"v":0,"d":"0.0"},{"v":0,"d":"0.0"},{"v":0,"d":"0.0"},{"v":0,"d":"0.0"},{"v":0,"d":"0.0"},{"v":0,"d":"0.0"},{"v":0,"d":"0.0"},{"v":0,"d":"0.0"},{"v":0,"d":"0.0"},{"v":0,"d":"0.0"},{"v":0,"d":"0.0"},{"v":0,"d":"0.0"},{"v":0,"d":"0.0"},{"v":0,"d":"0.0"},{"v":0,"d":"0.0"},{"v":0,"d":"0.0"},{"v":0,"d":"0.0"},{"v":0,"d":"0.0"},{"v":0,"d":"0.0"},{"v":0,"d":"0.0"},{"v":0,"d":"0.0"},0]
[{"$nulls":3},"VICTIMAS DEL CONFLICTO ARMADO",0,0,0,0,0,0,0,0,0,0,0,0,0,0,0,0,0,0,0,0,0,0,0,0,0,0,0,0,0,0,0,0,0,0,0,0,0,0,0,0,0,0,0,0,0,0,0,0,0,0,0,0,0,0,0,0,0,0,0,0,0,0,0,0,0,0,0,0,0,0,0,0,0,0,0,0,0,0,0,0,0,0,0,0,0,0,0,0,0,0,0,0,0,0,0,0,0,0,0,0,0,0,0,0,0,0,0,0,0,0,0,0,0,0,0,0,0,0,0,0,0,0,0,0,0,0,0,0,0,0,0,0,0,0,0,0,0,0,0,0,0,0,0,0,0,0,0,0,0,0,0,0,0,0,0,0,0,0,0,0,0,0,0,0,0,0,0,0,0,0,0,0,0,0,0,0,0,0,0,0,0,0,0,0,0,0,0,0,0,0,0,0,0,0,0,0,0,0,0,0,0,0,0,0,0,0,0,0,0,0,0,0,0,0,0,0,0,0,0,0,0,0,0,0,0,0,0,0,0,0,0,0,0,0,0,0,0,0,0,0,0,0,0,0,0,0,0,0,0,0,0,0,0,0,0,0,0,0,0,0,0,0,0,0,0,0,0,0,0,0,0,0,0,0,0,0,0,0,0,0,0,0,0,0,0,0,0,0,0,0,0,0,0,0,0,0,0,0,0,0,0,0,0,0,0,0,0,0,0,0,0,0,0,0,0,0,0,0,0,0,0,0,0,0,0,0,0,0,0,0,0,0,0,0,0,0,0,0,0,0,0,0,0,0,0,0,0,0,0,0,0,0,0,0,0,0,0,0,0,0,0,0,0,0,0,0,0,0,0,0,0,0,0,0,0,0,0,0,0,0,0,0,0,0,0,0,0,0,0,0,0,0,0,0,0,0,0,0,0,0,0,0,0,0,0,0,0,0,0,0,0,0,0,0,0,0,0,0,0,0,0,0,0,0,0,0,0,0,0,0,0,0,0,0,0,0,0,0,0,0,0,null,{"v":0,"d":"0.0"},{"v":0,"d":"0.0"},{"v":0,"d":"0.0"},{"v":0,"d":"0.0"},{"v":0,"d":"0.0"},{"v":0,"d":"0.0"},{"v":0,"d":"0.0"},{"v":0,"d":"0.0"},{"v":0,"d":"0.0"},{"v":0,"d":"0.0"},{"v":0,"d":"0.0"},{"v":0,"d":"0.0"},{"v":0,"d":"0.0"},{"v":0,"d":"0.0"},{"v":0,"d":"0.0"},{"v":0,"d":"0.0"},{"v":0,"d":"0.0"},{"v":0,"d":"0.0"},{"v":0,"d":"0.0"},{"v":0,"d":"0.0"},{"v":0,"d":"0.0"},{"v":0,"d":"0.0"},{"v":0,"d":"0.0"},{"v":0,"d":"0.0"},{"v":0,"d":"0.0"},{"v":0,"d":"0.0"},{"v":0,"d":"0.0"},{"v":0,"d":"0.0"},{"v":0,"d":"0.0"},{"v":0,"d":"0.0"},{"v":0,"d":"0.0"},{"v":0,"d":"0.0"},{"v":0,"d":"0.0"},{"v":0,"d":"0.0"},{"v":0,"d":"0.0"},{"v":0,"d":"0.0"},{"v":0,"d":"0.0"},{"v":0,"d":"0.0"},{"v":0,"d":"0.0"},{"v":0,"d":"0.0"},{"v":0,"d":"0.0"},{"v":0,"d":"0.0"},{"v":0,"d":"0.0"},{"v":0,"d":"0.0"},0]
[{"$nulls":3},"ZONAS VEREDALES",29,2,0,0,30,1,0,0,0,0,0,0,0,0,0,0,0,0,0,0,0,0,0,0,0,0,0,0,0,0,0,0,0,0,0,0,0,0,0,0,0,0,0,0,0,0,0,0,0,0,0,0,0,0,0,0,0,0,0,0,0,0,0,5,3,6,0,0,0,0,0,0,0,0,0,0,0,0,0,0,0,5,0,0,0,0,0,0,0,0,0,0,0,0,0,0,0,3,0,0,0,0,0,0,13,5,3,6,0,0,0,0,0,0,0,0,0,0,0,0,0,0,0,0,0,0,0,0,0,0,0,0,0,0,0,0,0,0,8,0,0,0,0,0,0,13,0,0,0,0,0,0,0,0,0,0,0,0,0,0,0,0,0,0,0,0,0,0,0,0,0,0,0,0,0,0,0,0,0,0,0,0,0,0,0,0,0,0,0,0,0,0,0,0,0,0,0,0,0,0,0,0,0,0,0,0,0,0,5,5,5,5,7,0,1,0,0,0,0,0,0,0,8,0,0,0,0,0,0,0,0,0,0,13,0,0,0,0,0,0,0,1,0,0,1,1,0,1,0,1,0,1,0,0,2,1,0,8,0,0,0,0,0,0,0,0,0,0,0,0,0,0,0,1,0,0,8,0,0,0,0,0,0,0,0,0,8,0,0,0,0,0,0,0,13,0,0,0,0,0,0,0,0,1,0,0,0,0,2,1,0,1,0,0,0,0,0,1,0,0,0,0,4,3,4,1,2,0,0,0,0,0,0,0,0,0,0,1,0,0,0,0,0,0,0,0,0,0,0,0,0,0,0,0,0,0,0,0,0,0,0,3,0,2,0,0,0,10,13,6,6,5,0,0,7,43,12,0,0,41,63,111,0,0,0,0,0,0,1,0,0,1,2,0,1,0,0,0,0,0,1,1,0,0,0,0,0,1,0,1,0,0,0,0,0,0,0,0,0,0,0,0,0,0,0,0,1,0,0,0,0,0,0,0,0,0,0,0,0,0,581,{"$f":"CONCATENATE($G$2,$B$8)","v":"11"},{"$f":"SUM(E27:H27)","v":{"v":31,"d":"31.0"}},{"$f":"SUM(I27:BN27)","v":{"v":31,"d":"31.0"}},{"$f":"SUM(BP27:CW27)","v":{"v":19,"d":"19.0"}},{"$f":"SUM(CX27:DE27)","v":{"v":16,"d":"16.0"}},{"$f":"SUM(DF27:DT27)","v":{"v":14,"d":"14.0"}},{"$f":"SUM(DU27:ET27)","v":{"v":21,"d":"21.0"}},{"$f":"SUM(EU27:FY27)","v":{"v":0,"d":"0.0"}},{"$f":"SUM(FZ27:HD27)","v":{"v":0,"d":"0.0"}},{"$f":"SUM(HE27:HF27)","v":{"v":10,"d":"10.0"}},{"$f":"SUM(HG27:HL27)","v":{"v":18,"d":"18.0"}},{"$f":"SUM(HR27:II27)","v":{"v":21,"d":"21.0"}},{"v":21,"d":"21.0"},{"$f":"SUM(IK27:JA27)","v":{"v":9,"d":"9.0"}},{"$f":"SUM(JB27:JT27)","v":{"v":9,"d":"9.0"}},{"$f":"SUM(JU27:KD27)","v":{"v":8,"d":"8.0"}},{"$f":"SUM(KE27:KP27)","v":{"v":21,"d":"21.0"}},{"$f":"SUM(KQ27:MU27)","v":{"v":21,"d":"21.0"}},{"$f":"SUM(MV27:NG27)","v":{"v":5,"d":"5.0"}},{"$f":"SUM(NH27:NL27)","v":{"v":40,"d":"40.0"}},{"$f":"SUM(NM27:NO27)","v":{"v":7,"d":"7.0"}},{"v":7,"d":"7.0"},{"$f":"SUM(NP27)","v":{"v":43,"d":"43.0"}},{"v":12,"d":"12.0"},{"$f":"SUM(NS27:NT27)","v":{"v":41,"d":"41.0"}},{"v":104,"d":"104.0"},{"v":174,"d":"174.0"},{"$f":"SUM(NZ27:OB27)","v":{"v":0,"d":"0.0"}},{"$f":"SUM(OC27:PE27)","v":{"v":9,"d":"9.0"}},{"$f":"SUM(PF27:PI27)","v":{"v":0,"d":"0.0"}},{"$f":"SUM(PJ27:PP27)","v":{"v":1,"d":"1.0"}},{"$f":"PQ27","v":{"v":0,"d":"0.0"}},{"$f":"PR27","v":{"v":0,"d":"0.0"}},{"$f":"SUM(PQ27)","v":{"v":0,"d":"0.0"}},{"v":0,"d":"0.0"},{"v":0,"d":"0.0"},{"v":0,"d":"0.0"},{"v":0,"d":"0.0"},{"v":0,"d":"0.0"},{"v":0,"d":"0.0"},{"v":0,"d":"0.0"},{"v":0,"d":"0.0"},{"v":0,"d":"0.0"},{"v":0,"d":"0.0"},{"v":0,"d":"0.0"},{"$f":"SUM(QE27:RU27)-SUM(RI27:RM27)-SUM(RQ27:RT27)","v":713}]
[{"$nulls":3},"FEMENINO",{"$nulls":440},0,null,{"v":0,"d":"0.0"},{"$f":"SUM(I28:BO28)","v":{"v":0,"d":"0.0"}},{"v":0,"d":"0.0"},{"v":0,"d":"0.0"},{"v":0,"d":"0.0"},{"v":0,"d":"0.0"},{"v":0,"d":"0.0"},{"v":0,"d":"0.0"},{"v":0,"d":"0.0"},{"v":0,"d":"0.0"},{"$f":"SUM(HM28:HR28)","v":{"v":0,"d":"0.0"}},{"v":0,"d":"0.0"},{"v":0,"d":"0.0"},{"v":0,"d":"0.0"},{"v":0,"d":"0.0"},{"v":0,"d":"0.0"},{"v":0,"d":"0.0"},{"v":0,"d":"0.0"},{"$f":"SUM(NH28:NI28)","v":{"v":0,"d":"0.0"}},{"$f":"SUM(NJ28:NL28)","v":{"v":0,"d":"0.0"}},{"v":0,"d":"0.0"},{"v":0,"d":"0.0"},{"v":0,"d":"0.0"},{"$f":"SUM(NR28:NT28)","v":{"v":0,"d":"0.0"}},{"$f":"SUM(NU28)","v":{"v":0,"d":"0.0"}},{"$f":"SUM(NV28)","v":{"v":0,"d":"0.0"}},{"$f":"SUM(NW28:OB28)","v":{"v":0,"d":"0.0"}},{"$f":"SUM(OC28:PE28)","v":{"v":0,"d":"0.0"}},{"$f":"SUM(PF28:PG28)","v":{"v":0,"d":"0.0"}},{"$f":"SUM(PH28:PI28)","v":{"v":0,"d":"0.0"}},{"$f":"SUM(PJ28:PM28)","v":{"v":0,"d":"0.0"}},{"$f":"SUM(PN28:PP28)","v":{"v":0,"d":"0.0"}},{"$f":"SUM(PQ28)","v":{"v":0,"d":"0.0"}},{"$f":"SUM(PR28)","v":{"v":0,"d":"0.0"}},{"$f":"SUM(PS28)","v":{"v":0,"d":"0.0"}},{"$f":"SUM(PT28:PV28)","v":{"v":0,"d":"0.0"}},{"$f":"SUM(PV28)","v":{"v":0,"d":"0.0"}},{"$f":"SUM(PV28)","v":{"v":0,"d":"0.0"}},{"$f":"SUM(PW28)","v":{"v":0,"d":"0.0"}},{"$f":"SUM(PX28)","v":{"v":0,"d":"0.0"}},{"$f":"SUM(PY28)","v":{"v":0,"d":"0.0"}},{"$f":"SUM(PZ28)","v":{"v":0,"d":"0.0"}},{"$f":"SUM(QA28)","v":{"v":0,"d":"0.0"}},{"$f":"SUM(QB28)","v":{"v":0,"d":"0.0"}},{"$f":"SUM(QE28:RU28)-SUM(RI28:RM28)-SUM(RQ28:RT28)","v":0}]
[{"$nulls":3},"MASCULINO",{"$nulls":440},0,null,{"v":0,"d":"0.0"},{"v":0,"d":"0.0"},{"v":0,"d":"0.0"},{"v":0,"d":"0.0"},{"v":0,"d":"0.0"},{"v":0,"d":"0.0"},{"v":0,"d":"0.0"},{"v":0,"d":"0.0"},{"v":0,"d":"0.0"},{"v":0,"d":"0.0"},{"v":0,"d":"0.0"},{"v":0,"d":"0.0"},{"v":0,"d":"0.0"},{"v":0,"d":"0.0"},{"v":0,"d":"0.0"},{"v":0,"d":"0.0"},{"v":0,"d":"0.0"},{"v":0,"d":"0.0"},{"v":0,"d":"0.0"},{"v":0,"d":"0.0"},{"v":0,"d":"0.0"},{"v":0,"d":"0.0"},{"v":0,"d":"0.0"},{"v":0,"d":"0.0"},{"v":0,"d":"0.0"},{"v":0,"d":"0.0"},{"v":0,"d":"0.0"},{"v":0,"d":"0.0"},{"v":0,"d":"0.0"},{"v":0,"d":"0.0"},{"v":0,"d":"0.0"},{"v":0,"d":"0.0"},{"v":0,"d":"0.0"},{"v":0,"d":"0.0"},{"v":0,"d":"0.0"},{"v":0,"d":"0.0"},{"v":0,"d":"0.0"},{"v":0,"d":"0.0"},{"v":0,"d":"0.0"},{"v":0,"d":"0.0"},{"v":0,"d":"0.0"},{"v":0,"d":"0.0"},{"v":0,"d":"0.0"},{"v":0,"d":"0.0"},0]
[{"$nulls":3},"OTRO",{"$nulls":440},0,null,{"v":0,"d":"0.0"},{"v":0,"d":"0.0"},{"v":0,"d":"0.0"},{"v":0,"d":"0.0"},{"v":0,"d":"0.0"},{"v":0,"d":"0.0"},{"v":0,"d":"0.0"},{"v":0,"d":"0.0"},{"v":0,"d":"0.0"},{"v":0,"d":"0.0"},{"v":0,"d":"0.0"},{"v":0,"d":"0.0"},{"v":0,"d":"0.0"},{"v":0,"d":"0.0"},{"v":0,"d":"0.0"},{"v":0,"d":"0.0"},{"v":0,"d":"0.0"},{"v":0,"d":"0.0"},{"v":0,"d":"0.0"},{"v":0,"d":"0.0"},{"v":0,"d":"0.0"},{"v":0,"d":"0.0"},{"v":0,"d":"0.0"},{"v":0,"d":"0.0"},{"v":0,"d":"0.0"},{"v":0,"d":"0.0"},{"v":0,"d":"0.0"},{"v":0,"d":"0.0"},{"v":0,"d":"0.0"},{"v":0,"d":"0.0"},{"v":0,"d":"0.0"},{"v":0,"d":"0.0"},{"v":0,"d":"0.0"},{"v":0,"d":"0.0"},{"v":0,"d":"0.0"},{"v":0,"d":"0.0"},{"v":0,"d":"0.0"},{"v":0,"d":"0.0"},{"v":0,"d":"0.0"},{"v":0,"d":"0.0"},{"v":0,"d":"0.0"},{"v":0,"d":"0.0"},{"v":0,"d":"0.0"},{"v":0,"d":"0.0"},0]
[{"$nulls":3},"TOTAL GENERO",{"$f":"SUM(E28:E30)","v":0},{"$f":"SUM(F28:F30)","v":0},0,0,0,0,0,0,0,0,0,0,0,0,0,0,0,0,0,0,0,0,0,0,0,0,0,0,0,0,0,0,0,0,0,0,0,0,0,0,0,0,0,0,0,0,0,0,0,0,0,0,0,0,0,0,0,0,0,0,0,0,0,0,0,{"$f":"SUM(BR28:BR30)","v":0},0,0,0,0,0,0,0,0,0,0,0,0,0,0,0,0,0,0,0,0,0,0,0,0,0,0,0,0,0,0,0,0,0,0,0,0,0,0,0,0,0,0,0,0,0,0,0,0,0,0,0,0,0,0,0,0,0,0,0,0,0,0,0,{"$f":"SUM(ED28:ED30)","v":0},0,0,0,0,0,0,0,0,0,0,0,0,0,0,0,0,0,0,0,0,0,0,0,0,0,0,0,0,0,0,0,0,0,0,0,0,0,0,0,0,0,0,0,0,0,0,0,0,0,0,0,0,0,0,0,0,0,0,0,0,0,0,0,{"$f":"SUM(GP28:GP30)","v":0},0,0,0,0,0,0,0,0,0,0,0,0,0,0,0,0,0,0,0,0,0,0,0,0,0,0,0,0,0,0,0,0,0,0,0,0,0,0,0,0,0,0,0,0,0,0,0,0,0,0,0,0,0,0,0,0,0,0,0,0,0,0,0,{"$f":"SUM(JB28:JB30)","v":0},0,0,0,0,0,0,0,0,0,0,0,0,0,0,0,0,0,0,0,0,0,0,0,0,0,0,0,0,0,0,0,0,0,0,0,0,0,0,0,0,0,0,0,0,0,0,0,0,0,0,0,0,0,0,0,0,0,0,0,0,0,0,0,{"$f":"SUM(LN28:LN30)","v":0},0,0,0,0,0,0,0,0,0,0,0,0,0,0,0,0,0,0,0,0,0,0,0,0,0,0,0,0,0,0,0,0,0,0,0,0,0,0,0,0,0,0,0,0,0,0,0,0,0,0,0,0,0,0,0,0,0,0,0,0,0,0,0,{"$f":"SUM(NZ28:NZ30)","v":0},0,0,0,0,0,0,0,0,0,0,0,0,0,0,0,0,0,0,0,0,0,0,0,0,0,0,0,0,0,0,0,0,0,0,0,0,0,0,0,0,0,0,0,0,0,0,0,0,0,0,0,0,0,0,0,null,{"$f":"SUM(QE28:QE30)","v":{"v":0,"d":"0.0"}},{"$f":"SUM(QF28:QF30)","v":{"v":0,"d":"0.0"}},{"$f":"SUM(QG28:QG30)","v":{"v":0,"d":"0.0"}},{"$f":"SUM(QH28:QH30)","v":{"v":0,"d":"0.0"}},{"$f":"SUM(QI28:QI30)","v":{"v":0,"d":"0.0"}},{"$f":"SUM(QJ28:QJ30)","v":{"v":0,"d":"0.0"}},{"$f":"SUM(QK28:QK30)","v":{"v":0,"d":"0.0"}},{"$f":"SUM(QL28:QL30)","v":{"v":0,"d":"0.0"}},{"$f":"SUM(QM28:QM30)","v":{"v":0,"d":"0.0"}},{"$f":"SUM(QN28:QN30)","v":{"v":0,"d":"0.0"}},{"$f":"SUM(QO28:QO30)","v":{"v":0,"d":"0.0"}},{"v":0,"d":"0.0"},{"$f":"SUM(QQ28:QQ30)","v":{"v":0,"d":"0.0"}},{"$f":"SUM(QR28:QR30)","v":{"v":0,"d":"0.0"}},{"$f":"SUM(QS28:QS30)","v":{"v":0,"d":"0.0"}},{"$f":"SUM(QT28:QT30)","v":{"v":0,"d":"0.0"}},{"$f":"SUM(QU28:QU30)","v":{"v":0,"d":"0.0"}},{"$f":"SUM(QV28:QV30)","v":{"v":0,"d":"0.0"}},{"$f":"SUM(QW28:QW30)","v":{"v":0,"d":"0.0"}},{"$f":"SUM(QX28:QX30)","v":{"v":0,"d":"0.0"}},{"v":0,"d":"0.0"},{"$f":"SUM(QZ28:QZ30)","v":{"v":0,"d":"0.0"}},{"$f":"SUM(RA28:RA30)","v":{"v":0,"d":"0.0"}},{"v":0,"d":"0.0"},{"$f":"SUM(RC28:RC30)","v":{"v":0,"d":"0.0"}},{"v":0,"d":"0.0"},{"$f":"SUM(RE28:RE30)","v":{"v":0,"d":"0.0"}},{"$f":"SUM(RF28:RF30)","v":{"v":0,"d":"0.0"}},{"$f":"SUM(RG28:RG30)","v":{"v":0,"d":"0.0"}},{"$f":"SUM(RH28:RH30)","v":{"v":0,"d":"0.0"}},{"$f":"SUM(RI28:RI30)","v":{"v":0,"d":"0.0"}},{"$f":"SUM(RJ28:RJ30)","v":{"v":0,"d":"0.0"}},{"v":0,"d":"0.0"},{"$f":"SUM(RL28:RL30)","v":{"v":0,"d":"0.0"}},{"v":0,"d":"0.0"},{"$f":"SUM(RN28:RN30)","v":{"v":0,"d":"0.0"}},{"$f":"SUM(RO28:RO30)","v":{"v":0,"d":"0.0"}},{"$f":"SUM(RP28:RP30)","v":{"v":0,"d":"0.0"}},{"$f":"SUM(RQ28:RQ30)","v":{"v":0,"d":"0.0"}},{"$f":"SUM(RR28:RR30)","v":{"v":0,"d":"0.0"}},{"$f":"SUM(RS28:RS30)","v":{"v":0,"d":"0.0"}},{"$f":"SUM(RT28:RT30)","v":{"v":0,"d":"0.0"}},{"$f":"SUM(RU28:RU30)","v":{"v":0,"d":"0.0"}},{"$f":"SUM(RV28:RV30)","v":{"v":0,"d":"0.0"}},0]
[{"$nulls":3},"CONTRIBUTIVO",{"$nulls":440},{"$f":"SUM(E32:QB32)-(PQ32+PS32+PU32+PV32+PX32)","v":0},null,{"$f":"SUM(E32:H32)","v":{"v":0,"d":"0.0"}},{"$f":"SUM(I32:BO32)","v":{"v":0,"d":"0.0"}},{"$f":"SUM(BP32:CW32)","v":{"v":0,"d":"0.0"}},{"$f":"SUM(CX32:DE32)","v":{"v":0,"d":"0.0"}},{"$f":"SUM(DF32:DT32)","v":{"v":0,"d":"0.0"}},{"$f":"SUM(DU32:ET32)","v":{"v":0,"d":"0.0"}},{"$f":"SUM(EU32:FY32)","v":{"v":0,"d":"0.0"}},{"$f":"SUM(FZ32:HD32)","v":{"v":0,"d":"0.0"}},{"$f":"SUM(HE32:HF32)","v":{"v":0,"d":"0.0"}},{"$f":"SUM(HG32:HL32)","v":{"v":0,"d":"0.0"}},{"$f":"SUM(HM32:HR32)","v":{"v":0,"d":"0.0"}},{"$f":"SUM(HS32:IJ32)","v":{"v":0,"d":"0.0"}},{"$f":"SUM(IK32:JA32)","v":{"v":0,"d":"0.0"}},{"$f":"SUM(JB32:JT32)","v":{"v":0,"d":"0.0"}},{"$f":"SUM(JU32:KD32)","v":{"v":0,"d":"0.0"}},{"$f":"SUM(KE32:KP32)","v":{"v":0,"d":"0.0"}},{"$f":"SUM(KQ32:MU32)","v":{"v":0,"d":"0.0"}},{"$f":"SUM(MV32:NG32)","v":{"v":0,"d":"0.0"}},{"$f":"SUM(NH32:NI32)","v":{"v":0,"d":"0.0"}},{"$f":"SUM(NJ32:NL32)","v":{"v":0,"d":"0.0"}},{"$f":"SUM(NM32:NO32)","v":{"v":0,"d":"0.0"}},{"$f":"SUM(NP32)","v":{"v":0,"d":"0.0"}},{"$f":"SUM(NQ32)","v":{"v":0,"d":"0.0"}},{"$f":"SUM(NR32:NT32)","v":{"v":0,"d":"0.0"}},{"$f":"SUM(NU32)","v":{"v":0,"d":"0.0"}},{"$f":"SUM(NV32)","v":{"v":0,"d":"0.0"}},{"$f":"SUM(NW32:OB32)","v":{"v":0,"d":"0.0"}},{"$f":"SUM(OC32:PE32)","v":{"v":0,"d":"0.0"}},{"$f":"SUM(PF32:PG32)","v":{"v":0,"d":"0.0"}},{"$f":"SUM(PH32:PI32)","v":{"v":0,"d":"0.0"}},{"$f":"SUM(PJ32:PM32)","v":{"v":0,"d":"0.0"}},{"$f":"SUM(PN32:PP32)","v":{"v":0,"d":"0.0"}},{"$f":"SUM(PQ32)","v":{"v":0,"d":"0.0"}},{"$f":"SUM(PR32)","v":{"v":0,"d":"0.0"}},{"$f":"SUM(PS32)","v":{"v":0,"d":"0.0"}},{"$f":"SUM(PT32:PV32)","v":{"v":0,"d":"0.0"}},{"$f":"SUM(PV32)","v":{"v":0,"d":"0.0"}},{"$f":"SUM(PV32)","v":{"v":0,"d":"0.0"}},{"$f":"SUM(PW32)","v":{"v":0,"d":"0.0"}},{"$f":"SUM(PX32)","v":{"v":0,"d":"0.0"}},{"$f":"SUM(PY32)","v":{"v":0,"d":"0.0"}},{"$f":"SUM(PZ32)","v":{"v":0,"d":"0.0"}},{"$f":"SUM(QA32)","v":{"v":0,"d":"0.0"}},{"$f":"SUM(QB32)","v":{"v":0,"d":"0.0"}},{"$f":"SUM(QE32:RU32)-SUM(RI32:RM32)-SUM(RQ32:RT32)","v":0}]
[{"$nulls":3},"SUBSIDIADO",{"$nulls":440},0,null,{"v":0,"d":"0.0"},{"v":0,"d":"0.0"},{"v":0,"d":"0.0"},{"v":0,"d":"0.0"},{"v":0,"d":"0.0"},{"v":0,"d":"0.0"},{"v":0,"d":"0.0"},{"v":0,"d":"0.0"},{"v":0,"d":"0.0"},{"v":0,"d":"0.0"},{"v":0,"d":"0.0"},{"v":0,"d":"0.0"},{"v":0,"d":"0.0"},{"v":0,"d":"0.0"},{"v":0,"d":"0.0"},{"v":0,"d":"0.0"},{"v":0,"d":"0.0"},{"v":0,"d":"0.0"},{"v":0,"d":"0.0"},{"v":0,"d":"0.0"},{"v":0,"d":"0.0"},{"v":0,"d":"0.0"},{"v":0,"d":"0.0"},{"v":0,"d":"0.0"},{"v":0,"d":"0.0"},{"v":0,"d":"0.0"},{"v":0,"d":"0.0"},{"v":0,"d":"0.0"},{"v":0,"d":"0.0"},{"v":0,"d":"0.0"},{"v":0,"d":"0.0"},{"v":0,"d":"0.0"},{"v":0,"d":"0.0"},{"v":0,"d":"0.0"},{"v":0,"d":"0.0"},{"v":0,"d":"0.0"},{"v":0,"d":"0.0"},{"v":0,"d":"0.0"},{"v":0,"d":"0.0"},{"v":0,"d":"0.0"},{"v":0,"d":"0.0"},{"v":0,"d":"0.0"},{"v":0,"d":"0.0"},{"v":0,"d":"0.0"},0]
[{"$nulls":3},"POBRE NO ASEGURADO",{"$nulls":440},0,null,{"v":0,"d":"0.0"},{"v":0,"d":"0.0"},{"v":0,"d":"0.0"},{"v":0,"d":"0.0"},{"v":0,"d":"0.0"},{"v":0,"d":"0.0"},{"v":0,"d":"0.0"},{"v":0,"d":"0.0"},{"v":0,"d":"0.0"},{"v":0,"d":"0.0"},{"v":0,"d":"0.0"},{"v":0,"d":"0.0"},{"v":0,"d":"0.0"},{"v":0,"d":"0.0"},{"v":0,"d":"0.0"},{"v":0,"d":"0.0"},{"v":0,"d":"0.0"},{"v":0,"d":"0.0"},{"v":0,"d":"0.0"},{"v":0,"d":"0.0"},{"v":0,"d":"0.0"},{"v":0,"d":"0.0"},{"v":0,"d":"0.0"},{"v":0,"d":"0.0"},{"v":0,"d":"0.0"},{"v":0,"d":"0.0"},{"v":0,"d":"0.0"},{"v":0,"d":"0.0"},{"v":0,"d":"0.0"},{"v":0,"d":"0.0"},{"v":0,"d":"0.0"},{"v":0,"d":"0.0"},{"v":0,"d":"0.0"},{"v":0,"d":"0.0"},{"v":0,"d":"0.0"},{"v":0,"d":"0.0"},{"v":0,"d":"0.0"},{"v":0,"d":"0.0"},{"v":0,"d":"0.0"},{"v":0,"d":"0.0"},{"v":0,"d":"0.0"},{"v":0,"d":"0.0"},{"v":0,"d":"0.0"},{"v":0,"d":"0.0"},0]
[{"$nulls":3},"REGIMEN ESPECIAL",{"$nulls":440},0,null,{"v":0,"d":"0.0"},{"v":0,"d":"0.0"},{"v":0,"d":"0.0"},{"v":0,"d":"0.0"},{"v":0,"d":"0.0"},{"v":0,"d":"0.0"},{"v":0,"d":"0.0"},{"v":0,"d":"0.0"},{"v":0,"d":"0.0"},{"v":0,"d":"0.0"},{"v":0,"d":"0.0"},{"v":0,"d":"0.0"},{"v":0,"d":"0.0"},{"v":0,"d":"0.0"},{"v":0,"d":"0.0"},{"v":0,"d":"0.0"},{"v":0,"d":"0.0"},{"v":0,"d":"0.0"},{"v":0,"d":"0.0"},{"v":0,"d":"0.0"},{"v":0,"d":"0.0"},{"v":0,"d":"0.0"},{"v":0,"d":"0.0"},{"v":0,"d":"0.0"},{"v":0,"d":"0.0"},{"v":0,"d":"0.0"},{"v":0,"d":"0.0"},{"v":0,"d":"0.0"},{"v":0,"d":"0.0"},{"v":0,"d":"0.0"},{"v":0,"d":"0.0"},{"v":0,"d":"0.0"},{"v":0,"d":"0.0"},{"v":0,"d":"0.0"},{"v":0,"d":"0.0"},{"v":0,"d":"0.0"},{"v":0,"d":"0.0"},{"v":0,"d":"0.0"},{"v":0,"d":"0.0"},{"v":0,"d":"0.0"},{"v":0,"d":"0.0"},{"v":0,"d":"0.0"},{"v":0,"d":"0.0"},{"v":0,"d":"0.0"},0]
[{"$nulls":3},"TOTAL REGIMEN",{"$f":"SUM(E32:E35)","v":0},0,0,0,0,0,0,0,0,0,0,0,0,0,0,0,0,0,0,0,0,0,0,0,0,0,0,0,0,0,0,0,0,0,0,0,0,0,0,0,0,0,0,0,0,0,0,0,0,0,0,0,0,0,0,0,0,0,0,0,0,0,0,0,{"$f":"SUM(BQ32:BQ35)","v":0},0,0,0,0,0,0,0,0,0,0,0,0,0,0,0,0,0,0,0,0,0,0,0,0,0,0,0,0,0,0,0,0,0,0,0,0,0,0,0,0,0,0,0,0,0,0,0,0,0,0,0,0,0,0,0,0,0,0,0,0,0,0,0,{"$f":"SUM(EC32:EC35)","v":0},0,0,0,0,0,0,0,0,0,0,0,0,0,0,0,0,0,0,0,0,0,0,0,0,0,0,0,0,0,0,0,0,0,0,0,0,0,0,0,0,0,0,0,0,0,0,0,0,0,0,0,0,0,0,0,0,0,0,0,0,0,0,0,{"$f":"SUM(GO32:GO35)","v":0},0,0,0,0,0,0,0,0,0,0,0,0,0,0,0,0,0,0,0,0,0,0,0,0,0,0,0,0,0,0,0,0,0,0,0,0,0,0,0,0,0,0,0,0,0,0,0,0,0,0,0,0,0,0,0,0,0,0,0,0,0,0,0,{"$f":"SUM(JA32:JA35)","v":0},0,0,0,0,0,0,0,0,0,0,0,0,0,0,0,0,0,0,0,0,0,0,0,0,0,0,0,0,0,0,0,0,0,0,0,0,0,0,0,0,0,0,0,0,0,0,0,0,0,0,0,0,0,0,0,0,0,0,0,0,0,0,0,{"$f":"SUM(LM32:LM35)","v":0},0,0,0,0,0,0,0,0,0,0,0,0,0,0,0,0,0,0,0,0,0,0,0,0,0,0,0,0,0,0,0,0,0,0,0,0,0,0,0,0,0,0,0,0,0,0,0,0,0,0,0,0,0,0,0,0,0,0,0,0,0,0,0,{"$f":"SUM(NY32:NY35)","v":0},0,0,0,0,0,0,0,0,0,0,0,0,0,0,0,0,0,0,0,0,0,0,0,0,0,0,0,0,0,0,0,0,0,0,0,0,0,0,0,0,0,0,0,0,0,0,0,0,0,0,0,0,0,0,0,0,null,{"$f":"SUM(QE32:QE35)","v":{"v":0,"d":"0.0"}},{"$f":"SUM(QF32:QF35)","v":{"v":0,"d":"0.0"}},{"$f":"SUM(QG32:QG35)","v":{"v":0,"d":"0.0"}},{"$f":"SUM(QH32:QH35)","v":{"v":0,"d":"0.0"}},{"$f":"SUM(QI32:QI35)","v":{"v":0,"d":"0.0"}},{"$f":"SUM(QJ32:QJ35)","v":{"v":0,"d":"0.0"}},{"$f":"SUM(QK32:QK35)","v":{"v":0,"d":"0.0"}},{"$f":"SUM(QL32:QL35)","v":{"v":0,"d":"0.0"}},{"$f":"SUM(QM32:QM35)","v":{"v":0,"d":"0.0"}},{"$f":"SUM(QN32:QN35)","v":{"v":0,"d":"0.0"}},{"$f":"SUM(QO32:QO35)","v":{"v":0,"d":"0.0"}},{"v":0,"d":"0.0"},{"$f":"SUM(QQ32:QQ35)","v":{"v":0,"d":"0.0"}},{"$f":"SUM(QR32:QR35)","v":{"v":0,"d":"0.0"}},{"$f":"SUM(QS32:QS35)","v":{"v":0,"d":"0.0"}},{"$f":"SUM(QT32:QT35)","v":{"v":0,"d":"0.0"}},{"$f":"SUM(QU32:QU35)","v":{"v":0,"d":"0.0"}},{"$f":"SUM(QV32:QV35)","v":{"v":0,"d":"0.0"}},{"$f":"SUM(QW32:QW35)","v":{"v":0,"d":"0.0"}},{"$f":"SUM(QX32:QX35)","v":{"v":0,"d":"0.0"}},{"v":0,"d":"0.0"},{"$f":"SUM(QZ32:QZ35)","v":{"v":0,"d":"0.0"}},{"$f":"SUM(RA32:RA35)","v":{"v":0,"d":"0.0"}},{"v":0,"d":"0.0"},{"$f":"SUM(RC32:RC35)","v":{"v":0,"d":"0.0"}},{"v":0,"d":"0.0"},{"$f":"SUM(RE32:RE35)","v":{"v":0,"d":"0.0"}},{"$f":"SUM(RF32:RF35)","v":{"v":0,"d":"0.0"}},{"$f":"SUM(RG32:RG35)","v":{"v":0,"d":"0.0"}},{"$f":"SUM(RH32:RH35)","v":{"v":0,"d":"0.0"}},{"$f":"SUM(RI32:RI35)","v":{"v":0,"d":"0.0"}},{"$f":"SUM(RJ32:RJ35)","v":{"v":0,"d":"0.0"}},{"v":0,"d":"0.0"},{"$f":"SUM(RL32:RL35)","v":{"v":0,"d":"0.0"}},{"v":0,"d":"0.0"},{"$f":"SUM(RN32:RN35)","v":{"v":0,"d":"0.0"}},{"$f":"SUM(RO32:RO35)","v":{"v":0,"d":"0.0"}},{"$f":"SUM(RP32:RP35)","v":{"v":0,"d":"0.0"}},{"$f":"SUM(RQ32:RQ35)","v":{"v":0,"d":"0.0"}},{"$f":"SUM(RR32:RR35)","v":{"v":0,"d":"0.0"}},{"$f":"SUM(RS32:RS35)","v":{"v":0,"d":"0.0"}},{"$f":"SUM(RT32:RT35)","v":{"v":0,"d":"0.0"}},{"$f":"SUM(RU32:RU35)","v":{"v":0,"d":"0.0"}},{"$f":"SUM(RV32:RV35)","v":{"v":0,"d":"0.0"}},0]
[{"$nulls":3},"INDIGENA",{"$nulls":440},{"$f":"SUM(E37:QB37)-(PQ37+PS37+PU37+PV37+PX37)","v":0},null,{"$f":"SUM(E37:H37)","v":{"v":0,"d":"0.0"}},{"$f":"SUM(I37:BO37)","v":{"v":0,"d":"0.0"}},{"$f":"SUM(BP37:CW37)","v":{"v":0,"d":"0.0"}},{"$f":"SUM(CX37:DE37)","v":{"v":0,"d":"0.0"}},{"$f":"SUM(DF37:DT37)","v":{"v":0,"d":"0.0"}},{"$f":"SUM(DU37:ET37)","v":{"v":0,"d":"0.0"}},{"$f":"SUM(EU37:FY37)","v":{"v":0,"d":"0.0"}},{"$f":"SUM(FZ37:HD37)","v":{"v":0,"d":"0.0"}},{"$f":"SUM(HE37:HF37)","v":{"v":0,"d":"0.0"}},{"$f":"SUM(HG37:HL37)","v":{"v":0,"d":"0.0"}},{"$f":"SUM(HM37:HR37)","v":{"v":0,"d":"0.0"}},{"$f":"SUM(HS37:IJ37)","v":{"v":0,"d":"0.0"}},{"$f":"SUM(IK37:JA37)","v":{"v":0,"d":"0.0"}},{"$f":"SUM(JB37:JT37)","v":{"v":0,"d":"0.0"}},{"$f":"SUM(JU37:KD37)","v":{"v":0,"d":"0.0"}},{"$f":"SUM(KE37:KP37)","v":{"v":0,"d":"0.0"}},{"$f":"SUM(KQ37:MU37)","v":{"v":0,"d":"0.0"}},{"$f":"SUM(MV37:NG37)","v":{"v":0,"d":"0.0"}},{"$f":"SUM(NH37:NI37)","v":{"v":0,"d":"0.0"}},{"$f":"SUM(NJ37:NL37)","v":{"v":0,"d":"0.0"}},{"$f":"SUM(NM37:NO37)","v":{"v":0,"d":"0.0"}},{"$f":"SUM(NP37)","v":{"v":0,"d":"0.0"}},{"$f":"SUM(NQ37)","v":{"v":0,"d":"0.0"}},{"$f":"SUM(NR37:NT37)","v":{"v":0,"d":"0.0"}},{"$f":"SUM(NU37)","v":{"v":0,"d":"0.0"}},{"$f":"SUM(NV37)","v":{"v":0,"d":"0.0"}},{"$f":"SUM(NW37:OB37)","v":{"v":0,"d":"0.0"}},{"$f":"SUM(OC37:PE37)","v":{"v":0,"d":"0.0"}},{"$f":"SUM(PF37:PG37)","v":{"v":0,"d":"0.0"}},{"$f":"SUM(PH37:PI37)","v":{"v":0,"d":"0.0"}},{"$f":"SUM(PJ37:PM37)","v":{"v":0,"d":"0.0"}},{"$f":"SUM(PN37:PP37)","v":{"v":0,"d":"0.0"}},{"$f":"SUM(PQ37)","v":{"v":0,"d":"0.0"}},{"$f":"SUM(PR37)","v":{"v":0,"d":"0.0"}},{"$f":"SUM(PS37)","v":{"v":0,"d":"0.0"}},{"$f":"SUM(PT37:PV37)","v":{"v":0,"d":"0.0"}},{"$f":"SUM(PV37)","v":{"v":0,"d":"0.0"}},{"$f":"SUM(PV37)","v":{"v":0,"d":"0.0"}},{"$f":"SUM(PW37)","v":{"v":0,"d":"0.0"}},{"$f":"SUM(PX37)","v":{"v":0,"d":"0.0"}},{"$f":"SUM(PY37)","v":{"v":0,"d":"0.0"}},{"$f":"SUM(PZ37)","v":{"v":0,"d":"0.0"}},{"$f":"SUM(QA37)","v":{"v":0,"d":"0.0"}},{"$f":"SUM(QB37)","v":{"v":0,"d":"0.0"}},{"$f":"SUM(QE37:RU37)-SUM(RI37:RM37)-SUM(RQ37:RT37)","v":0}]
[{"$nulls":3},"ROM  (GITANO)",{"$nulls":440},0,null,{"v":0,"d":"0.0"},{"v":0,"d":"0.0"},{"v":0,"d":"0.0"},{"v":0,"d":"0.0"},{"v":0,"d":"0.0"},{"v":0,"d":"0.0"},{"v":0,"d":"0.0"},{"v":0,"d":"0.0"},{"v":0,"d":"0.0"},{"v":0,"d":"0.0"},{"v":0,"d":"0.0"},{"v":0,"d":"0.0"},{"v":0,"d":"0.0"},{"v":0,"d":"0.0"},{"v":0,"d":"0.0"},{"v":0,"d":"0.0"},{"v":0,"d":"0.0"},{"v":0,"d":"0.0"},{"v":0,"d":"0.0"},{"v":0,"d":"0.0"},{"v":0,"d":"0.0"},{"v":0,"d":"0.0"},{"v":0,"d":"0.0"},{"v":0,"d":"0.0"},{"v":0,"d":"0.0"},{"v":0,"d":"0.0"},{"v":0,"d":"0.0"},{"v":0,"d":"0.0"},{"v":0,"d":"0.0"},{"v":0,"d":"0.0"},{"v":0,"d":"0.0"},{"v":0,"d":"0.0"},{"v":0,"d":"0.0"},{"v":0,"d":"0.0"},{"v":0,"d":"0.0"},{"v":0,"d":"0.0"},{"v":0,"d":"0.0"},{"v":0,"d":"0.0"},{"v":0,"d":"0.0"},{"v":0,"d":"0.0"},{"v":0,"d":"0.0"},{"v":0,"d":"0.0"},{"v":0,"d":"0.0"},{"v":0,"d":"0.0"},0]
[{"$nulls":3},"RAIZAL ",{"$nulls":440},0,null,{"v":0,"d":"0.0"},{"v":0,"d":"0.0"},{"v":0,"d":"0.0"},{"v":0,"d":"0.0"},{"v":0,"d":"0.0"},{"v":0,"d":"0.0"},{"v":0,"d":"0.0"},{"v":0,"d":"0.0"},{"v":0,"d":"0.0"},{"v":0,"d":"0.0"},{"v":0,"d":"0.0"},{"v":0,"d":"0.0"},{"v":0,"d":"0.0"},{"v":0,"d":"0.0"},{"v":0,"d":"0.0"},{"v":0,"d":"0.0"},{"v":0,"d":"0.0"},{"v":0,"d":"0.0"},{"v":0,"d":"0.0"},{"v":0,"d":"0.0"},{"v":0,"d":"0.0"},{"v":0,"d":"0.0"},{"v":0,"d":"0.0"},{"v":0,"d":"0.0"},{"v":0,"d":"0.0"},{"v":0,"d":"0.0"},{"v":0,"d":"0.0"},{"v":0,"d":"0.0"},{"v":0,"d":"0.0"},{"v":0,"d":"0.0"},{"v":0,"d":"0.0"},{"v":0,"d":"0.0"},{"v":0,"d":"0.0"},{"v":0,"d":"0.0"},{"v":0,"d":"0.0"},{"v":0,"d":"0.0"},{"v":0,"d":"0.0"},{"v":0,"d":"0.0"},{"v":0,"d":"0.0"},{"v":0,"d":"0.0"},{"v":0,"d":"0.0"},{"v":0,"d":"0.0"},{"v":0,"d":"0.0"},{"v":0,"d":"0.0"},0]
[{"$nulls":3},"PALENQUERO",{"$nulls":440},0,null,{"v":0,"d":"0.0"},{"v":0,"d":"0.0"},{"v":0,"d":"0.0"},{"v":0,"d":"0.0"},{"v":0,"d":"0.0"},{"v":0,"d":"0.0"},{"v":0,"d":"0.0"},{"v":0,"d":"0.0"},{"v":0,"d":"0.0"},{"v":0,"d":"0.0"},{"v":0,"d":"0.0"},{"v":0,"d":"0.0"},{"v":0,"d":"0.0"},{"v":0,"d":"0.0"},{"v":0,"d":"0.0"},{"v":0,"d":"0.0"},{"v":0,"d":"0.0"},{"v":0,"d":"0.0"},{"v":0,"d":"0.0"},{"v":0,"d":"0.0"},{"v":0,"d":"0.0"},{"v":0,"d":"0.0"},{"v":0,"d":"0.0"},{"v":0,"d":"0.0"},{"v":0,"d":"0.0"},{"v":0,"d":"0.0"},{"v":0,"d":"0.0"},{"v":0,"d":"0.0"},{"v":0,"d":"0.0"},{"v":0,"d":"0.0"},{"v":0,"d":"0.0"},{"v":0,"d":"0.0"},{"v":0,"d":"0.0"},{"v":0,"d":"0.0"},{"v":0,"d":"0.0"},{"v":0,"d":"0.0"},{"v":0,"d":"0.0"},{"v":0,"d":"0.0"},{"v":0,"d":"0.0"},{"v":0,"d":"0.0"},{"v":0,"d":"0.0"},{"v":0,"d":"0.0"},{"v":0,"d":"0.0"},{"v":0,"d":"0.0"},0]
[{"$nulls":3},"NEGRO(A), MULATO (A), AFROCOLOMBIANO (A)",{"$nulls":440},0,null,{"v":0,"d":"0.0"},{"v":0,"d":"0.0"},{"v":0,"d":"0.0"},{"v":0,"d":"0.0"},{"v":0,"d":"0.0"},{"v":0,"d":"0.0"},{"v":0,"d":"0.0"},{"v":0,"d":"0.0"},{"v":0,"d":"0.0"},{"v":0,"d":"0.0"},{"v":0,"d":"0.0"},{"v":0,"d":"0.0"},{"v":0,"d":"0.0"},{"v":0,"d":"0.0"},{"v":0,"d":"0.0"},{"v":0,"d":"0.0"},{"v":0,"d":"0.0"},{"v":0,"d":"0.0"},{"v":0,"d":"0.0"},{"v":0,"d":"0.0"},{"v":0,"d":"0.0"},{"v":0,"d":"0.0"},{"v":0,"d":"0.0"},{"v":0,"d":"0.0"},{"v":0,"d":"0.0"},{"v":0,"d":"0.0"},{"v":0,"d":"0.0"},{"v":0,"d":"0.0"},{"v":0,"d":"0.0"},{"v":0,"d":"0.0"},{"v":0,"d":"0.0"},{"v":0,"d":"0.0"},{"v":0,"d":"0.0"},{"v":0,"d":"0.0"},{"v":0,"d":"0.0"},{"v":0,"d":"0.0"},{"v":0,"d":"0.0"},{"v":0,"d":"0.0"},{"v":0,"d":"0.0"},{"v":0,"d":"0.0"},{"v":0,"d":"0.0"},{"v":0,"d":"0.0"},{"v":0,"d":"0.0"},{"v":0,"d":"0.0"},0]
[{"$nulls":3},"SIN PERTENENCIA ETNICA",{"$nulls":440},0,null,{"v":0,"d":"0.0"},{"v":0,"d":"0.0"},{"v":0,"d":"0.0"},{"v":0,"d":"0.0"},{"v":0,"d":"0.0"},{"v":0,"d":"0.0"},{"v":0,"d":"0.0"},{"v":0,"d":"0.0"},{"v":0,"d":"0.0"},{"v":0,"d":"0.0"},{"v":0,"d":"0.0"},{"v":0,"d":"0.0"},{"v":0,"d":"0.0"},{"v":0,"d":"0.0"},{"v":0,"d":"0.0"},{"v":0,"d":"0.0"},{"v":0,"d":"0.0"},{"v":0,"d":"0.0"},{"v":0,"d":"0.0"},{"v":0,"d":"0.0"},{"v":0,"d":"0.0"},{"v":0,"d":"0.0"},{"v":0,"d":"0.0"},{"v":0,"d":"0.0"},{"v":0,"d":"0.0"},{"v":0,"d":"0.0"},{"v":0,"d":"0.0"},{"v":0,"d":"0.0"},{"v":0,"d":"0.0"},{"v":0,"d":"0.0"},{"v":0,"d":"0.0"},{"v":0,"d":"0.0"},{"v":0,"d":"0.0"},{"v":0,"d":"0.0"},{"v":0,"d":"0.0"},{"v":0,"d":"0.0"},{"v":0,"d":"0.0"},{"v":0,"d":"0.0"},{"v":0,"d":"0.0"},{"v":0,"d":"0.0"},{"v":0,"d":"0.0"},{"v":0,"d":"0.0"},{"v":0,"d":"0.0"},{"v":0,"d":"0.0"},0]
[{"$nulls":3},"TOTAL ETNICOS",{"$f":"SUM(E37:E42)","v":0},0,0,0,0,0,0,0,0,0,0,0,0,0,0,0,0,0,0,0,0,0,0,0,0,0,0,0,0,0,0,0,0,0,0,0,0,0,0,0,0,0,0,0,0,0,0,0,0,0,0,0,0,0,0,0,0,0,0,0,0,0,0,0,{"$f":"SUM(BQ37:BQ42)","v":0},0,0,0,0,0,0,0,0,0,0,0,0,0,0,0,0,0,0,0,0,0,0,0,0,0,0,0,0,0,0,0,0,0,0,0,0,0,0,0,0,0,0,0,0,0,0,0,0,0,0,0,0,0,0,0,0,0,0,0,0,0,0,0,{"$f":"SUM(EC37:EC42)","v":0},0,0,0,0,0,0,0,0,0,0,0,0,0,0,0,0,0,0,0,0,0,0,0,0,0,0,0,0,0,0,0,0,0,0,0,0,0,0,0,0,0,0,0,0,0,0,0,0,0,0,0,0,0,0,0,0,0,0,0,0,0,0,0,{"$f":"SUM(GO37:GO42)","v":0},0,0,0,0,0,0,0,0,0,0,0,0,0,0,0,0,0,0,0,0,0,0,0,0,0,0,0,0,0,0,0,0,0,0,0,0,0,0,0,0,0,0,0,0,0,0,0,0,0,0,0,0,0,0,0,0,0,0,0,0,0,0,0,{"$f":"SUM(JA37:JA42)","v":0},0,0,0,0,0,0,0,0,0,0,0,0,0,0,0,0,0,0,0,0,0,0,0,0,0,0,0,0,0,0,0,0,0,0,0,0,0,0,0,0,0,0,0,0,0,0,0,0,0,0,0,0,0,0,0,0,0,0,0,0,0,0,0,{"$f":"SUM(LM37:LM42)","v":0},0,0,0,0,0,0,0,0,0,0,0,0,0,0,0,0,0,0,0,0,0,0,0,0,0,0,0,0,0,0,0,0,0,0,0,0,0,0,0,0,0,0,0,0,0,0,0,0,0,0,0,0,0,0,0,0,0,0,0,0,0,0,0,{"$f":"SUM(NY37:NY42)","v":0},0,0,0,0,0,0,0,0,0,0,0,0,0,0,0,0,0,0,0,0,0,0,0,0,0,0,0,0,0,0,0,0,0,0,0,0,0,0,0,0,0,0,0,0,0,0,0,0,0,0,0,0,0,0,0,0,null,{"$f":"SUM(QE37:QE42)","v":{"v":0,"d":"0.0"}},{"$f":"SUM(QF37:QF42)","v":{"v":0,"d":"0.0"}},{"$f":"SUM(QG37:QG42)","v":{"v":0,"d":"0.0"}},{"$f":"SUM(QH37:QH42)","v":{"v":0,"d":"0.0"}},{"$f":"SUM(QI37:QI42)","v":{"v":0,"d":"0.0"}},{"$f":"SUM(QJ37:QJ42)","v":{"v":0,"d":"0.0"}},{"$f":"SUM(QK37:QK42)","v":{"v":0,"d":"0.0"}},{"$f":"SUM(QL37:QL42)","v":{"v":0,"d":"0.0"}},{"$f":"SUM(QM37:QM42)","v":{"v":0,"d":"0.0"}},{"$f":"SUM(QN37:QN42)","v":{"v":0,"d":"0.0"}},{"$f":"SUM(QO37:QO42)","v":{"v":0,"d":"0.0"}},{"v":0,"d":"0.0"},{"$f":"SUM(QQ37:QQ42)","v":{"v":0,"d":"0.0"}},{"$f":"SUM(QR37:QR42)","v":{"v":0,"d":"0.0"}},{"$f":"SUM(QS37:QS42)","v":{"v":0,"d":"0.0"}},{"$f":"SUM(QT37:QT42)","v":{"v":0,"d":"0.0"}},{"$f":"SUM(QU37:QU42)","v":{"v":0,"d":"0.0"}},{"$f":"SUM(QV37:QV42)","v":{"v":0,"d":"0.0"}},{"$f":"SUM(QW37:QW42)","v":{"v":0,"d":"0.0"}},{"$f":"SUM(QX37:QX42)","v":{"v":0,"d":"0.0"}},{"v":0,"d":"0.0"},{"$f":"SUM(QZ37:QZ42)","v":{"v":0,"d":"0.0"}},{"$f":"SUM(RA37:RA42)","v":{"v":0,"d":"0.0"}},{"v":0,"d":"0.0"},{"$f":"SUM(RC37:RC42)","v":{"v":0,"d":"0.0"}},{"v":0,"d":"0.0"},{"$f":"SUM(RE37:RE42)","v":{"v":0,"d":"0.0"}},{"$f":"SUM(RF37:RF42)","v":{"v":0,"d":"0.0"}},{"$f":"SUM(RG37:RG42)","v":{"v":0,"d":"0.0"}},{"$f":"SUM(RH37:RH42)","v":{"v":0,"d":"0.0"}},{"$f":"SUM(RI37:RI42)","v":{"v":0,"d":"0.0"}},{"$f":"SUM(RJ37:RJ42)","v":{"v":0,"d":"0.0"}},{"v":0,"d":"0.0"},{"$f":"SUM(RL37:RL42)","v":{"v":0,"d":"0.0"}},{"v":0,"d":"0.0"},{"$f":"SUM(RN37:RN42)","v":{"v":0,"d":"0.0"}},{"$f":"SUM(RO37:RO42)","v":{"v":0,"d":"0.0"}},{"$f":"SUM(RP37:RP42)","v":{"v":0,"d":"0.0"}},{"$f":"SUM(RQ37:RQ42)","v":{"v":0,"d":"0.0"}},{"$f":"SUM(RR37:RR42)","v":{"v":0,"d":"0.0"}},{"$f":"SUM(RS37:RS42)","v":{"v":0,"d":"0.0"}},{"$f":"SUM(RT37:RT42)","v":{"v":0,"d":"0.0"}},{"$f":"SUM(RU37:RU42)","v":{"v":0,"d":"0.0"}},{"$f":"SUM(RV37:RV42)","v":{"v":0,"d":"0.0"}},0]
[{"$nulls":3},"EN SITUACION DE DESPLAZAMIENTO",{"$nulls":440},{"$f":"SUM(E44:QB44)-(PQ44+PS44+PU44+PV44+PX44)","v":0},null,{"$f":"SUM(E44:H44)","v":{"v":0,"d":"0.0"}},{"$f":"SUM(I44:BO44)","v":{"v":0,"d":"0.0"}},{"$f":"SUM(BP44:CW44)","v":{"v":0,"d":"0.0"}},{"$f":"SUM(CX44:DE44)","v":{"v":0,"d":"0.0"}},{"$f":"SUM(DF44:DT44)","v":{"v":0,"d":"0.0"}},{"$f":"SUM(DU44:ET44)","v":{"v":0,"d":"0.0"}},{"$f":"SUM(EU44:FY44)","v":{"v":0,"d":"0.0"}},{"$f":"SUM(FZ44:HD44)","v":{"v":0,"d":"0.0"}},{"$f":"SUM(HE44:HF44)","v":{"v":0,"d":"0.0"}},{"$f":"SUM(HG44:HL44)","v":{"v":0,"d":"0.0"}},{"$f":"SUM(HM44:HR44)","v":{"v":0,"d":"0.0"}},{"$f":"SUM(HS44:IJ44)","v":{"v":0,"d":"0.0"}},{"$f":"SUM(IK44:JA44)","v":{"v":0,"d":"0.0"}},{"$f":"SUM(JB44:JT44)","v":{"v":0,"d":"0.0"}},{"$f":"SUM(JU44:KD44)","v":{"v":0,"d":"0.0"}},{"$f":"SUM(KE44:KP44)","v":{"v":0,"d":"0.0"}},{"$f":"SUM(KQ44:MU44)","v":{"v":0,"d":"0.0"}},{"$f":"SUM(MV44:NG44)","v":{"v":0,"d":"0.0"}},{"$f":"SUM(NH44:NI44)","v":{"v":0,"d":"0.0"}},{"$f":"SUM(NJ44:NL44)","v":{"v":0,"d":"0.0"}},{"$f":"SUM(NM44:NO44)","v":{"v":0,"d":"0.0"}},{"$f":"SUM(NP44)","v":{"v":0,"d":"0.0"}},{"$f":"SUM(NQ44)","v":{"v":0,"d":"0.0"}},{"$f":"SUM(NR44:NT44)","v":{"v":0,"d":"0.0"}},{"$f":"SUM(NU44)","v":{"v":0,"d":"0.0"}},{"$f":"SUM(NV44)","v":{"v":0,"d":"0.0"}},{"$f":"SUM(NW44:OB44)","v":{"v":0,"d":"0.0"}},{"$f":"SUM(OC44:PE44)","v":{"v":0,"d":"0.0"}},{"$f":"SUM(PF44:PG44)","v":{"v":0,"d":"0.0"}},{"$f":"SUM(PH44:PI44)","v":{"v":0,"d":"0.0"}},{"$f":"SUM(PJ44:PM44)","v":{"v":0,"d":"0.0"}},{"$f":"SUM(PN44:PP44)","v":{"v":0,"d":"0.0"}},{"$f":"SUM(PQ44)","v":{"v":0,"d":"0.0"}},{"$f":"SUM(PR44)","v":{"v":0,"d":"0.0"}},{"$f":"SUM(PS44)","v":{"v":0,"d":"0.0"}},{"$f":"SUM(PT44:PV44)","v":{"v":0,"d":"0.0"}},{"$f":"SUM(PV44)","v":{"v":0,"d":"0.0"}},{"$f":"SUM(PV44)","v":{"v":0,"d":"0.0"}},{"$f":"SUM(PW44)","v":{"v":0,"d":"0.0"}},{"$f":"SUM(PX44)","v":{"v":0,"d":"0.0"}},{"$f":"SUM(PY44)","v":{"v":0,"d":"0.0"}},{"$f":"SUM(PZ44)","v":{"v":0,"d":"0.0"}},{"$f":"SUM(QA44)","v":{"v":0,"d":"0.0"}},{"$f":"SUM(QB44)","v":{"v":0,"d":"0.0"}},{"$f":"SUM(QE44:RU44)-SUM(RI44:RM44)-SUM(RQ44:RT44)","v":0}]
[{"$nulls":3},"EN CONDICION DE DISCAPACIDAD",{"$nulls":440},0,null,{"v":0,"d":"0.0"},{"v":0,"d":"0.0"},{"v":0,"d":"0.0"},{"v":0,"d":"0.0"},{"v":0,"d":"0.0"},{"v":0,"d":"0.0"},{"v":0,"d":"0.0"},{"v":0,"d":"0.0"},{"v":0,"d":"0.0"},{"v":0,"d":"0.0"},{"v":0,"d":"0.0"},{"v":0,"d":"0.0"},{"v":0,"d":"0.0"},{"v":0,"d":"0.0"},{"v":0,"d":"0.0"},{"v":0,"d":"0.0"},{"v":0,"d":"0.0"},{"v":0,"d":"0.0"},{"v":0,"d":"0.0"},{"v":0,"d":"0.0"},{"v":0,"d":"0.0"},{"v":0,"d":"0.0"},{"v":0,"d":"0.0"},{"v":0,"d":"0.0"},{"v":0,"d":"0.0"},{"v":0,"d":"0.0"},{"v":0,"d":"0.0"},{"v":0,"d":"0.0"},{"v":0,"d":"0.0"},{"v":0,"d":"0.0"},{"v":0,"d":"0.0"},{"v":0,"d":"0.0"},{"v":0,"d":"0.0"},{"v":0,"d":"0.0"},{"v":0,"d":"0.0"},{"v":0,"d":"0.0"},{"v":0,"d":"0.0"},{"v":0,"d":"0.0"},{"v":0,"d":"0.0"},{"v":0,"d":"0.0"},{"v":0,"d":"0.0"},{"v":0,"d":"0.0"},{"v":0,"d":"0.0"},{"v":0,"d":"0.0"},0]
[{"$nulls":3},"VICTIMAS DEL CONFLICTO ARMADO",{"$nulls":440},0,null,{"v":0,"d":"0.0"},{"v":0,"d":"0.0"},{"v":0,"d":"0.0"},{"v":0,"d":"0.0"},{"v":0,"d":"0.0"},{"v":0,"d":"0.0"},{"v":0,"d":"0.0"},{"v":0,"d":"0.0"},{"v":0,"d":"0.0"},{"v":0,"d":"0.0"},{"v":0,"d":"0.0"},{"v":0,"d":"0.0"},{"v":0,"d":"0.0"},{"v":0,"d":"0.0"},{"v":0,"d":"0.0"},{"v":0,"d":"0.0"},{"v":0,"d":"0.0"},{"v":0,"d":"0.0"},{"v":0,"d":"0.0"},{"v":0,"d":"0.0"},{"v":0,"d":"0.0"},{"v":0,"d":"0.0"},{"v":0,"d":"0.0"},{"v":0,"d":"0.0"},{"v":0,"d":"0.0"},{"v":0,"d":"0.0"},{"v":0,"d":"0.0"},{"v":0,"d":"0.0"},{"v":0,"d":"0.0"},{"v":0,"d":"0.0"},{"v":0,"d":"0.0"},{"v":0,"d":"0.0"},{"v":0,"d":"0.0"},{"v":0,"d":"0.0"},{"v":0,"d":"0.0"},{"v":0,"d":"0.0"},{"v":0,"d":"0.0"},{"v":0,"d":"0.0"},{"v":0,"d":"0.0"},{"v":0,"d":"0.0"},{"v":0,"d":"0.0"},{"v":0,"d":"0.0"},{"v":0,"d":"0.0"},{"v":0,"d":"0.0"},0]
[{"$nulls":3},"ZONAS VEREDALES",{"$nulls":440},0,{"$f":"CONCATENATE($G$2,$B$28)","v":"11"},{"$f":"SUM(E47:H47)","v":{"v":0,"d":"0.0"}},{"$f":"SUM(I47:BN47)","v":{"v":0,"d":"0.0"}},{"$f":"SUM(BP47:CW47)","v":{"v":0,"d":"0.0"}},{"$f":"SUM(CX47:DE47)","v":{"v":0,"d":"0.0"}},{"$f":"SUM(DF47:DT47)","v":{"v":0,"d":"0.0"}},{"$f":"SUM(DU47:ET47)","v":{"v":0,"d":"0.0"}},{"$f":"SUM(EU47:FY47)","v":{"v":0,"d":"0.0"}},{"$f":"SUM(FZ47:HD47)","v":{"v":0,"d":"0.0"}},{"$f":"SUM(HE47:HF47)","v":{"v":0,"d":"0.0"}},{"$f":"SUM(HG47:HL47)","v":{"v":0,"d":"0.0"}},{"$f":"SUM(HR47:II47)","v":{"v":0,"d":"0.0"}},{"v":0,"d":"0.0"},{"$f":"SUM(IK47:JA47)","v":{"v":0,"d":"0.0"}},{"$f":"SUM(JB47:JT47)","v":{"v":0,"d":"0.0"}},{"$f":"SUM(JU47:KD47)","v":{"v":0,"d":"0.0"}},{"$f":"SUM(KE47:KP47)","v":{"v":0,"d":"0.0"}},{"$f":"SUM(KQ47:MU47)","v":{"v":0,"d":"0.0"}},{"$f":"SUM(MV47:NG47)","v":{"v":0,"d":"0.0"}},{"$f":"SUM(NH47:NL47)","v":{"v":0,"d":"0.0"}},{"$f":"SUM(NM47:NO47)","v":{"v":0,"d":"0.0"}},{"v":0,"d":"0.0"},{"$f":"SUM(NP47)","v":{"v":0,"d":"0.0"}},{"v":0,"d":"0.0"},{"$f":"SUM(NS47:NT47)","v":{"v":0,"d":"0.0"}},{"v":0,"d":"0.0"},{"v":0,"d":"0.0"},{"$f":"SUM(NZ47:OB47)","v":{"v":0,"d":"0.0"}},{"$f":"SUM(OC47:PE47)","v":{"v":0,"d":"0.0"}},{"$f":"SUM(PF47:PI47)","v":{"v":0,"d":"0.0"}},{"$f":"SUM(PJ47:PP47)","v":{"v":0,"d":"0.0"}},{"$f":"PQ47","v":{"v":0,"d":"0.0"}},{"$f":"PR47","v":{"v":0,"d":"0.0"}},{"$f":"SUM(PQ47)","v":{"v":0,"d":"0.0"}},{"v":0,"d":"0.0"},{"v":0,"d":"0.0"},{"v":0,"d":"0.0"},{"v":0,"d":"0.0"},{"v":0,"d":"0.0"},{"v":0,"d":"0.0"},{"v":0,"d":"0.0"},{"v":0,"d":"0.0"},{"v":0,"d":"0.0"},{"v":0,"d":"0.0"},{"v":0,"d":"0.0"},{"$f":"SUM(QE47:RU47)-SUM(RI47:RM47)-SUM(RQ47:RT47)","v":0}]
[{"$nulls":3},"FEMENINO",{"$nulls":440},{"$f":"SUM(E48:QB48)-(PQ48+PS48+PU48+PV48+PX48)","v":0},null,{"$f":"SUM(E48:H48)","v":{"v":0,"d":"0.0"}},{"$f":"SUM(I48:BO48)","v":{"v":0,"d":"0.0"}},{"$f":"SUM(BP48:CW48)","v":{"v":0,"d":"0.0"}},{"$f":"SUM(CX48:DE48)","v":{"v":0,"d":"0.0"}},{"$f":"SUM(DF48:DT48)","v":{"v":0,"d":"0.0"}},{"$f":"SUM(DU48:ET48)","v":{"v":0,"d":"0.0"}},{"$f":"SUM(EU48:FY48)","v":{"v":0,"d":"0.0"}},{"$f":"SUM(FZ48:HD48)","v":{"v":0,"d":"0.0"}},{"$f":"SUM(HE48:HF48)","v":{"v":0,"d":"0.0"}},{"$f":"SUM(HG48:HL48)","v":{"v":0,"d":"0.0"}},{"$f":"SUM(HM48:HR48)","v":{"v":0,"d":"0.0"}},{"$f":"SUM(HS48:IJ48)","v":{"v":0,"d":"0.0"}},{"$f":"SUM(IK48:JA48)","v":{"v":0,"d":"0.0"}},{"$f":"SUM(JB48:JT48)","v":{"v":0,"d":"0.0"}},{"$f":"SUM(JU48:KD48)","v":{"v":0,"d":"0.0"}},{"$f":"SUM(KE48:KP48)","v":{"v":0,"d":"0.0"}},{"$f":"SUM(KQ48:MU48)","v":{"v":0,"d":"0.0"}},{"$f":"SUM(MV48:NG48)","v":{"v":0,"d":"0.0"}},{"$f":"SUM(NH48:NI48)","v":{"v":0,"d":"0.0"}},{"$f":"SUM(NJ48:NL48)","v":{"v":0,"d":"0.0"}},{"$f":"SUM(NM48:NO48)","v":{"v":0,"d":"0.0"}},{"$f":"SUM(NP48)","v":{"v":0,"d":"0.0"}},{"v":0,"d":"0.0"},{"$f":"SUM(NR48:NT48)","v":{"v":0,"d":"0.0"}},{"$f":"SUM(NU48)","v":{"v":0,"d":"0.0"}},{"$f":"SUM(NV48)","v":{"v":0,"d":"0.0"}},{"$f":"SUM(NW48:OB48)","v":{"v":0,"d":"0.0"}},{"$f":"SUM(OC48:PE48)","v":{"v":0,"d":"0.0"}},{"$f":"SUM(PF48:PG48)","v":{"v":0,"d":"0.0"}},{"$f":"SUM(PH48:PI48)","v":{"v":0,"d":"0.0"}},{"$f":"SUM(PJ48:PM48)","v":{"v":0,"d":"0.0"}},{"$f":"SUM(PN48:PP48)","v":{"v":0,"d":"0.0"}},{"$f":"SUM(PQ48)","v":{"v":0,"d":"0.0"}},{"$f":"SUM(PR48)","v":{"v":0,"d":"0.0"}},{"$f":"SUM(PS48)","v":{"v":0,"d":"0.0"}},{"$f":"SUM(PT48:PV48)","v":{"v":0,"d":"0.0"}},{"$f":"SUM(PV48)","v":{"v":0,"d":"0.0"}},{"$f":"SUM(PV48)","v":{"v":0,"d":"0.0"}},{"$f":"SUM(PW48)","v":{"v":0,"d":"0.0"}},{"$f":"SUM(PX48)","v":{"v":0,"d":"0.0"}},{"$f":"SUM(PY48)","v":{"v":0,"d":"0.0"}},{"$f":"SUM(PZ48)","v":{"v":0,"d":"0.0"}},{"$f":"SUM(QA48)","v":{"v":0,"d":"0.0"}},{"$f":"SUM(QB48)","v":{"v":0,"d":"0.0"}},{"$f":"SUM(QE48:RU48)-SUM(RI48:RM48)-SUM(RQ48:RT48)","v":0}]
[{"$nulls":3},"MASCULINO",{"$nulls":440},{"$f":"SUM(E49:QB49)-(PQ49+PS49+PU49+PV49+PX49)","v":0},null,{"v":0,"d":"0.0"},{"v":0,"d":"0.0"},{"v":0,"d":"0.0"},{"v":0,"d":"0.0"},{"v":0,"d":"0.0"},{"v":0,"d":"0.0"},{"v":0,"d":"0.0"},{"v":0,"d":"0.0"},{"v":0,"d":"0.0"},{"v":0,"d":"0.0"},{"v":0,"d":"0.0"},{"v":0,"d":"0.0"},{"v":0,"d":"0.0"},{"v":0,"d":"0.0"},{"v":0,"d":"0.0"},{"v":0,"d":"0.0"},{"v":0,"d":"0.0"},{"v":0,"d":"0.0"},{"v":0,"d":"0.0"},{"v":0,"d":"0.0"},{"$f":"SUM(NM49:NO49)","v":{"v":0,"d":"0.0"}},{"v":0,"d":"0.0"},{"v":0,"d":"0.0"},{"v":0,"d":"0.0"},{"v":0,"d":"0.0"},{"v":0,"d":"0.0"},{"v":0,"d":"0.0"},{"v":0,"d":"0.0"},{"v":0,"d":"0.0"},{"v":0,"d":"0.0"},{"v":0,"d":"0.0"},{"v":0,"d":"0.0"},{"v":0,"d":"0.0"},{"v":0,"d":"0.0"},{"v":0,"d":"0.0"},{"v":0,"d":"0.0"},{"v":0,"d":"0.0"},{"v":0,"d":"0.0"},{"v":0,"d":"0.0"},{"v":0,"d":"0.0"},{"v":0,"d":"0.0"},{"v":0,"d":"0.0"},{"v":0,"d":"0.0"},{"v":0,"d":"0.0"},0]
[{"$nulls":3},"OTRO",{"$nulls":440},0,null,{"v":0,"d":"0.0"},{"v":0,"d":"0.0"},{"v":0,"d":"0.0"},{"v":0,"d":"0.0"},{"v":0,"d":"0.0"},{"v":0,"d":"0.0"},{"v":0,"d":"0.0"},{"v":0,"d":"0.0"},{"v":0,"d":"0.0"},{"v":0,"d":"0.0"},{"v":0,"d":"0.0"},{"v":0,"d":"0.0"},{"v":0,"d":"0.0"},{"v":0,"d":"0.0"},{"v":0,"d":"0.0"},{"v":0,"d":"0.0"},{"v":0,"d":"0.0"},{"v":0,"d":"0.0"},{"v":0,"d":"0.0"},{"v":0,"d":"0.0"},{"v":0,"d":"0.0"},{"v":0,"d":"0.0"},{"v":0,"d":"0.0"},{"v":0,"d":"0.0"},{"v":0,"d":"0.0"},{"v":0,"d":"0.0"},{"v":0,"d":"0.0"},{"v":0,"d":"0.0"},{"v":0,"d":"0.0"},{"v":0,"d":"0.0"},{"v":0,"d":"0.0"},{"v":0,"d":"0.0"},{"v":0,"d":"0.0"},{"v":0,"d":"0.0"},{"v":0,"d":"0.0"},{"v":0,"d":"0.0"},{"v":0,"d":"0.0"},{"v":0,"d":"0.0"},{"v":0,"d":"0.0"},{"v":0,"d":"0.0"},{"v":0,"d":"0.0"},{"v":0,"d":"0.0"},{"v":0,"d":"0.0"},{"v":0,"d":"0.0"},0]
[{"$nulls":3},"TOTAL GENERO",{"$f":"SUM(E48:E50)","v":0},0,0,0,0,0,0,0,0,0,0,0,0,0,0,0,0,0,0,0,0,0,0,0,0,0,0,0,0,0,0,0,0,0,0,0,0,0,0,0,0,0,0,0,0,0,0,0,0,0,0,0,0,0,0,0,0,0,0,0,0,0,0,0,{"$f":"SUM(BQ48:BQ50)","v":0},0,0,0,0,0,0,0,0,0,0,0,0,0,0,0,0,0,0,0,0,0,0,0,0,0,0,0,0,0,0,0,0,0,0,0,0,0,0,0,0,0,0,0,0,0,0,0,0,0,0,0,0,0,0,0,0,0,0,0,0,0,0,0,{"$f":"SUM(EC48:EC50)","v":0},0,0,0,0,0,0,0,0,0,0,0,0,0,0,0,0,0,0,0,0,0,0,0,0,0,0,0,0,0,0,0,0,0,0,0,0,0,0,0,0,0,0,0,0,0,0,0,0,0,0,0,0,0,0,0,0,0,0,0,0,0,0,0,{"$f":"SUM(GO48:GO50)","v":0},0,0,0,0,0,0,0,0,0,0,0,0,0,0,0,0,0,0,0,0,0,0,0,0,0,0,0,0,0,0,0,0,0,0,0,0,0,0,0,0,0,0,0,0,0,0,0,0,0,0,0,0,0,0,0,0,0,0,0,0,0,0,0,{"$f":"SUM(JA48:JA50)","v":0},0,0,0,0,0,0,0,0,0,0,0,0,0,0,0,0,0,0,0,0,0,0,0,0,0,0,0,0,0,0,0,0,0,0,0,0,0,0,0,0,0,0,0,0,0,0,0,0,0,0,0,0,0,0,0,0,0,0,0,0,0,0,0,{"$f":"SUM(LM48:LM50)","v":0},0,0,0,0,0,0,0,0,0,0,0,0,0,0,0,0,0,0,0,0,0,0,0,0,0,0,0,0,0,0,0,0,0,0,0,0,0,0,0,0,0,0,0,0,0,0,0,0,0,0,0,0,0,0,0,0,0,0,0,0,0,0,0,{"$f":"SUM(NY48:NY50)","v":0},0,0,0,0,0,0,0,0,0,0,0,0,0,0,0,0,0,0,0,0,0,0,0,0,0,0,0,0,0,0,0,0,0,0,0,0,0,0,0,0,0,0,0,0,0,0,0,0,0,0,0,0,0,0,0,0,null,{"$f":"SUM(QE48:QE50)","v":{"v":0,"d":"0.0"}},{"$f":"SUM(QF48:QF50)","v":{"v":0,"d":"0.0"}},{"$f":"SUM(QG48:QG50)","v":{"v":0,"d":"0.0"}},{"$f":"SUM(QH48:QH50)","v":{"v":0,"d":"0.0"}},{"$f":"SUM(QI48:QI50)","v":{"v":0,"d":"0.0"}},{"$f":"SUM(QJ48:QJ50)","v":{"v":0,"d":"0.0"}},{"$f":"SUM(QK48:QK50)","v":{"v":0,"d":"0.0"}},{"$f":"SUM(QL48:QL50)","v":{"v":0,"d":"0.0"}},{"$f":"SUM(QM48:QM50)","v":{"v":0,"d":"0.0"}},{"$f":"SUM(QN48:QN50)","v":{"v":0,"d":"0.0"}},{"$f":"SUM(QO48:QO50)","v":{"v":0,"d":"0.0"}},{"v":0,"d":"0.0"},{"$f":"SUM(QQ48:QQ50)","v":{"v":0,"d":"0.0"}},{"$f":"SUM(QR48:QR50)","v":{"v":0,"d":"0.0"}},{"$f":"SUM(QS48:QS50)","v":{"v":0,"d":"0.0"}},{"$f":"SUM(QT48:QT50)","v":{"v":0,"d":"0.0"}},{"$f":"SUM(QU48:QU50)","v":{"v":0,"d":"0.0"}},{"$f":"SUM(QV48:QV50)","v":{"v":0,"d":"0.0"}},{"$f":"SUM(QW48:QW50)","v":{"v":0,"d":"0.0"}},{"$f":"SUM(QX48:QX50)","v":{"v":0,"d":"0.0"}},{"v":0,"d":"0.0"},{"$f":"SUM(QZ48:QZ50)","v":{"v":0,"d":"0.0"}},{"$f":"SUM(RA48:RA50)","v":{"v":0,"d":"0.0"}},{"v":0,"d":"0.0"},{"$f":"SUM(RC48:RC50)","v":{"v":0,"d":"0.0"}},{"v":0,"d":"0.0"},{"$f":"SUM(RE48:RE50)","v":{"v":0,"d":"0.0"}},{"$f":"SUM(RF48:RF50)","v":{"v":0,"d":"0.0"}},{"$f":"SUM(RG48:RG50)","v":{"v":0,"d":"0.0"}},{"$f":"SUM(RH48:RH50)","v":{"v":0,"d":"0.0"}},{"$f":"SUM(RI48:RI50)","v":{"v":0,"d":"0.0"}},{"$f":"SUM(RJ48:RJ50)","v":{"v":0,"d":"0.0"}},{"v":0,"d":"0.0"},{"$f":"SUM(RL48:RL50)","v":{"v":0,"d":"0.0"}},{"v":0,"d":"0.0"},{"$f":"SUM(RN48:RN50)","v":{"v":0,"d":"0.0"}},{"$f":"SUM(RO48:RO50)","v":{"v":0,"d":"0.0"}},{"$f":"SUM(RP48:RP50)","v":{"v":0,"d":"0.0"}},{"$f":"SUM(RQ48:RQ50)","v":{"v":0,"d":"0.0"}},{"$f":"SUM(RR48:RR50)","v":{"v":0,"d":"0.0"}},{"$f":"SUM(RS48:RS50)","v":{"v":0,"d":"0.0"}},{"$f":"SUM(RT48:RT50)","v":{"v":0,"d":"0.0"}},{"$f":"SUM(RU48:RU50)","v":{"v":0,"d":"0.0"}},{"$f":"SUM(RV48:RV50)","v":{"v":0,"d":"0.0"}},0]
[{"$nulls":3},"CONTRIBUTIVO",{"$nulls":440},{"$f":"SUM(E52:QB52)-(PQ52+PS52+PU52+PV52+PX52)","v":0},null,{"$f":"SUM(E52:H52)","v":{"v":0,"d":"0.0"}},{"$f":"SUM(I52:BO52)","v":{"v":0,"d":"0.0"}},{"$f":"SUM(BP52:CW52)","v":{"v":0,"d":"0.0"}},{"$f":"SUM(CX52:DE52)","v":{"v":0,"d":"0.0"}},{"$f":"SUM(DF52:DT52)","v":{"v":0,"d":"0.0"}},{"$f":"SUM(DU52:ET52)","v":{"v":0,"d":"0.0"}},{"$f":"SUM(EU52:FY52)","v":{"v":0,"d":"0.0"}},{"$f":"SUM(FZ52:HD52)","v":{"v":0,"d":"0.0"}},{"$f":"SUM(HE52:HF52)","v":{"v":0,"d":"0.0"}},{"$f":"SUM(HG52:HL52)","v":{"v":0,"d":"0.0"}},{"$f":"SUM(HM52:HR52)","v":{"v":0,"d":"0.0"}},{"$f":"SUM(HS52:IJ52)","v":{"v":0,"d":"0.0"}},{"$f":"SUM(IK52:JA52)","v":{"v":0,"d":"0.0"}},{"$f":"SUM(JB52:JT52)","v":{"v":0,"d":"0.0"}},{"$f":"SUM(JU52:KD52)","v":{"v":0,"d":"0.0"}},{"$f":"SUM(KE52:KP52)","v":{"v":0,"d":"0.0"}},{"$f":"SUM(KQ52:MU52)","v":{"v":0,"d":"0.0"}},{"$f":"SUM(MV52:NG52)","v":{"v":0,"d":"0.0"}},{"$f":"SUM(NH52:NI52)","v":{"v":0,"d":"0.0"}},{"$f":"SUM(NJ52:NL52)","v":{"v":0,"d":"0.0"}},{"$f":"SUM(NM52:NO52)","v":{"v":0,"d":"0.0"}},{"$f":"SUM(NP52)","v":{"v":0,"d":"0.0"}},{"$f":"SUM(NQ52)","v":{"v":0,"d":"0.0"}},{"$f":"SUM(NR52:NT52)","v":{"v":0,"d":"0.0"}},{"$f":"SUM(NU52)","v":{"v":0,"d":"0.0"}},{"$f":"SUM(NV52)","v":{"v":0,"d":"0.0"}},{"$f":"SUM(NW52:OB52)","v":{"v":0,"d":"0.0"}},{"$f":"SUM(OC52:PE52)","v":{"v":0,"d":"0.0"}},{"$f":"SUM(PF52:PG52)","v":{"v":0,"d":"0.0"}},{"$f":"SUM(PH52:PI52)","v":{"v":0,"d":"0.0"}},{"$f":"SUM(PJ52:PM52)","v":{"v":0,"d":"0.0"}},{"$f":"SUM(PN52:PP52)","v":{"v":0,"d":"0.0"}},{"$f":"SUM(PQ52)","v":{"v":0,"d":"0.0"}},{"$f":"SUM(PR52)","v":{"v":0,"d":"0.0"}},{"$f":"SUM(PS52)","v":{"v":0,"d":"0.0"}},{"$f":"SUM(PT52:PV52)","v":{"v":0,"d":"0.0"}},{"$f":"SUM(PV52)","v":{"v":0,"d":"0.0"}},{"$f":"SUM(PV52)","v":{"v":0,"d":"0.0"}},{"$f":"SUM(PW52)","v":{"v":0,"d":"0.0"}},{"$f":"SUM(PX52)","v":{"v":0,"d":"0.0"}},{"$f":"SUM(PY52)","v":{"v":0,"d":"0.0"}},{"$f":"SUM(PZ52)","v":{"v":0,"d":"0.0"}},{"$f":"SUM(QA52)","v":{"v":0,"d":"0.0"}},{"$f":"SUM(QB52)","v":{"v":0,"d":"0.0"}},{"$f":"SUM(QE52:RU52)-SUM(RI52:RM52)-SUM(RQ52:RT52)","v":0}]
[{"$nulls":3},"SUBSIDIADO",{"$nulls":440},0,null,{"v":0,"d":"0.0"},{"v":0,"d":"0.0"},{"v":0,"d":"0.0"},{"v":0,"d":"0.0"},{"v":0,"d":"0.0"},{"v":0,"d":"0.0"},{"v":0,"d":"0.0"},{"v":0,"d":"0.0"},{"v":0,"d":"0.0"},{"v":0,"d":"0.0"},{"v":0,"d":"0.0"},{"v":0,"d":"0.0"},{"v":0,"d":"0.0"},{"v":0,"d":"0.0"},{"v":0,"d":"0.0"},{"v":0,"d":"0.0"},{"v":0,"d":"0.0"},{"v":0,"d":"0.0"},{"v":0,"d":"0.0"},{"v":0,"d":"0.0"},{"v":0,"d":"0.0"},{"v":0,"d":"0.0"},{"v":0,"d":"0.0"},{"v":0,"d":"0.0"},{"v":0,"d":"0.0"},{"v":0,"d":"0.0"},{"v":0,"d":"0.0"},{"v":0,"d":"0.0"},{"v":0,"d":"0.0"},{"v":0,"d":"0.0"},{"v":0,"d":"0.0"},{"v":0,"d":"0.0"},{"v":0,"d":"0.0"},{"v":0,"d":"0.0"},{"v":0,"d":"0.0"},{"v":0,"d":"0.0"},{"v":0,"d":"0.0"},{"v":0,"d":"0.0"},{"v":0,"d":"0.0"},{"v":0,"d":"0.0"},{"v":0,"d":"0.0"},{"v":0,"d":"0.0"},{"v":0,"d":"0.0"},{"v":0,"d":"0.0"},0]
[{"$nulls":3},"POBRE NO ASEGURADO",{"$nulls":440},0,null,{"v":0,"d":"0.0"},{"v":0,"d":"0.0"},{"v":0,"d":"0.0"},{"v":0,"d":"0.0"},{"v":0,"d":"0.0"},{"v":0,"d":"0.0"},{"v":0,"d":"0.0"},{"v":0,"d":"0.0"},{"v":0,"d":"0.0"},{"v":0,"d":"0.0"},{"v":0,"d":"0.0"},{"v":0,"d":"0.0"},{"v":0,"d":"0.0"},{"v":0,"d":"0.0"},{"v":0,"d":"0.0"},{"v":0,"d":"0.0"},{"v":0,"d":"0.0"},{"v":0,"d":"0.0"},{"v":0,"d":"0.0"},{"v":0,"d":"0.0"},{"v":0,"d":"0.0"},{"v":0,"d":"0.0"},{"v":0,"d":"0.0"},{"v":0,"d":"0.0"},{"v":0,"d":"0.0"},{"v":0,"d":"0.0"},{"v":0,"d":"0.0"},{"v":0,"d":"0.0"},{"v":0,"d":"0.0"},{"v":0,"d":"0.0"},{"v":0,"d":"0.0"},{"v":0,"d":"0.0"},{"v":0,"d":"0.0"},{"v":0,"d":"0.0"},{"v":0,"d":"0.0"},{"v":0,"d":"0.0"},{"v":0,"d":"0.0"},{"v":0,"d":"0.0"},{"v":0,"d":"0.0"},{"v":0,"d":"0.0"},{"v":0,"d":"0.0"},{"v":0,"d":"0.0"},{"v":0,"d":"0.0"},{"v":0,"d":"0.0"},0]
[{"$nulls":3},"REGIMEN ESPECIAL",{"$nulls":440},0,null,{"v":0,"d":"0.0"},{"v":0,"d":"0.0"},{"v":0,"d":"0.0"},{"v":0,"d":"0.0"},{"v":0,"d":"0.0"},{"v":0,"d":"0.0"},{"v":0,"d":"0.0"},{"v":0,"d":"0.0"},{"v":0,"d":"0.0"},{"v":0,"d":"0.0"},{"v":0,"d":"0.0"},{"v":0,"d":"0.0"},{"v":0,"d":"0.0"},{"v":0,"d":"0.0"},{"v":0,"d":"0.0"},{"v":0,"d":"0.0"},{"v":0,"d":"0.0"},{"v":0,"d":"0.0"},{"v":0,"d":"0.0"},{"v":0,"d":"0.0"},{"v":0,"d":"0.0"},{"v":0,"d":"0.0"},{"v":0,"d":"0.0"},{"v":0,"d":"0.0"},{"v":0,"d":"0.0"},{"v":0,"d":"0.0"},{"v":0,"d":"0.0"},{"v":0,"d":"0.0"},{"v":0,"d":"0.0"},{"v":0,"d":"0.0"},{"v":0,"d":"0.0"},{"v":0,"d":"0.0"},{"v":0,"d":"0.0"},{"v":0,"d":"0.0"},{"v":0,"d":"0.0"},{"v":0,"d":"0.0"},{"v":0,"d":"0.0"},{"v":0,"d":"0.0"},{"v":0,"d":"0.0"},{"v":0,"d":"0.0"},{"v":0,"d":"0.0"},{"v":0,"d":"0.0"},{"v":0,"d":"0.0"},{"v":0,"d":"0.0"},0]
[{"$nulls":3},"TOTAL REGIMEN",{"$f":"SUM(E52:E55)","v":0},0,0,0,0,0,0,0,0,0,0,0,0,0,0,0,0,0,0,0,0,0,0,0,0,0,0,0,0,0,0,0,0,0,0,0,0,0,0,0,0,0,0,0,0,0,0,0,0,0,0,0,0,0,0,0,0,0,0,0,0,0,0,0,{"$f":"SUM(BQ52:BQ55)","v":0},0,0,0,0,0,0,0,0,0,0,0,0,0,0,0,0,0,0,0,0,0,0,0,0,0,0,0,0,0,0,0,0,0,0,0,0,0,0,0,0,0,0,0,0,0,0,0,0,0,0,0,0,0,0,0,0,0,0,0,0,0,0,0,{"$f":"SUM(EC52:EC55)","v":0},0,0,0,0,0,0,0,0,0,0,0,0,0,0,0,0,0,0,0,0,0,0,0,0,0,0,0,0,0,0,0,0,0,0,0,0,0,0,0,0,0,0,0,0,0,0,0,0,0,0,0,0,0,0,0,0,0,0,0,0,0,0,0,{"$f":"SUM(GO52:GO55)","v":0},0,0,0,0,0,0,0,0,0,0,0,0,0,0,0,0,0,0,0,0,0,0,0,0,0,0,0,0,0,0,0,0,0,0,0,0,0,0,0,0,0,0,0,0,0,0,0,0,0,0,0,0,0,0,0,0,0,0,0,0,0,0,0,{"$f":"SUM(JA52:JA55)","v":0},0,0,0,0,0,0,0,0,0,0,0,0,0,0,0,0,0,0,0,0,0,0,0,0,0,0,0,0,0,0,0,0,0,0,0,0,0,0,0,0,0,0,0,0,0,0,0,0,0,0,0,0,0,0,0,0,0,0,0,0,0,0,0,{"$f":"SUM(LM52:LM55)","v":0},0,0,0,0,0,0,0,0,0,0,0,0,0,0,0,0,0,0,0,0,0,0,0,0,0,0,0,0,0,0,0,0,0,0,0,0,0,0,0,0,0,0,0,0,0,0,0,0,0,0,0,0,0,0,0,0,0,0,0,0,0,0,0,{"$f":"SUM(NY52:NY55)","v":0},0,0,0,0,0,0,0,0,0,0,0,0,0,0,0,0,0,0,0,0,0,0,0,0,0,0,0,0,0,0,0,0,0,0,0,0,0,0,0,0,0,0,0,0,0,0,0,0,0,0,0,0,0,0,0,0,null,{"$f":"SUM(QE52:QE55)","v":{"v":0,"d":"0.0"}},{"$f":"SUM(QF52:QF55)","v":{"v":0,"d":"0.0"}},{"$f":"SUM(QG52:QG55)","v":{"v":0,"d":"0.0"}},{"$f":"SUM(QH52:QH55)","v":{"v":0,"d":"0.0"}},{"$f":"SUM(QI52:QI55)","v":{"v":0,"d":"0.0"}},{"$f":"SUM(QJ52:QJ55)","v":{"v":0,"d":"0.0"}},{"$f":"SUM(QK52:QK55)","v":{"v":0,"d":"0.0"}},{"$f":"SUM(QL52:QL55)","v":{"v":0,"d":"0.0"}},{"$f":"SUM(QM52:QM55)","v":{"v":0,"d":"0.0"}},{"$f":"SUM(QN52:QN55)","v":{"v":0,"d":"0.0"}},{"$f":"SUM(QO52:QO55)","v":{"v":0,"d":"0.0"}},{"v":0,"d":"0.0"},{"$f":"SUM(QQ52:QQ55)","v":{"v":0,"d":"0.0"}},{"$f":"SUM(QR52:QR55)","v":{"v":0,"d":"0.0"}},{"$f":"SUM(QS52:QS55)","v":{"v":0,"d":"0.0"}},{"$f":"SUM(QT52:QT55)","v":{"v":0,"d":"0.0"}},{"$f":"SUM(QU52:QU55)","v":{"v":0,"d":"0.0"}},{"$f":"SUM(QV52:QV55)","v":{"v":0,"d":"0.0"}},{"$f":"SUM(QW52:QW55)","v":{"v":0,"d":"0.0"}},{"$f":"SUM(QX52:QX55)","v":{"v":0,"d":"0.0"}},{"v":0,"d":"0.0"},{"$f":"SUM(QZ52:QZ55)","v":{"v":0,"d":"0.0"}},{"$f":"SUM(RA52:RA55)","v":{"v":0,"d":"0.0"}},{"v":0,"d":"0.0"},{"$f":"SUM(RC52:RC55)","v":{"v":0,"d":"0.0"}},{"v":0,"d":"0.0"},{"$f":"SUM(RE52:RE55)","v":{"v":0,"d":"0.0"}},{"$f":"SUM(RF52:RF55)","v":{"v":0,"d":"0.0"}},{"$f":"SUM(RG52:RG55)","v":{"v":0,"d":"0.0"}},{"$f":"SUM(RH52:RH55)","v":{"v":0,"d":"0.0"}},{"$f":"SUM(RI52:RI55)","v":{"v":0,"d":"0.0"}},{"$f":"SUM(RJ52:RJ55)","v":{"v":0,"d":"0.0"}},{"v":0,"d":"0.0"},{"$f":"SUM(RL52:RL55)","v":{"v":0,"d":"0.0"}},{"v":0,"d":"0.0"},{"$f":"SUM(RN52:RN55)","v":{"v":0,"d":"0.0"}},{"$f":"SUM(RO52:RO55)","v":{"v":0,"d":"0.0"}},{"$f":"SUM(RP52:RP55)","v":{"v":0,"d":"0.0"}},{"$f":"SUM(RQ52:RQ55)","v":{"v":0,"d":"0.0"}},{"$f":"SUM(RR52:RR55)","v":{"v":0,"d":"0.0"}},{"$f":"SUM(RS52:RS55)","v":{"v":0,"d":"0.0"}},{"$f":"SUM(RT52:RT55)","v":{"v":0,"d":"0.0"}},{"$f":"SUM(RU52:RU55)","v":{"v":0,"d":"0.0"}},{"$f":"SUM(RV52:RV55)","v":{"v":0,"d":"0.0"}},0]
[{"$nulls":3},"INDIGENA",{"$nulls":440},{"$f":"SUM(E57:QB57)-(PQ57+PS57+PU57+PV57+PX57)","v":0},null,{"$f":"SUM(E57:H57)","v":{"v":0,"d":"0.0"}},{"$f":"SUM(I57:BO57)","v":{"v":0,"d":"0.0"}},{"$f":"SUM(BP57:CW57)","v":{"v":0,"d":"0.0"}},{"$f":"SUM(CX57:DE57)","v":{"v":0,"d":"0.0"}},{"$f":"SUM(DF57:DT57)","v":{"v":0,"d":"0.0"}},{"$f":"SUM(DU57:ET57)","v":{"v":0,"d":"0.0"}},{"$f":"SUM(EU57:FY57)","v":{"v":0,"d":"0.0"}},{"$f":"SUM(FZ57:HD57)","v":{"v":0,"d":"0.0"}},{"$f":"SUM(HE57:HF57)","v":{"v":0,"d":"0.0"}},{"$f":"SUM(HG57:HL57)","v":{"v":0,"d":"0.0"}},{"$f":"SUM(HM57:HR57)","v":{"v":0,"d":"0.0"}},{"$f":"SUM(HS57:IJ57)","v":{"v":0,"d":"0.0"}},{"$f":"SUM(IK57:JA57)","v":{"v":0,"d":"0.0"}},{"$f":"SUM(JB57:JT57)","v":{"v":0,"d":"0.0"}},{"$f":"SUM(JU57:KD57)","v":{"v":0,"d":"0.0"}},{"$f":"SUM(KE57:KP57)","v":{"v":0,"d":"0.0"}},{"$f":"SUM(KQ57:MU57)","v":{"v":0,"d":"0.0"}},{"$f":"SUM(MV57:NG57)","v":{"v":0,"d":"0.0"}},{"$f":"SUM(NH57:NI57)","v":{"v":0,"d":"0.0"}},{"$f":"SUM(NJ57:NL57)","v":{"v":0,"d":"0.0"}},{"$f":"SUM(NM57:NO57)","v":{"v":0,"d":"0.0"}},{"$f":"SUM(NP57)","v":{"v":0,"d":"0.0"}},{"$f":"SUM(NQ57)","v":{"v":0,"d":"0.0"}},{"$f":"SUM(NR57:NT57)","v":{"v":0,"d":"0.0"}},{"$f":"SUM(NU57)","v":{"v":0,"d":"0.0"}},{"$f":"SUM(NV57)","v":{"v":0,"d":"0.0"}},{"$f":"SUM(NW57:OB57)","v":{"v":0,"d":"0.0"}},{"$f":"SUM(OC57:PE57)","v":{"v":0,"d":"0.0"}},{"$f":"SUM(PF57:PG57)","v":{"v":0,"d":"0.0"}},{"$f":"SUM(PH57:PI57)","v":{"v":0,"d":"0.0"}},{"$f":"SUM(PJ57:PM57)","v":{"v":0,"d":"0.0"}},{"$f":"SUM(PN57:PP57)","v":{"v":0,"d":"0.0"}},{"$f":"SUM(PQ57)","v":{"v":0,"d":"0.0"}},{"$f":"SUM(PR57)","v":{"v":0,"d":"0.0"}},{"$f":"SUM(PS57)","v":{"v":0,"d":"0.0"}},{"$f":"SUM(PT57:PV57)","v":{"v":0,"d":"0.0"}},{"$f":"SUM(PV57)","v":{"v":0,"d":"0.0"}},{"$f":"SUM(PV57)","v":{"v":0,"d":"0.0"}},{"$f":"SUM(PW57)","v":{"v":0,"d":"0.0"}},{"$f":"SUM(PX57)","v":{"v":0,"d":"0.0"}},{"$f":"SUM(PY57)","v":{"v":0,"d":"0.0"}},{"$f":"SUM(PZ57)","v":{"v":0,"d":"0.0"}},{"$f":"SUM(QA57)","v":{"v":0,"d":"0.0"}},{"$f":"SUM(QB57)","v":{"v":0,"d":"0.0"}},{"$f":"SUM(QE57:RU57)-SUM(RI57:RM57)-SUM(RQ57:RT57)","v":0}]
[{"$nulls":3},"ROM  (GITANO)",{"$nulls":440},0,null,{"v":0,"d":"0.0"},{"v":0,"d":"0.0"},{"v":0,"d":"0.0"},{"v":0,"d":"0.0"},{"v":0,"d":"0.0"},{"v":0,"d":"0.0"},{"v":0,"d":"0.0"},{"v":0,"d":"0.0"},{"v":0,"d":"0.0"},{"v":0,"d":"0.0"},{"v":0,"d":"0.0"},{"v":0,"d":"0.0"},{"v":0,"d":"0.0"},{"v":0,"d":"0.0"},{"v":0,"d":"0.0"},{"v":0,"d":"0.0"},{"v":0,"d":"0.0"},{"v":0,"d":"0.0"},{"v":0,"d":"0.0"},{"v":0,"d":"0.0"},{"v":0,"d":"0.0"},{"v":0,"d":"0.0"},{"v":0,"d":"0.0"},{"v":0,"d":"0.0"},{"v":0,"d":"0.0"},{"v":0,"d":"0.0"},{"v":0,"d":"0.0"},{"v":0,"d":"0.0"},{"v":0,"d":"0.0"},{"v":0,"d":"0.0"},{"v":0,"d":"0.0"},{"v":0,"d":"0.0"},{"v":0,"d":"0.0"},{"v":0,"d":"0.0"},{"v":0,"d":"0.0"},{"v":0,"d":"0.0"},{"v":0,"d":"0.0"},{"v":0,"d":"0.0"},{"v":0,"d":"0.0"},{"v":0,"d":"0.0"},{"v":0,"d":"0.0"},{"v":0,"d":"0.0"},{"v":0,"d":"0.0"},{"v":0,"d":"0.0"},0]
[{"$nulls":3},"RAIZAL ",{"$nulls":440},0,null,{"v":0,"d":"0.0"},{"v":0,"d":"0.0"},{"v":0,"d":"0.0"},{"v":0,"d":"0.0"},{"v":0,"d":"0.0"},{"v":0,"d":"0.0"},{"v":0,"d":"0.0"},{"v":0,"d":"0.0"},{"v":0,"d":"0.0"},{"v":0,"d":"0.0"},{"v":0,"d":"0.0"},{"v":0,"d":"0.0"},{"v":0,"d":"0.0"},{"v":0,"d":"0.0"},{"v":0,"d":"0.0"},{"v":0,"d":"0.0"},{"v":0,"d":"0.0"},{"v":0,"d":"0.0"},{"v":0,"d":"0.0"},{"v":0,"d":"0.0"},{"v":0,"d":"0.0"},{"v":0,"d":"0.0"},{"v":0,"d":"0.0"},{"v":0,"d":"0.0"},{"v":0,"d":"0.0"},{"v":0,"d":"0.0"},{"v":0,"d":"0.0"},{"v":0,"d":"0.0"},{"v":0,"d":"0.0"},{"v":0,"d":"0.0"},{"v":0,"d":"0.0"},{"v":0,"d":"0.0"},{"v":0,"d":"0.0"},{"v":0,"d":"0.0"},{"v":0,"d":"0.0"},{"v":0,"d":"0.0"},{"v":0,"d":"0.0"},{"v":0,"d":"0.0"},{"v":0,"d":"0.0"},{"v":0,"d":"0.0"},{"v":0,"d":"0.0"},{"v":0,"d":"0.0"},{"v":0,"d":"0.0"},{"v":0,"d":"0.0"},0]
[{"$nulls":3},"PALENQUERO",{"$nulls":440},0,null,{"v":0,"d":"0.0"},{"v":0,"d":"0.0"},{"v":0,"d":"0.0"},{"v":0,"d":"0.0"},{"v":0,"d":"0.0"},{"v":0,"d":"0.0"},{"v":0,"d":"0.0"},{"v":0,"d":"0.0"},{"v":0,"d":"0.0"},{"v":0,"d":"0.0"},{"v":0,"d":"0.0"},{"v":0,"d":"0.0"},{"v":0,"d":"0.0"},{"v":0,"d":"0.0"},{"v":0,"d":"0.0"},{"v":0,"d":"0.0"},{"v":0,"d":"0.0"},{"v":0,"d":"0.0"},{"v":0,"d":"0.0"},{"v":0,"d":"0.0"},{"v":0,"d":"0.0"},{"v":0,"d":"0.0"},{"v":0,"d":"0.0"},{"v":0,"d":"0.0"},{"v":0,"d":"0.0"},{"v":0,"d":"0.0"},{"v":0,"d":"0.0"},{"v":0,"d":"0.0"},{"v":0,"d":"0.0"},{"v":0,"d":"0.0"},{"v":0,"d":"0.0"},{"v":0,"d":"0.0"},{"v":0,"d":"0.0"},{"v":0,"d":"0.0"},{"v":0,"d":"0.0"},{"v":0,"d":"0.0"},{"v":0,"d":"0.0"},{"v":0,"d":"0.0"},{"v":0,"d":"0.0"},{"v":0,"d":"0.0"},{"v":0,"d":"0.0"},{"v":0,"d":"0.0"},{"v":0,"d":"0.0"},{"v":0,"d":"0.0"},0]
[{"$nulls":3},"NEGRO(A), MULATO (A), AFROCOLOMBIANO (A)",{"$nulls":440},0,null,{"v":0,"d":"0.0"},{"v":0,"d":"0.0"},{"v":0,"d":"0.0"},{"v":0,"d":"0.0"},{"v":0,"d":"0.0"},{"v":0,"d":"0.0"},{"v":0,"d":"0.0"},{"v":0,"d":"0.0"},{"v":0,"d":"0.0"},{"v":0,"d":"0.0"},{"v":0,"d":"0.0"},{"v":0,"d":"0.0"},{"v":0,"d":"0.0"},{"v":0,"d":"0.0"},{"v":0,"d":"0.0"},{"v":0,"d":"0.0"},{"v":0,"d":"0.0"},{"v":0,"d":"0.0"},{"v":0,"d":"0.0"},{"v":0,"d":"0.0"},{"v":0,"d":"0.0"},{"v":0,"d":"0.0"},{"v":0,"d":"0.0"},{"v":0,"d":"0.0"},{"v":0,"d":"0.0"},{"v":0,"d":"0.0"},{"v":0,"d":"0.0"},{"v":0,"d":"0.0"},{"v":0,"d":"0.0"},{"v":0,"d":"0.0"},{"v":0,"d":"0.0"},{"v":0,"d":"0.0"},{"v":0,"d":"0.0"},{"v":0,"d":"0.0"},{"v":0,"d":"0.0"},{"v":0,"d":"0.0"},{"v":0,"d":"0.0"},{"v":0,"d":"0.0"},{"v":0,"d":"0.0"},{"v":0,"d":"0.0"},{"v":0,"d":"0.0"},{"v":0,"d":"0.0"},{"v":0,"d":"0.0"},{"v":0,"d":"0.0"},0]
[{"$nulls":3},"SIN PERTENENCIA ETNICA",{"$nulls":440},0,null,{"v":0,"d":"0.0"},{"v":0,"d":"0.0"},{"v":0,"d":"0.0"},{"v":0,"d":"0.0"},{"v":0,"d":"0.0"},{"v":0,"d":"0.0"},{"v":0,"d":"0.0"},{"v":0,"d":"0.0"},{"v":0,"d":"0.0"},{"v":0,"d":"0.0"},{"v":0,"d":"0.0"},{"v":0,"d":"0.0"},{"v":0,"d":"0.0"},{"v":0,"d":"0.0"},{"v":0,"d":"0.0"},{"v":0,"d":"0.0"},{"v":0,"d":"0.0"},{"v":0,"d":"0.0"},{"v":0,"d":"0.0"},{"v":0,"d":"0.0"},{"v":0,"d":"0.0"},{"v":0,"d":"0.0"},{"v":0,"d":"0.0"},{"v":0,"d":"0.0"},{"v":0,"d":"0.0"},{"v":0,"d":"0.0"},{"v":0,"d":"0.0"},{"v":0,"d":"0.0"},{"v":0,"d":"0.0"},{"v":0,"d":"0.0"},{"v":0,"d":"0.0"},{"v":0,"d":"0.0"},{"v":0,"d":"0.0"},{"v":0,"d":"0.0"},{"v":0,"d":"0.0"},{"v":0,"d":"0.0"},{"v":0,"d":"0.0"},{"v":0,"d":"0.0"},{"v":0,"d":"0.0"},{"v":0,"d":"0.0"},{"v":0,"d":"0.0"},{"v":0,"d":"0.0"},{"v":0,"d":"0.0"},{"v":0,"d":"0.0"},0]
[{"$nulls":3},"TOTAL ETNICOS",{"$f":"SUM(E57:E62)","v":0},0,0,0,0,0,0,0,0,0,0,0,0,0,0,0,0,0,0,0,0,0,0,0,0,0,0,0,0,0,0,0,0,0,0,0,0,0,0,0,0,0,0,0,0,0,0,0,0,0,0,0,0,0,0,0,0,0,0,0,0,0,0,0,{"$f":"SUM(BQ57:BQ62)","v":0},0,0,0,0,0,0,0,0,0,0,0,0,0,0,0,0,0,0,0,0,0,0,0,0,0,0,0,0,0,0,0,0,0,0,0,0,0,0,0,0,0,0,0,0,0,0,0,0,0,0,0,0,0,0,0,0,0,0,0,0,0,0,0,{"$f":"SUM(EC57:EC62)","v":0},0,0,0,0,0,0,0,0,0,0,0,0,0,0,0,0,0,0,0,0,0,0,0,0,0,0,0,0,0,0,0,0,0,0,0,0,0,0,0,0,0,0,0,0,0,0,0,0,0,0,0,0,0,0,0,0,0,0,0,0,0,0,0,{"$f":"SUM(GO57:GO62)","v":0},0,0,0,0,0,0,0,0,0,0,0,0,0,0,0,0,0,0,0,0,0,0,0,0,0,0,0,0,0,0,0,0,0,0,0,0,0,0,0,0,0,0,0,0,0,0,0,0,0,0,0,0,0,0,0,0,0,0,0,0,0,0,0,{"$f":"SUM(JA57:JA62)","v":0},0,0,0,0,0,0,0,0,0,0,0,0,0,0,0,0,0,0,0,0,0,0,0,0,0,0,0,0,0,0,0,0,0,0,0,0,0,0,0,0,0,0,0,0,0,0,0,0,0,0,0,0,0,0,0,0,0,0,0,0,0,0,0,{"$f":"SUM(LM57:LM62)","v":0},0,0,0,0,0,0,0,0,0,0,0,0,0,0,0,0,0,0,0,0,0,0,0,0,0,0,0,0,0,0,0,0,0,0,0,0,0,0,0,0,0,0,0,0,0,0,0,0,0,0,0,0,0,0,0,0,0,0,0,0,0,0,0,{"$f":"SUM(NY57:NY62)","v":0},0,0,0,0,0,0,0,0,0,0,0,0,0,0,0,0,0,0,0,0,0,0,0,0,0,0,0,0,0,0,0,0,0,0,0,0,0,0,0,0,0,0,0,0,0,0,0,0,0,0,0,0,0,0,0,0,null,{"$f":"SUM(QE57:QE62)","v":{"v":0,"d":"0.0"}},{"$f":"SUM(QF57:QF62)","v":{"v":0,"d":"0.0"}},{"$f":"SUM(QG57:QG62)","v":{"v":0,"d":"0.0"}},{"$f":"SUM(QH57:QH62)","v":{"v":0,"d":"0.0"}},{"$f":"SUM(QI57:QI62)","v":{"v":0,"d":"0.0"}},{"$f":"SUM(QJ57:QJ62)","v":{"v":0,"d":"0.0"}},{"$f":"SUM(QK57:QK62)","v":{"v":0,"d":"0.0"}},{"$f":"SUM(QL57:QL62)","v":{"v":0,"d":"0.0"}},{"$f":"SUM(QM57:QM62)","v":{"v":0,"d":"0.0"}},{"$f":"SUM(QN57:QN62)","v":{"v":0,"d":"0.0"}},{"$f":"SUM(QO57:QO62)","v":{"v":0,"d":"0.0"}},{"v":0,"d":"0.0"},{"$f":"SUM(QQ57:QQ62)","v":{"v":0,"d":"0.0"}},{"$f":"SUM(QR57:QR62)","v":{"v":0,"d":"0.0"}},{"$f":"SUM(QS57:QS62)","v":{"v":0,"d":"0.0"}},{"$f":"SUM(QT57:QT62)","v":{"v":0,"d":"0.0"}},{"$f":"SUM(QU57:QU62)","v":{"v":0,"d":"0.0"}},{"$f":"SUM(QV57:QV62)","v":{"v":0,"d":"0.0"}},{"$f":"SUM(QW57:QW62)","v":{"v":0,"d":"0.0"}},{"$f":"SUM(QX57:QX62)","v":{"v":0,"d":"0.0"}},{"v":0,"d":"0.0"},{"$f":"SUM(QZ57:QZ62)","v":{"v":0,"d":"0.0"}},{"$f":"SUM(RA57:RA62)","v":{"v":0,"d":"0.0"}},{"v":0,"d":"0.0"},{"$f":"SUM(RC57:RC62)","v":{"v":0,"d":"0.0"}},{"v":0,"d":"0.0"},{"$f":"SUM(RE57:RE62)","v":{"v":0,"d":"0.0"}},{"$f":"SUM(RF57:RF62)","v":{"v":0,"d":"0.0"}},{"$f":"SUM(RG57:RG62)","v":{"v":0,"d":"0.0"}},{"$f":"SUM(RH57:RH62)","v":{"v":0,"d":"0.0"}},{"$f":"SUM(RI57:RI62)","v":{"v":0,"d":"0.0"}},{"$f":"SUM(RJ57:RJ62)","v":{"v":0,"d":"0.0"}},{"v":0,"d":"0.0"},{"$f":"SUM(RL57:RL62)","v":{"v":0,"d":"0.0"}},{"v":0,"d":"0.0"},{"$f":"SUM(RN57:RN62)","v":{"v":0,"d":"0.0"}},{"$f":"SUM(RO57:RO62)","v":{"v":0,"d":"0.0"}},{"$f":"SUM(RP57:RP62)","v":{"v":0,"d":"0.0"}},{"$f":"SUM(RQ57:RQ62)","v":{"v":0,"d":"0.0"}},{"$f":"SUM(RR57:RR62)","v":{"v":0,"d":"0.0"}},{"$f":"SUM(RS57:RS62)","v":{"v":0,"d":"0.0"}},{"$f":"SUM(RT57:RT62)","v":{"v":0,"d":"0.0"}},{"$f":"SUM(RU57:RU62)","v":{"v":0,"d":"0.0"}},{"$f":"SUM(RV57:RV62)","v":{"v":0,"d":"0.0"}},0]
[{"$nulls":3},"EN SITUACION DE DESPLAZAMIENTO",{"$nulls":440},0,null,{"$f":"SUM(E64:H64)","v":{"v":0,"d":"0.0"}},{"$f":"SUM(I64:BO64)","v":{"v":0,"d":"0.0"}},{"$f":"SUM(BP64:CW64)","v":{"v":0,"d":"0.0"}},{"$f":"SUM(CX64:DE64)","v":{"v":0,"d":"0.0"}},{"$f":"SUM(DF64:DT64)","v":{"v":0,"d":"0.0"}},{"$f":"SUM(DU64:ET64)","v":{"v":0,"d":"0.0"}},{"$f":"SUM(EU64:FY64)","v":{"v":0,"d":"0.0"}},{"$f":"SUM(FZ64:HD64)","v":{"v":0,"d":"0.0"}},{"$f":"SUM(HE64:HF64)","v":{"v":0,"d":"0.0"}},{"$f":"SUM(HG64:HL64)","v":{"v":0,"d":"0.0"}},{"$f":"SUM(HM64:HR64)","v":{"v":0,"d":"0.0"}},{"$f":"SUM(HS64:IJ64)","v":{"v":0,"d":"0.0"}},{"$f":"SUM(IK64:JA64)","v":{"v":0,"d":"0.0"}},{"$f":"SUM(JB64:JT64)","v":{"v":0,"d":"0.0"}},{"$f":"SUM(JU64:KD64)","v":{"v":0,"d":"0.0"}},{"$f":"SUM(KE64:KP64)","v":{"v":0,"d":"0.0"}},{"$f":"SUM(KQ64:MU64)","v":{"v":0,"d":"0.0"}},{"$f":"SUM(MV64:NG64)","v":{"v":0,"d":"0.0"}},{"$f":"SUM(NH64:NI64)","v":{"v":0,"d":"0.0"}},{"$f":"SUM(NJ64:NL64)","v":{"v":0,"d":"0.0"}},{"v":0,"d":"0.0"},{"$f":"SUM(NP64)","v":{"v":0,"d":"0.0"}},{"$f":"SUM(NQ64)","v":{"v":0,"d":"0.0"}},{"$f":"SUM(NR64:NT64)","v":{"v":0,"d":"0.0"}},{"$f":"SUM(NU64)","v":{"v":0,"d":"0.0"}},{"$f":"SUM(NV64)","v":{"v":0,"d":"0.0"}},{"$f":"SUM(NW64:OB64)","v":{"v":0,"d":"0.0"}},{"$f":"SUM(OC64:PE64)","v":{"v":0,"d":"0.0"}},{"$f":"SUM(PF64:PG64)","v":{"v":0,"d":"0.0"}},{"$f":"SUM(PH64:PI64)","v":{"v":0,"d":"0.0"}},{"$f":"SUM(PJ64:PM64)","v":{"v":0,"d":"0.0"}},{"$f":"SUM(PN64:PP64)","v":{"v":0,"d":"0.0"}},{"$f":"SUM(PQ64)","v":{"v":0,"d":"0.0"}},{"$f":"SUM(PR64)","v":{"v":0,"d":"0.0"}},{"$f":"SUM(PS64)","v":{"v":0,"d":"0.0"}},{"$f":"SUM(PT64:PV64)","v":{"v":0,"d":"0.0"}},{"$f":"SUM(PV64)","v":{"v":0,"d":"0.0"}},{"$f":"SUM(PV64)","v":{"v":0,"d":"0.0"}},{"$f":"SUM(PW64)","v":{"v":0,"d":"0.0"}},{"$f":"SUM(PX64)","v":{"v":0,"d":"0.0"}},{"$f":"SUM(PY64)","v":{"v":0,"d":"0.0"}},{"$f":"SUM(PZ64)","v":{"v":0,"d":"0.0"}},{"$f":"SUM(QA64)","v":{"v":0,"d":"0.0"}},{"$f":"SUM(QB64)","v":{"v":0,"d":"0.0"}},{"$f":"SUM(QE64:RU64)-SUM(RI64:RM64)-SUM(RQ64:RT64)","v":0}]
[{"$nulls":3},"EN CONDICION DE DISCAPACIDAD",{"$nulls":440},0,null,{"v":0,"d":"0.0"},{"v":0,"d":"0.0"},{"v":0,"d":"0.0"},{"v":0,"d":"0.0"},{"v":0,"d":"0.0"},{"v":0,"d":"0.0"},{"v":0,"d":"0.0"},{"v":0,"d":"0.0"},{"v":0,"d":"0.0"},{"v":0,"d":"0.0"},{"v":0,"d":"0.0"},{"v":0,"d":"0.0"},{"v":0,"d":"0.0"},{"v":0,"d":"0.0"},{"v":0,"d":"0.0"},{"v":0,"d":"0.0"},{"v":0,"d":"0.0"},{"v":0,"d":"0.0"},{"v":0,"d":"0.0"},{"v":0,"d":"0.0"},{"v":0,"d":"0.0"},{"v":0,"d":"0.0"},{"v":0,"d":"0.0"},{"v":0,"d":"0.0"},{"v":0,"d":"0.0"},{"v":0,"d":"0.0"},{"v":0,"d":"0.0"},{"v":0,"d":"0.0"},{"v":0,"d":"0.0"},{"v":0,"d":"0.0"},{"v":0,"d":"0.0"},{"v":0,"d":"0.0"},{"v":0,"d":"0.0"},{"v":0,"d":"0.0"},{"v":0,"d":"0.0"},{"v":0,"d":"0.0"},{"v":0,"d":"0.0"},{"v":0,"d":"0.0"},{"v":0,"d":"0.0"},{"v":0,"d":"0.0"},{"v":0,"d":"0.0"},{"v":0,"d":"0.0"},{"v":0,"d":"0.0"},{"v":0,"d":"0.0"},0]
[{"$nulls":3},"VICTIMAS DEL CONFLICTO ARMADO",{"$nulls":440},0,null,{"v":0,"d":"0.0"},{"v":0,"d":"0.0"},{"v":0,"d":"0.0"},{"v":0,"d":"0.0"},{"v":0,"d":"0.0"},{"v":0,"d":"0.0"},{"v":0,"d":"0.0"},{"v":0,"d":"0.0"},{"v":0,"d":"0.0"},{"v":0,"d":"0.0"},{"v":0,"d":"0.0"},{"v":0,"d":"0.0"},{"v":0,"d":"0.0"},{"v":0,"d":"0.0"},{"v":0,"d":"0.0"},{"v":0,"d":"0.0"},{"v":0,"d":"0.0"},{"v":0,"d":"0.0"},{"v":0,"d":"0.0"},{"v":0,"d":"0.0"},{"v":0,"d":"0.0"},{"v":0,"d":"0.0"},{"v":0,"d":"0.0"},{"v":0,"d":"0.0"},{"v":0,"d":"0.0"},{"v":0,"d":"0.0"},{"v":0,"d":"0.0"},{"v":0,"d":"0.0"},{"v":0,"d":"0.0"},{"v":0,"d":"0.0"},{"v":0,"d":"0.0"},{"v":0,"d":"0.0"},{"v":0,"d":"0.0"},{"v":0,"d":"0.0"},{"v":0,"d":"0.0"},{"v":0,"d":"0.0"},{"v":0,"d":"0.0"},{"v":0,"d":"0.0"},{"v":0,"d":"0.0"},{"v":0,"d":"0.0"},{"v":0,"d":"0.0"},{"v":0,"d":"0.0"},{"v":0,"d":"0.0"},{"v":0,"d":"0.0"},0]
[{"$nulls":3},"ZONAS VEREDALES",{"$nulls":440},0,{"$f":"CONCATENATE($G$2,#REF!)","v":{"$error":"#REF!"}},{"$f":"SUM(E67:H67)","v":{"v":0,"d":"0.0"}},{"$f":"SUM(I67:BN67)","v":{"v":0,"d":"0.0"}},{"$f":"SUM(BP67:CW67)","v":{"v":0,"d":"0.0"}},{"$f":"SUM(CX67:DE67)","v":{"v":0,"d":"0.0"}},{"$f":"SUM(DF67:DT67)","v":{"v":0,"d":"0.0"}},{"$f":"SUM(DU67:ET67)","v":{"v":0,"d":"0.0"}},{"$f":"SUM(EU67:FY67)","v":{"v":0,"d":"0.0"}},{"$f":"SUM(FZ67:HD67)","v":{"v":0,"d":"0.0"}},{"$f":"SUM(HE67:HF67)","v":{"v":0,"d":"0.0"}},{"$f":"SUM(HG67:HL67)","v":{"v":0,"d":"0.0"}},{"$f":"SUM(HR67:II67)","v":{"v":0,"d":"0.0"}},{"$f":"SUM(HS67:IJ67)","v":{"v":0,"d":"0.0"}},{"$f":"SUM(IK67:JA67)","v":{"v":0,"d":"0.0"}},{"$f":"SUM(JB67:JT67)","v":{"v":0,"d":"0.0"}},{"$f":"SUM(JU67:KD67)","v":{"v":0,"d":"0.0"}},{"$f":"SUM(KE67:KP67)","v":{"v":0,"d":"0.0"}},{"$f":"SUM(KQ67:MU67)","v":{"v":0,"d":"0.0"}},{"$f":"SUM(MV67:NG67)","v":{"v":0,"d":"0.0"}},{"$f":"SUM(NH67:NL67)","v":{"v":0,"d":"0.0"}},{"$f":"SUM(NM67:NO67)","v":{"v":0,"d":"0.0"}},{"v":0,"d":"0.0"},{"$f":"SUM(NP67)","v":{"v":0,"d":"0.0"}},{"v":0,"d":"0.0"},{"$f":"SUM(NS67:NT67)","v":{"v":0,"d":"0.0"}},{"$f":"SUM(NT67:NU67)","v":{"v":0,"d":"0.0"}},{"$f":"SUM(NU67:NV67)","v":{"v":0,"d":"0.0"}},{"$f":"SUM(NZ67:OB67)","v":{"v":0,"d":"0.0"}},{"$f":"SUM(OC67:PE67)","v":{"v":0,"d":"0.0"}},{"$f":"SUM(PF67:PI67)","v":{"v":0,"d":"0.0"}},{"$f":"SUM(PJ67:PP67)","v":{"v":0,"d":"0.0"}},{"$f":"PQ67","v":{"v":0,"d":"0.0"}},{"$f":"PR67","v":{"v":0,"d":"0.0"}},{"$f":"SUM(PQ67)","v":{"v":0,"d":"0.0"}},{"v":0,"d":"0.0"},{"v":0,"d":"0.0"},{"v":0,"d":"0.0"},{"v":0,"d":"0.0"},{"v":0,"d":"0.0"},{"v":0,"d":"0.0"},{"v":0,"d":"0.0"},{"v":0,"d":"0.0"},{"v":0,"d":"0.0"},{"v":0,"d":"0.0"},{"v":0,"d":"0.0"},{"$f":"SUM(QE67:RU67)-SUM(RI67:RM67)-SUM(RQ67:RT67)","v":0}]
["TOTALES",null,null,"FEMENINO",{"$f":"SUMIF($D$8:$D$67,$D68,E$8:E$67)","v":{"v":3369,"d":"3,369"}},68,12,6,{"v":3401,"d":"3,401"},101,1,1,0,0,{"$f":"SUMIF($D$8:$D$67,$D68,O$8:O$67)","v":20},56,2,4,21,5,2,15,2,1,{"$f":"SUMIF($D$8:$D$67,$D68,Y$8:Y$67)","v":11},0,3,9,0,0,0,0,0,0,{"$f":"SUMIF($D$8:$D$67,$D68,AI$8:AI$67)","v":0},0,0,0,0,0,0,0,0,0,{"$f":"SUMIF($D$8:$D$67,$D68,AS$8:AS$67)","v":0},0,0,0,0,0,0,13,0,1,{"$f":"SUMIF($D$8:$D$67,$D68,BC$8:BC$67)","v":0},3,0,0,0,12,2,0,0,297,{"$f":"SUMIF($D$8:$D$67,$D68,BM$8:BM$67)","v":61},38,0,{"v":2258,"d":"2,258"},{"v":2203,"d":"2,203"},{"v":2424,"d":"2,424"},2,20,61,3,{"$f":"SUMIF($D$8:$D$67,$D68,BW$8:BW$67)","v":4},18,4,2,14,2,1,10,1,1,{"$f":"SUMIF($D$8:$D$67,$D68,CG$8:CG$67)","v":7},{"v":2221,"d":"2,221"},174,52,26,40,0,0,36,0,{"$f":"SUMIF($D$8:$D$67,$D68,CQ$8:CQ$67)","v":0},27,0,0,1,0,0,31,7,0,{"$f":"SUMIF($D$8:$D$67,$D68,DA$8:DA$67)","v":2},1,0,0,{"v":3334,"d":"3,334"},{"v":2257,"d":"2,257"},{"v":2199,"d":"2,199"},{"v":2426,"d":"2,426"},2,0,{"$f":"SUMIF($D$8:$D$67,$D68,DK$8:DK$67)","v":0},0,0,0,0,0,0,0,0,0,{"$f":"SUMIF($D$8:$D$67,$D68,DU$8:DU$67)","v":0},0,0,2,21,58,2,4,19,5,{"$f":"SUMIF($D$8:$D$67,$D68,EE$8:EE$67)","v":1},15,2,1,11,0,2,9,{"v":2245,"d":"2,245"},183,{"$f":"SUMIF($D$8:$D$67,$D68,EO$8:EO$67)","v":53},30,35,0,0,{"v":3346,"d":"3,346"},1,1,0,0,{"$f":"SUMIF($D$8:$D$67,$D68,EY$8:EY$67)","v":0},0,0,0,0,0,1,0,0,0,{"$f":"SUMIF($D$8:$D$67,$D68,FI$8:FI$67)","v":0},0,0,0,7,0,0,0,0,0,{"$f":"SUMIF($D$8:$D$67,$D68,FS$8:FS$67)","v":0},16,0,0,0,0,6,0,0,0,{"$f":"SUMIF($D$8:$D$67,$D68,GC$8:GC$67)","v":0},0,0,0,0,0,0,0,0,0,{"$f":"SUMIF($D$8:$D$67,$D68,GM$8:GM$67)","v":0},0,0,0,0,0,0,0,0,0,{"$f":"SUMIF($D$8:$D$67,$D68,GW$8:GW$67)","v":0},0,0,0,0,0,0,0,{"v":2521,"d":"2,521"},{"v":2440,"d":"2,440"},{"$f":"SUMIF($D$8:$D$67,$D68,HG$8:HG$67)","v":403},{"v":2451,"d":"2,451"},{"v":2575,"d":"2,575"},43,50,153,{"v":2255,"d":"2,255"},0,0,0,{"$f":"SUMIF($D$8:$D$67,$D68,HQ$8:HQ$67)","v":0},0,{"v":2609,"d":"2,609"},28,18,12,4,2,1,0,{"$f":"SUMIF($D$8:$D$67,$D68,IA$8:IA$67)","v":0},0,0,{"v":3515,"d":"3,515"},50,28,7,10,3,0,{"$f":"SUMIF($D$8:$D$67,$D68,IK$8:IK$67)","v":19},217,28,68,89,105,111,99,76,82,{"$f":"SUMIF($D$8:$D$67,$D68,IU$8:IU$67)","v":74},77,97,70,651,317,234,{"v":2420,"d":"2,420"},171,49,{"$f":"SUMIF($D$8:$D$67,$D68,JE$8:JE$67)","v":33},34,10,6,6,5,3,6,6,29,{"$f":"SUMIF($D$8:$D$67,$D68,JO$8:JO$67)","v":80},{"v":1689,"d":"1,689"},762,472,340,0,{"v":2722,"d":"2,722"},51,51,40,{"$f":"SUMIF($D$8:$D$67,$D68,JY$8:JY$67)","v":46},30,10,8,7,1,{"v":2634,"d":"2,634"},48,51,40,{"$f":"SUMIF($D$8:$D$67,$D68,KI$8:KI$67)","v":49},29,9,2,{"v":3479,"d":"3,479"},42,37,0,7,0,{"$f":"SUMIF($D$8:$D$67,$D68,KS$8:KS$67)","v":0},0,19,97,31,0,3,1,{"v":1921,"d":"1,921"},879,{"$f":"SUMIF($D$8:$D$67,$D68,LC$8:LC$67)","v":373},257,138,17,0,0,0,595,291,92,{"$f":"SUMIF($D$8:$D$67,$D68,LM$8:LM$67)","v":24},5,{"v":2240,"d":"2,240"},{"v":1513,"d":"1,513"},{"v":1815,"d":"1,815"},{"v":1140,"d":"1,140"},816,173,0,0,{"$f":"SUMIF($D$8:$D$67,$D68,LW$8:LW$67)","v":0},0,0,0,0,0,0,0,0,0,{"$f":"SUMIF($D$8:$D$67,$D68,MG$8:MG$67)","v":0},0,0,0,0,4,3,0,2,4,{"$f":"SUMIF($D$8:$D$67,$D68,MQ$8:MQ$67)","v":3},1,1,0,1,29,49,69,5,1,{"$f":"SUMIF($D$8:$D$67,$D68,NA$8:NA$67)","v":0},{"v":1280,"d":"1,280"},838,{"v":1542,"d":"1,542"},508,382,237,{"v":3456,"d":"3,456"},{"v":3570,"d":"3,570"},{"v":1798,"d":"1,798"},{"$f":"SUMIF($D$8:$D$67,$D68,NK$8:NK$67)","v":{"v":1605,"d":"1,605"}},{"v":2877,"d":"2,877"},36,20,211,{"v":30293,"d":"30,293"},{"v":6438,"d":"6,438"},4,0,918,{"$f":"SUMIF($D$8:$D$67,$D68,NU$8:NU$67)","v":951},{"v":13480,"d":"13,480"},0,0,0,0,0,1,{"v":1550,"d":"1,550"},343,{"$f":"SUMIF($D$8:$D$67,$D68,OE$8:OE$67)","v":0},649,551,0,601,510,0,502,393,2,{"$f":"SUMIF($D$8:$D$67,$D68,OO$8:OO$67)","v":440},346,0,425,281,1,468,271,0,339,{"$f":"SUMIF($D$8:$D$67,$D68,OY$8:OY$67)","v":228},0,179,202,1,47,0,0,0,0,{"$f":"SUMIF($D$8:$D$67,$D68,PI$8:PI$67)","v":0},0,0,0,0,585,206,155,155,182,{"$f":"SUMIF($D$8:$D$67,$D68,PS$8:PS$67)","v":51},1,0,1,36,24,0,0,8,1,{"$f":"SUM(E68:QB68)-(PQ68+PS68+PU68+PV68+PX68)","v":{"v":163150,"d":"163,150"}},null,{"$f":"SUMIF($D$8:$D$67,$D68,QE$8:QE$67)","v":{"v":3455,"d":"3,455.0"}},{"v":4082,"d":"4,082.0"},{"v":9612,"d":"9,612.0"},{"v":3375,"d":"3,375.0"},{"v":6884,"d":"6,884.0"},{"v":6044,"d":"6,044.0"},{"v":32,"d":"32.0"},{"v":0,"d":"0.0"},{"v":4961,"d":"4,961.0"},{"v":5675,"d":"5,675.0"},{"$f":"SUMIF($D$8:$D$67,$D68,QO$8:QO$67)","v":{"v":2255,"d":"2,255.0"}},{"v":6287,"d":"6,287.0"},{"v":2414,"d":"2,414.0"},{"v":6121,"d":"6,121.0"},{"v":2966,"d":"2,966.0"},{"v":6420,"d":"6,420.0"},{"v":12466,"d":"12,466.0"},{"v":4940,"d":"4,940.0"},{"v":7026,"d":"7,026.0"},{"v":6280,"d":"6,280.0"},{"$f":"SUMIF($D$8:$D$67,$D68,QY$8:QY$67)","v":{"v":267,"d":"267.0"}},{"v":30293,"d":"30,293.0"},{"v":6438,"d":"6,438.0"},{"v":922,"d":"922.0"},{"v":951,"d":"951.0"},{"v":13480,"d":"13,480.0"},{"v":1,"d":"1.0"},{"v":8329,"d":"8,329.0"},{"v":0,"d":"0.0"},{"v":0,"d":"0.0"},{"$f":"SUMIF($D$8:$D$67,$D68,RI$8:RI$67)","v":{"v":0,"d":"0.0"}},{"v":946,"d":"946.0"},{"v":155,"d":"155.0"},{"v":182,"d":"182.0"},{"v":51,"d":"51.0"},{"v":2,"d":"2.0"},{"v":1,"d":"1.0"},{"v":1,"d":"1.0"},{"v":36,"d":"36.0"},{"v":24,"d":"24.0"},{"v":0,"d":"0.0"},{"v":0,"d":"0.0"},{"v":8,"d":"8.0"},{"v":1,"d":"1.0"},{"v":161988,"d":"161,988"}]
[{"$nulls":3},"MASCULINO",{"v":3161,"d":"3,161"},93,10,4,{"v":3114,"d":"3,114"},109,1,0,1,2,24,39,4,8,15,3,7,4,1,1,5,1,2,4,0,0,0,0,0,0,0,0,0,0,0,0,0,0,0,0,0,0,0,0,0,0,0,1,0,0,0,0,0,0,0,2,0,0,0,274,44,25,7,{"v":2396,"d":"2,396"},{"v":2226,"d":"2,226"},{"v":2475,"d":"2,475"},10,24,41,4,8,15,3,7,5,0,1,5,0,3,4,{"v":2230,"d":"2,230"},207,50,22,39,0,0,31,1,0,23,0,0,7,0,0,23,3,0,0,2,0,0,{"v":3586,"d":"3,586"},{"v":2389,"d":"2,389"},{"v":2228,"d":"2,228"},{"v":2469,"d":"2,469"},7,0,0,0,0,0,0,0,0,0,0,0,0,0,0,4,24,39,4,8,13,3,7,3,1,1,4,0,3,4,{"v":2242,"d":"2,242"},211,54,26,34,0,0,{"v":3600,"d":"3,600"},1,0,4,0,0,0,0,0,1,0,0,0,0,0,0,0,0,0,10,2,1,0,0,0,0,11,0,0,0,1,5,0,0,0,0,0,0,0,0,0,0,0,0,0,0,0,0,0,0,0,0,0,0,0,0,0,0,0,0,0,0,0,{"v":2613,"d":"2,613"},{"v":2487,"d":"2,487"},486,{"v":2498,"d":"2,498"},{"v":2682,"d":"2,682"},48,52,145,{"v":2251,"d":"2,251"},0,0,0,0,0,{"v":2732,"d":"2,732"},26,16,6,8,4,3,0,0,0,0,{"v":3785,"d":"3,785"},47,28,14,5,9,2,17,163,44,74,102,86,125,110,102,111,94,75,92,65,323,203,107,{"v":2389,"d":"2,389"},195,51,18,37,8,5,4,7,4,6,8,20,59,{"v":1578,"d":"1,578"},889,450,265,0,{"v":2838,"d":"2,838"},53,44,37,44,31,26,9,5,2,{"v":2762,"d":"2,762"},50,43,33,48,30,22,1,{"v":3745,"d":"3,745"},47,20,0,7,0,0,2,27,0,0,0,0,0,1,0,0,0,0,0,0,0,0,0,0,0,0,0,0,0,0,0,0,0,0,0,0,21,1,0,0,1,269,52,23,4,0,1,0,0,0,8,0,0,0,1,7,0,0,0,1,0,0,0,0,0,0,0,0,1,0,0,0,{"v":3554,"d":"3,554"},{"v":3726,"d":"3,726"},{"v":1965,"d":"1,965"},{"v":1572,"d":"1,572"},{"v":2825,"d":"2,825"},43,27,288,{"v":20177,"d":"20,177"},2,5,0,{"v":1111,"d":"1,111"},778,{"v":8724,"d":"8,724"},0,0,0,0,0,1,6,0,0,1,3,0,3,0,0,4,0,0,1,1,0,3,0,0,1,0,0,0,2,0,0,0,0,0,0,0,0,0,0,0,0,0,0,562,221,127,127,203,50,2,1,1,6,2,2,1,0,0,{"$f":"SUM(E69:QB69)-(PQ69+PS69+PU69+PV69+PX69)","v":{"v":117928,"d":"117,928"}},null,{"v":3268,"d":"3,268.0"},{"v":3698,"d":"3,698.0"},{"v":9837,"d":"9,837.0"},{"v":3614,"d":"3,614.0"},{"v":7093,"d":"7,093.0"},{"v":6285,"d":"6,285.0"},{"v":36,"d":"36.0"},{"v":0,"d":"0.0"},{"v":5100,"d":"5,100.0"},{"v":5911,"d":"5,911.0"},{"v":2251,"d":"2,251.0"},{"v":6685,"d":"6,685.0"},{"v":1893,"d":"1,893.0"},{"v":5993,"d":"5,993.0"},{"v":3089,"d":"3,089.0"},{"v":6801,"d":"6,801.0"},{"v":426,"d":"426.0"},{"v":1,"d":"1.0"},{"v":7280,"d":"7,280.0"},{"v":6362,"d":"6,362.0"},{"v":358,"d":"358.0"},{"v":20177,"d":"20,177.0"},{"v":2,"d":"2.0"},{"v":1116,"d":"1,116.0"},{"v":778,"d":"778.0"},{"v":8724,"d":"8,724.0"},{"v":1,"d":"1.0"},{"v":25,"d":"25.0"},{"v":0,"d":"0.0"},{"v":0,"d":"0.0"},{"v":0,"d":"0.0"},{"v":910,"d":"910.0"},{"v":127,"d":"127.0"},{"v":203,"d":"203.0"},{"v":50,"d":"50.0"},{"v":4,"d":"4.0"},{"v":1,"d":"1.0"},{"v":1,"d":"1.0"},{"v":6,"d":"6.0"},{"v":2,"d":"2.0"},{"v":2,"d":"2.0"},{"v":1,"d":"1.0"},{"v":0,"d":"0.0"},{"v":0,"d":"0.0"},{"v":116810,"d":"116,810"}]
[{"$nulls":3},"OTRO",1,0,0,0,1,0,0,0,0,0,0,0,0,0,0,0,0,0,0,0,0,0,0,0,0,0,0,0,0,0,0,0,0,0,0,0,0,0,0,0,0,0,0,0,0,0,0,0,0,0,0,0,0,0,0,0,0,0,0,0,0,0,0,0,0,0,0,0,0,0,0,0,0,0,0,0,0,0,0,0,0,0,0,0,0,0,0,0,0,0,0,0,0,0,0,0,0,0,0,0,0,0,0,0,0,0,0,0,0,0,0,0,0,0,0,0,0,0,0,0,0,0,0,0,0,0,0,0,0,0,0,0,0,0,0,0,0,0,0,0,0,0,0,0,0,0,0,0,0,0,0,0,0,0,0,0,0,0,0,0,0,0,0,0,0,0,0,0,0,0,0,0,0,0,0,0,0,0,0,0,0,0,0,0,0,0,0,0,0,0,0,0,0,0,0,0,0,0,0,0,0,0,0,0,0,0,0,0,0,0,0,0,0,0,0,1,0,0,0,0,0,0,0,0,0,0,0,0,0,0,0,0,0,0,0,0,0,0,0,0,0,0,0,0,0,0,0,0,0,0,0,0,0,0,0,0,0,0,0,0,0,0,0,0,0,0,0,0,0,0,0,0,1,0,0,0,0,0,1,0,0,0,0,0,0,0,0,0,1,0,0,0,0,0,0,0,0,0,0,0,0,0,0,0,0,0,0,0,0,0,0,0,0,0,0,0,0,0,0,0,0,0,0,0,0,0,0,0,0,0,0,0,0,0,0,0,0,0,0,0,0,0,0,0,0,0,0,0,0,0,0,0,0,0,0,0,0,0,0,0,0,0,0,0,0,0,0,0,1,0,0,0,0,0,0,2,0,0,0,0,0,1,0,0,0,0,0,0,0,0,0,0,0,0,0,0,0,0,0,0,0,0,0,0,0,0,0,0,0,0,0,0,0,0,0,0,0,0,0,0,0,0,0,0,0,0,0,0,0,0,0,0,0,0,0,0,0,0,0,0,10,null,{"v":1,"d":"1.0"},{"v":1,"d":"1.0"},{"v":0,"d":"0.0"},{"v":0,"d":"0.0"},{"v":0,"d":"0.0"},{"v":0,"d":"0.0"},{"v":0,"d":"0.0"},{"v":0,"d":"0.0"},{"v":0,"d":"0.0"},{"v":1,"d":"1.0"},{"v":0,"d":"0.0"},{"v":0,"d":"0.0"},{"v":0,"d":"0.0"},{"v":1,"d":"1.0"},{"v":1,"d":"1.0"},{"v":1,"d":"1.0"},{"v":0,"d":"0.0"},{"v":0,"d":"0.0"},{"v":1,"d":"1.0"},{"v":0,"d":"0.0"},{"v":0,"d":"0.0"},{"v":2,"d":"2.0"},{"v":0,"d":"0.0"},{"v":0,"d":"0.0"},{"v":0,"d":"0.0"},{"v":1,"d":"1.0"},{"v":0,"d":"0.0"},{"v":0,"d":"0.0"},{"v":0,"d":"0.0"},{"v":0,"d":"0.0"},{"v":0,"d":"0.0"},{"v":0,"d":"0.0"},{"v":0,"d":"0.0"},{"v":0,"d":"0.0"},{"v":0,"d":"0.0"},{"v":0,"d":"0.0"},{"v":0,"d":"0.0"},{"v":0,"d":"0.0"},{"v":0,"d":"0.0"},{"v":0,"d":"0.0"},{"v":0,"d":"0.0"},{"v":0,"d":"0.0"},{"v":0,"d":"0.0"},{"v":0,"d":"0.0"},10]
[{"$nulls":3},"TOTAL GENERO",{"$f":"SUM(E68:E70)","v":{"v":6531,"d":"6,531"}},{"$f":"SUM(F68:F70)","v":161},22,10,{"v":6516,"d":"6,516"},210,2,1,1,2,44,95,6,12,36,8,9,19,3,2,16,1,5,13,0,0,0,0,0,0,0,0,0,0,0,0,0,0,0,0,0,0,0,0,0,0,0,14,0,1,0,3,0,0,0,14,2,0,0,571,105,63,7,{"v":4654,"d":"4,654"},{"v":4429,"d":"4,429"},{"$f":"SUM(BR68:BR70)","v":{"v":4899,"d":"4,899"}},12,44,102,7,12,33,7,9,19,2,2,15,1,4,11,{"v":4451,"d":"4,451"},381,102,48,79,0,0,67,1,0,50,0,0,8,0,0,54,10,0,2,3,0,0,{"v":6920,"d":"6,920"},{"v":4646,"d":"4,646"},{"v":4427,"d":"4,427"},{"v":4895,"d":"4,895"},9,0,0,0,0,0,0,0,0,0,0,0,0,0,0,6,45,97,6,12,32,{"$f":"SUM(ED68:ED70)","v":8},8,18,3,2,15,0,5,13,{"v":4487,"d":"4,487"},394,107,56,69,0,0,{"v":6946,"d":"6,946"},2,1,4,0,0,0,0,0,1,0,1,0,0,0,0,0,0,0,17,2,1,0,0,0,0,27,0,0,0,1,11,0,0,0,0,0,0,0,0,0,0,0,0,0,0,0,0,{"$f":"SUM(GP68:GP70)","v":0},0,0,0,0,0,0,0,0,0,0,0,0,0,0,{"v":5134,"d":"5,134"},{"v":4927,"d":"4,927"},889,{"v":4949,"d":"4,949"},{"v":5257,"d":"5,257"},91,102,299,{"v":4506,"d":"4,506"},0,0,0,0,0,{"v":5341,"d":"5,341"},54,34,18,12,6,4,0,0,0,0,{"v":7300,"d":"7,300"},97,56,21,15,12,2,36,380,72,142,191,191,236,209,178,193,168,152,189,135,974,520,341,{"$f":"SUM(JB68:JB70)","v":{"v":4809,"d":"4,809"}},366,100,51,71,18,11,10,12,7,12,14,49,139,{"v":3267,"d":"3,267"},{"v":1652,"d":"1,652"},922,605,0,{"v":5560,"d":"5,560"},104,96,77,90,61,36,17,12,3,{"v":5396,"d":"5,396"},98,95,73,97,59,31,3,{"v":7224,"d":"7,224"},89,57,0,14,0,0,2,46,97,31,0,3,1,{"v":1922,"d":"1,922"},879,373,257,138,17,0,0,0,595,291,92,24,{"$f":"SUM(LN68:LN70)","v":5},{"v":2240,"d":"2,240"},{"v":1513,"d":"1,513"},{"v":1815,"d":"1,815"},{"v":1140,"d":"1,140"},816,173,0,0,0,21,1,0,0,1,269,52,23,4,0,1,0,0,0,12,3,0,2,5,10,1,1,0,2,29,49,69,5,1,0,{"v":1280,"d":"1,280"},838,{"v":1543,"d":"1,543"},508,382,237,{"v":7010,"d":"7,010"},{"v":7297,"d":"7,297"},{"v":3763,"d":"3,763"},{"v":3177,"d":"3,177"},{"v":5702,"d":"5,702"},79,47,499,{"v":50472,"d":"50,472"},{"v":6440,"d":"6,440"},9,0,{"v":2029,"d":"2,029"},{"v":1729,"d":"1,729"},{"v":22205,"d":"22,205"},0,0,0,{"$f":"SUM(NZ68:NZ70)","v":0},0,2,{"v":1556,"d":"1,556"},343,0,650,554,0,604,510,0,506,393,2,441,347,0,428,281,1,469,271,0,339,230,0,179,202,1,47,0,0,0,0,0,0,0,0,0,{"v":1147,"d":"1,147"},427,282,282,385,101,3,1,2,42,26,2,1,8,1,{"$f":"SUM(QC68:QC70)","v":{"v":281088,"d":"281,088"}},null,{"$f":"SUM(QE68:QE70)","v":{"v":6724,"d":"6,724.0"}},{"$f":"SUM(QF68:QF70)","v":{"v":7781,"d":"7,781.0"}},{"v":19449,"d":"19,449.0"},{"v":6989,"d":"6,989.0"},{"v":13977,"d":"13,977.0"},{"v":12329,"d":"12,329.0"},{"v":68,"d":"68.0"},{"v":0,"d":"0.0"},{"v":10061,"d":"10,061.0"},{"v":11587,"d":"11,587.0"},{"$f":"SUM(QO68:QO70)","v":{"v":4506,"d":"4,506.0"}},{"v":12972,"d":"12,972.0"},{"v":4307,"d":"4,307.0"},{"v":12115,"d":"12,115.0"},{"v":6056,"d":"6,056.0"},{"v":13222,"d":"13,222.0"},{"v":12892,"d":"12,892.0"},{"v":4941,"d":"4,941.0"},{"v":14307,"d":"14,307.0"},{"v":12642,"d":"12,642.0"},{"v":625,"d":"625.0"},{"v":50472,"d":"50,472.0"},{"v":6440,"d":"6,440.0"},{"$f":"SUM(RB68:RB70)","v":{"v":2038,"d":"2,038.0"}},{"v":1729,"d":"1,729.0"},{"v":22205,"d":"22,205.0"},{"v":2,"d":"2.0"},{"v":8354,"d":"8,354.0"},{"v":0,"d":"0.0"},{"v":0,"d":"0.0"},{"v":0,"d":"0.0"},{"v":1856,"d":"1,856.0"},{"$f":"SUM(RK68:RK70)","v":{"v":282,"d":"282.0"}},{"v":385,"d":"385.0"},{"v":101,"d":"101.0"},{"v":6,"d":"6.0"},{"v":2,"d":"2.0"},{"v":2,"d":"2.0"},{"v":42,"d":"42.0"},{"v":26,"d":"26.0"},{"v":2,"d":"2.0"},{"v":1,"d":"1.0"},{"v":8,"d":"8.0"},{"v":1,"d":"1.0"},{"v":278808,"d":"278,808"}]
[{"$nulls":3},"CONTRIBUTIVO",{"$f":"SUMIF($D$8:$D$67,$D72,E$8:E$67)","v":{"v":4943,"d":"4,943"}},116,1,2,{"v":4942,"d":"4,942"},133,2,0,0,1,{"$f":"SUMIF($D$8:$D$67,$D72,O$8:O$67)","v":10},17,0,1,8,2,2,1,1,0,{"$f":"SUMIF($D$8:$D$67,$D72,Y$8:Y$67)","v":2},0,1,1,0,0,0,0,0,0,{"$f":"SUMIF($D$8:$D$67,$D72,AI$8:AI$67)","v":0},0,0,0,0,0,0,0,0,0,{"$f":"SUMIF($D$8:$D$67,$D72,AS$8:AS$67)","v":0},0,0,0,0,0,0,13,0,0,{"$f":"SUMIF($D$8:$D$67,$D72,BC$8:BC$67)","v":0},1,0,0,0,10,1,0,0,233,{"$f":"SUMIF($D$8:$D$67,$D72,BM$8:BM$67)","v":53},36,6,{"v":3223,"d":"3,223"},{"v":3076,"d":"3,076"},{"v":3467,"d":"3,467"},1,10,19,1,{"$f":"SUMIF($D$8:$D$67,$D72,BW$8:BW$67)","v":1},7,2,2,2,1,0,0,0,0,{"$f":"SUMIF($D$8:$D$67,$D72,CG$8:CG$67)","v":1},{"v":3222,"d":"3,222"},173,33,19,28,0,0,52,0,{"$f":"SUMIF($D$8:$D$67,$D72,CQ$8:CQ$67)","v":0},19,0,0,3,0,0,27,5,0,{"$f":"SUMIF($D$8:$D$67,$D72,DA$8:DA$67)","v":1},0,0,0,{"v":5357,"d":"5,357"},{"v":3217,"d":"3,217"},{"v":3076,"d":"3,076"},{"v":3462,"d":"3,462"},0,0,{"$f":"SUMIF($D$8:$D$67,$D72,DK$8:DK$67)","v":0},0,0,0,0,0,0,0,0,0,{"$f":"SUMIF($D$8:$D$67,$D72,DU$8:DU$67)","v":0},0,0,3,10,17,0,1,6,2,{"$f":"SUMIF($D$8:$D$67,$D72,EE$8:EE$67)","v":1},1,1,0,1,0,0,1,{"v":3236,"d":"3,236"},177,{"$f":"SUMIF($D$8:$D$67,$D72,EO$8:EO$67)","v":34},20,25,0,0,{"v":5381,"d":"5,381"},2,1,2,0,{"$f":"SUMIF($D$8:$D$67,$D72,EY$8:EY$67)","v":0},0,0,0,1,0,1,0,0,0,{"$f":"SUMIF($D$8:$D$67,$D72,FI$8:FI$67)","v":0},0,0,0,12,2,0,0,0,0,{"$f":"SUMIF($D$8:$D$67,$D72,FS$8:FS$67)","v":0},20,0,0,0,0,6,0,0,0,{"$f":"SUMIF($D$8:$D$67,$D72,GC$8:GC$67)","v":0},0,0,0,0,0,0,0,0,0,{"$f":"SUMIF($D$8:$D$67,$D72,GM$8:GM$67)","v":0},0,0,0,0,0,0,0,0,0,{"$f":"SUMIF($D$8:$D$67,$D72,GW$8:GW$67)","v":0},0,0,0,0,0,0,0,{"v":3743,"d":"3,743"},{"v":3613,"d":"3,613"},{"$f":"SUMIF($D$8:$D$67,$D72,HG$8:HG$67)","v":521},{"v":3565,"d":"3,565"},{"v":3773,"d":"3,773"},3,10,21,{"v":3384,"d":"3,384"},0,0,0,{"$f":"SUMIF($D$8:$D$67,$D72,HQ$8:HQ$67)","v":0},0,{"v":3764,"d":"3,764"},14,7,3,3,0,0,0,{"$f":"SUMIF($D$8:$D$67,$D72,IA$8:IA$67)","v":0},0,0,{"v":5660,"d":"5,660"},37,18,5,7,4,1,{"$f":"SUMIF($D$8:$D$67,$D72,IK$8:IK$67)","v":16},263,49,89,116,119,139,143,120,126,{"$f":"SUMIF($D$8:$D$67,$D72,IU$8:IU$67)","v":109},105,109,74,695,375,228,{"v":3565,"d":"3,565"},186,42,{"$f":"SUMIF($D$8:$D$67,$D72,JE$8:JE$67)","v":24},32,6,3,4,4,1,7,10,30,{"$f":"SUMIF($D$8:$D$67,$D72,JO$8:JO$67)","v":102},{"v":2658,"d":"2,658"},{"v":1353,"d":"1,353"},728,486,0,{"v":3939,"d":"3,939"},16,9,4,{"$f":"SUMIF($D$8:$D$67,$D72,JY$8:JY$67)","v":8},3,2,0,1,1,{"v":3791,"d":"3,791"},13,8,4,{"$f":"SUMIF($D$8:$D$67,$D72,KI$8:KI$67)","v":20},1,2,0,{"v":5626,"d":"5,626"},40,18,0,8,0,{"$f":"SUMIF($D$8:$D$67,$D72,KS$8:KS$67)","v":0},0,12,53,10,0,1,0,{"v":1488,"d":"1,488"},653,{"$f":"SUMIF($D$8:$D$67,$D72,LC$8:LC$67)","v":303},214,123,12,0,0,0,464,231,71,{"$f":"SUMIF($D$8:$D$67,$D72,LM$8:LM$67)","v":18},5,{"v":1769,"d":"1,769"},{"v":1218,"d":"1,218"},{"v":1450,"d":"1,450"},957,675,136,0,0,{"$f":"SUMIF($D$8:$D$67,$D72,LW$8:LW$67)","v":0},12,1,0,0,0,178,0,0,0,{"$f":"SUMIF($D$8:$D$67,$D72,MG$8:MG$67)","v":0},0,0,0,0,10,1,0,2,2,{"$f":"SUMIF($D$8:$D$67,$D72,MQ$8:MQ$67)","v":6},0,1,0,2,13,21,32,2,1,{"$f":"SUMIF($D$8:$D$67,$D72,NA$8:NA$67)","v":0},{"v":1054,"d":"1,054"},542,{"v":1235,"d":"1,235"},419,317,210,{"v":5107,"d":"5,107"},{"v":5452,"d":"5,452"},{"v":2541,"d":"2,541"},{"$f":"SUMIF($D$8:$D$67,$D72,NK$8:NK$67)","v":{"v":2213,"d":"2,213"}},{"v":4318,"d":"4,318"},37,27,344,{"v":38394,"d":"38,394"},{"v":5022,"d":"5,022"},2,0,{"v":1397,"d":"1,397"},{"$f":"SUMIF($D$8:$D$67,$D72,NU$8:NU$67)","v":{"v":1129,"d":"1,129"}},{"v":16280,"d":"16,280"},0,0,0,0,0,0,{"v":1236,"d":"1,236"},290,{"$f":"SUMIF($D$8:$D$67,$D72,OE$8:OE$67)","v":0},504,447,0,488,406,0,398,307,2,{"$f":"SUMIF($D$8:$D$67,$D72,OO$8:OO$67)","v":345},274,0,311,212,1,350,220,0,255,{"$f":"SUMIF($D$8:$D$67,$D72,OY$8:OY$67)","v":174},0,122,167,1,33,0,0,0,0,{"$f":"SUMIF($D$8:$D$67,$D72,PI$8:PI$67)","v":0},0,0,0,0,893,335,215,215,265,{"$f":"SUMIF($D$8:$D$67,$D72,PS$8:PS$67)","v":65},1,1,1,32,16,2,1,0,0,{"$f":"SUM(E72:QB72)-(PQ72+PS72+PU72+PV72+PX72)","v":{"v":206270,"d":"206,270"}},null,{"$f":"SUMIF($D$8:$D$67,$D72,QE$8:QE$67)","v":{"v":5062,"d":"5,062.0"}},{"v":5477,"d":"5,477.0"},{"v":13362,"d":"13,362.0"},{"v":5390,"d":"5,390.0"},{"v":9755,"d":"9,755.0"},{"v":8917,"d":"8,917.0"},{"v":47,"d":"47.0"},{"v":0,"d":"0.0"},{"v":7356,"d":"7,356.0"},{"v":7893,"d":"7,893.0"},{"$f":"SUMIF($D$8:$D$67,$D72,QO$8:QO$67)","v":{"v":3384,"d":"3,384.0"}},{"v":9523,"d":"9,523.0"},{"v":2875,"d":"2,875.0"},{"v":9241,"d":"9,241.0"},{"v":3983,"d":"3,983.0"},{"v":9523,"d":"9,523.0"},{"v":10086,"d":"10,086.0"},{"v":3846,"d":"3,846.0"},{"v":10559,"d":"10,559.0"},{"v":9072,"d":"9,072.0"},{"$f":"SUMIF($D$8:$D$67,$D72,QY$8:QY$67)","v":{"v":408,"d":"408.0"}},{"v":38394,"d":"38,394.0"},{"v":5022,"d":"5,022.0"},{"v":1399,"d":"1,399.0"},{"v":1129,"d":"1,129.0"},{"v":16280,"d":"16,280.0"},{"v":0,"d":"0.0"},{"v":6543,"d":"6,543.0"},{"v":0,"d":"0.0"},{"v":0,"d":"0.0"},{"$f":"SUMIF($D$8:$D$67,$D72,RI$8:RI$67)","v":{"v":0,"d":"0.0"}},{"v":1443,"d":"1,443.0"},{"v":215,"d":"215.0"},{"v":265,"d":"265.0"},{"v":65,"d":"65.0"},{"v":3,"d":"3.0"},{"v":1,"d":"1.0"},{"v":1,"d":"1.0"},{"v":32,"d":"32.0"},{"v":16,"d":"16.0"},{"v":2,"d":"2.0"},{"v":1,"d":"1.0"},{"v":0,"d":"0.0"},{"v":0,"d":"0.0"},{"v":204531,"d":"204,531"}]
[{"$nulls":3},"SUBSIDIADO",938,26,3,3,952,11,0,0,1,0,11,29,0,3,10,2,0,3,0,1,2,0,2,2,0,0,0,0,0,0,0,0,0,0,0,0,0,0,0,0,0,0,0,0,0,0,0,0,0,1,0,2,0,0,0,2,1,0,0,208,21,12,1,969,956,{"v":1036,"d":"1,036"},2,11,32,0,4,9,2,0,2,0,1,2,0,2,1,946,114,23,10,16,0,0,8,0,0,6,0,0,1,0,0,14,2,0,0,0,0,0,961,969,954,{"v":1036,"d":"1,036"},2,0,0,0,0,0,0,0,0,0,0,0,0,0,0,1,11,29,0,3,10,2,0,2,0,1,2,0,2,2,953,115,23,12,13,0,0,963,0,0,2,0,0,0,0,0,0,0,0,0,0,0,0,0,0,0,5,0,0,0,0,0,0,5,0,0,0,1,1,0,0,0,0,0,0,0,0,0,0,0,0,0,0,0,0,0,0,0,0,0,0,0,0,0,0,0,0,0,0,0,942,939,197,964,{"v":1112,"d":"1,112"},5,20,26,781,0,0,0,0,0,{"v":1120,"d":"1,120"},8,2,1,3,0,2,0,0,0,0,985,16,7,4,3,1,0,16,87,17,25,33,34,37,28,20,31,19,18,45,46,157,87,71,949,111,20,6,12,2,2,0,1,1,0,0,4,14,185,65,44,29,0,{"v":1127,"d":"1,127"},14,6,7,14,5,3,2,4,0,{"v":1124,"d":"1,124"},14,8,7,18,7,3,0,975,15,8,0,4,0,0,1,8,29,13,0,2,1,285,155,48,33,13,5,0,0,0,62,38,12,6,0,259,161,205,117,97,28,0,0,0,6,0,0,0,0,52,8,5,1,0,0,0,0,0,2,2,0,0,2,4,1,0,0,0,13,17,27,3,0,0,169,165,200,68,43,17,{"v":1379,"d":"1,379"},{"v":1407,"d":"1,407"},817,693,{"v":1055,"d":"1,055"},16,10,90,{"v":8154,"d":"8,154"},923,2,0,302,319,{"v":3883,"d":"3,883"},0,0,0,0,0,1,203,28,0,73,60,0,58,54,0,59,51,0,46,37,0,73,38,0,63,26,0,52,29,0,22,19,0,10,0,0,0,0,0,0,0,0,0,148,58,38,38,100,29,1,0,0,7,7,0,0,8,1,{"v":48011,"d":"48,011"},null,{"v":970,"d":"970.0"},{"v":1277,"d":"1,277.0"},{"v":4153,"d":"4,153.0"},{"v":977,"d":"977.0"},{"v":2961,"d":"2,961.0"},{"v":2144,"d":"2,144.0"},{"v":14,"d":"14.0"},{"v":0,"d":"0.0"},{"v":1881,"d":"1,881.0"},{"v":2324,"d":"2,324.0"},{"v":781,"d":"781.0"},{"v":2152,"d":"2,152.0"},{"v":771,"d":"771.0"},{"v":1445,"d":"1,445.0"},{"v":1182,"d":"1,182.0"},{"v":2179,"d":"2,179.0"},{"v":1665,"d":"1,665.0"},{"v":722,"d":"722.0"},{"v":2786,"d":"2,786.0"},{"v":2565,"d":"2,565.0"},{"v":116,"d":"116.0"},{"v":8154,"d":"8,154.0"},{"v":923,"d":"923.0"},{"v":304,"d":"304.0"},{"v":319,"d":"319.0"},{"v":3883,"d":"3,883.0"},{"v":1,"d":"1.0"},{"v":1001,"d":"1,001.0"},{"v":0,"d":"0.0"},{"v":0,"d":"0.0"},{"v":0,"d":"0.0"},{"v":244,"d":"244.0"},{"v":38,"d":"38.0"},{"v":100,"d":"100.0"},{"v":29,"d":"29.0"},{"v":1,"d":"1.0"},{"v":0,"d":"0.0"},{"v":0,"d":"0.0"},{"v":7,"d":"7.0"},{"v":7,"d":"7.0"},{"v":0,"d":"0.0"},{"v":0,"d":"0.0"},{"v":8,"d":"8.0"},{"v":1,"d":"1.0"},{"v":47659,"d":"47,659"}]
[{"$nulls":3},"POBRE NO ASEGURADO",341,12,18,5,346,27,0,1,0,1,23,47,6,8,18,4,7,15,2,1,11,1,2,10,0,0,0,0,0,0,0,0,0,0,0,0,0,0,0,0,0,0,0,0,0,0,0,0,0,0,0,0,0,0,0,2,0,0,0,126,31,13,0,345,262,267,9,23,46,6,7,17,3,7,15,1,1,12,1,2,9,155,89,44,19,33,0,0,4,1,0,25,0,0,4,0,0,3,2,0,1,2,0,0,332,344,262,268,7,0,0,0,0,0,0,0,0,0,0,0,0,0,0,2,24,48,6,8,16,4,7,15,2,1,11,0,3,10,158,97,48,24,29,0,0,331,0,0,0,0,0,0,0,0,0,0,0,0,0,0,0,0,0,0,0,0,1,0,0,0,0,0,0,0,0,0,2,0,0,0,0,0,0,0,0,0,0,0,0,0,0,0,0,0,0,0,0,0,0,0,0,0,0,0,0,0,0,0,314,221,147,266,205,82,72,251,238,0,0,0,0,0,295,32,25,14,6,6,2,0,0,0,0,376,41,30,12,4,7,1,2,20,4,24,34,30,44,27,28,28,30,19,28,15,97,41,31,147,64,36,21,25,10,6,6,7,5,5,3,13,23,327,148,89,61,0,326,74,80,66,68,53,31,15,7,2,322,71,78,62,59,51,25,3,355,31,28,0,2,0,0,1,25,13,7,0,0,0,115,48,7,5,1,0,0,0,0,16,5,1,0,0,119,56,99,24,14,3,0,0,0,3,0,0,0,1,28,1,1,0,0,0,0,0,0,0,0,0,0,1,0,0,0,0,0,2,11,10,0,0,0,31,107,72,8,8,3,338,203,310,172,117,23,8,35,446,340,3,0,207,136,985,0,0,0,0,0,0,54,11,0,34,15,0,24,16,0,28,12,0,16,5,0,17,6,0,19,8,0,10,1,0,16,1,0,2,0,0,0,0,0,0,0,0,0,32,6,3,3,13,4,1,0,1,3,3,0,0,0,0,{"v":15029,"d":"15,029"},null,{"v":376,"d":"376.0"},{"v":702,"d":"702.0"},{"v":1407,"d":"1,407.0"},{"v":340,"d":"340.0"},{"v":881,"d":"881.0"},{"v":844,"d":"844.0"},{"v":3,"d":"3.0"},{"v":0,"d":"0.0"},{"v":535,"d":"535.0"},{"v":1023,"d":"1,023.0"},{"v":238,"d":"238.0"},{"v":851,"d":"851.0"},{"v":502,"d":"502.0"},{"v":996,"d":"996.0"},{"v":722,"d":"722.0"},{"v":1085,"d":"1,085.0"},{"v":596,"d":"596.0"},{"v":252,"d":"252.0"},{"v":541,"d":"541.0"},{"v":599,"d":"599.0"},{"v":66,"d":"66.0"},{"v":446,"d":"446.0"},{"v":340,"d":"340.0"},{"v":210,"d":"210.0"},{"v":136,"d":"136.0"},{"v":985,"d":"985.0"},{"v":0,"d":"0.0"},{"v":295,"d":"295.0"},{"v":0,"d":"0.0"},{"v":0,"d":"0.0"},{"v":0,"d":"0.0"},{"v":41,"d":"41.0"},{"v":3,"d":"3.0"},{"v":13,"d":"13.0"},{"v":4,"d":"4.0"},{"v":2,"d":"2.0"},{"v":1,"d":"1.0"},{"v":1,"d":"1.0"},{"v":3,"d":"3.0"},{"v":3,"d":"3.0"},{"v":0,"d":"0.0"},{"v":0,"d":"0.0"},{"v":0,"d":"0.0"},{"v":0,"d":"0.0"},{"v":14975,"d":"14,975"}]
[{"$nulls":3},"REGIMEN ESPECIAL",309,7,0,0,276,39,0,0,0,0,0,2,0,0,0,0,0,0,0,0,1,0,0,0,0,0,0,0,0,0,0,0,0,0,0,0,0,0,0,0,0,0,0,0,0,0,0,1,0,0,0,0,0,0,0,0,0,0,0,4,0,2,0,117,135,129,0,0,5,0,0,0,0,0,0,0,0,1,0,0,0,128,5,2,0,2,0,0,3,0,0,0,0,0,0,0,0,10,1,0,0,1,0,0,270,116,135,129,0,0,0,0,0,0,0,0,0,0,0,0,0,0,0,0,0,3,0,0,0,0,0,0,0,0,1,0,0,0,140,5,2,0,2,0,0,271,0,0,0,0,0,0,0,0,0,0,0,0,0,0,0,0,0,0,0,0,0,0,0,0,0,2,0,0,0,0,2,0,0,0,0,0,0,0,0,0,0,0,0,0,0,0,0,0,0,0,0,0,0,0,0,0,0,0,0,0,0,0,135,154,24,154,167,1,0,1,103,0,0,0,0,0,162,0,0,0,0,0,0,0,0,0,0,279,3,1,0,1,0,0,2,10,2,4,8,8,16,11,10,8,10,10,7,0,25,17,11,148,5,2,0,2,0,0,0,0,0,0,1,2,0,97,86,61,29,0,168,0,1,0,0,0,0,0,0,0,159,0,1,0,0,0,1,0,268,3,3,0,0,0,0,0,1,2,1,0,0,0,34,23,15,5,1,0,0,0,0,53,17,8,0,0,93,78,61,42,30,6,0,0,0,0,0,0,0,0,11,43,17,3,0,1,0,0,0,0,0,0,0,0,0,0,0,0,0,1,0,0,0,0,0,26,24,36,13,14,7,186,235,95,99,212,3,2,30,{"v":3478,"d":"3,478"},155,2,0,123,145,{"v":1057,"d":"1,057"},0,0,0,0,0,1,63,14,0,39,32,0,34,34,0,21,23,0,34,31,0,27,25,0,37,17,0,22,26,0,19,15,0,2,0,0,0,0,0,0,0,0,0,74,28,26,26,7,3,0,0,0,0,0,0,0,0,0,{"v":11778,"d":"11,778"},null,{"v":316,"d":"316.0"},{"v":325,"d":"325.0"},{"v":527,"d":"527.0"},{"v":282,"d":"282.0"},{"v":380,"d":"380.0"},{"v":424,"d":"424.0"},{"v":4,"d":"4.0"},{"v":0,"d":"0.0"},{"v":289,"d":"289.0"},{"v":347,"d":"347.0"},{"v":103,"d":"103.0"},{"v":446,"d":"446.0"},{"v":159,"d":"159.0"},{"v":433,"d":"433.0"},{"v":169,"d":"169.0"},{"v":435,"d":"435.0"},{"v":545,"d":"545.0"},{"v":121,"d":"121.0"},{"v":421,"d":"421.0"},{"v":406,"d":"406.0"},{"v":35,"d":"35.0"},{"v":3478,"d":"3,478.0"},{"v":155,"d":"155.0"},{"v":125,"d":"125.0"},{"v":145,"d":"145.0"},{"v":1057,"d":"1,057.0"},{"v":1,"d":"1.0"},{"v":515,"d":"515.0"},{"v":0,"d":"0.0"},{"v":0,"d":"0.0"},{"v":0,"d":"0.0"},{"v":128,"d":"128.0"},{"v":26,"d":"26.0"},{"v":7,"d":"7.0"},{"v":3,"d":"3.0"},{"v":0,"d":"0.0"},{"v":0,"d":"0.0"},{"v":0,"d":"0.0"},{"v":0,"d":"0.0"},{"v":0,"d":"0.0"},{"v":0,"d":"0.0"},{"v":0,"d":"0.0"},{"v":0,"d":"0.0"},{"v":0,"d":"0.0"},{"v":11643,"d":"11,643"}]
[{"$nulls":3},"TOTAL REGIMEN",{"$f":"SUM(E72:E75)","v":{"v":6531,"d":"6,531"}},{"$f":"SUM(F72:F75)","v":161},22,10,{"v":6516,"d":"6,516"},210,2,1,1,2,44,95,6,12,36,8,9,19,3,2,16,1,5,13,0,0,0,0,0,0,0,0,0,0,0,0,0,0,0,0,0,0,0,0,0,0,0,14,0,1,0,3,0,0,0,14,2,0,0,571,105,63,7,{"v":4654,"d":"4,654"},{"v":4429,"d":"4,429"},{"$f":"SUM(BR72:BR75)","v":{"v":4899,"d":"4,899"}},12,44,102,7,12,33,7,9,19,2,2,15,1,4,11,{"v":4451,"d":"4,451"},381,102,48,79,0,0,67,1,0,50,0,0,8,0,0,54,10,0,2,3,0,0,{"v":6920,"d":"6,920"},{"v":4646,"d":"4,646"},{"v":4427,"d":"4,427"},{"v":4895,"d":"4,895"},9,0,0,0,0,0,0,0,0,0,0,0,0,0,0,6,45,97,6,12,32,{"$f":"SUM(ED72:ED75)","v":8},8,18,3,2,15,0,5,13,{"v":4487,"d":"4,487"},394,107,56,69,0,0,{"v":6946,"d":"6,946"},2,1,4,0,0,0,0,0,1,0,1,0,0,0,0,0,0,0,17,2,1,0,0,0,0,27,0,0,0,1,11,0,0,0,0,0,0,0,0,0,0,0,0,0,0,0,0,{"$f":"SUM(GP72:GP75)","v":0},0,0,0,0,0,0,0,0,0,0,0,0,0,0,{"v":5134,"d":"5,134"},{"v":4927,"d":"4,927"},889,{"v":4949,"d":"4,949"},{"v":5257,"d":"5,257"},91,102,299,{"v":4506,"d":"4,506"},0,0,0,0,0,{"v":5341,"d":"5,341"},54,34,18,12,6,4,0,0,0,0,{"v":7300,"d":"7,300"},97,56,21,15,12,2,36,380,72,142,191,191,236,209,178,193,168,152,189,135,974,520,341,{"$f":"SUM(JB72:JB75)","v":{"v":4809,"d":"4,809"}},366,100,51,71,18,11,10,12,7,12,14,49,139,{"v":3267,"d":"3,267"},{"v":1652,"d":"1,652"},922,605,0,{"v":5560,"d":"5,560"},104,96,77,90,61,36,17,12,3,{"v":5396,"d":"5,396"},98,95,73,97,59,31,3,{"v":7224,"d":"7,224"},89,57,0,14,0,0,2,46,97,31,0,3,1,{"v":1922,"d":"1,922"},879,373,257,138,17,0,0,0,595,291,92,24,{"$f":"SUM(LN72:LN75)","v":5},{"v":2240,"d":"2,240"},{"v":1513,"d":"1,513"},{"v":1815,"d":"1,815"},{"v":1140,"d":"1,140"},816,173,0,0,0,21,1,0,0,1,269,52,23,4,0,1,0,0,0,12,3,0,2,5,10,1,1,0,2,29,49,69,5,1,0,{"v":1280,"d":"1,280"},838,{"v":1543,"d":"1,543"},508,382,237,{"v":7010,"d":"7,010"},{"v":7297,"d":"7,297"},{"v":3763,"d":"3,763"},{"v":3177,"d":"3,177"},{"v":5702,"d":"5,702"},79,47,499,{"v":50472,"d":"50,472"},{"v":6440,"d":"6,440"},9,0,{"v":2029,"d":"2,029"},{"v":1729,"d":"1,729"},{"v":22205,"d":"22,205"},0,0,0,{"$f":"SUM(NZ72:NZ75)","v":0},0,2,{"v":1556,"d":"1,556"},343,0,650,554,0,604,510,0,506,393,2,441,347,0,428,281,1,469,271,0,339,230,0,179,202,1,47,0,0,0,0,0,0,0,0,0,{"v":1147,"d":"1,147"},427,282,282,385,101,3,1,2,42,26,2,1,8,1,{"$f":"SUM(QC72:QC75)","v":{"v":281088,"d":"281,088"}},null,{"$f":"SUM(QE72:QE75)","v":{"v":6724,"d":"6,724.0"}},{"$f":"SUM(QF72:QF75)","v":{"v":7781,"d":"7,781.0"}},{"v":19449,"d":"19,449.0"},{"v":6989,"d":"6,989.0"},{"v":13977,"d":"13,977.0"},{"v":12329,"d":"12,329.0"},{"v":68,"d":"68.0"},{"v":0,"d":"0.0"},{"v":10061,"d":"10,061.0"},{"v":11587,"d":"11,587.0"},{"$f":"SUM(QO72:QO75)","v":{"v":4506,"d":"4,506.0"}},{"v":12972,"d":"12,972.0"},{"v":4307,"d":"4,307.0"},{"v":12115,"d":"12,115.0"},{"v":6056,"d":"6,056.0"},{"v":13222,"d":"13,222.0"},{"v":12892,"d":"12,892.0"},{"v":4941,"d":"4,941.0"},{"v":14307,"d":"14,307.0"},{"v":12642,"d":"12,642.0"},{"v":625,"d":"625.0"},{"v":50472,"d":"50,472.0"},{"v":6440,"d":"6,440.0"},{"$f":"SUM(RB72:RB75)","v":{"v":2038,"d":"2,038.0"}},{"v":1729,"d":"1,729.0"},{"v":22205,"d":"22,205.0"},{"v":2,"d":"2.0"},{"v":8354,"d":"8,354.0"},{"v":0,"d":"0.0"},{"v":0,"d":"0.0"},{"v":0,"d":"0.0"},{"v":1856,"d":"1,856.0"},{"$f":"SUM(RK72:RK75)","v":{"v":282,"d":"282.0"}},{"v":385,"d":"385.0"},{"v":101,"d":"101.0"},{"v":6,"d":"6.0"},{"v":2,"d":"2.0"},{"v":2,"d":"2.0"},{"v":42,"d":"42.0"},{"v":26,"d":"26.0"},{"v":2,"d":"2.0"},{"v":1,"d":"1.0"},{"v":8,"d":"8.0"},{"v":1,"d":"1.0"},{"v":278808,"d":"278,808"}]
[{"$nulls":3},"INDIGENA",{"$f":"SUMIF($D$8:$D$67,$D77,E$8:E$67)","v":2},0,0,0,3,0,0,0,0,0,{"$f":"SUMIF($D$8:$D$67,$D77,O$8:O$67)","v":2},2,0,0,1,0,0,0,0,0,{"$f":"SUMIF($D$8:$D$67,$D77,Y$8:Y$67)","v":0},0,0,0,0,0,0,0,0,0,{"$f":"SUMIF($D$8:$D$67,$D77,AI$8:AI$67)","v":0},0,0,0,0,0,0,0,0,0,{"$f":"SUMIF($D$8:$D$67,$D77,AS$8:AS$67)","v":0},0,0,0,0,0,0,0,0,0,{"$f":"SUMIF($D$8:$D$67,$D77,BC$8:BC$67)","v":0},0,0,0,0,0,0,0,0,1,{"$f":"SUMIF($D$8:$D$67,$D77,BM$8:BM$67)","v":0},0,0,6,4,14,0,2,2,0,{"$f":"SUMIF($D$8:$D$67,$D77,BW$8:BW$67)","v":0},1,0,0,0,0,0,0,0,0,{"$f":"SUMIF($D$8:$D$67,$D77,CG$8:CG$67)","v":0},14,1,0,0,0,0,0,0,0,{"$f":"SUMIF($D$8:$D$67,$D77,CQ$8:CQ$67)","v":0},0,0,0,0,0,0,1,0,0,{"$f":"SUMIF($D$8:$D$67,$D77,DA$8:DA$67)","v":0},0,0,0,13,6,4,14,0,0,{"$f":"SUMIF($D$8:$D$67,$D77,DK$8:DK$67)","v":0},0,0,0,0,0,0,0,0,0,{"$f":"SUMIF($D$8:$D$67,$D77,DU$8:DU$67)","v":0},0,0,0,2,2,0,0,1,0,{"$f":"SUMIF($D$8:$D$67,$D77,EE$8:EE$67)","v":0},0,0,0,0,0,0,0,15,1,{"$f":"SUMIF($D$8:$D$67,$D77,EO$8:EO$67)","v":0},0,0,0,0,13,0,0,0,0,{"$f":"SUMIF($D$8:$D$67,$D77,EY$8:EY$67)","v":0},0,0,0,0,0,0,0,0,0,{"$f":"SUMIF($D$8:$D$67,$D77,FI$8:FI$67)","v":0},0,0,0,0,0,0,0,0,0,{"$f":"SUMIF($D$8:$D$67,$D77,FS$8:FS$67)","v":0},0,0,0,0,0,0,0,0,0,{"$f":"SUMIF($D$8:$D$67,$D77,GC$8:GC$67)","v":0},0,0,0,0,0,0,0,0,0,{"$f":"SUMIF($D$8:$D$67,$D77,GM$8:GM$67)","v":0},0,0,0,0,0,0,0,0,0,{"$f":"SUMIF($D$8:$D$67,$D77,GW$8:GW$67)","v":0},0,0,0,0,0,0,0,6,3,{"$f":"SUMIF($D$8:$D$67,$D77,HG$8:HG$67)","v":1},5,10,0,3,0,5,0,0,0,{"$f":"SUMIF($D$8:$D$67,$D77,HQ$8:HQ$67)","v":0},0,11,0,0,0,0,0,0,0,{"$f":"SUMIF($D$8:$D$67,$D77,IA$8:IA$67)","v":0},0,0,13,0,0,0,0,0,0,{"$f":"SUMIF($D$8:$D$67,$D77,IK$8:IK$67)","v":0},1,1,0,0,0,0,0,0,0,{"$f":"SUMIF($D$8:$D$67,$D77,IU$8:IU$67)","v":0},0,0,0,2,1,0,17,1,0,{"$f":"SUMIF($D$8:$D$67,$D77,JE$8:JE$67)","v":0},0,0,0,0,0,0,0,0,0,{"$f":"SUMIF($D$8:$D$67,$D77,JO$8:JO$67)","v":0},4,1,0,0,0,11,0,0,0,{"$f":"SUMIF($D$8:$D$67,$D77,JY$8:JY$67)","v":0},0,0,0,0,0,11,0,0,0,{"$f":"SUMIF($D$8:$D$67,$D77,KI$8:KI$67)","v":1},0,0,0,12,0,0,0,0,0,{"$f":"SUMIF($D$8:$D$67,$D77,KS$8:KS$67)","v":0},0,0,0,0,0,0,0,0,2,{"$f":"SUMIF($D$8:$D$67,$D77,LC$8:LC$67)","v":0},1,2,0,0,0,0,2,1,0,{"$f":"SUMIF($D$8:$D$67,$D77,LM$8:LM$67)","v":0},0,2,0,1,1,3,0,0,0,{"$f":"SUMIF($D$8:$D$67,$D77,LW$8:LW$67)","v":0},0,0,0,0,0,1,1,0,0,{"$f":"SUMIF($D$8:$D$67,$D77,MG$8:MG$67)","v":0},0,0,0,0,0,0,0,0,0,{"$f":"SUMIF($D$8:$D$67,$D77,MQ$8:MQ$67)","v":0},0,0,0,0,0,0,0,0,0,{"$f":"SUMIF($D$8:$D$67,$D77,NA$8:NA$67)","v":0},3,3,2,1,0,0,15,9,11,{"$f":"SUMIF($D$8:$D$67,$D77,NK$8:NK$67)","v":6},16,1,0,3,28,9,0,0,16,{"$f":"SUMIF($D$8:$D$67,$D77,NU$8:NU$67)","v":3},28,0,0,0,0,0,0,2,0,{"$f":"SUMIF($D$8:$D$67,$D77,OE$8:OE$67)","v":0},2,0,0,1,1,0,1,1,0,{"$f":"SUMIF($D$8:$D$67,$D77,OO$8:OO$67)","v":0},0,0,0,0,0,0,0,0,0,{"$f":"SUMIF($D$8:$D$67,$D77,OY$8:OY$67)","v":2},0,1,0,0,0,0,0,0,0,{"$f":"SUMIF($D$8:$D$67,$D77,PI$8:PI$67)","v":0},0,0,0,0,2,1,0,0,6,{"$f":"SUMIF($D$8:$D$67,$D77,PS$8:PS$67)","v":1},0,0,0,0,0,0,0,0,0,{"$f":"SUM(E77:QB77)-(PQ77+PS77+PU77+PV77+PX77)","v":438},null,{"$f":"SUMIF($D$8:$D$67,$D77,QE$8:QE$67)","v":{"v":2,"d":"2.0"}},{"v":9,"d":"9.0"},{"v":44,"d":"44.0"},{"v":14,"d":"14.0"},{"v":24,"d":"24.0"},{"v":34,"d":"34.0"},{"v":0,"d":"0.0"},{"v":0,"d":"0.0"},{"v":9,"d":"9.0"},{"v":19,"d":"19.0"},{"$f":"SUMIF($D$8:$D$67,$D77,QO$8:QO$67)","v":{"v":5,"d":"5.0"}},{"v":24,"d":"24.0"},{"v":5,"d":"5.0"},{"v":23,"d":"23.0"},{"v":11,"d":"11.0"},{"v":24,"d":"24.0"},{"v":17,"d":"17.0"},{"v":9,"d":"9.0"},{"v":24,"d":"24.0"},{"v":33,"d":"33.0"},{"$f":"SUMIF($D$8:$D$67,$D77,QY$8:QY$67)","v":{"v":4,"d":"4.0"}},{"v":28,"d":"28.0"},{"v":9,"d":"9.0"},{"v":16,"d":"16.0"},{"v":3,"d":"3.0"},{"v":28,"d":"28.0"},{"v":0,"d":"0.0"},{"v":11,"d":"11.0"},{"v":0,"d":"0.0"},{"v":0,"d":"0.0"},{"$f":"SUMIF($D$8:$D$67,$D77,RI$8:RI$67)","v":{"v":0,"d":"0.0"}},{"v":3,"d":"3.0"},{"v":0,"d":"0.0"},{"v":6,"d":"6.0"},{"v":1,"d":"1.0"},{"v":0,"d":"0.0"},{"v":0,"d":"0.0"},{"v":0,"d":"0.0"},{"v":0,"d":"0.0"},{"v":0,"d":"0.0"},{"v":0,"d":"0.0"},{"v":0,"d":"0.0"},{"v":0,"d":"0.0"},{"v":0,"d":"0.0"},429]
[{"$nulls":3},"ROM  (GITANO)",0,0,0,0,0,0,0,0,0,0,0,0,0,0,0,0,0,0,0,0,0,0,0,0,0,0,0,0,0,0,0,0,0,0,0,0,0,0,0,0,0,0,0,0,0,0,0,0,0,0,0,0,0,0,0,0,0,0,0,0,0,0,0,0,1,0,0,0,0,0,0,0,0,0,0,0,0,0,0,0,0,0,0,0,0,0,0,0,0,0,0,0,0,0,0,0,0,0,0,0,0,0,0,0,0,0,1,0,0,0,0,0,0,0,0,0,0,0,0,0,0,0,0,0,0,0,0,0,0,0,0,0,0,0,0,0,0,0,0,0,0,0,0,0,0,0,0,0,0,0,0,0,0,0,0,0,0,0,0,0,0,0,0,0,0,0,0,0,0,0,0,0,0,0,0,0,0,0,0,0,0,0,0,0,0,0,0,0,0,0,0,0,0,0,0,0,0,0,0,0,0,0,0,0,0,0,0,0,0,1,0,1,0,0,0,0,0,0,0,0,0,0,0,0,0,0,0,0,0,0,0,0,0,0,0,0,0,0,0,0,0,0,0,0,0,0,0,0,0,0,0,0,0,0,0,0,0,0,0,0,0,0,0,0,0,0,0,0,0,0,0,0,0,0,0,0,0,0,0,0,0,0,0,0,0,0,0,0,0,0,0,0,0,0,0,0,0,0,0,0,0,0,0,0,0,0,0,0,0,0,0,0,0,0,0,0,0,0,0,0,0,0,0,0,0,0,0,0,0,0,0,0,0,0,0,0,0,0,0,0,0,0,0,0,0,0,0,0,0,0,0,0,0,0,0,0,0,0,0,0,0,0,0,0,0,0,0,0,0,0,0,0,0,0,0,2,0,0,0,0,0,2,0,0,0,0,0,0,0,0,0,0,0,0,0,0,0,0,0,0,0,0,0,0,0,0,0,0,0,0,0,0,0,0,0,0,0,0,0,0,0,0,0,0,0,0,0,0,0,0,0,0,0,0,0,0,0,0,0,0,8,null,{"v":0,"d":"0.0"},{"v":0,"d":"0.0"},{"v":1,"d":"1.0"},{"v":0,"d":"0.0"},{"v":1,"d":"1.0"},{"v":0,"d":"0.0"},{"v":0,"d":"0.0"},{"v":0,"d":"0.0"},{"v":1,"d":"1.0"},{"v":1,"d":"1.0"},{"v":0,"d":"0.0"},{"v":0,"d":"0.0"},{"v":0,"d":"0.0"},{"v":0,"d":"0.0"},{"v":0,"d":"0.0"},{"v":0,"d":"0.0"},{"v":0,"d":"0.0"},{"v":0,"d":"0.0"},{"v":0,"d":"0.0"},{"v":0,"d":"0.0"},{"v":0,"d":"0.0"},{"v":2,"d":"2.0"},{"v":0,"d":"0.0"},{"v":0,"d":"0.0"},{"v":0,"d":"0.0"},{"v":2,"d":"2.0"},{"v":0,"d":"0.0"},{"v":0,"d":"0.0"},{"v":0,"d":"0.0"},{"v":0,"d":"0.0"},{"v":0,"d":"0.0"},{"v":0,"d":"0.0"},{"v":0,"d":"0.0"},{"v":0,"d":"0.0"},{"v":0,"d":"0.0"},{"v":0,"d":"0.0"},{"v":0,"d":"0.0"},{"v":0,"d":"0.0"},{"v":0,"d":"0.0"},{"v":0,"d":"0.0"},{"v":0,"d":"0.0"},{"v":0,"d":"0.0"},{"v":0,"d":"0.0"},{"v":0,"d":"0.0"},8]
[{"$nulls":3},"RAIZAL ",0,0,0,0,0,0,0,0,0,0,0,0,0,0,0,0,0,0,0,0,0,0,0,0,0,0,0,0,0,0,0,0,0,0,0,0,0,0,0,0,0,0,0,0,0,0,0,0,0,0,0,0,0,0,0,0,0,0,0,0,0,0,0,0,0,0,0,0,0,0,0,0,0,0,0,0,0,0,0,0,0,1,0,0,0,0,0,0,0,0,0,0,0,0,0,0,0,0,0,0,0,0,0,0,0,0,0,0,0,0,0,0,0,0,0,0,0,0,0,0,0,0,0,0,0,0,0,0,0,0,0,0,0,0,0,0,0,0,1,0,0,0,0,0,0,0,0,0,0,0,0,0,0,0,0,0,0,0,0,0,0,0,0,0,0,0,0,0,0,0,0,0,0,0,0,0,0,0,0,0,0,0,0,0,0,0,0,0,0,0,0,0,0,0,0,0,0,0,0,0,0,0,0,0,0,0,0,0,0,0,0,0,0,0,0,0,0,0,0,0,0,0,0,0,0,0,0,0,0,0,0,0,0,0,0,0,0,0,0,0,0,0,0,0,0,0,0,0,0,0,0,0,0,0,0,0,0,1,0,0,0,0,0,0,0,0,0,0,0,0,0,0,0,0,0,0,0,0,0,0,0,0,0,0,0,0,0,0,0,0,0,0,0,0,0,0,0,0,0,0,0,0,0,0,0,0,0,0,0,0,0,0,0,0,0,0,0,0,0,0,0,0,0,0,0,0,1,0,0,0,0,0,0,0,0,0,0,0,0,0,0,0,0,0,0,0,0,0,0,0,0,0,0,0,0,0,0,0,0,0,0,0,0,0,0,0,0,0,0,0,1,1,0,0,0,0,0,0,0,0,0,2,0,0,0,0,0,0,0,0,0,0,0,0,0,0,0,0,0,0,0,0,0,0,0,0,0,0,0,0,0,0,0,0,0,0,0,0,0,0,0,0,0,0,0,0,0,0,0,0,0,0,0,0,0,0,0,0,0,0,8,null,{"v":0,"d":"0.0"},{"v":0,"d":"0.0"},{"v":1,"d":"1.0"},{"v":0,"d":"0.0"},{"v":0,"d":"0.0"},{"v":1,"d":"1.0"},{"v":0,"d":"0.0"},{"v":0,"d":"0.0"},{"v":0,"d":"0.0"},{"v":0,"d":"0.0"},{"v":0,"d":"0.0"},{"v":0,"d":"0.0"},{"v":0,"d":"0.0"},{"v":1,"d":"1.0"},{"v":0,"d":"0.0"},{"v":0,"d":"0.0"},{"v":1,"d":"1.0"},{"v":0,"d":"0.0"},{"v":0,"d":"0.0"},{"v":2,"d":"2.0"},{"v":0,"d":"0.0"},{"v":0,"d":"0.0"},{"v":0,"d":"0.0"},{"v":0,"d":"0.0"},{"v":0,"d":"0.0"},{"v":2,"d":"2.0"},{"v":0,"d":"0.0"},{"v":0,"d":"0.0"},{"v":0,"d":"0.0"},{"v":0,"d":"0.0"},{"v":0,"d":"0.0"},{"v":0,"d":"0.0"},{"v":0,"d":"0.0"},{"v":0,"d":"0.0"},{"v":0,"d":"0.0"},{"v":0,"d":"0.0"},{"v":0,"d":"0.0"},{"v":0,"d":"0.0"},{"v":0,"d":"0.0"},{"v":0,"d":"0.0"},{"v":0,"d":"0.0"},{"v":0,"d":"0.0"},{"v":0,"d":"0.0"},{"v":0,"d":"0.0"},8]
[{"$nulls":3},"PALENQUERO",1,0,0,0,1,0,0,0,0,0,0,0,0,0,0,0,0,0,0,0,0,0,0,0,0,0,0,0,0,0,0,0,0,0,0,0,0,0,0,0,0,0,0,0,0,0,0,0,0,0,0,0,0,0,0,0,0,0,0,0,0,0,0,0,0,0,0,0,0,0,0,0,0,0,0,0,0,0,0,0,0,0,0,0,0,0,0,0,0,0,0,0,0,0,0,0,0,0,0,0,0,0,0,0,2,0,0,0,0,0,0,0,0,0,0,0,0,0,0,0,0,0,0,0,0,0,0,0,0,0,0,0,0,0,0,0,0,0,0,0,0,0,0,0,0,2,0,0,0,0,0,0,0,0,0,0,0,0,0,0,0,0,0,0,0,0,0,0,0,0,0,0,0,0,0,0,0,0,0,0,0,0,0,0,0,0,0,0,0,0,0,0,0,0,0,0,0,0,0,0,0,0,0,0,0,0,0,0,0,0,0,0,5,0,0,0,0,0,0,0,0,0,5,0,0,0,0,0,0,0,0,0,0,2,0,0,0,0,0,0,0,0,0,0,0,0,0,1,0,0,0,0,0,0,0,0,0,0,0,0,0,0,0,0,0,0,0,0,0,0,0,1,0,0,0,0,5,0,0,0,0,0,0,0,0,0,5,0,0,0,0,0,0,0,2,0,0,0,0,0,0,0,0,0,0,0,0,0,0,0,0,0,0,0,0,0,0,0,0,0,0,0,1,0,0,2,2,0,0,0,0,0,0,0,0,0,0,0,0,0,0,0,0,0,0,0,0,0,0,0,0,0,0,0,0,0,0,0,0,0,0,0,0,1,0,0,0,0,1,2,2,0,0,0,0,7,0,0,0,0,1,4,0,0,0,0,0,0,1,0,0,0,1,0,0,0,0,0,0,0,0,0,0,0,1,0,0,0,0,0,0,0,0,0,0,0,0,0,0,0,0,0,0,0,0,0,0,0,0,0,0,0,0,0,0,0,0,0,0,0,58,null,{"v":1,"d":"1.0"},{"v":1,"d":"1.0"},{"v":0,"d":"0.0"},{"v":2,"d":"2.0"},{"v":0,"d":"0.0"},{"v":2,"d":"2.0"},{"v":0,"d":"0.0"},{"v":0,"d":"0.0"},{"v":0,"d":"0.0"},{"v":5,"d":"5.0"},{"v":0,"d":"0.0"},{"v":7,"d":"7.0"},{"v":1,"d":"1.0"},{"v":1,"d":"1.0"},{"v":5,"d":"5.0"},{"v":7,"d":"7.0"},{"v":5,"d":"5.0"},{"v":1,"d":"1.0"},{"v":1,"d":"1.0"},{"v":4,"d":"4.0"},{"v":0,"d":"0.0"},{"v":7,"d":"7.0"},{"v":0,"d":"0.0"},{"v":0,"d":"0.0"},{"v":1,"d":"1.0"},{"v":4,"d":"4.0"},{"v":0,"d":"0.0"},{"v":3,"d":"3.0"},{"v":0,"d":"0.0"},{"v":0,"d":"0.0"},{"v":0,"d":"0.0"},{"v":0,"d":"0.0"},{"v":0,"d":"0.0"},{"v":0,"d":"0.0"},{"v":0,"d":"0.0"},{"v":0,"d":"0.0"},{"v":0,"d":"0.0"},{"v":0,"d":"0.0"},{"v":0,"d":"0.0"},{"v":0,"d":"0.0"},{"v":0,"d":"0.0"},{"v":0,"d":"0.0"},{"v":0,"d":"0.0"},{"v":0,"d":"0.0"},58]
[{"$nulls":3},"NEGRO(A), MULATO (A), AFROCOLOMBIANO (A)",17,1,0,0,15,2,0,0,0,0,0,0,0,0,1,0,0,0,0,0,0,0,0,0,0,0,0,0,0,0,0,0,0,0,0,0,0,0,0,0,0,0,0,0,0,0,0,0,0,0,0,1,0,0,0,0,0,0,0,1,0,0,0,8,8,12,0,0,0,0,0,1,0,0,0,0,0,0,0,0,0,17,1,0,0,0,0,0,0,0,0,0,0,0,0,0,0,0,0,0,0,0,0,0,18,8,8,12,0,0,0,0,0,0,0,0,0,0,0,0,0,0,0,0,0,0,0,0,1,0,0,0,0,0,0,0,0,0,17,1,0,0,0,0,0,18,0,0,0,0,0,0,0,0,0,0,0,0,0,0,0,0,0,0,0,0,0,0,0,0,0,0,0,0,0,0,0,0,0,0,0,0,0,0,0,0,0,0,0,0,0,0,0,0,0,0,0,0,0,0,0,0,0,0,0,0,0,0,8,7,2,7,13,0,0,1,14,0,0,0,0,0,13,0,0,0,0,0,0,0,0,0,0,19,0,0,0,0,0,0,0,0,0,0,1,1,0,1,0,0,0,0,0,0,0,0,0,17,0,0,0,0,0,0,0,1,0,0,0,0,1,2,3,0,0,0,13,1,0,0,0,0,0,0,0,0,13,1,0,0,0,0,0,0,19,0,0,0,0,0,0,0,0,1,0,0,0,0,7,3,1,0,0,0,0,0,0,0,2,1,0,0,7,2,3,3,1,0,0,0,0,0,0,0,0,0,1,1,0,0,0,0,0,0,0,0,0,0,0,0,0,0,0,0,0,0,0,0,0,0,0,2,4,5,2,1,0,14,20,10,11,19,0,0,1,34,20,0,0,1,3,34,0,0,0,0,0,0,5,0,0,1,3,0,1,0,0,2,4,0,1,0,0,2,2,0,3,0,0,0,2,0,0,0,0,0,0,0,0,0,0,0,0,0,0,6,1,1,1,9,2,0,0,0,0,0,0,0,0,0,583,null,{"v":18,"d":"18.0"},{"v":20,"d":"20.0"},{"v":47,"d":"47.0"},{"v":18,"d":"18.0"},{"v":28,"d":"28.0"},{"v":37,"d":"37.0"},{"v":0,"d":"0.0"},{"v":0,"d":"0.0"},{"v":15,"d":"15.0"},{"v":23,"d":"23.0"},{"v":14,"d":"14.0"},{"v":32,"d":"32.0"},{"v":3,"d":"3.0"},{"v":24,"d":"24.0"},{"v":14,"d":"14.0"},{"v":33,"d":"33.0"},{"v":33,"d":"33.0"},{"v":14,"d":"14.0"},{"v":34,"d":"34.0"},{"v":40,"d":"40.0"},{"v":1,"d":"1.0"},{"v":34,"d":"34.0"},{"v":20,"d":"20.0"},{"v":1,"d":"1.0"},{"v":3,"d":"3.0"},{"v":34,"d":"34.0"},{"v":0,"d":"0.0"},{"v":26,"d":"26.0"},{"v":0,"d":"0.0"},{"v":0,"d":"0.0"},{"v":0,"d":"0.0"},{"v":8,"d":"8.0"},{"v":1,"d":"1.0"},{"v":9,"d":"9.0"},{"v":2,"d":"2.0"},{"v":0,"d":"0.0"},{"v":0,"d":"0.0"},{"v":0,"d":"0.0"},{"v":0,"d":"0.0"},{"v":0,"d":"0.0"},{"v":0,"d":"0.0"},{"v":0,"d":"0.0"},{"v":0,"d":"0.0"},{"v":0,"d":"0.0"},566]
[{"$nulls":3},"SIN PERTENENCIA ETNICA",{"v":6511,"d":"6,511"},160,22,10,{"v":6497,"d":"6,497"},208,2,1,1,2,42,93,6,12,34,8,9,19,3,2,16,1,5,13,0,0,0,0,0,0,0,0,0,0,0,0,0,0,0,0,0,0,0,0,0,0,0,14,0,1,0,2,0,0,0,14,2,0,0,569,105,63,7,{"v":4640,"d":"4,640"},{"v":4416,"d":"4,416"},{"v":4873,"d":"4,873"},12,42,100,7,12,31,7,9,19,2,2,15,1,4,11,{"v":4419,"d":"4,419"},379,102,48,79,0,0,67,1,0,50,0,0,8,0,0,53,10,0,2,3,0,0,{"v":6887,"d":"6,887"},{"v":4632,"d":"4,632"},{"v":4414,"d":"4,414"},{"v":4869,"d":"4,869"},9,0,0,0,0,0,0,0,0,0,0,0,0,0,0,6,43,95,6,12,30,8,8,18,3,2,15,0,5,13,{"v":4454,"d":"4,454"},392,107,56,69,0,0,{"v":6913,"d":"6,913"},2,1,4,0,0,0,0,0,1,0,1,0,0,0,0,0,0,0,17,2,1,0,0,0,0,27,0,0,0,1,11,0,0,0,0,0,0,0,0,0,0,0,0,0,0,0,0,0,0,0,0,0,0,0,0,0,0,0,0,0,0,0,{"v":5120,"d":"5,120"},{"v":4916,"d":"4,916"},886,{"v":4936,"d":"4,936"},{"v":5229,"d":"5,229"},91,99,298,{"v":4487,"d":"4,487"},0,0,0,0,0,{"v":5312,"d":"5,312"},54,34,18,12,6,4,0,0,0,0,{"v":7266,"d":"7,266"},97,56,21,15,12,2,36,379,71,142,190,190,236,207,178,193,168,152,189,135,972,519,341,{"v":4774,"d":"4,774"},365,100,51,71,18,11,10,11,7,12,14,49,138,{"v":3260,"d":"3,260"},{"v":1648,"d":"1,648"},922,605,0,{"v":5531,"d":"5,531"},103,96,77,90,61,36,17,12,3,{"v":5367,"d":"5,367"},97,95,73,96,59,31,3,{"v":7191,"d":"7,191"},89,57,0,14,0,0,2,46,96,31,0,3,1,{"v":1915,"d":"1,915"},874,372,256,136,17,0,0,0,593,288,91,24,5,{"v":2230,"d":"2,230"},{"v":1511,"d":"1,511"},{"v":1811,"d":"1,811"},{"v":1134,"d":"1,134"},809,173,0,0,0,21,1,0,0,1,267,50,23,4,0,1,0,0,0,12,3,0,2,5,10,1,1,0,2,29,49,69,5,1,0,{"v":1275,"d":"1,275"},831,{"v":1535,"d":"1,535"},505,381,237,{"v":6981,"d":"6,981"},{"v":7267,"d":"7,267"},{"v":3740,"d":"3,740"},{"v":3157,"d":"3,157"},{"v":5666,"d":"5,666"},78,47,495,{"v":50401,"d":"50,401"},{"v":6411,"d":"6,411"},9,0,{"v":2012,"d":"2,012"},{"v":1722,"d":"1,722"},{"v":22135,"d":"22,135"},0,0,0,0,0,2,{"v":1548,"d":"1,548"},343,0,647,550,0,602,509,0,503,388,2,440,347,0,426,278,1,466,271,0,339,226,0,178,202,1,47,0,0,0,0,0,0,0,0,0,{"v":1139,"d":"1,139"},425,281,281,370,98,3,1,2,42,26,2,1,8,1,{"v":279993,"d":"279,993"},null,{"v":6703,"d":"6,703.0"},{"v":7751,"d":"7,751.0"},{"v":19356,"d":"19,356.0"},{"v":6955,"d":"6,955.0"},{"v":13924,"d":"13,924.0"},{"v":12255,"d":"12,255.0"},{"v":68,"d":"68.0"},{"v":0,"d":"0.0"},{"v":10036,"d":"10,036.0"},{"v":11539,"d":"11,539.0"},{"v":4487,"d":"4,487.0"},{"v":12909,"d":"12,909.0"},{"v":4298,"d":"4,298.0"},{"v":12066,"d":"12,066.0"},{"v":6026,"d":"6,026.0"},{"v":13158,"d":"13,158.0"},{"v":12836,"d":"12,836.0"},{"v":4917,"d":"4,917.0"},{"v":14248,"d":"14,248.0"},{"v":12563,"d":"12,563.0"},{"v":620,"d":"620.0"},{"v":50401,"d":"50,401.0"},{"v":6411,"d":"6,411.0"},{"v":2021,"d":"2,021.0"},{"v":1722,"d":"1,722.0"},{"v":22135,"d":"22,135.0"},{"v":2,"d":"2.0"},{"v":8314,"d":"8,314.0"},{"v":0,"d":"0.0"},{"v":0,"d":"0.0"},{"v":0,"d":"0.0"},{"v":1845,"d":"1,845.0"},{"v":281,"d":"281.0"},{"v":370,"d":"370.0"},{"v":98,"d":"98.0"},{"v":6,"d":"6.0"},{"v":2,"d":"2.0"},{"v":2,"d":"2.0"},{"v":42,"d":"42.0"},{"v":26,"d":"26.0"},{"v":2,"d":"2.0"},{"v":1,"d":"1.0"},{"v":8,"d":"8.0"},{"v":1,"d":"1.0"},{"v":277739,"d":"277,739"}]
[{"$nulls":3},"TOTAL ETNICOS",{"$f":"SUM(E77:E82)","v":{"v":6531,"d":"6,531"}},{"$f":"SUM(F77:F82)","v":161},22,10,{"v":6516,"d":"6,516"},210,2,1,1,2,44,95,6,12,36,8,9,19,3,2,16,1,5,13,0,0,0,0,0,0,0,0,0,0,0,0,0,0,0,0,0,0,0,0,0,0,0,14,0,1,0,3,0,0,0,14,2,0,0,571,105,63,7,{"v":4654,"d":"4,654"},{"v":4429,"d":"4,429"},{"$f":"SUM(BR77:BR82)","v":{"v":4899,"d":"4,899"}},12,44,102,7,12,33,7,9,19,2,2,15,1,4,11,{"v":4451,"d":"4,451"},381,102,48,79,0,0,67,1,0,50,0,0,8,0,0,54,10,0,2,3,0,0,{"v":6920,"d":"6,920"},{"v":4646,"d":"4,646"},{"v":4427,"d":"4,427"},{"v":4895,"d":"4,895"},9,0,0,0,0,0,0,0,0,0,0,0,0,0,0,6,45,97,6,12,32,{"$f":"SUM(ED77:ED82)","v":8},8,18,3,2,15,0,5,13,{"v":4487,"d":"4,487"},394,107,56,69,0,0,{"v":6946,"d":"6,946"},2,1,4,0,0,0,0,0,1,0,1,0,0,0,0,0,0,0,17,2,1,0,0,0,0,27,0,0,0,1,11,0,0,0,0,0,0,0,0,0,0,0,0,0,0,0,0,{"$f":"SUM(GP77:GP82)","v":0},0,0,0,0,0,0,0,0,0,0,0,0,0,0,{"v":5134,"d":"5,134"},{"v":4927,"d":"4,927"},889,{"v":4949,"d":"4,949"},{"v":5257,"d":"5,257"},91,102,299,{"v":4506,"d":"4,506"},0,0,0,0,0,{"v":5341,"d":"5,341"},54,34,18,12,6,4,0,0,0,0,{"v":7300,"d":"7,300"},97,56,21,15,12,2,36,380,72,142,191,191,236,209,178,193,168,152,189,135,974,520,341,{"$f":"SUM(JB77:JB82)","v":{"v":4809,"d":"4,809"}},366,100,51,71,18,11,10,12,7,12,14,49,139,{"v":3267,"d":"3,267"},{"v":1652,"d":"1,652"},922,605,0,{"v":5560,"d":"5,560"},104,96,77,90,61,36,17,12,3,{"v":5396,"d":"5,396"},98,95,73,97,59,31,3,{"v":7224,"d":"7,224"},89,57,0,14,0,0,2,46,97,31,0,3,1,{"v":1922,"d":"1,922"},879,373,257,138,17,0,0,0,595,291,92,24,{"$f":"SUM(LN77:LN82)","v":5},{"v":2240,"d":"2,240"},{"v":1513,"d":"1,513"},{"v":1815,"d":"1,815"},{"v":1140,"d":"1,140"},816,173,0,0,0,21,1,0,0,1,269,52,23,4,0,1,0,0,0,12,3,0,2,5,10,1,1,0,2,29,49,69,5,1,0,{"v":1280,"d":"1,280"},838,{"v":1543,"d":"1,543"},508,382,237,{"v":7010,"d":"7,010"},{"v":7297,"d":"7,297"},{"v":3763,"d":"3,763"},{"v":3177,"d":"3,177"},{"v":5702,"d":"5,702"},79,47,499,{"v":50472,"d":"50,472"},{"v":6440,"d":"6,440"},9,0,{"v":2029,"d":"2,029"},{"v":1729,"d":"1,729"},{"v":22205,"d":"22,205"},0,0,0,{"$f":"SUM(NZ77:NZ82)","v":0},0,2,{"v":1556,"d":"1,556"},343,0,650,554,0,604,510,0,506,393,2,441,347,0,428,281,1,469,271,0,339,230,0,179,202,1,47,0,0,0,0,0,0,0,0,0,{"v":1147,"d":"1,147"},427,282,282,385,101,3,1,2,42,26,2,1,8,1,{"$f":"SUM(QC77:QC82)","v":{"v":281088,"d":"281,088"}},null,{"$f":"SUM(QE77:QE82)","v":{"v":6724,"d":"6,724.0"}},{"$f":"SUM(QF77:QF82)","v":{"v":7781,"d":"7,781.0"}},{"v":19449,"d":"19,449.0"},{"v":6989,"d":"6,989.0"},{"v":13977,"d":"13,977.0"},{"v":12329,"d":"12,329.0"},{"v":68,"d":"68.0"},{"v":0,"d":"0.0"},{"v":10061,"d":"10,061.0"},{"v":11587,"d":"11,587.0"},{"$f":"SUM(QO77:QO82)","v":{"v":4506,"d":"4,506.0"}},{"v":12972,"d":"12,972.0"},{"v":4307,"d":"4,307.0"},{"v":12115,"d":"12,115.0"},{"v":6056,"d":"6,056.0"},{"v":13222,"d":"13,222.0"},{"v":12892,"d":"12,892.0"},{"v":4941,"d":"4,941.0"},{"v":14307,"d":"14,307.0"},{"v":12642,"d":"12,642.0"},{"v":625,"d":"625.0"},{"v":50472,"d":"50,472.0"},{"v":6440,"d":"6,440.0"},{"$f":"SUM(RB77:RB82)","v":{"v":2038,"d":"2,038.0"}},{"v":1729,"d":"1,729.0"},{"v":22205,"d":"22,205.0"},{"v":2,"d":"2.0"},{"v":8354,"d":"8,354.0"},{"v":0,"d":"0.0"},{"v":0,"d":"0.0"},{"v":0,"d":"0.0"},{"v":1856,"d":"1,856.0"},{"$f":"SUM(RK77:RK82)","v":{"v":282,"d":"282.0"}},{"v":385,"d":"385.0"},{"v":101,"d":"101.0"},{"v":6,"d":"6.0"},{"v":2,"d":"2.0"},{"v":2,"d":"2.0"},{"v":42,"d":"42.0"},{"v":26,"d":"26.0"},{"v":2,"d":"2.0"},{"v":1,"d":"1.0"},{"v":8,"d":"8.0"},{"v":1,"d":"1.0"},{"v":278808,"d":"278,808"}]
[{"$nulls":3},"EN SITUACION DE DESPLAZAMIENTO",{"$f":"SUMIF($D$8:$D$67,$D84,E$8:E$67)","v":0},0,0,0,0,0,0,0,0,0,{"$f":"SUMIF($D$8:$D$67,$D84,O$8:O$67)","v":0},0,0,0,0,0,0,0,0,0,{"$f":"SUMIF($D$8:$D$67,$D84,Y$8:Y$67)","v":0},0,0,0,0,0,0,0,0,0,{"$f":"SUMIF($D$8:$D$67,$D84,AI$8:AI$67)","v":0},0,0,0,0,0,0,0,0,0,{"$f":"SUMIF($D$8:$D$67,$D84,AS$8:AS$67)","v":0},0,0,0,0,0,0,0,0,0,{"$f":"SUMIF($D$8:$D$67,$D84,BC$8:BC$67)","v":0},0,0,0,0,0,0,0,0,0,{"$f":"SUMIF($D$8:$D$67,$D84,BM$8:BM$67)","v":0},0,0,0,0,0,0,0,0,0,{"$f":"SUMIF($D$8:$D$67,$D84,BW$8:BW$67)","v":0},0,0,0,0,0,0,0,0,0,{"$f":"SUMIF($D$8:$D$67,$D84,CG$8:CG$67)","v":0},0,0,0,0,0,0,0,0,0,{"$f":"SUMIF($D$8:$D$67,$D84,CQ$8:CQ$67)","v":0},0,0,0,0,0,0,0,0,0,{"$f":"SUMIF($D$8:$D$67,$D84,DA$8:DA$67)","v":0},0,0,0,0,0,0,0,0,0,{"$f":"SUMIF($D$8:$D$67,$D84,DK$8:DK$67)","v":0},0,0,0,0,0,0,0,0,0,{"$f":"SUMIF($D$8:$D$67,$D84,DU$8:DU$67)","v":0},0,0,0,0,0,0,0,0,0,{"$f":"SUMIF($D$8:$D$67,$D84,EE$8:EE$67)","v":0},0,0,0,0,0,0,0,0,0,{"$f":"SUMIF($D$8:$D$67,$D84,EO$8:EO$67)","v":0},0,0,0,0,0,0,0,0,0,{"$f":"SUMIF($D$8:$D$67,$D84,EY$8:EY$67)","v":0},0,0,0,0,0,0,0,0,0,{"$f":"SUMIF($D$8:$D$67,$D84,FI$8:FI$67)","v":0},0,0,0,0,0,0,0,0,0,{"$f":"SUMIF($D$8:$D$67,$D84,FS$8:FS$67)","v":0},0,0,0,0,0,0,0,0,0,{"$f":"SUMIF($D$8:$D$67,$D84,GC$8:GC$67)","v":0},0,0,0,0,0,0,0,0,0,{"$f":"SUMIF($D$8:$D$67,$D84,GM$8:GM$67)","v":0},0,0,0,0,0,0,0,0,0,{"$f":"SUMIF($D$8:$D$67,$D84,GW$8:GW$67)","v":0},0,0,0,0,0,0,0,0,0,{"$f":"SUMIF($D$8:$D$67,$D84,HG$8:HG$67)","v":0},0,0,0,0,0,0,0,0,0,{"$f":"SUMIF($D$8:$D$67,$D84,HQ$8:HQ$67)","v":0},0,0,0,0,0,0,0,0,0,{"$f":"SUMIF($D$8:$D$67,$D84,IA$8:IA$67)","v":0},0,0,0,0,0,0,0,0,0,{"$f":"SUMIF($D$8:$D$67,$D84,IK$8:IK$67)","v":0},0,0,0,0,0,0,0,0,0,{"$f":"SUMIF($D$8:$D$67,$D84,IU$8:IU$67)","v":0},0,0,0,0,0,0,0,0,0,{"$f":"SUMIF($D$8:$D$67,$D84,JE$8:JE$67)","v":0},0,0,0,0,0,0,0,0,0,{"$f":"SUMIF($D$8:$D$67,$D84,JO$8:JO$67)","v":0},0,0,0,0,0,0,0,0,0,{"$f":"SUMIF($D$8:$D$67,$D84,JY$8:JY$67)","v":0},0,0,0,0,0,0,0,0,0,{"$f":"SUMIF($D$8:$D$67,$D84,KI$8:KI$67)","v":0},0,0,0,0,0,0,0,0,0,{"$f":"SUMIF($D$8:$D$67,$D84,KS$8:KS$67)","v":0},0,0,0,0,0,0,0,0,0,{"$f":"SUMIF($D$8:$D$67,$D84,LC$8:LC$67)","v":0},0,0,0,0,0,0,0,0,0,{"$f":"SUMIF($D$8:$D$67,$D84,LM$8:LM$67)","v":0},0,0,0,0,0,0,0,0,0,{"$f":"SUMIF($D$8:$D$67,$D84,LW$8:LW$67)","v":0},0,0,0,0,0,0,0,0,0,{"$f":"SUMIF($D$8:$D$67,$D84,MG$8:MG$67)","v":0},0,0,0,0,0,0,0,0,0,{"$f":"SUMIF($D$8:$D$67,$D84,MQ$8:MQ$67)","v":0},0,0,0,0,0,0,0,0,0,{"$f":"SUMIF($D$8:$D$67,$D84,NA$8:NA$67)","v":0},0,0,0,0,0,0,0,0,0,{"$f":"SUMIF($D$8:$D$67,$D84,NK$8:NK$67)","v":0},0,0,0,0,0,0,0,0,0,{"$f":"SUMIF($D$8:$D$67,$D84,NU$8:NU$67)","v":0},0,0,0,0,0,0,0,0,0,{"$f":"SUMIF($D$8:$D$67,$D84,OE$8:OE$67)","v":0},0,0,0,0,0,0,0,0,0,{"$f":"SUMIF($D$8:$D$67,$D84,OO$8:OO$67)","v":0},0,0,0,0,0,0,0,0,0,{"$f":"SUMIF($D$8:$D$67,$D84,OY$8:OY$67)","v":0},0,0,0,0,0,0,0,0,0,{"$f":"SUMIF($D$8:$D$67,$D84,PI$8:PI$67)","v":0},0,0,0,0,0,0,0,0,0,{"$f":"SUMIF($D$8:$D$67,$D84,PS$8:PS$67)","v":0},0,0,0,0,0,0,0,0,0,{"$f":"SUM(E84:QB84)-(PQ84+PS84+PU84+PV84+PX84)","v":0},null,{"$f":"SUMIF($D$8:$D$67,$D84,QE$8:QE$67)","v":{"v":0,"d":"0.0"}},{"v":0,"d":"0.0"},{"v":0,"d":"0.0"},{"v":0,"d":"0.0"},{"v":0,"d":"0.0"},{"v":0,"d":"0.0"},{"v":0,"d":"0.0"},{"v":0,"d":"0.0"},{"v":0,"d":"0.0"},{"v":0,"d":"0.0"},{"$f":"SUMIF($D$8:$D$67,$D84,QO$8:QO$67)","v":{"v":0,"d":"0.0"}},{"v":0,"d":"0.0"},{"v":0,"d":"0.0"},{"v":0,"d":"0.0"},{"v":0,"d":"0.0"},{"v":0,"d":"0.0"},{"v":0,"d":"0.0"},{"v":0,"d":"0.0"},{"v":0,"d":"0.0"},{"v":0,"d":"0.0"},{"$f":"SUMIF($D$8:$D$67,$D84,QY$8:QY$67)","v":{"v":0,"d":"0.0"}},{"v":0,"d":"0.0"},{"v":0,"d":"0.0"},{"v":0,"d":"0.0"},{"v":0,"d":"0.0"},{"v":0,"d":"0.0"},{"v":0,"d":"0.0"},{"v":0,"d":"0.0"},{"v":0,"d":"0.0"},{"v":0,"d":"0.0"},{"$f":"SUMIF($D$8:$D$67,$D84,RI$8:RI$67)","v":{"v":0,"d":"0.0"}},{"v":0,"d":"0.0"},{"v":0,"d":"0.0"},{"v":0,"d":"0.0"},{"v":0,"d":"0.0"},{"v":0,"d":"0.0"},{"v":0,"d":"0.0"},{"v":0,"d":"0.0"},{"v":0,"d":"0.0"},{"v":0,"d":"0.0"},{"v":0,"d":"0.0"},{"v":0,"d":"0.0"},{"v":0,"d":"0.0"},{"v":0,"d":"0.0"},0]
[{"$nulls":3},"EN CONDICION DE DISCAPACIDAD",0,0,0,0,0,0,0,0,0,0,0,0,0,0,0,0,0,0,0,0,0,0,0,0,0,0,0,0,0,0,0,0,0,0,0,0,0,0,0,0,0,0,0,0,0,0,0,0,0,0,0,0,0,0,0,0,0,0,0,0,0,0,0,0,0,0,0,0,0,0,0,0,0,0,0,0,0,0,0,0,0,0,0,0,0,0,0,0,0,0,0,0,0,0,0,0,0,0,0,0,0,0,0,0,0,0,0,0,0,0,0,0,0,0,0,0,0,0,0,0,0,0,0,0,0,0,0,0,0,0,0,0,0,0,0,0,0,0,0,0,0,0,0,0,0,0,0,0,0,0,0,0,0,0,0,0,0,0,0,0,0,0,0,0,0,0,0,0,0,0,0,0,0,0,0,0,0,0,0,0,0,0,0,0,0,0,0,0,0,0,0,0,0,0,0,0,0,0,0,0,0,0,0,0,0,0,0,0,0,0,0,0,0,0,0,0,0,0,0,0,0,0,0,0,0,0,0,0,0,0,0,0,0,0,0,0,0,0,0,0,0,0,0,0,0,0,0,0,0,0,0,0,0,0,0,0,0,0,0,0,0,0,0,0,0,0,0,0,0,0,0,0,0,0,0,0,0,0,0,0,0,0,0,0,0,0,0,0,0,0,0,0,0,0,0,0,0,0,0,0,0,0,0,0,0,0,0,0,0,0,0,0,0,0,0,0,0,0,0,0,0,0,0,0,0,0,0,0,0,0,0,0,0,0,0,0,0,0,0,0,0,0,0,0,0,0,0,0,0,0,0,0,0,0,0,0,0,0,0,0,0,0,0,0,0,0,0,0,0,0,0,0,0,0,0,0,0,0,0,0,0,0,0,0,0,0,0,0,0,0,0,0,0,0,0,0,0,0,0,0,0,0,0,0,0,0,0,0,0,0,0,0,0,0,0,0,0,0,0,0,0,0,0,0,0,0,0,0,0,0,0,0,0,0,0,0,0,0,0,0,0,null,{"v":0,"d":"0.0"},{"v":0,"d":"0.0"},{"v":0,"d":"0.0"},{"v":0,"d":"0.0"},{"v":0,"d":"0.0"},{"v":0,"d":"0.0"},{"v":0,"d":"0.0"},{"v":0,"d":"0.0"},{"v":0,"d":"0.0"},{"v":0,"d":"0.0"},{"v":0,"d":"0.0"},{"v":0,"d":"0.0"},{"v":0,"d":"0.0"},{"v":0,"d":"0.0"},{"v":0,"d":"0.0"},{"v":0,"d":"0.0"},{"v":0,"d":"0.0"},{"v":0,"d":"0.0"},{"v":0,"d":"0.0"},{"v":0,"d":"0.0"},{"v":0,"d":"0.0"},{"v":0,"d":"0.0"},{"v":0,"d":"0.0"},{"v":0,"d":"0.0"},{"v":0,"d":"0.0"},{"v":0,"d":"0.0"},{"v":0,"d":"0.0"},{"v":0,"d":"0.0"},{"v":0,"d":"0.0"},{"v":0,"d":"0.0"},{"v":0,"d":"0.0"},{"v":0,"d":"0.0"},{"v":0,"d":"0.0"},{"v":0,"d":"0.0"},{"v":0,"d":"0.0"},{"v":0,"d":"0.0"},{"v":0,"d":"0.0"},{"v":0,"d":"0.0"},{"v":0,"d":"0.0"},{"v":0,"d":"0.0"},{"v":0,"d":"0.0"},{"v":0,"d":"0.0"},{"v":0,"d":"0.0"},{"v":0,"d":"0.0"},0]
[{"$nulls":3},"VICTIMAS DEL CONFLICTO ARMADO",0,0,0,0,0,0,0,0,0,0,0,0,0,0,0,0,0,0,0,0,0,0,0,0,0,0,0,0,0,0,0,0,0,0,0,0,0,0,0,0,0,0,0,0,0,0,0,0,0,0,0,0,0,0,0,0,0,0,0,0,0,0,0,0,0,0,0,0,0,0,0,0,0,0,0,0,0,0,0,0,0,0,0,0,0,0,0,0,0,0,0,0,0,0,0,0,0,0,0,0,0,0,0,0,0,0,0,0,0,0,0,0,0,0,0,0,0,0,0,0,0,0,0,0,0,0,0,0,0,0,0,0,0,0,0,0,0,0,0,0,0,0,0,0,0,0,0,0,0,0,0,0,0,0,0,0,0,0,0,0,0,0,0,0,0,0,0,0,0,0,0,0,0,0,0,0,0,0,0,0,0,0,0,0,0,0,0,0,0,0,0,0,0,0,0,0,0,0,0,0,0,0,0,0,0,0,0,0,0,0,0,0,0,0,0,0,0,0,0,0,0,0,0,0,0,0,0,0,0,0,0,0,0,0,0,0,0,0,0,0,0,0,0,0,0,0,0,0,0,0,0,0,0,0,0,0,0,0,0,0,0,0,0,0,0,0,0,0,0,0,0,0,0,0,0,0,0,0,0,0,0,0,0,0,0,0,0,0,0,0,0,0,0,0,0,0,0,0,0,0,0,0,0,0,0,0,0,0,0,0,0,0,0,0,0,0,0,0,0,0,0,0,0,0,0,0,0,0,0,0,0,0,0,0,0,0,0,0,0,0,0,0,0,0,0,0,0,0,0,0,0,0,0,0,0,0,0,0,0,0,0,0,0,0,0,0,0,0,0,0,0,0,0,0,0,0,0,0,0,0,0,0,0,0,0,0,0,0,0,0,0,0,0,0,0,0,0,0,0,0,0,0,0,0,0,0,0,0,0,0,0,0,0,0,0,0,0,0,0,0,0,0,0,0,0,0,0,0,0,0,0,0,0,0,0,0,0,0,0,0,0,null,{"v":0,"d":"0.0"},{"v":0,"d":"0.0"},{"v":0,"d":"0.0"},{"v":0,"d":"0.0"},{"v":0,"d":"0.0"},{"v":0,"d":"0.0"},{"v":0,"d":"0.0"},{"v":0,"d":"0.0"},{"v":0,"d":"0.0"},{"v":0,"d":"0.0"},{"v":0,"d":"0.0"},{"v":0,"d":"0.0"},{"v":0,"d":"0.0"},{"v":0,"d":"0.0"},{"v":0,"d":"0.0"},{"v":0,"d":"0.0"},{"v":0,"d":"0.0"},{"v":0,"d":"0.0"},{"v":0,"d":"0.0"},{"v":0,"d":"0.0"},{"v":0,"d":"0.0"},{"v":0,"d":"0.0"},{"v":0,"d":"0.0"},{"v":0,"d":"0.0"},{"v":0,"d":"0.0"},{"v":0,"d":"0.0"},{"v":0,"d":"0.0"},{"v":0,"d":"0.0"},{"v":0,"d":"0.0"},{"v":0,"d":"0.0"},{"v":0,"d":"0.0"},{"v":0,"d":"0.0"},{"v":0,"d":"0.0"},{"v":0,"d":"0.0"},{"v":0,"d":"0.0"},{"v":0,"d":"0.0"},{"v":0,"d":"0.0"},{"v":0,"d":"0.0"},{"v":0,"d":"0.0"},{"v":0,"d":"0.0"},{"v":0,"d":"0.0"},{"v":0,"d":"0.0"},{"v":0,"d":"0.0"},{"v":0,"d":"0.0"},0]
[{"$nulls":3},"ZONAS VEREDALES",29,2,0,0,30,1,0,0,0,0,0,0,0,0,0,0,0,0,0,0,0,0,0,0,0,0,0,0,0,0,0,0,0,0,0,0,0,0,0,0,0,0,0,0,0,0,0,0,0,0,0,0,0,0,0,0,0,0,0,0,0,0,0,5,3,6,0,0,0,0,0,0,0,0,0,0,0,0,0,0,0,5,0,0,0,0,0,0,0,0,0,0,0,0,0,0,0,3,0,0,0,0,0,0,13,5,3,6,0,0,0,0,0,0,0,0,0,0,0,0,0,0,0,0,0,0,0,0,0,0,0,0,0,0,0,0,0,0,8,0,0,0,0,0,0,13,0,0,0,0,0,0,0,0,0,0,0,0,0,0,0,0,0,0,0,0,0,0,0,0,0,0,0,0,0,0,0,0,0,0,0,0,0,0,0,0,0,0,0,0,0,0,0,0,0,0,0,0,0,0,0,0,0,0,0,0,0,0,5,5,5,5,7,0,1,0,0,0,0,0,0,0,8,0,0,0,0,0,0,0,0,0,0,13,0,0,0,0,0,0,0,1,0,0,1,1,0,1,0,1,0,1,0,0,2,1,0,8,0,0,0,0,0,0,0,0,0,0,0,0,0,0,0,1,0,0,8,0,0,0,0,0,0,0,0,0,8,0,0,0,0,0,0,0,13,0,0,0,0,0,0,0,0,1,0,0,0,0,2,1,0,1,0,0,0,0,0,1,0,0,0,0,4,3,4,1,2,0,0,0,0,0,0,0,0,0,0,1,0,0,0,0,0,0,0,0,0,0,0,0,0,0,0,0,0,0,0,0,0,0,0,3,0,2,0,0,0,10,13,6,6,5,0,0,7,43,12,0,0,41,63,111,0,0,0,0,0,0,1,0,0,1,2,0,1,0,0,0,0,0,1,1,0,0,0,0,0,1,0,1,0,0,0,0,0,0,0,0,0,0,0,0,0,0,0,0,1,0,0,0,0,0,0,0,0,0,0,0,0,0,581,null,{"v":31,"d":"31.0"},{"v":31,"d":"31.0"},{"v":19,"d":"19.0"},{"v":16,"d":"16.0"},{"v":14,"d":"14.0"},{"v":21,"d":"21.0"},{"v":0,"d":"0.0"},{"v":0,"d":"0.0"},{"v":10,"d":"10.0"},{"v":18,"d":"18.0"},{"v":21,"d":"21.0"},{"v":21,"d":"21.0"},{"v":9,"d":"9.0"},{"v":9,"d":"9.0"},{"v":8,"d":"8.0"},{"v":21,"d":"21.0"},{"v":21,"d":"21.0"},{"v":5,"d":"5.0"},{"v":40,"d":"40.0"},{"v":7,"d":"7.0"},{"v":7,"d":"7.0"},{"v":43,"d":"43.0"},{"v":12,"d":"12.0"},{"v":41,"d":"41.0"},{"v":104,"d":"104.0"},{"v":174,"d":"174.0"},{"v":0,"d":"0.0"},{"v":9,"d":"9.0"},{"v":0,"d":"0.0"},{"v":1,"d":"1.0"},{"v":0,"d":"0.0"},{"v":0,"d":"0.0"},{"v":0,"d":"0.0"},{"v":0,"d":"0.0"},{"v":0,"d":"0.0"},{"v":0,"d":"0.0"},{"v":0,"d":"0.0"},{"v":0,"d":"0.0"},{"v":0,"d":"0.0"},{"v":0,"d":"0.0"},{"v":0,"d":"0.0"},{"v":0,"d":"0.0"},{"v":0,"d":"0.0"},{"v":0,"d":"0.0"},713]
[null,"."]
{"$rows_empty":9}
[{"$nulls":371},"DE 6 MESES A 11 MESES",null,"DE 12 MESES A 23 MESES",null,null,"24 A 35 MESES",null,null,"DE 60 Y MAS AÑOS ","GESTANTES A PARTIR DE LA SEMANA 14","DE 3 A 8 AÑOS (Poblaciones autorizadas de acuerdo con los lineamientos emitidos por el MSPS )",null,null,"DE 9 A 17 AÑOS (Poblaciones autorizadas de acuerdo con los lineamientos emitidos por el MSPS )","DE 18 A 59 AÑOS (Poblaciones autorizadas de acuerdo con los lineamientos emitidos por el MSPS )"]
[{"$nulls":371},"1a","2a","1a","2a","ÚNICA","1a","2a","ÚNICA","ÚNICA","ÚNICA","1a","2a","ÚNICA","ÚNICA","ÚNICA"]
[{"$nulls":371},{"$f":"NH71+'2_MERCADO_PRIVADO'!PZ11","v":{"v":7422,"d":"7,422"}},{"$f":"NI71+'2_MERCADO_PRIVADO'!QA11","v":{"v":7771,"d":"7,771"}},{"$f":"NJ71+'2_MERCADO_PRIVADO'!QB11","v":{"v":3928,"d":"3,928"}},{"$f":"NK71+'2_MERCADO_PRIVADO'!QC11","v":{"v":3332,"d":"3,332"}},{"$f":"NL71+'2_MERCADO_PRIVADO'!QD11","v":{"v":5992,"d":"5,992"}},{"$f":"NM71+'2_MERCADO_PRIVADO'!QE11","v":88},{"$f":"NN71+'2_MERCADO_PRIVADO'!QF11","v":57},{"$f":"NO71+'2_MERCADO_PRIVADO'!QG11","v":{"v":1170,"d":"1,170"}},{"$f":"NP71+'2_MERCADO_PRIVADO'!QH11","v":{"v":51936,"d":"51,936"}},{"$f":"NQ71+'2_MERCADO_PRIVADO'!QI11","v":{"v":6492,"d":"6,492"}},{"$f":"NR71+'2_MERCADO_PRIVADO'!QJ11","v":31},{"$f":"NS71+'2_MERCADO_PRIVADO'!QK11","v":6},{"$f":"NT71+'2_MERCADO_PRIVADO'!QL11","v":{"v":4742,"d":"4,742"}},{"$f":"NU71+'2_MERCADO_PRIVADO'!QM11","v":{"v":3335,"d":"3,335"}},{"$f":"NV71+'2_MERCADO_PRIVADO'!QN11","v":{"v":35525,"d":"35,525"}}]

{"sheet":"2_MERCADO_PRIVADO","index":2,"n_rows":108,"n_cols":568,"rows_kept":108,"merged":[[1,0,1,2],[1,145,1,146],[2,0,2,2],[3,0,3,2],[3,4,3,23],[3,110,3,121],[3,150,3,166],[3,198,3,211],[3,379,3,394],[3,481,3,487],[4,0,5,2],[4,3,6,3],[4,4,4,38],[4,39,4,71],[4,72,4,104],[4,105,4,135],[4,136,4,166],[4,167,4,197],[4,198,4,200],[4,201,4,211],[4,212,4,217],[4,218,4,238],[4,239,4,259],[4,260,4,277],[4,278,4,299],[4,300,4,332],[4,333,4,348],[4,349,4,405],[4,406,4,421],[4,422,4,440],[4,441,4,455],[4,456,4,485],[4,486,4,498],[4,499,4,503],[4,504,4,507],[4,508,4,515],[4,516,4,517],[4,518,4,519],[5,4,5,6],[5,7,5,9],[5,11,5,13],[5,14,5,16],[5,17,5,19],[5,20,5,22],[5,23,5,26],[5,27,5,30],[5,31,5,34],[5,35,5,38],[5,39,5,41],[5,42,5,44],[5,45,5,47],[5,48,5,50],[5,51,5,53],[5,54,5,56],[5,65,5,70],[5,72,5,74],[5,75,5,77],[5,78,5,80],[5,81,5,83],[5,84,5,86],[5,87,5,89],[5,98,5,103],[5,105,5,107],[5,108,5,110],[5,111,5,113],[5,114,5,116],[5,117,5,119],[5,120,5,122],[5,131,5,135],[5,136,5,138],[5,139,5,141],[5,142,5,144],[5,145,5,147],[5,148,5,150],[5,151,5,153],[5,162,5,166],[5,167,5,169],[5,170,5,172],[5,173,5,175],[5,176,5,178],[5,179,5,181],[5,182,5,184],[5,193,5,197],[5,198,5,200],[5,201,5,203],[5,204,5,208],[5,212,6,212],[5,213,6,213],[5,214,6,214],[5,215,6,215],[5,216,6,216],[5,218,5,230],[5,231,5,238],[5,239,5,248],[5,249,5,253],[5,254,5,259],[5,260,6,260],[5,261,6,261],[5,262,6,262],[5,263,6,263],[5,264,6,264],[5,265,6,265],[5,266,6,266],[5,267,6,267],[5,268,6,268],[5,269,6,269],[5,270,6,270],[5,271,6,271],[5,272,6,272],[5,273,6,273],[5,274,6,274],[5,275,6,275],[5,276,6,276],[5,277,6,277],[5,278,5,279],[5,280,5,281],[5,282,5,283],[5,284,5,285],[5,286,5,287],[5,288,5,289],[5,290,5,291],[5,292,5,293],[5,294,5,295],[5,296,5,297],[5,298,5,299],[5,300,5,302],[5,303,5,305],[5,306,5,308],[5,309,5,311],[5,312,5,314],[5,315,5,317],[5,318,5,320],[5,321,5,323],[5,324,5,326],[5,327,5,329],[5,330,5,332],[5,333,5,334],[5,335,5,336],[5,337,5,338],[5,339,5,340],[5,341,5,342],[5,343,5,345],[5,346,5,347],[5,349,5,353],[5,354,5,358],[5,359,5,363],[5,364,5,367],[5,368,5,372],[5,373,5,377],[5,378,5,381],[5,382,5,386],[5,387,5,391],[5,392,5,395],[5,396,5,400],[5,401,5,405],[5,406,5,411],[5,412,5,417],[5,418,5,421],[5,422,5,426],[5,427,5,431],[5,432,5,436],[5,437,5,440],[5,441,5,442],[5,443,5,445],[5,446,5,448],[5,451,5,453],[5,456,5,458],[5,459,5,461],[5,462,5,464],[5,465,5,467],[5,468,5,470],[5,471,5,473],[5,474,5,476],[5,477,5,479],[5,480,5,482],[5,483,5,485],[5,486,5,488],[5,489,5,492],[5,493,5,495],[5,497,6,497],[5,498,6,498],[5,499,5,501],[5,502,5,503],[5,504,5,505],[5,506,5,507],[5,508,5,512],[5,513,5,515],[5,516,5,517],[5,555,5,557],[5,558,5,559],[5,560,5,563],[6,57,6,61],[6,62,6,64],[6,90,6,94],[6,95,6,97],[6,123,6,127],[6,128,6,130],[6,154,6,158],[6,159,6,161],[6,185,6,189],[6,190,6,192],[6,518,6,519],[7,0,26,0],[7,1,26,1],[7,2,26,2],[27,0,46,0],[27,1,46,1],[27,2,46,2],[47,0,66,0],[47,1,66,1],[47,2,66,2],[67,0,86,0],[67,1,86,1],[67,2,86,2],[87,0,106,2]]}
[{"$nulls":4},{"$f":"D1+1","v":1},2,3,4,5,6,7,8,9,10,11,12,13,14,15,16,17,18,19,20,21,22,23,24,{"$f":"#REF!+1","v":{"$error":"#REF!"}},{"$f":"AC1+1","v":{"$error":"#REF!"}},{"$error":"#REF!"},{"$error":"#REF!"},{"$error":"#REF!"},{"$error":"#REF!"},{"$error":"#REF!"},{"$error":"#REF!"},{"$error":"#REF!"},{"$error":"#REF!"},{"$error":"#REF!"},{"$error":"#REF!"},{"$error":"#REF!"},{"$error":"#REF!"},{"$error":"#REF!"},{"$error":"#REF!"},{"$error":"#REF!"},{"$error":"#REF!"},{"$error":"#REF!"},{"$error":"#REF!"},{"$error":"#REF!"},{"$error":"#REF!"},{"$error":"#REF!"},{"$error":"#REF!"},{"$error":"#REF!"},{"$error":"#REF!"},{"$error":"#REF!"},{"$error":"#REF!"},{"$error":"#REF!"},{"$error":"#REF!"},{"$error":"#REF!"},{"$error":"#REF!"},{"$error":"#REF!"},{"$f":"#REF!+1","v":{"$error":"#REF!"}},{"$f":"BJ1+1","v":{"$error":"#REF!"}},{"$error":"#REF!"},{"$error":"#REF!"},{"$error":"#REF!"},{"$error":"#REF!"},{"$error":"#REF!"},{"$error":"#REF!"},{"$error":"#REF!"},{"$error":"#REF!"},{"$error":"#REF!"},{"$error":"#REF!"},{"$error":"#REF!"},{"$error":"#REF!"},{"$error":"#REF!"},{"$error":"#REF!"},{"$error":"#REF!"},{"$error":"#REF!"},{"$error":"#REF!"},{"$error":"#REF!"},{"$error":"#REF!"},{"$error":"#REF!"},{"$error":"#REF!"},{"$error":"#REF!"},{"$error":"#REF!"},{"$error":"#REF!"},{"$error":"#REF!"},{"$error":"#REF!"},{"$error":"#REF!"},{"$f":"CI1+1","v":{"$error":"#REF!"}},{"$f":"CM1+1","v":{"$error":"#REF!"}},{"$error":"#REF!"},{"$f":"#REF!+1","v":{"$error":"#REF!"}},{"$f":"CP1+1","v":{"$error":"#REF!"}},{"$f":"#REF!+1","v":{"$error":"#REF!"}},{"$f":"CR1+1","v":{"$error":"#REF!"}},{"$error":"#REF!"},{"$error":"#REF!"},{"$error":"#REF!"},{"$error":"#REF!"},{"$error":"#REF!"},{"$error":"#REF!"},{"$f":"#REF!+1","v":{"$error":"#REF!"}},{"$f":"CZ1+1","v":{"$error":"#REF!"}},{"$error":"#REF!"},{"$error":"#REF!"},{"$error":"#REF!"},{"$error":"#REF!"},{"$error":"#REF!"},{"$error":"#REF!"},{"$error":"#REF!"},{"$error":"#REF!"},{"$error":"#REF!"},{"$f":"DE1+1","v":{"$error":"#REF!"}},{"$f":"DK1+1","v":{"$error":"#REF!"}},{"$error":"#REF!"},{"$error":"#REF!"},{"$error":"#REF!"},{"$error":"#REF!"},{"$error":"#REF!"},{"$error":"#REF!"},{"$error":"#REF!"},{"$error":"#REF!"},{"$error":"#REF!"},{"$error":"#REF!"},{"$f":"#REF!+1","v":{"$error":"#REF!"}},{"$f":"DW1+1","v":{"$error":"#REF!"}},{"$error":"#REF!"},{"$error":"#REF!"},{"$error":"#REF!"},{"$error":"#REF!"},{"$error":"#REF!"},{"$error":"#REF!"},{"$error":"#REF!"},{"$error":"#REF!"},{"$error":"#REF!"},{"$error":"#REF!"},{"$error":"#REF!"},{"$error":"#REF!"},{"$error":"#REF!"},{"$error":"#REF!"},{"$error":"#REF!"},{"$error":"#REF!"},{"$error":"#REF!"},{"$error":"#REF!"},{"$error":"#REF!"},{"$error":"#REF!"},{"$error":"#REF!"},{"$error":"#REF!"},{"$error":"#REF!"},{"$error":"#REF!"},{"$error":"#REF!"},{"$error":"#REF!"},{"$error":"#REF!"},{"$error":"#REF!"},{"$error":"#REF!"},{"$error":"#REF!"},{"$error":"#REF!"},{"$error":"#REF!"},{"$error":"#REF!"},{"$error":"#REF!"},{"$error":"#REF!"},{"$error":"#REF!"},{"$error":"#REF!"},{"$error":"#REF!"},{"$error":"#REF!"},{"$error":"#REF!"},{"$error":"#REF!"},{"$error":"#REF!"},{"$error":"#REF!"},{"$error":"#REF!"},{"$error":"#REF!"},{"$error":"#REF!"},{"$error":"#REF!"},{"$error":"#REF!"},{"$error":"#REF!"},{"$error":"#REF!"},{"$error":"#REF!"},{"$error":"#REF!"},{"$error":"#REF!"},{"$error":"#REF!"},{"$error":"#REF!"},{"$error":"#REF!"},{"$error":"#REF!"},{"$error":"#REF!"},{"$error":"#REF!"},{"$error":"#REF!"},{"$error":"#REF!"},{"$error":"#REF!"},{"$error":"#REF!"},{"$f":"GI1+1","v":{"$error":"#REF!"}},{"$error":"#REF!"},{"$error":"#REF!"},{"$error":"#REF!"},{"$error":"#REF!"},{"$error":"#REF!"},{"$error":"#REF!"},{"$error":"#REF!"},{"$error":"#REF!"},{"$error":"#REF!"},{"$error":"#REF!"},{"$error":"#REF!"},{"$error":"#REF!"},{"$error":"#REF!"},{"$error":"#REF!"},{"$error":"#REF!"},{"$error":"#REF!"},{"$error":"#REF!"},{"$error":"#REF!"},{"$error":"#REF!"},{"$error":"#REF!"},{"$error":"#REF!"},{"$error":"#REF!"},{"$error":"#REF!"},{"$error":"#REF!"},{"$error":"#REF!"},{"$error":"#REF!"},{"$error":"#REF!"},{"$error":"#REF!"},{"$error":"#REF!"},{"$error":"#REF!"},{"$error":"#REF!"},{"$error":"#REF!"},{"$error":"#REF!"},{"$error":"#REF!"},{"$error":"#REF!"},{"$error":"#REF!"},{"$error":"#REF!"},{"$f":"HO1+1","v":{"$error":"#REF!"}},{"$f":"HV1+1","v":{"$error":"#REF!"}},{"$error":"#REF!"},{"$error":"#REF!"},{"$error":"#REF!"},{"$error":"#REF!"},{"$error":"#REF!"},{"$error":"#REF!"},{"$error":"#REF!"},{"$f":"IC1+1","v":{"$error":"#REF!"}},{"$error":"#REF!"},{"$f":"IF1+1","v":{"$error":"#REF!"}},{"$error":"#REF!"},{"$error":"#REF!"},{"$error":"#REF!"},{"$error":"#REF!"},{"$f":"IJ1+1","v":{"$error":"#REF!"}},{"$error":"#REF!"},{"$f":"IM1+1","v":{"$error":"#REF!"}},{"$error":"#REF!"},{"$error":"#REF!"},{"$error":"#REF!"},{"$error":"#REF!"},{"$error":"#REF!"},{"$error":"#REF!"},{"$error":"#REF!"},{"$error":"#REF!"},{"$error":"#REF!"},{"$error":"#REF!"},{"$error":"#REF!"},{"$error":"#REF!"},{"$f":"IY1+1","v":{"$error":"#REF!"}},{"$f":"JA1+1","v":{"$error":"#REF!"}},{"$error":"#REF!"},{"$error":"#REF!"},{"$error":"#REF!"},{"$error":"#REF!"},{"$error":"#REF!"},{"$error":"#REF!"},{"$error":"#REF!"},{"$error":"#REF!"},{"$error":"#REF!"},{"$error":"#REF!"},{"$error":"#REF!"},{"$error":"#REF!"},{"$error":"#REF!"},{"$error":"#REF!"},{"$error":"#REF!"},{"$error":"#REF!"},{"$error":"#REF!"},{"$error":"#REF!"},{"$error":"#REF!"},{"$error":"#REF!"},{"$error":"#REF!"},{"$error":"#REF!"},{"$error":"#REF!"},{"$error":"#REF!"},{"$error":"#REF!"},{"$error":"#REF!"},{"$error":"#REF!"},{"$error":"#REF!"},{"$error":"#REF!"},{"$f":"KD1+1","v":{"$error":"#REF!"}},{"$error":"#REF!"},{"$f":"KG1+1","v":{"$error":"#REF!"}},{"$error":"#REF!"},{"$error":"#REF!"},{"$error":"#REF!"},{"$error":"#REF!"},{"$error":"#REF!"},{"$error":"#REF!"},{"$f":"KM1+1","v":{"$error":"#REF!"}},{"$error":"#REF!"},{"$f":"KP1+1","v":{"$error":"#REF!"}},{"$error":"#REF!"},{"$f":"KQ1+1","v":{"$error":"#REF!"}},{"$error":"#REF!"},{"$f":"#REF!+1","v":{"$error":"#REF!"}},{"$f":"KU1+1","v":{"$error":"#REF!"}},{"$error":"#REF!"},{"$error":"#REF!"},{"$error":"#REF!"},{"$error":"#REF!"},{"$error":"#REF!"},{"$error":"#REF!"},{"$error":"#REF!"},{"$error":"#REF!"},{"$error":"#REF!"},{"$error":"#REF!"},{"$error":"#REF!"},{"$error":"#REF!"},{"$error":"#REF!"},{"$error":"#REF!"},{"$error":"#REF!"},{"$error":"#REF!"},{"$error":"#REF!"},{"$error":"#REF!"},{"$error":"#REF!"},{"$error":"#REF!"},{"$error":"#REF!"},{"$error":"#REF!"},{"$error":"#REF!"},{"$error":"#REF!"},{"$error":"#REF!"},{"$error":"#REF!"},{"$error":"#REF!"},{"$error":"#REF!"},{"$error":"#REF!"},{"$error":"#REF!"},{"$error":"#REF!"},{"$error":"#REF!"},{"$error":"#REF!"},{"$error":"#REF!"},{"$error":"#REF!"},{"$error":"#REF!"},{"$error":"#REF!"},{"$error":"#REF!"},{"$error":"#REF!"},{"$error":"#REF!"},{"$error":"#REF!"},{"$error":"#REF!"},{"$error":"#REF!"},{"$error":"#REF!"},{"$error":"#REF!"},{"$error":"#REF!"},{"$error":"#REF!"},{"$error":"#REF!"},{"$error":"#REF!"},{"$error":"#REF!"},{"$error":"#REF!"},{"$error":"#REF!"},{"$error":"#REF!"},{"$error":"#REF!"},{"$error":"#REF!"},{"$error":"#REF!"},{"$error":"#REF!"},{"$error":"#REF!"},{"$error":"#REF!"},{"$error":"#REF!"},{"$error":"#REF!"},{"$error":"#REF!"},{"$error":"#REF!"},{"$f":"NG1+1","v":{"$error":"#REF!"}},{"$error":"#REF!"},{"$error":"#REF!"},{"$error":"#REF!"},{"$error":"#REF!"},{"$error":"#REF!"},{"$error":"#REF!"},{"$error":"#REF!"},{"$error":"#REF!"},{"$error":"#REF!"},{"$error":"#REF!"},{"$error":"#REF!"},{"$error":"#REF!"},{"$error":"#REF!"},{"$error":"#REF!"},{"$error":"#REF!"},{"$f":"#REF!+1","v":{"$error":"#REF!"}},{"$error":"#REF!"},{"$error":"#REF!"},{"$error":"#REF!"},{"$error":"#REF!"},{"$error":"#REF!"},{"$error":"#REF!"},{"$error":"#REF!"},{"$f":"#REF!+1","v":{"$error":"#REF!"}},{"$f":"OF1+1","v":{"$error":"#REF!"}},{"$error":"#REF!"},{"$f":"#REF!+1","v":{"$error":"#REF!"}},{"$f":"OI1+1","v":{"$error":"#REF!"}},{"$f":"#REF!+1","v":{"$error":"#REF!"}},{"$f":"OK1+1","v":{"$error":"#REF!"}},{"$error":"#REF!"},{"$error":"#REF!"},{"$error":"#REF!"},{"$error":"#REF!"},{"$error":"#REF!"},{"$error":"#REF!"},{"$error":"#REF!"},{"$error":"#REF!"},{"$error":"#REF!"},{"$error":"#REF!"},{"$error":"#REF!"},{"$error":"#REF!"},{"$error":"#REF!"},{"$error":"#REF!"},{"$error":"#REF!"},{"$error":"#REF!"},{"$error":"#REF!"},{"$error":"#REF!"},{"$error":"#REF!"},{"$error":"#REF!"},{"$error":"#REF!"},{"$error":"#REF!"},{"$error":"#REF!"},{"$error":"#REF!"},{"$error":"#REF!"},{"$error":"#REF!"},{"$f":"#REF!+1","v":{"$error":"#REF!"}},{"$f":"PM1+1","v":{"$error":"#REF!"}},{"$error":"#REF!"},{"$error":"#REF!"},{"$error":"#REF!"},{"$error":"#REF!"},{"$error":"#REF!"},{"$error":"#REF!"},{"$error":"#REF!"},{"$error":"#REF!"},{"$error":"#REF!"},{"$error":"#REF!"},{"$error":"#REF!"},{"$error":"#REF!"},{"$error":"#REF!"},{"$error":"#REF!"},{"$error":"#REF!"},{"$error":"#REF!"},{"$error":"#REF!"},{"$error":"#REF!"},{"$error":"#REF!"},{"$error":"#REF!"},{"$error":"#REF!"},{"$f":"#REF!+1","v":{"$error":"#REF!"}},{"$f":"QJ1+1","v":{"$error":"#REF!"}},{"$f":"MO1+1","v":{"$error":"#REF!"}},{"$f":"MP1+1","v":{"$error":"#REF!"}},{"$f":"QM1+1","v":{"$error":"#REF!"}},{"$f":"#REF!+1","v":{"$error":"#REF!"}},{"$f":"QO1+1","v":{"$error":"#REF!"}},{"$f":"QP1+1","v":{"$error":"#REF!"}},{"$f":"QQ1+1","v":{"$error":"#REF!"}},{"$f":"QR1+1","v":{"$error":"#REF!"}},{"$f":"QS1+1","v":{"$error":"#REF!"}},{"$f":"QT1+1","v":{"$error":"#REF!"}},{"$f":"NS1+1","v":{"$error":"#REF!"}},{"$f":"NT1+1","v":{"$error":"#REF!"}},{"$f":"QW1+1","v":{"$error":"#REF!"}},{"$f":"QX1+1","v":{"$error":"#REF!"}},{"$f":"QY1+1","v":{"$error":"#REF!"}},{"$f":"QZ1+1","v":{"$error":"#REF!"}},{"$f":"RA1+1","v":{"$error":"#REF!"}},{"$f":"RB1+1","v":{"$error":"#REF!"}},{"$f":"RC1+1","v":{"$error":"#REF!"}},{"$f":"RD1+1","v":{"$error":"#REF!"}},{"$f":"OC1+1","v":{"$error":"#REF!"}},{"$f":"OD1+1","v":{"$error":"#REF!"}},{"$f":"RG1+1","v":{"$error":"#REF!"}},{"$f":"RH1+1","v":{"$error":"#REF!"}},{"$f":"RI1+1","v":{"$error":"#REF!"}},{"$f":"RJ1+1","v":{"$error":"#REF!"}},{"$f":"RK1+1","v":{"$error":"#REF!"}},{"$f":"RL1+1","v":{"$error":"#REF!"}},{"$f":"RM1+1","v":{"$error":"#REF!"}},{"$f":"RN1+1","v":{"$error":"#REF!"}},{"$f":"OM1+1","v":{"$error":"#REF!"}},{"$f":"ON1+1","v":{"$error":"#REF!"}},{"$f":"RQ1+1","v":{"$error":"#REF!"}},{"$f":"RR1+1","v":{"$error":"#REF!"}},{"$f":"RS1+1","v":{"$error":"#REF!"}},{"$f":"RT1+1","v":{"$error":"#REF!"}},{"$f":"RU1+1","v":{"$error":"#REF!"}},{"$f":"RV1+1","v":{"$error":"#REF!"}},{"$f":"RW1+1","v":{"$error":"#REF!"}},{"$f":"RX1+1","v":{"$error":"#REF!"}},{"$f":"OW1+1","v":{"$error":"#REF!"}},{"$f":"OX1+1","v":{"$error":"#REF!"}},{"$f":"SA1+1","v":{"$error":"#REF!"}},{"$f":"SB1+1","v":{"$error":"#REF!"}},{"$f":"SC1+1","v":{"$error":"#REF!"}},{"$f":"SD1+1","v":{"$error":"#REF!"}},{"$f":"SE1+1","v":{"$error":"#REF!"}},{"$f":"SF1+1","v":{"$error":"#REF!"}},{"$f":"SG1+1","v":{"$error":"#REF!"}},{"$f":"SH1+1","v":{"$error":"#REF!"}},{"$f":"PG1+1","v":{"$error":"#REF!"}},{"$f":"PH1+1","v":{"$error":"#REF!"}},{"$f":"SK1+1","v":{"$error":"#REF!"}},{"$f":"SL1+1","v":{"$error":"#REF!"}},{"$f":"SM1+1","v":{"$error":"#REF!"}},{"$f":"SN1+1","v":{"$error":"#REF!"}},{"$f":"SO1+1","v":{"$error":"#REF!"}},{"$f":"SP1+1","v":{"$error":"#REF!"}},{"$f":"SQ1+1","v":{"$error":"#REF!"}},{"$f":"SR1+1","v":{"$error":"#REF!"}},{"$f":"PQ1+1","v":{"$error":"#REF!"}},{"$f":"ST1+1","v":{"$error":"#REF!"}},{"$f":"SU1+1","v":{"$error":"#REF!"}},{"$f":"SV1+1","v":{"$error":"#REF!"}},{"$f":"#REF!+1","v":{"$error":"#REF!"}},{"$error":"#REF!"},{"$error":"#REF!"},null,null,0,{"$nulls":18},".",{"$nulls":20},0]
["NOMBRE DEPARTAMENTO:",null,null,"CUNDINAMARCA","CODIGO DEPARTAMENTO:",null,{"$f":"VLOOKUP(D2,Tabla2[[DEPARTAMENTO]:[CODEP]],2,0)","v":"25"}]
["AÑO:",null,null,2022,{"$nulls":516},".",{"$nulls":41},"."]
["MES DE REPORTE",null,null,"Julio","MERCADO PRIVADO O REGIMEN ESPECIAL",{"$nulls":40},"MERCADO PRIVADO O REGIMEN ESPECIAL",{"$nulls":64},"MERCADO PRIVADO O REGIMEN ESPECIAL",{"$nulls":39},"MERCADO PRIVADO O REGIMEN ESPECIAL",{"$nulls":47},"MERCADO PRIVADO O REGIMEN ESPECIAL",{"$nulls":180},"MERCADO PRIVADO O REGIMEN ESPECIAL",{"$nulls":101},"MERCADO PRIVADO O REGIMEN ESPECIAL",{"$nulls":37},"."]
["                 MUNICIPIO",null,null,"REGIMEN / \nGRUPO ETNICO","HEPATITIS B",{"$nulls":34},"PENTAVALENTE (DPTa -Hib-VIP)",{"$nulls":32},"HEXAVALENTE  (DPTa-HB-Hib-VIP)",{"$nulls":32},"TETRAVALENTE -  (DPTa - VIP)",{"$nulls":30},"DTPa Acelular Pediatrica",{"$nulls":30},"TOXOIDE TETANICO-DIFTERICO PEDIATRICO (TD) ",{"$nulls":30},"ROTAVIRUS",null,null,"NEUMOCOCO CONJUGADA",{"$nulls":10},"NEUMOCOCO POLISACARIDO",{"$nulls":5},"SRP (TRIPLE VIRAL)",{"$nulls":20},"TRIPLE VIRAL + VARICELA",{"$nulls":20},"FIEBRE AMARILLA DOSIS UNICA",{"$nulls":17},"HEPATITIS A",{"$nulls":21},"HEPATITIS A + B",{"$nulls":32},"VARICELA",{"$nulls":15},"TOXOIDE TETANICO-DIFTERICO DE ADULTOS (Td)",{"$nulls":56},"Tdap ACELULAR ",{"$nulls":15},"Tdap ACELULAR (OTROS)",{"$nulls":18},"INFLUENZA",{"$nulls":14},"V  P  H",{"$nulls":29},"ANTIRRABICA HUMANA \nPRE/POST-EXPOSICION",{"$nulls":12},"INMUNOGLOBULINA\nANTI HEPATITIS B",{"$nulls":4},"INMUNOGLOBULINAS/ANTITOXINAS TETÁNICAS",{"$nulls":3},"MENINGOCOCO                                      ",{"$nulls":7},"FIEBRE TIFOIDEA",null,"HERPES ZOSTER "]
[{"$nulls":4},"MENORES DE 1 AÑO ",null,null,"DE 1 AÑO",null,null,"DE 1 AÑO (18 MESES Inmunosuprimidos)","DE 2 AÑOS",null,null,"DE 3 AÑOS",null,null,"DE 4 AÑOS",null,null,"DE 5 AÑOS",null,null,"6 AÑOS",{"$nulls":3},"7 A 14 AÑOS",{"$nulls":3},"DE 15 AÑOS A 17 AÑOS",{"$nulls":3},"DE 18 AÑOS Y MAS",{"$nulls":3},"< DE 1 AÑO\n",null,null," DE 1 AÑO\n",null,null," DE 2 AÑOS\n",null,null," DE 3 AÑOS\n",null,null," DE 4 AÑOS\n",null,null," DE 5 AÑOS",null,null,"AL AÑO DE LA 3ra DOSIS (De 18 a 23 meses)","DE 2  AÑOS","DE 3  AÑOS","DE 4  AÑOS","DE 5  AÑOS","3 AÑOS","4 AÑOS","5 AÑOS","6 A 17 AÑOS",{"$nulls":5},"DE 18 AÑOS Y MAS","< DE 1 AÑO\n",null,null," DE 1 AÑO\n",null,null," DE 2 AÑOS\n",null,null," DE 3 AÑOS\n",null,null," DE 4 AÑOS\n",null,null," DE 5 AÑOS",null,null,"AL AÑO DE LA 3ra DOSIS (De 18 a 23 meses)","DE 2  AÑOS","DE 3  AÑOS","DE 4  AÑOS","DE 5  AÑOS","3 AÑOS ","4 AÑOS ","5 AÑOS ","6 a 17 AÑOS",{"$nulls":5},"18 AÑOS Y MAS","< DE 1 AÑO",null,null,"DE 1 AÑO",null,null,"DE 2 AÑOS",null,null,"DE 3 AÑOS",null,null,"DE 4 AÑOS",null,null,"DE 5 AÑOS",null,null,"AL AÑO DE LA 3ra DOSIS (De 18 a 23 meses)","DE 2  AÑOS","DE 3  AÑOS","DE 4  AÑOS","DE 5  AÑOS","3 AÑOS","4 AÑOS","5 AÑOS","6 AÑOS Y MAS",{"$nulls":4},"< DE 1 AÑO",null,null,"DE 1 AÑO",null,null,"DE 2 AÑOS",null,null,"DE 3 AÑOS",null,null,"DE 4 AÑOS",null,null,"DE 5 AÑOS",null,null,"AL AÑO DE LA 3ra DOSIS (De 18 a 23 meses)","DE 2  AÑOS","DE 3  AÑOS","DE 4  AÑOS","DE 5  AÑOS","3 AÑOS","4 AÑOS","5 AÑOS","DE 6 AÑOS",{"$nulls":4},"< DE 1 AÑO",null,null,"DE 1 AÑO",null,null,"DE 2 AÑOS",null,null,"DE 3 AÑOS",null,null,"DE 4 AÑOS",null,null,"DE 5 AÑOS",null,null,"AL AÑO DE LA 3ra DOSIS (De 18 a 23 meses)","DE 2  AÑOS","DE 3 AÑOS","DE 4 AÑOS","DE 5 AÑOS","3 AÑOS","4 AÑOS","5 AÑOS","DE 6 AÑOS ",{"$nulls":4},"< DE 1 AÑO",null,null,"DE 2 A 11 MESES 29 DIAS",null,null,"DE 12 A\n23  MESES",{"$nulls":4},"DE 2 A 5 AÑOS","DE 6 A 49 AÑOS","DE 50 Y MAS AÑOS","DE 2 A 5 AÑOS","DE 6 A 14 AÑOS","DE 15 A 18 AÑOS","DE 19 A 59 AÑOS","DE 60 Y MAS AÑOS","A LOS 5 AÑOS DE LA 1ra DOSIS","PRIMERA DOSIS",{"$nulls":12},"REFUERZO",{"$nulls":7}," DOSIS 1a. DOSIS",{"$nulls":9},"UNICA",{"$nulls":4},"REFUERZO",{"$nulls":5},"DE 1 AÑO","DE 2 AÑOS","DE 3 AÑOS","DE 4 AÑOS","DE 5 AÑOS","DE 6 AÑOS","DE 7 AÑOS","DE 8 AÑOS","DE 9 AÑOS","DE 10 AÑOS","DE 11 AÑOS","DE 12 AÑOS","DE 13 a 14 AÑOS","DE 15 a 17 AÑOS","18 A 30 AÑOS","31 A 40 AÑOS","41 A 50 AÑOS","51 A 59 AÑOS","DE 1 AÑO",null,"DE 2 AÑOS",null,"DE 3 AÑOS",null,"DE 4 AÑOS",null,"DE 5 AÑOS",null,"6 AÑOS",null,"7 AÑOS",null,"8 AÑOS",null,"9 AÑOS",null,"DE 10 A 17 AÑOS",null,"DE 18 Y MAS AÑOS",null,"DE 1 AÑO",null,null,"DE 2 AÑOS",null,null,"DE 3 AÑOS",null,null,"DE 4 AÑOS",null,null,"DE 5 AÑOS",null,null,"DE 6 AÑOS",null,null,"DE 7 AÑOS",null,null,"DE 8 AÑOS",null,null,"DE 9 AÑOS",null,null,"DE 10 A 17 AÑOS",null,null,"DE 18 Y MAS AÑOS",null,null,"DE 1 AÑO",null,"DE 2 AÑOS",null,"DE 3 AÑOS",null,"DE 4 AÑOS",null,"DE 5 AÑOS",null,"DE 6 AÑOS",null,null,"7 A 17 AÑOS",null,"18 AÑOS Y MAS"," NIÑOS Y NIÑAS DE 7 A 9 AÑOS",{"$nulls":4},"GESTANTES DE 9 AÑOS A 17 AÑOS",{"$nulls":4},"GESTANTES DE 18 AÑOS Y MAS",{"$nulls":4},"REFUERZOS GESTANTES\n15 A 49 AÑOS",{"$nulls":3},"MUJERES EN EDAD FERTIL\n(MEF) DE 10 AÑOS A 17 AÑOS",{"$nulls":4},"MUJERES EN EDAD FERTIL\n(MEF) DE 18 A 49 AÑOS",{"$nulls":4},"REFUERZOS\nMEF DE 15 A 49 AÑOS",{"$nulls":3},"HOMBRES DE 10 A 17 AÑOS",{"$nulls":4},"HOMBRES DE 18 A 49 AÑOS",{"$nulls":4},"REFUERZOS\nHOMBRES DE 15 A 49 AÑOS",{"$nulls":3},"OTROS DE 50 A 59 AÑOS",{"$nulls":4},"OTROS DE 60 AÑOS Y MAS",{"$nulls":4}," DE 9 A 17 AÑOS GESTANTES A PARTIR DE LA SEMANA 26",{"$nulls":5}," DE 18 Y MAS AÑOS GESTANTES  A PARTIR DE LA SEMANA 26",{"$nulls":5},"GESTANTES DE 15 Y MAS AÑOS                                    REFUERZOS A PARTIR DE LA SEMANA 26",{"$nulls":3}," DE 7 A 9 AÑOS - OTROS",{"$nulls":4}," DE 10 A 17 AÑOS - OTROS",{"$nulls":4}," DE 18 Y MAS AÑOS  - OTROS",{"$nulls":4},"DE 10 A 49 AÑOS REFUERZOS - OTROS",{"$nulls":3},"DE 6 MESES A 11 MESES",null,"DE 12 MESES A 23 MESES",null,null,"24 A 35 MESES",null,null,"DE 60 Y MAS AÑOS ","GESTANTES A PARTIR DE LA SEMANA 14","DE 3 A 8 AÑOS ",null,null,"DE 9 A 17 AÑOS ","DE 18 A 59 AÑOS ","9 AÑOS",null,null,"10 AÑOS",null,null,"11 AÑOS",null,null,"12 AÑOS",null,null,"13 AÑOS",null,null,"14 AÑOS",null,null,"15 AÑOS",null,null,"16 AÑOS",null,null,"17 AÑOS",null,null,"DE 18 AÑOS Y MAS",null,null,"ESQUEMA PRE EXPOSICIÓN (I.M.)  ",null,null,"ESQUEMA POST EXPOSICION Número de dosis aplicadas ",{"$nulls":3},"ESQUEMA POST EXPOSICION ACORTADO (ZAGREB) Número de dosis aplicadas",null,null,"POST EXPOSICION (USUARIOS CON  ESQUEMA DE VACUNACION COMPLETO)","INMUNOGLOBULINA ANTIRRÁBICA(Número de frascos utilizados)","No. De personas que recibieron inmunoglobulina antirrabica.","RECIEN NACIDO\n(Hijo de Madre Antigenos + para HB)",null,null,"(RESOLUCION\n0459/2012- circular 031/14)",null,"INMUNOGLOBULINA\nANTI TETANICA (Suero homólogo)",null,"ANTI TOXINA TETANICA (Suero heterólogo)",null,"2 A 23 MESES",{"$nulls":4},"MAYORES DE 2 AÑOS",null,null,"A  PARTIR DE LOS 2 AÑOS",null,"< DE 50 AÑOS","50 AÑOS Y MAS",null,"codepcomure","DOSIS APLICADAS POR BIOLOGICOS",{"$nulls":17},"FLU",{"$nulls":8},"ANTI RABICA HUMANA \nPRE/POST-EXPOSICION",{"$nulls":5},"INMUNO GLOBULINA\nANTI HEPATITIS B",null,null,"(RESOLUCION\n0459/2012- circular 031/14)",null,"ANTI TOXINA TETANICA"]
["Nº","COD DANE\nMPIO","NOMBRE MUNICIPIO/\nIPS",null,"1a","2a","3a","1a","2a","3a","REF.","1a","2a","3a","1a","2a","3a","1a","2a","3a","1a","2a","3a","1a","2a","3a","Adicional","1a","2a","3a","Adicional","1a","2a","3a","Adicional","1a","2a","3a","Adicional","1a","2a","3a","1a","2a","3a","1a","2a","3a","1a","2a","3a","1a","2a","3a","1a","2a","3a","1er REF.",{"$nulls":4},"2° REF.",null,null,"1a","2a","3a","1er REF.","2° REF.","Dosis Adicional","Dosis Adicional","1a","2a","3a","1a","2a","3a","1a","2a","3a","1a","2a","3a","1a","2a","3a","1a","2a","3a","1er REF.",{"$nulls":4},"2° REF.",null,null,"1a","2a","3a","1er REF.","2° REF.","Dosis Adicional","Dosis Adicional","1a","2a","3a","1a","2a","3a","1a","2a","3a","1a","2a","3a","1a","2a","3a","1a","2a","3a","1er REF.",{"$nulls":4},"2° REF.",null,null,"1a","2a","3a","1er REF.","2° REF.","1a","2a","3a","1a","2a","3a","1a","2a","3a","1a","2a","3a","1a","2a","3a","1a","2a","3a","1er REF.",{"$nulls":4},"2° REF.",null,null,"1a","2a","3a","1er REF.","2° REF.","1a","2a","3a","1a","2a","3a","1a","2a","3a","1a","2a","3a","1a","2a","3a","1a","2a","3a","1er REF.",{"$nulls":4},"2° REF.",null,null,"1a","2a","3a","1er REF.","2° REF.","1a","2a","3a","1a","2a","3a ","1a","2a","3a","REF.","Adicional","ÚNICA ","ÚNICA ","ÚNICA ",{"$nulls":5},"REF.","DE 1 AÑO","DE 2 AÑOS","DE 3 AÑOS","DE 4 AÑOS","DE 5 AÑOS","DE 6 AÑOS","DE 7 AÑOS","DE 8 AÑOS","DE 9 AÑOS","DE 10 AÑOS","11 a 14 AÑOS","15 a 17 AÑOS","18 A 49 AÑOS","DE 5 AÑOS","DE 6 AÑOS","DE 7 AÑOS","DE 8 AÑOS","DE 9 AÑOS","DE 10 AÑOS","11 a 14 AÑOS","DE 15 AÑOS Y MAS","DE 1 AÑO","DE 2 AÑOS","DE 3 AÑOS","DE 4 AÑOS","DE  5 AÑOS","DE 6 AÑOS","DE  7 AÑOS","DE 8 AÑOS","DE  9 AÑOS","DE 10 AÑOS","DE 2 AÑOS","DE 3 AÑOS","DE 4 AÑOS","DE  5 AÑOS","DE 6  AÑOS Y MAS","DE 5 AÑOS","DE 6 AÑOS","DE 7 AÑOS","DE 8 AÑOS","DE 9 AÑOS","DE 10 AÑOS",{"$nulls":18},"1a","2a","1a","2a","1a","2a","1a","2a","1a","2a","1a","2a","1a","2a","1a","2a","1a","2a","1a","2a","1a","2a","1a","2a","3a","1a","2a","3a","1a","2a","3a","1a","2a","3a","1a","2a","3a","1a","2a","3a","1a","2a","3a","1a","2a","3a","1a","2a","3a","1a","2a","3a","1a","2a","3a","1a","REF.","1a","REF.","1a","REF.","1a","REF.","1a","REF.","1a","REF.","UNICA","1a","REF.","UNICA","Td1","Td2","Td3","Ref 1","Ref 2","Td1","Td2","Td3","Td4","Td5","Td1","Td2","Td3","Td4","Td5","REF.\n1","REF.\n2","REF.\n3","REF.\n4","Td1","Td2","Td3","Td4","Td5","Td1","Td2","Td3","Td4","Td5","REF.\n1","REF.\n2","REF.\n3","REF.\n4","Td1","Td2","Td3","Td4","Td5","Td1","Td2","Td3","Td4","Td5","REF.\n1","REF.\n2","REF.\n3","REF.\n4","Td1","Td2","Td3","Td4","Td5","Td1","Td2","Td3","Td4","Td5","U DOSIS EN C/EMBARAZO","Corresponde a Td1","Corresponde a Td2","Corresponde a Td3","Corresponde a Td4","Corresponde a Td5","U DOSIS EN C/EMBARAZO","Corresponde a Td1","Corresponde a Td2","Corresponde a Td3","Corresponde a Td4","Corresponde a Td5","Corres\nponde a REF.\n1","Corres\nponde a REF.\n2","Corres\nponde a REF.\n3","Corres\nponde a REF.\n4","Corresponde a Td1","Corresponde a Td2","Corresponde a Td3","Corresponde a Td4","Corresponde a Td5","Corresponde a Td1","Corresponde a Td2","Corresponde a Td3","Corresponde a Td4","Corresponde a Td5","Corresponde a Td1","Corresponde a Td2","Corresponde a Td3","Corresponde a Td4","Corresponde a Td5","Corres\nponde a REF.\n1","Corres\nponde a REF.\n2","Corres\nponde a REF.\n3","Corres\nponde a REF.\n4","1a","2a","1a","2a","ÚNICA","1a","2a","ÚNICA","ÚNICA","ÚNICA","1a","2a","ÚNICA","ÚNICA","ÚNICA","1a","2a","3a","1a","2a","3a","1a","2a","3a","1a","2a","3a","1a","2a","3a","1a","2a","3a","1a","2a","3a","1a","2a","3a","1a","2a","3a","1a","2a","3a","1a","2a","3a","1a \ndía 0","2a \ndia 3","3a \ndía 7","4a \ndía 14","1era. y 2da dosis 0,0","3a.\ndía 7","4a.\ndía 21","Número de usuarios",null,null,"Número de frascos utilizados","N° recién nacidos que recibieron dosis de Ig en las primeras 12 horas","N° recién nacidos que recibieron dosis de Ig despues de las primeras 12 horas","Número de frascos utilizados","N° Personas que recibieron dosis de Ig","Número de frascos utilizados","N° Personas que recibieron dosis de Ig","Número de frascos utilizados","N° Personas que recibieron dosis de antitoxina","1a","2a","3a","ÚNICA","REF.","1a","2a","ÚNICA","1a","2a","UNICA",null,"TOTAL DOSIS",null,"HEPATITIS B","PENTAVALENTE \n(DPTa -Hib-VIP)","HEXAVALENTE \n(DPTa-HB-Hib-VIP)","TETRAVALENTE -  (DPTa - VIP)","DTPa Acelular Pediatrica","TOXOIDE TETANICO-DIFTERICO PEDIATRICO (TD) ","ROTAVIRUS","NEUMOCOCO CONJUGADA","NEUMOCOCO POLISACARIDO","SRP (TRIPLE VIRAL)","TRIPLE VIRAL + VARICELA","FIEBRE AMARILLA","HEPATITIS A","HEPATITIS A + B","VARICELA","TOXOIDE TETANICO-DIFTERICO DE ADULTOS (Td)","Tdap ACELULAR ","Tdap ACELULAR ","DE 6 MESES A 11 MESES","DE 12 MESES A 23 MESES","24 A 35 MESES","DE 60 Y MAS AÑOS ","GESTANTES A PARTIR DE LA SEMANA 14","DE 3 A 8 AÑOS","DE 9 A 17 AÑOS ","DE 18 A 59 AÑOS ","V.  P.  H.","ESQUEMA PRE EXPOSICIÓN (I.M.)  ","ESQUEMA POST EXPOSICION Número de dosis aplicadas ","ESQUEMA POST EXPOSICION ACORTADO (ZAGREB) Número de dosis aplicadas","POST EXPOSICION (USUARIOS CON  ESQUEMA DE VACUNACION COMPLETO)","INMUNOGLOBULINA ANTIRRÁBICA(Número de frascos utilizados)","No. De personas que recibieron inmunoglobulina antirrabica.","Número de frascos utilizados","N° recién nacidos que recibieron dosis de Ig en las primeras 12 horas","N° recién nacidos que recibieron dosis de Ig despues de las primeras 12 horas","Número de frascos utilizados","N° Personas que recibieron dosis de Ig","Número de frascos utilizados","N° Personas Tratadas","Número de frascos utilizados","N° Personas Tratadas","1a MENINGOCOCO                                      ","FIEBRE TIFOIDEA","HERPES ZOSTER ","TOTAL DOSIS"]
[null,null,"Bogotá","FEMENINO",0,0,0,0,0,0,0,0,0,0,0,0,0,0,0,0,0,0,0,0,0,0,0,8,6,3,0,204,116,51,6,{"v":2996,"d":"2,996"},{"v":1499,"d":"1,499"},{"v":1190,"d":"1,190"},567,1,3,2,1,0,0,0,0,0,0,0,0,0,0,0,0,0,0,231,5,2,1,0,0,1,2,0,0,0,0,0,0,9,339,336,308,0,0,3,0,0,1,0,0,0,0,0,0,0,0,0,9,0,0,1,0,0,0,1,0,0,0,0,1,5,9,0,0,0,0,0,0,0,0,0,0,0,0,0,0,0,0,2,0,15,0,0,2,6,0,1,241,1,0,0,2,39,0,0,0,0,0,0,0,0,0,0,0,0,0,0,0,0,0,0,0,0,0,0,1,0,0,2,0,0,0,8,1,0,0,0,0,0,0,0,0,0,0,0,0,0,0,0,0,0,0,0,0,0,0,0,0,0,0,0,0,0,0,0,111,116,111,63,140,172,0,0,3,149,0,27,112,105,32,64,23,426,54,41,31,3,0,1,0,3,0,2,4,3,7,117,{"v":1033,"d":"1,033"},34,0,0,1,1,1,0,112,139,0,0,2,16,0,0,0,0,0,0,1,3,0,13,95,4,0,0,0,0,51,8,5,1,2,3,2,1,6,5,1,0,3,23,205,85,58,23,84,193,3,60,5,20,1,15,5,12,5,15,4,10,2,9,3,2,26,23,278,55,0,0,0,0,0,0,0,0,0,0,0,0,0,0,0,0,0,0,0,0,0,0,0,0,1,0,0,41,3,4,215,126,53,25,1,5,0,4,1,0,2,3,11,2,0,0,139,56,942,0,0,0,0,0,0,0,0,0,0,3,1,2,1,1,1,0,0,0,49,34,9,3,0,{"v":1414,"d":"1,414"},646,411,269,199,36,0,0,0,0,0,0,0,0,0,0,0,0,0,1,0,0,0,103,71,41,19,22,35,21,13,4,1,0,0,0,0,0,0,9,0,0,0,0,0,0,0,0,0,7,0,0,0,0,182,0,0,0,0,{"v":1985,"d":"1,985"},5,1,1,0,0,0,0,0,217,223,79,84,140,5,6,311,752,52,8,1,{"v":1367,"d":"1,367"},883,{"v":6975,"d":"6,975"},4,3,3,4,3,15,4,5,15,4,6,9,4,4,9,5,4,5,3,6,15,5,2,11,2,1,10,521,432,249,55,51,35,0,0,0,0,0,0,0,0,0,0,0,0,0,0,0,0,0,0,0,335,236,29,71,64,4,18,429,97,25,7,143,{"$f":"SUM(E8:QK8)-SUM(PZ8:QC8)-SUM(QF8:QI8)","v":{"v":20313,"d":"20,313"}},null,{"$f":"SUM(E8:AM8)","v":{"v":6646,"d":"6,646.0"}},{"$f":"SUM(AN8:BT8)","v":{"v":258,"d":"258.0"}},{"$f":"SUM(BU8:DA8)","v":{"v":1013,"d":"1,013.0"}},{"$f":"SUM(DB8:EF8)","v":{"v":309,"d":"309.0"}},{"$f":"SUM(EG8:FK8)","v":{"v":12,"d":"12.0"}},{"$f":"SUM(FL8:GP8)","v":{"v":0,"d":"0.0"}},{"$f":"SUM(GQ8:GS8)","v":{"v":338,"d":"338.0"}},{"$f":"SUM(GT8:HD8)","v":{"v":771,"d":"771.0"}},{"$f":"SUM(HE8:HJ8)","v":{"v":640,"d":"640.0"}},{"$f":"SUM(HK8:IE8)","v":{"v":1353,"d":"1,353.0"}},{"$f":"SUM(IF8:IZ8)","v":{"v":273,"d":"273.0"}},{"$f":"SUM(JA8:JR8)","v":{"v":482,"d":"482.0"}},{"$f":"SUM(JS8:KN8)","v":{"v":830,"d":"830.0"}},{"$f":"SUM(KO8:LU8)","v":{"v":443,"d":"443.0"}},{"$f":"SUM(LV8:MK8)","v":{"v":1191,"d":"1,191.0"}},{"$f":"SUM(ML8:OP8)","v":{"v":3410,"d":"3,410.0"}},{"$f":"SUM(OQ8:PF8)","v":{"v":9,"d":"9.0"}},{"$f":"SUM(PG8:PY8)","v":{"v":2181,"d":"2,181.0"}},{"$f":"SUM(PZ8:QA8)","v":{"v":440,"d":"440.0"}},{"$f":"SUM(QB8:QD8)","v":{"v":303,"d":"303.0"}},{"$f":"SUM(QE8:QG8)","v":{"v":322,"d":"322.0"}},{"$f":"SUM(QH8)","v":{"v":752,"d":"752.0"}},{"$f":"SUM(QI8)","v":{"v":52,"d":"52.0"}},{"$f":"SUM(QJ8:QL8)","v":{"v":1376,"d":"1,376.0"}},{"$f":"SUM(QM8)","v":{"v":883,"d":"883.0"}},{"$f":"SUM(QN8)","v":{"v":6975,"d":"6,975.0"}},{"$f":"SUM(QO8:RR8)","v":{"v":1363,"d":"1,363.0"}},{"$f":"SUM(RS8:RU8)","v":{"v":141,"d":"141.0"}},{"$f":"SUM(RV8:RY8)","v":{"v":0,"d":"0.0"}},{"$f":"SUM(RZ8:SB8)","v":{"v":0,"d":"0.0"}},{"$f":"SUM(SC8)","v":{"v":0,"d":"0.0"}},{"v":0,"d":"0.0"},{"v":0,"d":"0.0"},{"v":0,"d":"0.0"},{"v":0,"d":"0.0"},{"v":0,"d":"0.0"},{"v":0,"d":"0.0"},{"v":0,"d":"0.0"},{"v":0,"d":"0.0"},{"v":0,"d":"0.0"},{"v":0,"d":"0.0"},{"v":0,"d":"0.0"},{"$f":"SUM(SO8:SV8)","v":{"v":1186,"d":"1,186.0"}},{"$f":"SUM(SW8:SX8)","v":{"v":122,"d":"122.0"}},{"$f":"SUM(SY8:SZ8)","v":{"v":150,"d":"150.0"}},{"$f":"SUM(TC8:UU8)-SUM(UE8:UG8)-SUM(UK8:UP8)","v":{"v":34224,"d":"34,224"}}]
[{"$nulls":3},"MASCULINO",1,0,1,0,0,0,0,0,0,0,0,0,0,0,0,0,0,0,1,1,0,0,0,6,6,2,0,83,31,18,0,{"v":2567,"d":"2,567"},{"v":1020,"d":"1,020"},620,350,1,4,2,1,0,1,0,0,0,0,0,0,0,0,0,0,0,0,207,11,1,0,0,0,0,3,0,0,0,0,0,0,3,343,359,309,0,0,2,0,1,0,0,0,0,0,0,0,0,0,0,10,2,0,0,0,0,0,1,1,0,0,0,0,3,11,0,0,0,0,0,0,0,0,0,0,0,0,0,0,0,0,0,0,15,1,1,1,10,0,1,260,0,0,0,2,33,0,0,0,0,0,0,0,0,0,0,0,0,0,0,0,1,0,0,0,0,0,0,0,0,0,2,0,0,0,0,2,0,0,0,0,0,0,0,0,0,0,0,0,0,0,0,0,0,0,0,0,0,0,0,0,0,0,0,0,0,0,2,123,117,94,83,158,139,0,0,4,132,2,35,268,101,32,48,11,569,62,108,37,3,1,1,2,0,1,3,3,3,15,73,634,22,0,1,1,4,1,1,81,110,0,0,1,31,0,0,0,0,1,0,0,4,2,13,90,4,1,1,0,0,59,8,2,2,3,5,2,1,4,1,5,2,3,56,322,120,77,39,54,178,1,55,2,23,4,8,5,17,4,8,3,9,3,8,3,4,23,19,275,88,0,0,0,0,0,0,0,0,0,0,1,0,0,1,0,0,0,0,0,0,0,1,0,0,0,0,0,25,4,1,212,119,46,32,2,4,1,3,1,4,0,1,14,3,1,0,76,35,506,0,0,0,0,0,0,0,0,0,0,0,0,0,0,0,0,0,0,0,0,0,0,0,0,0,0,0,0,0,0,0,0,0,149,33,7,0,0,{"v":4177,"d":"4,177"},{"v":1457,"d":"1,457"},645,202,56,12,0,0,0,266,117,65,22,10,75,30,17,13,3,0,0,0,0,0,0,0,0,0,0,0,0,0,0,0,0,4,0,0,0,2,142,0,0,0,0,{"v":1866,"d":"1,866"},0,0,0,0,0,0,0,0,195,251,86,71,150,4,4,360,712,0,14,5,{"v":1346,"d":"1,346"},723,{"v":6344,"d":"6,344"},6,1,0,10,7,6,20,11,4,11,5,4,17,11,8,15,6,7,10,6,3,13,7,7,5,6,3,82,61,40,39,33,24,0,0,0,0,0,0,0,0,0,0,0,0,0,0,0,0,0,0,0,327,194,38,52,53,1,16,375,145,48,6,75,{"v":21686,"d":"21,686"},null,{"$f":"SUM(E9:AM9)","v":{"v":4707,"d":"4,707.0"}},{"$f":"SUM(AN9:BT9)","v":{"v":234,"d":"234.0"}},{"$f":"SUM(BU9:DA9)","v":{"v":1042,"d":"1,042.0"}},{"$f":"SUM(DB9:EF9)","v":{"v":324,"d":"324.0"}},{"$f":"SUM(EG9:FK9)","v":{"v":5,"d":"5.0"}},{"$f":"SUM(FL9:GP9)","v":{"v":2,"d":"2.0"}},{"$f":"SUM(GQ9:GS9)","v":{"v":334,"d":"334.0"}},{"$f":"SUM(GT9:HD9)","v":{"v":922,"d":"922.0"}},{"$f":"SUM(HE9:HJ9)","v":{"v":830,"d":"830.0"}},{"$f":"SUM(HK9:IE9)","v":{"v":887,"d":"887.0"}},{"$f":"SUM(IF9:IZ9)","v":{"v":258,"d":"258.0"}},{"$f":"SUM(JA9:JR9)","v":{"v":711,"d":"711.0"}},{"$f":"SUM(JS9:KN9)","v":{"v":794,"d":"794.0"}},{"$f":"SUM(KO9:LU9)","v":{"v":410,"d":"410.0"}},{"$f":"SUM(LV9:MK9)","v":{"v":683,"d":"683.0"}},{"$f":"SUM(ML9:OP9)","v":{"v":7356,"d":"7,356.0"}},{"$f":"SUM(OQ9:PF9)","v":{"v":0,"d":"0.0"}},{"$f":"SUM(PG9:PY9)","v":{"v":2014,"d":"2,014.0"}},{"$f":"SUM(PZ9:QA9)","v":{"v":446,"d":"446.0"}},{"$f":"SUM(QB9:QD9)","v":{"v":307,"d":"307.0"}},{"$f":"SUM(QE9:QG9)","v":{"v":368,"d":"368.0"}},{"$f":"SUM(QH9)","v":{"v":712,"d":"712.0"}},{"$f":"SUM(QI9)","v":{"v":0,"d":"0.0"}},{"$f":"SUM(QJ9:QL9)","v":{"v":1365,"d":"1,365.0"}},{"$f":"SUM(QM9)","v":{"v":723,"d":"723.0"}},{"$f":"SUM(QN9)","v":{"v":6344,"d":"6,344.0"}},{"$f":"SUM(QO9:RR9)","v":{"v":392,"d":"392.0"}},{"$f":"SUM(RS9:RU9)","v":{"v":96,"d":"96.0"}},{"$f":"SUM(RV9:RY9)","v":{"v":0,"d":"0.0"}},{"$f":"SUM(RZ9:SB9)","v":{"v":0,"d":"0.0"}},{"v":0,"d":"0.0"},{"v":0,"d":"0.0"},{"v":0,"d":"0.0"},{"v":0,"d":"0.0"},{"v":0,"d":"0.0"},{"v":0,"d":"0.0"},{"v":0,"d":"0.0"},{"v":0,"d":"0.0"},{"v":0,"d":"0.0"},{"v":0,"d":"0.0"},{"v":0,"d":"0.0"},{"v":0,"d":"0.0"},{"$f":"SUM(SO9:SV9)","v":{"v":1056,"d":"1,056.0"}},{"$f":"SUM(SW9:SX9)","v":{"v":193,"d":"193.0"}},{"$f":"SUM(SY9:SZ9)","v":{"v":81,"d":"81.0"}},{"$f":"SUM(TC9:UU9)-SUM(UE9:UG9)-SUM(UK9:UP9)","v":{"v":33596,"d":"33,596"}}]
[{"$nulls":3},"OTRO",0,0,0,0,0,0,0,0,0,0,0,0,0,0,0,0,0,0,0,0,0,0,0,0,0,0,0,0,0,0,0,0,0,0,0,0,0,0,0,0,0,0,0,0,0,0,0,0,0,0,0,0,0,0,0,0,0,0,0,0,0,0,0,0,0,0,0,0,0,0,0,0,0,0,0,0,0,0,0,0,0,0,0,0,0,0,0,0,0,0,0,0,0,0,0,0,0,0,0,0,0,0,0,0,0,0,0,0,0,0,0,0,0,0,0,0,0,0,0,0,0,0,0,0,0,0,0,0,0,0,0,0,0,0,0,0,0,0,0,0,0,0,0,0,0,0,0,0,0,0,0,0,0,0,0,0,0,0,0,0,0,0,0,0,0,0,0,0,0,0,0,0,0,0,0,0,0,0,0,0,0,0,0,0,0,0,0,0,0,0,0,0,0,0,0,0,0,0,0,0,0,0,0,0,0,0,0,0,0,0,0,0,0,0,0,0,0,0,0,0,0,0,0,0,0,0,0,0,0,0,0,0,0,0,0,0,0,0,0,0,0,0,0,0,0,0,0,0,0,0,0,0,0,0,0,0,0,0,0,0,0,0,0,0,0,0,0,0,0,0,2,0,0,0,0,0,0,0,0,0,0,0,0,0,0,0,0,0,0,0,0,0,0,0,0,0,0,0,0,0,0,0,0,0,0,0,0,0,0,0,0,0,0,0,0,0,0,0,0,0,0,0,0,0,0,0,0,0,0,0,0,0,0,0,0,0,0,0,0,0,0,0,0,0,0,0,0,0,0,0,0,0,0,0,0,0,0,0,0,0,0,0,0,0,0,0,0,0,0,0,0,0,0,0,0,0,0,0,0,0,0,0,0,2,0,0,0,0,0,0,0,0,0,0,0,0,0,0,0,0,0,0,0,0,0,0,0,0,0,0,0,0,0,0,0,0,0,0,0,0,0,0,0,0,0,0,0,0,0,0,0,0,0,0,0,0,0,0,0,0,0,0,0,0,0,0,0,0,0,0,0,1,0,0,0,0,0,0,0,0,0,0,0,0,0,0,0,0,0,0,0,0,0,0,0,0,0,0,0,0,0,0,0,0,0,0,0,0,0,0,0,0,0,0,0,0,0,0,0,0,0,0,0,0,0,0,0,0,0,0,0,0,0,0,0,0,4,null,{"$f":"SUM(E10:AM10)","v":{"v":0,"d":"0.0"}},{"$f":"SUM(AN10:BT10)","v":{"v":0,"d":"0.0"}},{"$f":"SUM(BU10:DA10)","v":{"v":0,"d":"0.0"}},{"$f":"SUM(DB10:EF10)","v":{"v":0,"d":"0.0"}},{"$f":"SUM(EG10:FK10)","v":{"v":0,"d":"0.0"}},{"$f":"SUM(FL10:GP10)","v":{"v":0,"d":"0.0"}},{"$f":"SUM(GQ10:GS10)","v":{"v":0,"d":"0.0"}},{"$f":"SUM(GT10:HD10)","v":{"v":0,"d":"0.0"}},{"$f":"SUM(HE10:HJ10)","v":{"v":0,"d":"0.0"}},{"$f":"SUM(HK10:IE10)","v":{"v":0,"d":"0.0"}},{"$f":"SUM(IF10:IZ10)","v":{"v":0,"d":"0.0"}},{"$f":"SUM(JA10:JR10)","v":{"v":2,"d":"2.0"}},{"$f":"SUM(JS10:KN10)","v":{"v":0,"d":"0.0"}},{"$f":"SUM(KO10:LU10)","v":{"v":0,"d":"0.0"}},{"$f":"SUM(LV10:MK10)","v":{"v":0,"d":"0.0"}},{"$f":"SUM(ML10:OP10)","v":{"v":2,"d":"2.0"}},{"$f":"SUM(OQ10:PF10)","v":{"v":0,"d":"0.0"}},{"$f":"SUM(PG10:PY10)","v":{"v":0,"d":"0.0"}},{"v":0,"d":"0.0"},{"v":0,"d":"0.0"},{"v":0,"d":"0.0"},{"v":0,"d":"0.0"},{"v":0,"d":"0.0"},{"v":0,"d":"0.0"},{"v":0,"d":"0.0"},{"v":1,"d":"1.0"},{"$f":"SUM(QO10:RR10)","v":{"v":0,"d":"0.0"}},{"$f":"SUM(RS10:RU10)","v":{"v":0,"d":"0.0"}},{"$f":"SUM(RV10:RY10)","v":{"v":0,"d":"0.0"}},{"$f":"SUM(RZ10:SB10)","v":{"v":0,"d":"0.0"}},{"v":0,"d":"0.0"},{"v":0,"d":"0.0"},{"v":0,"d":"0.0"},{"v":0,"d":"0.0"},{"v":0,"d":"0.0"},{"v":0,"d":"0.0"},{"v":0,"d":"0.0"},{"v":0,"d":"0.0"},{"v":0,"d":"0.0"},{"v":0,"d":"0.0"},{"v":0,"d":"0.0"},{"v":0,"d":"0.0"},{"$f":"SUM(SO10:SV10)","v":{"v":0,"d":"0.0"}},{"$f":"SUM(SW10:SX10)","v":{"v":0,"d":"0.0"}},{"$f":"SUM(SY10:SZ10)","v":{"v":0,"d":"0.0"}},5]
[{"$nulls":3},"TOTAL GENERO",1,0,1,0,0,0,0,0,0,0,0,0,0,0,0,0,0,0,1,1,0,0,0,14,12,5,0,287,147,69,6,{"v":5563,"d":"5,563"},{"v":2519,"d":"2,519"},{"v":1810,"d":"1,810"},917,2,7,4,2,0,1,0,0,0,0,0,0,0,0,0,0,0,0,438,16,3,1,0,0,1,5,0,0,0,0,0,0,12,682,695,617,0,0,5,0,1,1,0,0,0,0,0,0,0,0,0,19,2,0,1,0,0,0,2,1,0,0,0,1,8,20,0,0,0,0,0,0,0,0,0,0,0,0,0,0,0,0,2,0,30,1,1,3,16,0,2,501,1,0,0,4,72,0,0,0,0,0,0,0,0,0,0,0,0,0,0,0,1,0,0,0,0,0,0,1,0,0,4,0,0,0,8,3,0,0,0,0,0,0,0,0,0,0,0,0,0,0,0,0,0,0,0,0,0,0,0,0,0,0,0,0,0,0,2,234,233,205,146,298,311,0,0,7,281,2,62,380,206,64,112,34,995,116,149,68,6,1,2,2,3,1,5,7,6,22,190,{"v":1667,"d":"1,667"},56,0,1,2,5,2,1,193,249,0,0,3,47,0,0,0,0,1,0,1,7,2,26,185,8,1,1,0,0,110,16,7,3,5,8,4,2,10,6,6,2,6,79,529,205,135,62,138,371,4,115,7,43,5,23,10,29,9,23,7,19,5,17,6,6,49,42,553,143,0,0,0,0,0,0,0,0,0,0,1,0,0,1,0,0,0,0,0,0,0,1,0,0,1,0,0,66,7,5,427,245,99,57,3,9,1,7,2,4,2,4,25,5,1,0,215,91,{"v":1448,"d":"1,448"},0,0,0,0,0,0,0,0,0,0,3,1,2,1,1,1,0,0,0,49,34,9,3,0,{"v":1414,"d":"1,414"},646,411,269,199,36,0,0,0,149,33,7,0,0,{"v":4179,"d":"4,179"},{"v":1457,"d":"1,457"},645,202,56,13,0,0,0,369,188,106,41,32,110,51,30,17,4,0,0,0,0,0,0,9,0,0,0,0,0,0,0,0,0,11,0,0,0,2,324,0,0,0,0,{"v":3851,"d":"3,851"},5,1,1,0,0,0,0,0,412,474,165,155,290,9,10,671,{"v":1464,"d":"1,464"},52,22,6,{"v":2713,"d":"2,713"},{"v":1606,"d":"1,606"},{"v":13320,"d":"13,320"},10,4,3,14,10,21,24,16,19,15,11,13,21,15,17,20,10,12,13,12,18,18,9,18,7,7,13,603,493,289,94,84,59,0,0,0,0,0,0,0,0,0,0,0,0,0,0,0,0,0,0,0,662,430,67,123,117,5,34,804,242,73,13,218,{"$f":"SUM(TA8:TA10)","v":{"v":42003,"d":"42,003"}},null,{"$f":"SUM(TC8:TC10)","v":{"v":11353,"d":"11,353.0"}},{"$f":"SUM(TD8:TD10)","v":{"v":492,"d":"492.0"}},{"v":2055,"d":"2,055.0"},{"v":633,"d":"633.0"},{"v":17,"d":"17.0"},{"v":2,"d":"2.0"},{"v":672,"d":"672.0"},{"v":1693,"d":"1,693.0"},{"v":1470,"d":"1,470.0"},{"v":2240,"d":"2,240.0"},{"v":531,"d":"531.0"},{"v":1195,"d":"1,195.0"},{"v":1624,"d":"1,624.0"},{"v":853,"d":"853.0"},{"v":1874,"d":"1,874.0"},{"v":10768,"d":"10,768.0"},{"v":9,"d":"9.0"},{"v":4195,"d":"4,195.0"},{"$f":"SUM(TU8:TU10)","v":{"v":886,"d":"886.0"}},{"v":610,"d":"610.0"},{"v":690,"d":"690.0"},{"v":1464,"d":"1,464.0"},{"v":52,"d":"52.0"},{"v":2741,"d":"2,741.0"},{"v":1606,"d":"1,606.0"},{"v":13320,"d":"13,320.0"},{"v":1755,"d":"1,755.0"},{"v":237,"d":"237.0"},{"v":0,"d":"0.0"},{"v":0,"d":"0.0"},{"v":0,"d":"0.0"},{"v":0,"d":"0.0"},{"v":0,"d":"0.0"},{"v":0,"d":"0.0"},{"v":0,"d":"0.0"},{"v":0,"d":"0.0"},{"v":0,"d":"0.0"},{"v":0,"d":"0.0"},{"v":0,"d":"0.0"},{"v":0,"d":"0.0"},{"v":0,"d":"0.0"},{"v":0,"d":"0.0"},{"v":2242,"d":"2,242.0"},{"v":315,"d":"315.0"},{"v":231,"d":"231.0"},{"$f":"SUM(UV8,UV9,UV10)","v":{"v":67825,"d":"67,825"}}]
[{"$nulls":3},"CONTRIBUTIVO",1,0,1,0,0,0,0,0,0,0,0,0,0,0,0,0,0,0,0,1,0,0,0,12,9,4,0,207,121,58,6,{"v":4512,"d":"4,512"},{"v":2190,"d":"2,190"},{"v":1610,"d":"1,610"},792,2,6,4,2,0,1,0,0,0,0,0,0,0,0,0,0,0,0,430,14,3,1,0,0,1,5,0,0,0,0,0,0,10,647,663,585,0,0,3,0,1,0,0,0,0,0,0,0,0,0,0,17,1,0,0,0,0,0,2,1,0,0,0,0,7,14,0,0,0,0,0,0,0,0,0,0,0,0,0,0,0,0,2,0,22,0,1,2,14,0,2,479,1,0,0,4,43,0,0,0,0,0,0,0,0,0,0,0,0,0,0,0,1,0,0,0,0,0,0,1,0,0,4,0,0,0,8,3,0,0,0,0,0,0,0,0,0,0,0,0,0,0,0,0,0,0,0,0,0,0,0,0,0,0,0,0,0,0,2,225,225,199,137,286,298,0,0,6,274,2,49,255,170,63,108,32,788,56,91,63,4,1,2,2,3,1,4,6,6,14,112,{"v":1107,"d":"1,107"},54,0,1,2,4,2,1,110,237,0,0,3,42,0,0,0,0,1,0,0,1,1,13,172,4,1,1,0,0,98,14,7,2,3,8,2,2,6,6,6,1,6,23,306,177,105,53,126,364,1,110,2,40,0,22,2,27,0,22,1,18,2,16,2,6,21,38,457,107,0,0,0,0,0,0,0,0,0,0,1,0,0,1,0,0,0,0,0,0,0,0,0,0,0,0,0,44,6,4,324,155,95,49,3,6,1,5,2,4,2,2,17,1,0,0,162,78,{"v":1118,"d":"1,118"},0,0,0,0,0,0,0,0,0,0,2,0,1,0,1,0,0,0,0,29,29,8,2,0,{"v":1122,"d":"1,122"},459,303,212,158,35,0,0,0,97,30,5,0,0,{"v":3651,"d":"3,651"},{"v":1349,"d":"1,349"},93,22,0,1,0,0,0,343,183,103,41,30,99,48,29,17,4,0,0,0,0,0,0,3,0,0,0,0,0,0,0,0,0,10,0,0,0,2,265,0,0,0,0,{"v":3118,"d":"3,118"},5,1,1,0,0,0,0,0,401,467,157,151,276,9,10,635,{"v":1306,"d":"1,306"},51,21,5,{"v":2563,"d":"2,563"},{"v":1403,"d":"1,403"},{"v":11753,"d":"11,753"},10,4,2,14,10,20,19,15,19,14,10,13,21,13,16,18,9,12,13,12,18,17,9,18,7,7,12,556,459,268,76,73,52,0,0,0,0,0,0,0,0,0,0,0,0,0,0,0,0,0,0,0,641,418,65,119,112,5,32,656,125,17,12,205,{"v":34283,"d":"34,283"},null,{"$f":"SUM(E12:AM12)","v":{"v":9524,"d":"9,524.0"}},{"$f":"SUM(AN12:BT12)","v":{"v":479,"d":"479.0"}},{"$f":"SUM(BU12:DA12)","v":{"v":1941,"d":"1,941.0"}},{"$f":"SUM(DB12:EF12)","v":{"v":570,"d":"570.0"}},{"$f":"SUM(EG12:FK12)","v":{"v":17,"d":"17.0"}},{"$f":"SUM(FL12:GP12)","v":{"v":2,"d":"2.0"}},{"$f":"SUM(GQ12:GS12)","v":{"v":649,"d":"649.0"}},{"$f":"SUM(GT12:HD12)","v":{"v":1477,"d":"1,477.0"}},{"$f":"SUM(HE12:HJ12)","v":{"v":1138,"d":"1,138.0"}},{"$f":"SUM(HK12:IE12)","v":{"v":1499,"d":"1,499.0"}},{"$f":"SUM(IF12:IZ12)","v":{"v":476,"d":"476.0"}},{"$f":"SUM(JA12:JR12)","v":{"v":825,"d":"825.0"}},{"$f":"SUM(JS12:KN12)","v":{"v":1384,"d":"1,384.0"}},{"$f":"SUM(KO12:LU12)","v":{"v":630,"d":"630.0"}},{"$f":"SUM(LV12:MK12)","v":{"v":1450,"d":"1,450.0"}},{"$f":"SUM(ML12:OP12)","v":{"v":8506,"d":"8,506.0"}},{"$f":"SUM(OQ12:PF12)","v":{"v":3,"d":"3.0"}},{"$f":"SUM(PG12:PY12)","v":{"v":3402,"d":"3,402.0"}},{"$f":"SUM(PZ12:QA12)","v":{"v":868,"d":"868.0"}},{"$f":"SUM(QB12:QD12)","v":{"v":584,"d":"584.0"}},{"$f":"SUM(QE12:QG12)","v":{"v":654,"d":"654.0"}},{"$f":"SUM(QH12)","v":{"v":1306,"d":"1,306.0"}},{"$f":"SUM(QI12)","v":{"v":51,"d":"51.0"}},{"$f":"SUM(QJ12:QL12)","v":{"v":2589,"d":"2,589.0"}},{"$f":"SUM(QM12)","v":{"v":1403,"d":"1,403.0"}},{"$f":"SUM(QN12)","v":{"v":11753,"d":"11,753.0"}},{"$f":"SUM(QO12:RR12)","v":{"v":1635,"d":"1,635.0"}},{"$f":"SUM(RS12:RU12)","v":{"v":201,"d":"201.0"}},{"$f":"SUM(RV12:RY12)","v":{"v":0,"d":"0.0"}},{"$f":"SUM(RZ12:SB12)","v":{"v":0,"d":"0.0"}},{"$f":"SUM(SC12)","v":{"v":0,"d":"0.0"}},{"v":0,"d":"0.0"},{"v":0,"d":"0.0"},{"v":0,"d":"0.0"},{"v":0,"d":"0.0"},{"v":0,"d":"0.0"},{"v":0,"d":"0.0"},{"v":0,"d":"0.0"},{"v":0,"d":"0.0"},{"v":0,"d":"0.0"},{"v":0,"d":"0.0"},{"v":0,"d":"0.0"},{"$f":"SUM(SO12:SV12)","v":{"v":2048,"d":"2,048.0"}},{"$f":"SUM(SW12:SX12)","v":{"v":142,"d":"142.0"}},{"$f":"SUM(SY12:SZ12)","v":{"v":217,"d":"217.0"}},{"$f":"SUM(TC12:UU12)-SUM(UE12:UG12)-SUM(UK12:UP12)","v":{"v":57423,"d":"57,423"}}]
[{"$nulls":3},"SUBSIDIADO",0,0,0,0,0,0,0,0,0,0,0,0,0,0,0,0,0,0,0,0,0,0,0,1,1,1,0,20,16,5,0,482,203,114,88,0,1,0,0,0,0,0,0,0,0,0,0,0,0,0,0,0,0,0,0,0,0,0,0,0,0,0,0,0,0,0,0,2,4,4,4,0,0,1,0,0,0,0,0,0,0,0,0,0,0,0,0,1,0,0,0,0,0,0,0,0,0,0,1,0,0,0,0,0,0,0,0,0,0,0,0,0,0,0,0,0,0,0,0,0,0,0,0,1,0,0,9,0,0,0,0,4,0,0,0,0,0,0,0,0,0,0,0,0,0,0,0,0,0,0,0,0,0,0,0,0,0,0,0,0,0,0,0,0,0,0,0,0,0,0,0,0,0,0,0,0,0,0,0,0,0,0,0,0,0,0,0,0,0,0,0,0,0,0,0,1,1,1,1,1,0,0,0,0,0,1,115,30,0,1,2,164,9,18,0,1,0,0,0,0,0,0,0,0,1,7,95,1,0,0,0,0,0,0,8,0,0,0,0,4,0,0,0,0,0,0,1,2,0,1,2,0,0,0,0,0,0,1,0,0,0,0,0,0,0,0,0,0,0,1,25,2,2,0,1,0,1,0,0,0,2,0,0,0,0,0,1,0,0,0,1,0,1,0,25,4,0,0,0,0,0,0,0,0,0,0,0,0,0,0,0,0,0,0,0,0,0,0,0,0,0,0,0,4,0,1,18,8,3,0,0,0,0,0,0,0,0,0,0,0,0,0,10,1,95,0,0,0,0,0,0,0,0,0,0,0,0,0,0,0,1,0,0,0,5,3,0,1,0,132,50,20,24,8,1,0,0,0,10,3,0,0,0,214,50,8,1,0,0,0,0,0,11,2,2,0,2,5,1,1,0,0,0,0,0,0,0,0,0,0,0,0,0,0,0,0,0,0,0,0,0,0,0,4,0,0,0,0,97,0,0,0,0,0,0,0,0,0,0,0,0,3,0,0,3,22,1,1,0,26,19,468,0,0,0,0,0,0,1,0,0,0,0,0,0,0,1,1,0,0,0,0,0,0,0,0,0,0,1,14,9,4,10,2,1,0,0,0,0,0,0,0,0,0,0,0,0,0,0,0,0,0,0,0,2,2,1,1,1,0,0,12,6,0,0,1,{"v":2298,"d":"2,298"},null,{"$f":"SUM(E13:AM13)","v":{"v":931,"d":"931.0"}},{"$f":"SUM(AN13:BT13)","v":{"v":3,"d":"3.0"}},{"$f":"SUM(BU13:DA13)","v":{"v":15,"d":"15.0"}},{"$f":"SUM(DB13:EF13)","v":{"v":14,"d":"14.0"}},{"$f":"SUM(EG13:FK13)","v":{"v":0,"d":"0.0"}},{"$f":"SUM(FL13:GP13)","v":{"v":0,"d":"0.0"}},{"$f":"SUM(GQ13:GS13)","v":{"v":2,"d":"2.0"}},{"$f":"SUM(GT13:HD13)","v":{"v":149,"d":"149.0"}},{"$f":"SUM(HE13:HJ13)","v":{"v":194,"d":"194.0"}},{"$f":"SUM(HK13:IE13)","v":{"v":113,"d":"113.0"}},{"$f":"SUM(IF13:IZ13)","v":{"v":10,"d":"10.0"}},{"$f":"SUM(JA13:JR13)","v":{"v":31,"d":"31.0"}},{"$f":"SUM(JS13:KN13)","v":{"v":36,"d":"36.0"}},{"$f":"SUM(KO13:LU13)","v":{"v":34,"d":"34.0"}},{"$f":"SUM(LV13:MK13)","v":{"v":106,"d":"106.0"}},{"$f":"SUM(ML13:OP13)","v":{"v":555,"d":"555.0"}},{"$f":"SUM(OQ13:PF13)","v":{"v":0,"d":"0.0"}},{"$f":"SUM(PG13:PY13)","v":{"v":101,"d":"101.0"}},{"$f":"SUM(PZ13:QA13)","v":{"v":0,"d":"0.0"}},{"$f":"SUM(QB13:QD13)","v":{"v":3,"d":"3.0"}},{"$f":"SUM(QE13:QG13)","v":{"v":3,"d":"3.0"}},{"v":22,"d":"22.0"},{"v":1,"d":"1.0"},{"$f":"SUM(QJ13:QL13)","v":{"v":27,"d":"27.0"}},{"v":19,"d":"19.0"},{"v":468,"d":"468.0"},{"$f":"SUM(QO13:RR13)","v":{"v":31,"d":"31.0"}},{"$f":"SUM(RS13:RU13)","v":{"v":13,"d":"13.0"}},{"$f":"SUM(RV13:RY13)","v":{"v":0,"d":"0.0"}},{"$f":"SUM(RZ13:SB13)","v":{"v":0,"d":"0.0"}},{"v":0,"d":"0.0"},{"v":0,"d":"0.0"},{"v":0,"d":"0.0"},{"v":0,"d":"0.0"},{"v":0,"d":"0.0"},{"v":0,"d":"0.0"},{"v":0,"d":"0.0"},{"v":0,"d":"0.0"},{"v":0,"d":"0.0"},{"v":0,"d":"0.0"},{"v":0,"d":"0.0"},{"v":0,"d":"0.0"},{"$f":"SUM(SO13:SV13)","v":{"v":19,"d":"19.0"}},{"$f":"SUM(SW13:SX13)","v":{"v":6,"d":"6.0"}},{"$f":"SUM(SY13:SZ13)","v":{"v":1,"d":"1.0"}},{"$f":"SUM(TC13:UU13)-SUM(UE13:UG13)-SUM(UK13:UP13)","v":{"v":2907,"d":"2,907"}}]
[{"$nulls":3},"POBRE NO ASEGURADO",0,0,0,0,0,0,0,0,0,0,0,0,0,0,0,0,0,0,1,0,0,0,0,1,0,0,0,1,1,1,0,264,24,12,3,0,0,0,0,0,0,0,0,0,0,0,0,0,0,0,0,0,0,1,2,0,0,0,0,0,0,0,0,0,0,0,0,0,3,5,3,0,0,1,0,0,0,0,0,0,0,0,0,0,0,0,1,0,0,0,0,0,0,0,0,0,0,0,0,0,1,0,0,0,0,0,0,0,0,0,0,0,0,0,0,0,0,0,0,0,1,0,1,0,0,0,2,0,0,0,0,24,0,0,0,0,0,0,0,0,0,0,0,0,0,0,0,0,0,0,0,0,0,0,0,0,0,0,0,0,0,0,0,0,0,0,0,0,0,0,0,0,0,0,0,0,0,0,0,0,0,0,0,0,0,0,0,0,0,0,0,0,0,0,3,3,1,3,6,3,0,0,1,2,0,6,0,1,0,0,0,3,28,0,3,1,0,0,0,0,0,1,1,0,4,11,180,0,0,0,0,1,0,0,65,4,0,0,0,0,0,0,0,0,0,0,0,3,1,11,5,4,0,0,0,0,3,1,0,1,1,0,1,0,4,0,0,1,0,1,50,13,12,5,6,1,2,3,5,0,3,0,8,1,9,0,5,0,3,0,3,0,21,1,14,1,0,0,0,0,0,0,0,0,0,0,0,0,0,0,0,0,0,0,0,0,0,1,0,0,1,0,0,15,0,0,73,77,0,2,0,2,0,2,0,0,0,2,1,4,0,0,31,2,67,0,0,0,0,0,0,0,0,0,0,0,0,0,0,0,0,0,0,0,1,1,0,0,0,38,6,4,1,2,0,0,0,0,2,0,0,0,0,97,16,0,0,0,0,0,0,0,12,2,1,0,0,2,1,0,0,0,0,0,0,0,0,0,1,0,0,0,0,0,0,0,0,0,1,0,0,0,0,25,0,0,0,0,403,0,0,0,0,0,0,0,0,2,0,2,0,4,0,0,4,55,0,0,1,47,61,404,0,0,0,0,0,0,2,0,0,0,0,0,0,0,0,0,1,0,0,0,0,0,0,0,0,0,0,13,3,4,4,5,2,0,0,0,0,0,0,0,0,0,0,0,0,0,0,0,0,0,0,0,3,3,0,0,0,0,1,54,76,1,0,2,{"v":1788,"d":"1,788"},null,{"$f":"SUM(E14:AM14)","v":{"v":308,"d":"308.0"}},{"$f":"SUM(AN14:BT14)","v":{"v":3,"d":"3.0"}},{"$f":"SUM(BU14:DA14)","v":{"v":14,"d":"14.0"}},{"$f":"SUM(DB14:EF14)","v":{"v":28,"d":"28.0"}},{"$f":"SUM(EG14:FK14)","v":{"v":0,"d":"0.0"}},{"$f":"SUM(FL14:GP14)","v":{"v":0,"d":"0.0"}},{"$f":"SUM(GQ14:GS14)","v":{"v":7,"d":"7.0"}},{"$f":"SUM(GT14:HD14)","v":{"v":22,"d":"22.0"}},{"$f":"SUM(HE14:HJ14)","v":{"v":31,"d":"31.0"}},{"$f":"SUM(HK14:IE14)","v":{"v":267,"d":"267.0"}},{"$f":"SUM(IF14:IZ14)","v":{"v":28,"d":"28.0"}},{"$f":"SUM(JA14:JR14)","v":{"v":93,"d":"93.0"}},{"$f":"SUM(JS14:KN14)","v":{"v":86,"d":"86.0"}},{"$f":"SUM(KO14:LU14)","v":{"v":167,"d":"167.0"}},{"$f":"SUM(LV14:MK14)","v":{"v":113,"d":"113.0"}},{"$f":"SUM(ML14:OP14)","v":{"v":186,"d":"186.0"}},{"$f":"SUM(OQ14:PF14)","v":{"v":1,"d":"1.0"}},{"$f":"SUM(PG14:PY14)","v":{"v":429,"d":"429.0"}},{"v":2,"d":"2.0"},{"v":6,"d":"6.0"},{"v":4,"d":"4.0"},{"v":55,"d":"55.0"},{"v":0,"d":"0.0"},{"v":48,"d":"48.0"},{"v":61,"d":"61.0"},{"v":404,"d":"404.0"},{"$f":"SUM(QO14:RR14)","v":{"v":23,"d":"23.0"}},{"$f":"SUM(RS14:RU14)","v":{"v":11,"d":"11.0"}},{"$f":"SUM(RV14:RY14)","v":{"v":0,"d":"0.0"}},{"$f":"SUM(RZ14:SB14)","v":{"v":0,"d":"0.0"}},{"v":0,"d":"0.0"},{"v":0,"d":"0.0"},{"v":0,"d":"0.0"},{"v":0,"d":"0.0"},{"v":0,"d":"0.0"},{"v":0,"d":"0.0"},{"v":0,"d":"0.0"},{"v":0,"d":"0.0"},{"v":0,"d":"0.0"},{"v":0,"d":"0.0"},{"v":0,"d":"0.0"},{"v":0,"d":"0.0"},{"$f":"SUM(SO14:SV14)","v":{"v":61,"d":"61.0"}},{"$f":"SUM(SW14:SX14)","v":{"v":77,"d":"77.0"}},{"$f":"SUM(SY14:SZ14)","v":{"v":2,"d":"2.0"}},{"v":2537,"d":"2,537"}]
[{"$nulls":3},"REGIMEN ESPECIAL",0,0,0,0,0,0,0,0,0,0,0,0,0,0,0,0,0,0,0,0,0,0,0,0,2,0,0,59,9,5,0,305,102,74,34,0,0,0,0,0,0,0,0,0,0,0,0,0,0,0,0,0,0,7,0,0,0,0,0,0,0,0,0,0,0,0,0,0,28,23,25,0,0,0,0,0,1,0,0,0,0,0,0,0,0,0,1,0,0,1,0,0,0,0,0,0,0,0,0,1,5,0,0,0,0,0,0,0,0,0,0,0,0,0,0,0,0,0,0,8,0,0,0,1,0,0,11,0,0,0,0,1,0,0,0,0,0,0,0,0,0,0,0,0,0,0,0,0,0,0,0,0,0,0,0,0,0,0,0,0,0,0,0,0,0,0,0,0,0,0,0,0,0,0,0,0,0,0,0,0,0,0,0,0,0,0,0,0,0,0,0,0,0,0,6,4,4,5,5,9,0,0,0,5,0,6,10,5,1,3,0,40,23,40,2,0,0,0,0,0,0,0,0,0,3,60,285,1,0,0,0,0,0,0,10,8,0,0,0,1,0,0,0,0,0,0,0,1,0,1,6,0,0,0,0,0,9,0,0,0,1,0,1,0,0,0,0,0,0,54,148,13,16,4,5,6,0,2,0,3,0,1,0,1,0,1,0,1,0,1,0,0,6,3,57,31,0,0,0,0,0,0,0,0,0,0,0,0,0,0,0,0,0,0,0,0,0,0,0,0,0,0,0,3,1,0,12,5,1,6,0,1,0,0,0,0,0,0,7,0,1,0,12,10,168,0,0,0,0,0,0,0,0,0,0,1,1,1,1,0,0,0,0,0,14,1,1,0,0,122,131,84,32,31,0,0,0,0,40,0,2,0,0,217,42,544,179,56,12,0,0,0,3,1,0,0,0,4,1,0,0,0,0,0,0,0,0,0,5,0,0,0,0,0,0,0,0,0,0,0,0,0,0,30,0,0,0,0,233,0,0,0,0,0,0,0,0,9,7,6,4,7,0,0,29,81,0,0,0,77,123,695,0,0,1,0,0,1,2,1,0,1,1,0,0,2,0,1,0,0,0,0,0,1,0,0,0,0,0,20,22,13,4,4,4,0,0,0,0,0,0,0,0,0,0,0,0,0,0,0,0,0,0,0,16,7,1,3,4,0,1,82,35,55,1,10,{"v":3634,"d":"3,634"},null,{"$f":"SUM(E15:AM15)","v":{"v":590,"d":"590.0"}},{"$f":"SUM(AN15:BT15)","v":{"v":7,"d":"7.0"}},{"$f":"SUM(BU15:DA15)","v":{"v":85,"d":"85.0"}},{"$f":"SUM(DB15:EF15)","v":{"v":21,"d":"21.0"}},{"$f":"SUM(EG15:FK15)","v":{"v":0,"d":"0.0"}},{"$f":"SUM(FL15:GP15)","v":{"v":0,"d":"0.0"}},{"$f":"SUM(GQ15:GS15)","v":{"v":14,"d":"14.0"}},{"$f":"SUM(GT15:HD15)","v":{"v":45,"d":"45.0"}},{"$f":"SUM(HE15:HJ15)","v":{"v":107,"d":"107.0"}},{"$f":"SUM(HK15:IE15)","v":{"v":361,"d":"361.0"}},{"$f":"SUM(IF15:IZ15)","v":{"v":17,"d":"17.0"}},{"$f":"SUM(JA15:JR15)","v":{"v":246,"d":"246.0"}},{"$f":"SUM(JS15:KN15)","v":{"v":118,"d":"118.0"}},{"$f":"SUM(KO15:LU15)","v":{"v":22,"d":"22.0"}},{"$f":"SUM(LV15:MK15)","v":{"v":205,"d":"205.0"}},{"$f":"SUM(ML15:OP15)","v":{"v":1521,"d":"1,521.0"}},{"$f":"SUM(OQ15:PF15)","v":{"v":5,"d":"5.0"}},{"$f":"SUM(PG15:PY15)","v":{"v":263,"d":"263.0"}},{"v":16,"d":"16.0"},{"v":17,"d":"17.0"},{"v":29,"d":"29.0"},{"v":81,"d":"81.0"},{"v":0,"d":"0.0"},{"v":77,"d":"77.0"},{"v":123,"d":"123.0"},{"v":695,"d":"695.0"},{"$f":"SUM(QO15:RR15)","v":{"v":66,"d":"66.0"}},{"$f":"SUM(RS15:RU15)","v":{"v":12,"d":"12.0"}},{"$f":"SUM(RV15:RY15)","v":{"v":0,"d":"0.0"}},{"$f":"SUM(RZ15:SB15)","v":{"v":0,"d":"0.0"}},{"v":0,"d":"0.0"},{"v":0,"d":"0.0"},{"v":0,"d":"0.0"},{"v":0,"d":"0.0"},{"v":0,"d":"0.0"},{"v":0,"d":"0.0"},{"v":0,"d":"0.0"},{"v":0,"d":"0.0"},{"v":0,"d":"0.0"},{"v":0,"d":"0.0"},{"v":0,"d":"0.0"},{"v":0,"d":"0.0"},{"$f":"SUM(SO15:SV15)","v":{"v":114,"d":"114.0"}},{"$f":"SUM(SW15:SX15)","v":{"v":90,"d":"90.0"}},{"$f":"SUM(SY15:SZ15)","v":{"v":11,"d":"11.0"}},{"v":4958,"d":"4,958"}]
[{"$nulls":3},"TOTAL REGIMEN",1,0,1,0,0,0,0,0,0,0,0,0,0,0,0,0,0,0,1,1,0,0,0,14,12,5,0,287,147,69,6,{"v":5563,"d":"5,563"},{"v":2519,"d":"2,519"},{"v":1810,"d":"1,810"},917,2,7,4,2,0,1,0,0,0,0,0,0,0,0,0,0,0,0,438,16,3,1,0,0,1,5,0,0,0,0,0,0,12,682,695,617,0,0,5,0,1,1,0,0,0,0,0,0,0,0,0,19,2,0,1,0,0,0,2,1,0,0,0,1,8,20,0,0,0,0,0,0,0,0,0,0,0,0,0,0,0,0,2,0,30,1,1,3,16,0,2,501,1,0,0,4,72,0,0,0,0,0,0,0,0,0,0,0,0,0,0,0,1,0,0,0,0,0,0,1,0,0,4,0,0,0,8,3,0,0,0,0,0,0,0,0,0,0,0,0,0,0,0,0,0,0,0,0,0,0,0,0,0,0,0,0,0,0,2,234,233,205,146,298,311,0,0,7,281,2,62,380,206,64,112,34,995,116,149,68,6,1,2,2,3,1,5,7,6,22,190,{"v":1667,"d":"1,667"},56,0,1,2,5,2,1,193,249,0,0,3,47,0,0,0,0,1,0,1,7,2,26,185,8,1,1,0,0,110,16,7,3,5,8,4,2,10,6,6,2,6,79,529,205,135,62,138,371,4,115,7,43,5,23,10,29,9,23,7,19,5,17,6,6,49,42,553,143,0,0,0,0,0,0,0,0,0,0,1,0,0,1,0,0,0,0,0,0,0,1,0,0,1,0,0,66,7,5,427,245,99,57,3,9,1,7,2,4,2,4,25,5,1,0,215,91,{"v":1448,"d":"1,448"},0,0,0,0,0,0,0,0,0,0,3,1,2,1,1,1,0,0,0,49,34,9,3,0,{"v":1414,"d":"1,414"},646,411,269,199,36,0,0,0,149,33,7,0,0,{"v":4179,"d":"4,179"},{"v":1457,"d":"1,457"},645,202,56,13,0,0,0,369,188,106,41,32,110,51,30,17,4,0,0,0,0,0,0,9,0,0,0,0,0,0,0,0,0,11,0,0,0,2,324,0,0,0,0,{"v":3851,"d":"3,851"},5,1,1,0,0,0,0,0,412,474,165,155,290,9,10,671,{"v":1464,"d":"1,464"},52,22,6,{"v":2713,"d":"2,713"},{"v":1606,"d":"1,606"},{"v":13320,"d":"13,320"},10,4,3,14,10,21,24,16,19,15,11,13,21,15,17,20,10,12,13,12,18,18,9,18,7,7,13,603,493,289,94,84,59,0,0,0,0,0,0,0,0,0,0,0,0,0,0,0,0,0,0,0,662,430,67,123,117,5,34,804,242,73,13,218,{"$f":"SUM(TA12:TA15)","v":{"v":42003,"d":"42,003"}},null,{"$f":"SUM(TC12:TC15)","v":{"v":11353,"d":"11,353.0"}},{"$f":"SUM(TD12:TD15)","v":{"v":492,"d":"492.0"}},{"v":2055,"d":"2,055.0"},{"v":633,"d":"633.0"},{"v":17,"d":"17.0"},{"v":2,"d":"2.0"},{"v":672,"d":"672.0"},{"v":1693,"d":"1,693.0"},{"v":1470,"d":"1,470.0"},{"v":2240,"d":"2,240.0"},{"v":531,"d":"531.0"},{"v":1195,"d":"1,195.0"},{"v":1624,"d":"1,624.0"},{"v":853,"d":"853.0"},{"v":1874,"d":"1,874.0"},{"v":10768,"d":"10,768.0"},{"v":9,"d":"9.0"},{"v":4195,"d":"4,195.0"},{"v":886,"d":"886.0"},{"v":610,"d":"610.0"},{"v":690,"d":"690.0"},{"v":1464,"d":"1,464.0"},{"v":52,"d":"52.0"},{"v":2741,"d":"2,741.0"},{"v":1606,"d":"1,606.0"},{"v":13320,"d":"13,320.0"},{"v":1755,"d":"1,755.0"},{"v":237,"d":"237.0"},{"v":0,"d":"0.0"},{"v":0,"d":"0.0"},{"v":0,"d":"0.0"},{"v":0,"d":"0.0"},{"v":0,"d":"0.0"},{"v":0,"d":"0.0"},{"v":0,"d":"0.0"},{"v":0,"d":"0.0"},{"v":0,"d":"0.0"},{"v":0,"d":"0.0"},{"v":0,"d":"0.0"},{"v":0,"d":"0.0"},{"v":0,"d":"0.0"},{"v":0,"d":"0.0"},{"v":2242,"d":"2,242.0"},{"v":315,"d":"315.0"},{"v":231,"d":"231.0"},{"$f":"SUM(UV12:UV15)","v":{"v":67825,"d":"67,825"}}]
[{"$nulls":3},"INDIGENA",0,0,0,0,0,0,0,0,0,0,0,0,0,0,0,0,0,0,0,0,0,0,0,0,0,0,0,0,1,0,0,6,4,2,2,0,0,0,0,0,0,0,0,0,0,0,0,0,0,0,0,0,0,0,0,0,0,0,0,0,0,0,0,0,0,0,0,0,0,0,0,0,0,0,0,0,0,0,0,0,0,0,0,0,0,0,0,0,0,0,0,0,0,0,0,0,0,0,0,0,0,0,0,0,0,0,0,0,0,0,0,0,0,0,0,0,0,0,0,0,0,0,0,0,0,0,0,0,0,0,0,0,0,0,0,0,0,0,0,0,0,0,0,0,0,0,0,0,0,0,0,0,0,0,0,0,0,0,0,0,0,0,0,0,0,0,0,0,0,0,0,0,0,0,0,0,0,0,0,0,0,0,0,0,0,0,0,0,0,0,0,0,0,0,0,0,0,0,0,0,0,0,0,0,0,0,1,0,0,0,0,0,0,0,0,0,0,0,0,0,0,0,0,0,0,0,2,0,0,0,0,0,0,0,1,0,0,0,0,0,0,0,0,0,0,0,0,0,0,0,0,0,0,0,0,0,0,0,0,0,0,0,0,0,0,0,0,0,0,0,1,1,0,0,0,0,0,0,0,0,0,0,0,0,0,0,0,0,0,0,0,0,0,0,0,0,0,0,0,0,0,0,0,0,0,0,0,0,0,0,0,0,0,0,0,0,0,0,0,0,0,0,0,0,0,0,1,0,0,0,0,0,0,0,0,0,0,0,0,0,0,0,0,0,2,0,0,0,0,0,0,0,0,0,0,0,0,0,0,0,0,0,0,0,0,0,0,0,0,3,0,1,0,0,0,0,0,0,0,0,0,0,0,5,4,1,0,0,0,0,0,0,1,0,0,0,0,0,0,0,0,0,0,0,0,0,0,0,0,0,0,0,0,0,0,0,0,0,0,0,0,0,0,0,0,0,0,0,1,0,0,0,0,0,0,0,0,0,0,0,0,0,0,0,0,0,0,0,0,0,0,5,0,0,0,0,0,0,0,0,1,0,0,0,0,0,0,0,0,0,0,0,0,0,0,0,0,0,0,0,1,0,0,0,0,0,0,0,0,0,0,0,0,0,0,0,0,0,0,0,0,0,0,0,0,0,0,0,1,0,0,0,1,0,0,0,40,null,{"$f":"SUM(E17:AM17)","v":{"v":15,"d":"15.0"}},{"$f":"SUM(AN17:BT17)","v":{"v":0,"d":"0.0"}},{"$f":"SUM(BU17:DA17)","v":{"v":0,"d":"0.0"}},{"$f":"SUM(DB17:EF17)","v":{"v":0,"d":"0.0"}},{"$f":"SUM(EG17:FK17)","v":{"v":0,"d":"0.0"}},{"$f":"SUM(FL17:GP17)","v":{"v":0,"d":"0.0"}},{"$f":"SUM(GQ17:GS17)","v":{"v":0,"d":"0.0"}},{"$f":"SUM(GT17:HD17)","v":{"v":1,"d":"1.0"}},{"$f":"SUM(HE17:HJ17)","v":{"v":0,"d":"0.0"}},{"$f":"SUM(HK17:IE17)","v":{"v":3,"d":"3.0"}},{"$f":"SUM(IF17:IZ17)","v":{"v":0,"d":"0.0"}},{"$f":"SUM(JA17:JR17)","v":{"v":2,"d":"2.0"}},{"$f":"SUM(JS17:KN17)","v":{"v":0,"d":"0.0"}},{"$f":"SUM(KO17:LU17)","v":{"v":1,"d":"1.0"}},{"$f":"SUM(LV17:MK17)","v":{"v":2,"d":"2.0"}},{"$f":"SUM(ML17:OP17)","v":{"v":15,"d":"15.0"}},{"$f":"SUM(OQ17:PF17)","v":{"v":0,"d":"0.0"}},{"$f":"SUM(PG17:PY17)","v":{"v":1,"d":"1.0"}},{"$f":"SUM(PZ17:QA17)","v":{"v":0,"d":"0.0"}},{"$f":"SUM(QB17:QD17)","v":{"v":0,"d":"0.0"}},{"$f":"SUM(QE17:QG17)","v":{"v":0,"d":"0.0"}},{"$f":"SUM(QH17)","v":{"v":0,"d":"0.0"}},{"$f":"SUM(QI17)","v":{"v":0,"d":"0.0"}},{"$f":"SUM(QJ17:QL17)","v":{"v":0,"d":"0.0"}},{"$f":"SUM(QM17)","v":{"v":0,"d":"0.0"}},{"$f":"SUM(QN17)","v":{"v":5,"d":"5.0"}},{"$f":"SUM(QO17:RR17)","v":{"v":2,"d":"2.0"}},{"$f":"SUM(RS17:RU17)","v":{"v":0,"d":"0.0"}},{"$f":"SUM(RV17:RY17)","v":{"v":0,"d":"0.0"}},{"$f":"SUM(RZ17:SB17)","v":{"v":0,"d":"0.0"}},{"$f":"SUM(SC17)","v":{"v":0,"d":"0.0"}},{"v":0,"d":"0.0"},{"v":0,"d":"0.0"},{"v":0,"d":"0.0"},{"v":0,"d":"0.0"},{"v":0,"d":"0.0"},{"v":0,"d":"0.0"},{"v":0,"d":"0.0"},{"v":0,"d":"0.0"},{"v":0,"d":"0.0"},{"v":0,"d":"0.0"},{"v":0,"d":"0.0"},{"$f":"SUM(SO17:SV17)","v":{"v":1,"d":"1.0"}},{"$f":"SUM(SW17:SX17)","v":{"v":1,"d":"1.0"}},{"$f":"SUM(SY17:SZ17)","v":{"v":0,"d":"0.0"}},{"$f":"SUM(TC17:UU17)-SUM(UE17:UG17)-SUM(UK17:UP17)","v":49}]
[{"$nulls":3},"ROM  (GITANO)",0,0,0,0,0,0,0,0,0,0,0,0,0,0,0,0,0,0,0,0,0,0,0,0,0,0,0,0,0,0,0,0,1,0,0,0,0,0,0,0,0,0,0,0,0,0,0,0,0,0,0,0,0,0,0,0,0,0,0,0,0,0,0,0,0,0,0,0,0,0,0,0,0,0,0,0,0,0,0,0,0,0,0,0,0,0,0,0,0,0,0,0,0,0,0,0,0,0,0,0,0,0,0,0,0,0,0,0,0,0,0,0,0,0,0,0,0,0,0,0,0,0,0,0,0,0,0,0,0,0,0,0,0,0,0,0,0,0,0,0,0,0,0,0,0,0,0,0,0,0,0,0,0,0,0,0,0,0,0,0,0,0,0,0,0,0,0,0,0,0,0,0,0,0,0,0,0,0,0,0,0,0,0,0,0,0,0,0,0,0,0,0,0,0,0,0,0,0,0,0,0,0,0,0,0,0,0,1,0,0,0,0,0,0,0,0,0,0,0,0,0,0,0,0,0,0,0,0,0,0,0,0,0,0,0,0,0,0,0,0,0,0,0,0,0,0,0,0,0,0,0,0,0,0,0,0,0,0,0,0,0,0,0,0,0,0,0,0,0,0,0,0,0,0,0,0,0,0,0,0,0,0,0,0,0,0,0,0,0,0,0,0,0,0,0,0,0,0,0,0,0,0,0,0,0,0,0,0,0,0,0,0,0,0,0,0,0,0,0,0,0,0,0,0,0,0,0,0,0,0,0,0,0,0,0,0,0,0,0,0,0,0,0,0,0,0,0,0,0,0,0,0,0,0,0,0,0,0,0,0,0,0,0,0,0,0,0,0,0,0,0,0,0,0,0,0,0,0,0,0,0,0,0,0,0,0,0,0,0,0,0,0,0,0,0,0,0,0,0,0,0,0,0,0,0,0,0,0,0,0,0,0,0,0,0,0,0,0,0,0,0,0,0,0,0,0,0,0,1,0,0,0,0,0,0,0,0,0,0,0,0,0,0,0,0,0,0,0,0,0,0,0,0,0,0,0,0,0,0,0,0,0,0,0,0,0,0,0,0,0,0,0,0,0,0,0,0,0,0,0,0,0,0,0,0,0,0,0,0,0,0,0,0,0,0,0,0,0,0,0,0,0,0,0,0,0,0,0,0,0,0,0,0,0,0,0,3,null,{"v":1,"d":"1.0"},{"v":0,"d":"0.0"},{"v":0,"d":"0.0"},{"v":0,"d":"0.0"},{"v":0,"d":"0.0"},{"v":0,"d":"0.0"},{"v":0,"d":"0.0"},{"v":1,"d":"1.0"},{"v":0,"d":"0.0"},{"v":0,"d":"0.0"},{"v":0,"d":"0.0"},{"v":0,"d":"0.0"},{"v":0,"d":"0.0"},{"v":0,"d":"0.0"},{"v":0,"d":"0.0"},{"v":0,"d":"0.0"},{"v":0,"d":"0.0"},{"v":1,"d":"1.0"},{"$f":"SUM(PZ18:QA18)","v":{"v":0,"d":"0.0"}},{"$f":"SUM(QB18:QD18)","v":{"v":0,"d":"0.0"}},{"$f":"SUM(QE18:QG18)","v":{"v":0,"d":"0.0"}},{"v":0,"d":"0.0"},{"v":0,"d":"0.0"},{"$f":"SUM(QJ18:QL18)","v":{"v":0,"d":"0.0"}},{"v":0,"d":"0.0"},{"v":0,"d":"0.0"},{"v":0,"d":"0.0"},{"v":0,"d":"0.0"},{"v":0,"d":"0.0"},{"v":0,"d":"0.0"},{"v":0,"d":"0.0"},{"v":0,"d":"0.0"},{"v":0,"d":"0.0"},{"v":0,"d":"0.0"},{"v":0,"d":"0.0"},{"v":0,"d":"0.0"},{"v":0,"d":"0.0"},{"v":0,"d":"0.0"},{"v":0,"d":"0.0"},{"v":0,"d":"0.0"},{"v":0,"d":"0.0"},{"v":0,"d":"0.0"},{"v":0,"d":"0.0"},{"v":0,"d":"0.0"},{"v":0,"d":"0.0"},{"$f":"SUM(TC18:UU18)-SUM(UE18:UG18)-SUM(UK18:UP18)","v":3}]
[{"$nulls":3},"RAIZAL ",0,0,0,0,0,0,0,0,0,0,0,0,0,0,0,0,0,0,0,0,0,0,0,0,0,0,0,0,0,0,0,0,0,0,1,0,0,0,0,0,0,0,0,0,0,0,0,0,0,0,0,0,0,0,0,0,0,0,0,0,0,0,0,0,0,0,0,0,0,0,0,0,0,0,0,0,0,0,0,0,0,0,0,0,0,0,0,0,0,0,0,0,0,0,0,0,0,0,0,0,0,0,0,0,0,0,0,0,0,0,0,0,0,0,0,0,0,0,0,0,0,0,0,0,0,0,0,0,0,0,0,0,0,0,0,0,0,0,0,0,0,0,0,0,0,0,0,0,0,0,0,0,0,0,0,0,0,0,0,0,0,0,0,0,0,0,0,0,0,0,0,0,0,0,0,0,0,0,0,0,0,0,0,0,0,0,0,0,0,0,0,0,0,0,0,0,0,0,0,0,0,0,0,0,0,0,0,0,0,0,0,0,0,0,0,0,0,0,0,0,0,0,0,0,0,0,0,0,0,0,0,0,0,0,0,0,0,0,0,0,0,0,0,0,0,0,0,0,0,0,0,0,0,0,0,0,0,0,0,0,0,0,0,0,0,0,0,0,0,0,0,0,0,0,0,0,0,0,0,0,0,0,0,0,0,0,0,0,0,0,0,0,0,0,0,0,0,0,0,0,0,0,0,0,0,0,0,0,0,0,0,0,0,0,0,0,0,0,0,0,0,0,0,0,0,0,0,0,0,0,0,0,0,0,0,0,0,0,0,0,0,0,0,0,0,0,0,0,0,0,0,0,0,0,0,0,0,0,0,0,0,0,0,0,0,0,0,0,0,0,0,0,0,0,0,0,0,0,0,0,0,0,0,2,0,0,0,0,0,0,0,0,0,0,0,0,0,0,0,0,0,0,0,0,0,0,0,0,0,0,0,0,0,0,0,0,0,0,0,0,0,0,0,0,0,0,0,0,0,0,0,0,0,0,0,0,0,1,0,0,0,0,0,0,0,0,0,0,0,0,0,3,0,0,0,0,0,0,0,0,0,0,0,0,0,0,0,0,0,0,0,0,0,0,0,0,0,0,0,1,0,0,0,0,0,0,0,0,0,0,0,0,0,0,0,0,0,0,0,0,0,0,0,0,0,0,0,0,0,0,0,0,0,0,0,0,3,null,{"v":1,"d":"1.0"},{"v":0,"d":"0.0"},{"v":0,"d":"0.0"},{"v":0,"d":"0.0"},{"v":0,"d":"0.0"},{"v":0,"d":"0.0"},{"v":0,"d":"0.0"},{"v":0,"d":"0.0"},{"v":0,"d":"0.0"},{"v":0,"d":"0.0"},{"v":0,"d":"0.0"},{"v":0,"d":"0.0"},{"v":0,"d":"0.0"},{"v":0,"d":"0.0"},{"v":0,"d":"0.0"},{"v":2,"d":"2.0"},{"v":0,"d":"0.0"},{"v":0,"d":"0.0"},{"v":1,"d":"1.0"},{"v":0,"d":"0.0"},{"v":0,"d":"0.0"},{"v":0,"d":"0.0"},{"v":0,"d":"0.0"},{"v":0,"d":"0.0"},{"v":0,"d":"0.0"},{"v":3,"d":"3.0"},{"v":1,"d":"1.0"},{"v":0,"d":"0.0"},{"v":0,"d":"0.0"},{"v":0,"d":"0.0"},{"v":0,"d":"0.0"},{"v":0,"d":"0.0"},{"v":0,"d":"0.0"},{"v":0,"d":"0.0"},{"v":0,"d":"0.0"},{"v":0,"d":"0.0"},{"v":0,"d":"0.0"},{"v":0,"d":"0.0"},{"v":0,"d":"0.0"},{"v":0,"d":"0.0"},{"v":0,"d":"0.0"},{"v":0,"d":"0.0"},{"v":0,"d":"0.0"},{"v":0,"d":"0.0"},{"v":0,"d":"0.0"},8]
[{"$nulls":3},"PALENQUERO",0,0,0,0,0,0,0,0,0,0,0,0,0,0,0,0,0,0,0,0,0,0,0,0,0,0,0,0,0,0,0,2,1,0,0,0,0,0,0,0,0,0,0,0,0,0,0,0,0,0,0,0,0,0,0,0,0,0,0,0,0,0,0,0,0,0,0,0,0,0,0,0,0,0,0,0,0,0,0,0,0,0,0,0,0,0,0,0,0,0,0,0,0,0,0,0,0,0,0,0,0,0,0,0,0,0,0,0,0,0,0,0,0,0,0,0,0,0,0,0,0,0,0,0,0,0,0,0,0,0,0,0,0,0,0,0,0,0,0,0,0,0,0,0,0,0,0,0,0,0,0,0,0,0,0,0,0,0,0,0,0,0,0,0,0,0,0,0,0,0,0,0,0,0,0,0,0,0,0,0,0,0,0,0,0,0,0,0,0,0,0,0,0,0,0,0,0,0,0,0,0,0,0,0,0,0,0,0,0,0,0,0,0,0,0,0,0,0,0,0,0,0,0,0,0,0,1,0,0,0,0,0,0,0,0,0,0,0,0,0,0,0,0,0,0,0,0,0,0,0,0,0,0,0,0,0,0,0,0,0,0,0,0,0,0,0,0,0,0,0,0,0,0,0,0,0,0,0,0,0,0,0,0,0,0,0,0,0,0,0,0,0,0,0,0,1,0,0,0,0,0,0,0,0,0,0,0,0,0,0,0,0,0,0,0,0,0,0,0,0,0,0,0,0,0,0,0,0,0,0,0,0,0,0,0,0,0,0,0,0,0,0,0,0,0,0,0,0,0,0,0,0,0,0,0,0,0,0,0,0,0,0,0,0,0,0,0,0,0,0,0,0,0,0,0,0,0,0,0,0,0,0,0,1,1,1,0,0,0,0,0,0,0,0,0,0,0,0,0,0,0,0,0,0,0,0,0,0,0,0,0,0,0,0,0,0,0,0,0,0,0,0,0,0,0,0,0,0,4,0,0,0,0,0,0,0,0,0,0,0,0,0,0,0,0,3,0,0,0,1,0,3,0,0,0,0,0,0,0,0,0,0,0,0,0,0,0,0,0,0,0,0,0,0,0,0,0,0,0,0,0,0,0,0,0,0,0,0,0,0,0,0,0,0,0,0,0,0,0,0,0,0,0,0,0,0,0,0,0,0,0,2,0,0,0,0,12,null,{"v":3,"d":"3.0"},{"v":0,"d":"0.0"},{"v":0,"d":"0.0"},{"v":0,"d":"0.0"},{"v":0,"d":"0.0"},{"v":0,"d":"0.0"},{"v":0,"d":"0.0"},{"v":0,"d":"0.0"},{"v":0,"d":"0.0"},{"v":1,"d":"1.0"},{"v":0,"d":"0.0"},{"v":0,"d":"0.0"},{"v":1,"d":"1.0"},{"v":0,"d":"0.0"},{"v":0,"d":"0.0"},{"v":3,"d":"3.0"},{"v":0,"d":"0.0"},{"v":4,"d":"4.0"},{"v":0,"d":"0.0"},{"v":0,"d":"0.0"},{"v":0,"d":"0.0"},{"v":3,"d":"3.0"},{"v":0,"d":"0.0"},{"v":1,"d":"1.0"},{"v":0,"d":"0.0"},{"v":3,"d":"3.0"},{"v":0,"d":"0.0"},{"v":0,"d":"0.0"},{"v":0,"d":"0.0"},{"v":0,"d":"0.0"},{"v":0,"d":"0.0"},{"v":0,"d":"0.0"},{"v":0,"d":"0.0"},{"v":0,"d":"0.0"},{"v":0,"d":"0.0"},{"v":0,"d":"0.0"},{"v":0,"d":"0.0"},{"v":0,"d":"0.0"},{"v":0,"d":"0.0"},{"v":0,"d":"0.0"},{"v":0,"d":"0.0"},{"v":0,"d":"0.0"},{"v":2,"d":"2.0"},{"v":0,"d":"0.0"},{"v":0,"d":"0.0"},21]
[{"$nulls":3},"NEGRO(A), MULATO (A), AFROCOLOMBIANO (A)",0,0,0,0,0,0,0,0,0,0,0,0,0,0,0,0,0,0,0,0,0,0,0,0,0,0,0,1,0,0,0,8,1,5,2,0,0,0,0,0,0,0,0,0,0,0,0,0,0,0,0,0,0,0,0,0,0,0,0,0,0,0,0,0,0,0,0,0,0,0,0,0,0,0,0,0,0,0,0,0,0,0,0,0,0,0,0,0,0,0,0,0,0,0,0,0,0,0,0,0,0,0,0,0,0,0,0,0,0,0,0,0,0,0,0,0,0,0,0,0,0,0,0,0,0,0,1,0,0,0,0,0,0,0,0,0,0,0,0,0,0,0,0,0,0,0,0,0,0,0,0,0,0,0,0,0,0,0,0,0,0,0,0,0,0,0,0,0,0,0,0,0,0,0,0,0,0,0,0,0,0,0,0,0,0,0,0,0,0,0,0,0,0,0,0,0,0,0,0,0,0,0,0,0,0,0,0,0,1,1,0,4,0,0,0,0,0,0,0,0,0,0,0,0,0,0,3,0,0,0,0,0,0,0,0,0,0,0,0,0,0,0,0,0,0,0,0,0,0,0,0,0,0,0,0,0,0,0,0,0,0,0,0,0,0,0,0,0,0,0,1,0,0,0,0,0,0,0,0,0,0,0,0,0,0,0,0,0,0,0,0,0,0,0,0,0,0,0,0,0,0,0,0,0,0,0,0,0,0,0,0,0,0,0,0,0,0,0,0,0,0,0,0,0,0,0,0,0,0,0,0,0,0,0,0,0,0,0,0,0,0,0,0,1,3,0,0,0,0,0,0,0,0,0,0,0,0,0,0,0,0,0,0,0,0,0,0,0,0,1,1,3,0,3,1,0,0,0,0,0,0,0,0,17,3,2,1,2,0,0,0,0,1,1,1,0,0,0,0,0,0,0,0,0,0,0,0,0,0,0,0,0,0,0,0,0,0,0,0,0,0,0,0,0,0,0,0,0,5,0,0,0,0,0,0,0,0,0,0,0,0,0,0,0,0,0,0,0,0,4,0,16,0,0,0,0,0,0,0,0,0,0,0,0,0,0,0,0,0,0,0,0,0,0,0,0,0,0,0,0,0,0,0,0,0,0,0,0,0,0,0,0,0,0,0,0,0,0,0,0,0,0,0,0,0,0,0,0,0,0,0,0,0,0,0,0,74,null,{"v":17,"d":"17.0"},{"v":0,"d":"0.0"},{"v":0,"d":"0.0"},{"v":1,"d":"1.0"},{"v":0,"d":"0.0"},{"v":0,"d":"0.0"},{"v":0,"d":"0.0"},{"v":0,"d":"0.0"},{"v":6,"d":"6.0"},{"v":3,"d":"3.0"},{"v":0,"d":"0.0"},{"v":1,"d":"1.0"},{"v":0,"d":"0.0"},{"v":0,"d":"0.0"},{"v":4,"d":"4.0"},{"v":37,"d":"37.0"},{"v":0,"d":"0.0"},{"v":5,"d":"5.0"},{"v":0,"d":"0.0"},{"v":0,"d":"0.0"},{"v":0,"d":"0.0"},{"v":0,"d":"0.0"},{"v":0,"d":"0.0"},{"v":4,"d":"4.0"},{"v":0,"d":"0.0"},{"v":16,"d":"16.0"},{"v":0,"d":"0.0"},{"v":0,"d":"0.0"},{"v":0,"d":"0.0"},{"v":0,"d":"0.0"},{"v":0,"d":"0.0"},{"v":0,"d":"0.0"},{"v":0,"d":"0.0"},{"v":0,"d":"0.0"},{"v":0,"d":"0.0"},{"v":0,"d":"0.0"},{"v":0,"d":"0.0"},{"v":0,"d":"0.0"},{"v":0,"d":"0.0"},{"v":0,"d":"0.0"},{"v":0,"d":"0.0"},{"v":0,"d":"0.0"},{"v":0,"d":"0.0"},{"v":0,"d":"0.0"},{"v":0,"d":"0.0"},94]
[{"$nulls":3},"SIN PERTENENCIA ETNICA",1,0,1,0,0,0,0,0,0,0,0,0,0,0,0,0,0,0,1,1,0,0,0,14,12,5,0,286,146,69,6,{"v":5547,"d":"5,547"},{"v":2512,"d":"2,512"},{"v":1803,"d":"1,803"},912,2,7,4,2,0,1,0,0,0,0,0,0,0,0,0,0,0,0,438,16,3,1,0,0,1,5,0,0,0,0,0,0,12,682,695,617,0,0,5,0,1,1,0,0,0,0,0,0,0,0,0,19,2,0,1,0,0,0,2,1,0,0,0,1,8,20,0,0,0,0,0,0,0,0,0,0,0,0,0,0,0,0,2,0,30,1,1,3,16,0,2,500,1,0,0,4,72,0,0,0,0,0,0,0,0,0,0,0,0,0,0,0,1,0,0,0,0,0,0,1,0,0,4,0,0,0,8,3,0,0,0,0,0,0,0,0,0,0,0,0,0,0,0,0,0,0,0,0,0,0,0,0,0,0,0,0,0,0,2,234,233,205,146,298,311,0,0,7,281,2,62,379,205,63,111,34,991,116,149,68,6,1,2,2,3,1,5,7,6,22,190,{"v":1661,"d":"1,661"},56,0,1,2,5,2,1,192,249,0,0,3,47,0,0,0,0,1,0,1,7,2,26,185,8,1,1,0,0,110,16,7,3,5,8,4,2,10,6,6,2,6,79,527,204,135,62,138,371,4,115,7,43,5,23,10,29,9,23,7,19,5,17,6,6,49,42,553,142,0,0,0,0,0,0,0,0,0,0,1,0,0,1,0,0,0,0,0,0,0,1,0,0,1,0,0,66,7,5,426,245,99,57,3,9,1,7,2,4,2,4,25,5,1,0,215,90,{"v":1443,"d":"1,443"},0,0,0,0,0,0,0,0,0,0,3,1,2,1,1,1,0,0,0,49,34,9,3,0,{"v":1410,"d":"1,410"},645,407,269,196,35,0,0,0,149,33,7,0,0,{"v":4154,"d":"4,154"},{"v":1449,"d":"1,449"},641,201,54,13,0,0,0,367,187,105,41,32,110,51,30,17,4,0,0,0,0,0,0,9,0,0,0,0,0,0,0,0,0,11,0,0,0,2,324,0,0,0,0,{"v":3840,"d":"3,840"},5,1,1,0,0,0,0,0,411,474,165,155,290,9,10,671,{"v":1461,"d":"1,461"},52,22,6,{"v":2708,"d":"2,708"},{"v":1606,"d":"1,606"},{"v":13293,"d":"13,293"},10,4,3,14,10,21,24,16,18,15,11,13,21,15,17,20,10,12,13,12,18,18,9,18,7,7,13,602,492,289,94,84,59,0,0,0,0,0,0,0,0,0,0,0,0,0,0,0,0,0,0,0,662,430,67,123,116,5,34,802,241,73,13,218,{"v":41871,"d":"41,871"},null,{"v":11316,"d":"11,316.0"},{"v":492,"d":"492.0"},{"v":2055,"d":"2,055.0"},{"v":632,"d":"632.0"},{"v":17,"d":"17.0"},{"v":2,"d":"2.0"},{"v":672,"d":"672.0"},{"v":1691,"d":"1,691.0"},{"v":1464,"d":"1,464.0"},{"v":2233,"d":"2,233.0"},{"v":531,"d":"531.0"},{"v":1192,"d":"1,192.0"},{"v":1623,"d":"1,623.0"},{"v":852,"d":"852.0"},{"v":1868,"d":"1,868.0"},{"v":10711,"d":"10,711.0"},{"v":9,"d":"9.0"},{"v":4184,"d":"4,184.0"},{"v":885,"d":"885.0"},{"v":610,"d":"610.0"},{"v":690,"d":"690.0"},{"v":1461,"d":"1,461.0"},{"v":52,"d":"52.0"},{"v":2736,"d":"2,736.0"},{"v":1606,"d":"1,606.0"},{"v":13293,"d":"13,293.0"},{"v":1752,"d":"1,752.0"},{"v":237,"d":"237.0"},{"v":0,"d":"0.0"},{"v":0,"d":"0.0"},{"v":0,"d":"0.0"},{"v":0,"d":"0.0"},{"v":0,"d":"0.0"},{"v":0,"d":"0.0"},{"v":0,"d":"0.0"},{"v":0,"d":"0.0"},{"v":0,"d":"0.0"},{"v":0,"d":"0.0"},{"v":0,"d":"0.0"},{"v":0,"d":"0.0"},{"v":0,"d":"0.0"},{"v":0,"d":"0.0"},{"v":2239,"d":"2,239.0"},{"v":314,"d":"314.0"},{"v":231,"d":"231.0"},{"v":67650,"d":"67,650"}]
[{"$nulls":3},"TOTAL ETNICOS",1,0,1,0,0,0,0,0,0,0,0,0,0,0,0,0,0,0,1,1,0,0,0,14,12,5,0,287,147,69,6,{"v":5563,"d":"5,563"},{"v":2519,"d":"2,519"},{"v":1810,"d":"1,810"},917,2,7,4,2,0,1,0,0,0,0,0,0,0,0,0,0,0,0,438,16,3,1,0,0,1,5,0,0,0,0,0,0,12,682,695,617,0,0,5,0,1,1,0,0,0,0,0,0,0,0,0,19,2,0,1,0,0,0,2,1,0,0,0,1,8,20,0,0,0,0,0,0,0,0,0,0,0,0,0,0,0,0,2,0,30,1,1,3,16,0,2,501,1,0,0,4,72,0,0,0,0,0,0,0,0,0,0,0,0,0,0,0,1,0,0,0,0,0,0,1,0,0,4,0,0,0,8,3,0,0,0,0,0,0,0,0,0,0,0,0,0,0,0,0,0,0,0,0,0,0,0,0,0,0,0,0,0,0,2,234,233,205,146,298,311,0,0,7,281,2,62,380,206,64,112,34,995,116,149,68,6,1,2,2,3,1,5,7,6,22,190,{"v":1667,"d":"1,667"},56,0,1,2,5,2,1,193,249,0,0,3,47,0,0,0,0,1,0,1,7,2,26,185,8,1,1,0,0,110,16,7,3,5,8,4,2,10,6,6,2,6,79,529,205,135,62,138,371,4,115,7,43,5,23,10,29,9,23,7,19,5,17,6,6,49,42,553,143,0,0,0,0,0,0,0,0,0,0,1,0,0,1,0,0,0,0,0,0,0,1,0,0,1,0,0,66,7,5,427,245,99,57,3,9,1,7,2,4,2,4,25,5,1,0,215,91,{"v":1448,"d":"1,448"},0,0,0,0,0,0,0,0,0,0,3,1,2,1,1,1,0,0,0,49,34,9,3,0,{"v":1414,"d":"1,414"},646,411,269,199,36,0,0,0,149,33,7,0,0,{"v":4179,"d":"4,179"},{"v":1457,"d":"1,457"},645,202,56,13,0,0,0,369,188,106,41,32,110,51,30,17,4,0,0,0,0,0,0,9,0,0,0,0,0,0,0,0,0,11,0,0,0,2,324,0,0,0,0,{"v":3851,"d":"3,851"},5,1,1,0,0,0,0,0,412,474,165,155,290,9,10,671,{"v":1464,"d":"1,464"},52,22,6,{"v":2713,"d":"2,713"},{"v":1606,"d":"1,606"},{"v":13320,"d":"13,320"},10,4,3,14,10,21,24,16,19,15,11,13,21,15,17,20,10,12,13,12,18,18,9,18,7,7,13,603,493,289,94,84,59,0,0,0,0,0,0,0,0,0,0,0,0,0,0,0,0,0,0,0,662,430,67,123,117,5,34,804,242,73,13,218,{"$f":"SUM(TA17:TA22)","v":{"v":42003,"d":"42,003"}},null,{"$f":"SUM(TC17:TC22)","v":{"v":11353,"d":"11,353.0"}},{"$f":"SUM(TD17:TD22)","v":{"v":492,"d":"492.0"}},{"v":2055,"d":"2,055.0"},{"v":633,"d":"633.0"},{"v":17,"d":"17.0"},{"v":2,"d":"2.0"},{"v":672,"d":"672.0"},{"v":1693,"d":"1,693.0"},{"v":1470,"d":"1,470.0"},{"v":2240,"d":"2,240.0"},{"v":531,"d":"531.0"},{"v":1195,"d":"1,195.0"},{"v":1624,"d":"1,624.0"},{"v":853,"d":"853.0"},{"v":1874,"d":"1,874.0"},{"v":10768,"d":"10,768.0"},{"v":9,"d":"9.0"},{"v":4195,"d":"4,195.0"},{"v":886,"d":"886.0"},{"v":610,"d":"610.0"},{"v":690,"d":"690.0"},{"v":1464,"d":"1,464.0"},{"v":52,"d":"52.0"},{"v":2741,"d":"2,741.0"},{"v":1606,"d":"1,606.0"},{"v":13320,"d":"13,320.0"},{"v":1755,"d":"1,755.0"},{"v":237,"d":"237.0"},{"v":0,"d":"0.0"},{"v":0,"d":"0.0"},{"v":0,"d":"0.0"},{"v":0,"d":"0.0"},{"v":0,"d":"0.0"},{"v":0,"d":"0.0"},{"v":0,"d":"0.0"},{"v":0,"d":"0.0"},{"v":0,"d":"0.0"},{"v":0,"d":"0.0"},{"v":0,"d":"0.0"},{"v":0,"d":"0.0"},{"v":0,"d":"0.0"},{"v":0,"d":"0.0"},{"v":2242,"d":"2,242.0"},{"v":315,"d":"315.0"},{"v":231,"d":"231.0"},{"$f":"SUM(UV17:UV22)","v":{"v":67825,"d":"67,825"}}]
[{"$nulls":3},"EN SITUACION DE DESPLAZADO",0,0,0,0,0,0,0,0,0,0,0,0,0,0,0,0,0,0,0,0,0,0,0,0,0,0,0,0,0,0,0,0,0,0,0,0,0,0,0,0,0,0,0,0,0,0,0,0,0,0,0,0,0,0,0,0,0,0,0,0,0,0,0,0,0,0,0,0,0,0,0,0,0,0,0,0,0,0,0,0,0,0,0,0,0,0,0,0,0,0,0,0,0,0,0,0,0,0,0,0,0,0,0,0,0,0,0,0,0,0,0,0,0,0,0,0,0,0,0,0,0,0,0,0,0,0,0,0,0,0,0,0,0,0,0,0,0,0,0,0,0,0,0,0,0,0,0,0,0,0,0,0,0,0,0,0,0,0,0,0,0,0,0,0,0,0,0,0,0,0,0,0,0,0,0,0,0,0,0,0,0,0,0,0,0,0,0,0,0,0,0,0,0,0,0,0,0,0,0,0,0,0,0,0,0,0,0,0,0,0,0,0,0,0,0,0,0,0,0,0,0,0,0,0,0,0,0,0,0,0,0,0,0,0,0,0,0,0,0,0,0,0,0,0,0,0,0,0,0,0,0,0,0,0,0,0,0,0,0,0,0,0,0,0,0,0,0,0,0,0,0,0,0,0,0,0,0,0,0,0,0,0,0,0,0,0,0,0,0,0,0,0,0,0,0,0,0,0,0,0,0,0,0,0,0,0,0,0,0,0,0,0,0,0,0,0,0,0,0,0,0,0,0,0,0,0,0,0,0,0,0,0,0,0,0,0,0,0,0,0,0,0,0,0,0,0,0,0,0,0,0,0,0,0,0,0,0,0,0,0,0,0,0,0,0,0,0,0,0,0,0,0,0,0,0,0,0,0,0,0,0,0,0,0,0,0,0,0,0,0,0,0,0,0,0,0,0,0,0,0,0,0,0,0,0,0,0,0,0,0,0,0,0,0,0,0,0,0,0,0,0,0,0,0,0,0,0,0,0,0,0,0,0,0,0,0,0,0,0,0,0,0,0,0,0,0,0,0,0,0,0,0,0,0,0,0,0,0,0,0,0,0,0,0,0,0,0,0,0,0,0,0,0,0,0,0,0,0,0,0,0,0,0,0,0,0,0,0,0,0,0,0,0,0,0,0,0,0,0,0,0,0,0,0,0,0,0,0,0,0,0,0,0,0,0,0,0,null,{"$f":"SUM(E24:AM24)","v":{"v":0,"d":"0.0"}},{"$f":"SUM(AN24:BT24)","v":{"v":0,"d":"0.0"}},{"$f":"SUM(BU24:DA24)","v":{"v":0,"d":"0.0"}},{"$f":"SUM(DB24:EF24)","v":{"v":0,"d":"0.0"}},{"$f":"SUM(EG24:FK24)","v":{"v":0,"d":"0.0"}},{"$f":"SUM(FL24:GP24)","v":{"v":0,"d":"0.0"}},{"$f":"SUM(GQ24:GS24)","v":{"v":0,"d":"0.0"}},{"$f":"SUM(GT24:HD24)","v":{"v":0,"d":"0.0"}},{"$f":"SUM(HE24:HJ24)","v":{"v":0,"d":"0.0"}},{"$f":"SUM(HK24:IE24)","v":{"v":0,"d":"0.0"}},{"$f":"SUM(IF24:IZ24)","v":{"v":0,"d":"0.0"}},{"$f":"SUM(JA24:JR24)","v":{"v":0,"d":"0.0"}},{"$f":"SUM(JS24:KN24)","v":{"v":0,"d":"0.0"}},{"$f":"SUM(KO24:LU24)","v":{"v":0,"d":"0.0"}},{"$f":"SUM(LV24:MK24)","v":{"v":0,"d":"0.0"}},{"$f":"SUM(ML24:OP24)","v":{"v":0,"d":"0.0"}},{"$f":"SUM(OQ24:PF24)","v":{"v":0,"d":"0.0"}},{"$f":"SUM(PG24:PY24)","v":{"v":0,"d":"0.0"}},{"$f":"SUM(PZ24:QA24)","v":{"v":0,"d":"0.0"}},{"$f":"SUM(QB24:QD24)","v":{"v":0,"d":"0.0"}},{"$f":"SUM(QE24:QG24)","v":{"v":0,"d":"0.0"}},{"$f":"SUM(QH24:QJ24)","v":{"v":0,"d":"0.0"}},{"$f":"SUM(QK24)","v":{"v":0,"d":"0.0"}},{"v":0,"d":"0.0"},{"v":0,"d":"0.0"},{"v":0,"d":"0.0"},{"$f":"SUM(QO24:RR24)","v":{"v":0,"d":"0.0"}},{"$f":"SUM(RS24:RU24)","v":{"v":0,"d":"0.0"}},{"$f":"SUM(RV24:RY24)","v":{"v":0,"d":"0.0"}},{"$f":"SUM(RZ24:SB24)","v":{"v":0,"d":"0.0"}},{"$f":"SUM(SC24)","v":{"v":0,"d":"0.0"}},{"v":0,"d":"0.0"},{"v":0,"d":"0.0"},{"v":0,"d":"0.0"},{"v":0,"d":"0.0"},{"v":0,"d":"0.0"},{"v":0,"d":"0.0"},{"v":0,"d":"0.0"},{"v":0,"d":"0.0"},{"v":0,"d":"0.0"},{"v":0,"d":"0.0"},{"v":0,"d":"0.0"},{"$f":"SUM(SO24:SV24)","v":{"v":0,"d":"0.0"}},{"$f":"SUM(SW24:SX24)","v":{"v":0,"d":"0.0"}},{"$f":"SUM(SY24:SZ24)","v":{"v":0,"d":"0.0"}},{"$f":"SUM(TC24:UU24)-SUM(UE24:UG24)-SUM(UK24:UP24)","v":0}]
[{"$nulls":3},"EN CONDICION DE DISCAPACIDAD",0,0,0,0,0,0,0,0,0,0,0,0,0,0,0,0,0,0,0,0,0,0,0,0,0,0,0,0,0,0,0,0,0,0,0,0,0,0,0,0,0,0,0,0,0,0,0,0,0,0,0,0,0,0,0,0,0,0,0,0,0,0,0,0,0,0,0,0,0,0,0,0,0,0,0,0,0,0,0,0,0,0,0,0,0,0,0,0,0,0,0,0,0,0,0,0,0,0,0,0,0,0,0,0,0,0,0,0,0,0,0,0,0,0,0,0,0,0,0,0,0,0,0,0,0,0,0,0,0,0,0,0,0,0,0,0,0,0,0,0,0,0,0,0,0,0,0,0,0,0,0,0,0,0,0,0,0,0,0,0,0,0,0,0,0,0,0,0,0,0,0,0,0,0,0,0,0,0,0,0,0,0,0,0,0,0,0,0,0,0,0,0,0,0,0,0,0,0,0,0,0,0,0,0,0,0,0,0,0,0,0,0,0,0,0,0,0,0,0,0,0,0,0,0,0,0,0,0,0,0,0,0,0,0,0,0,0,0,0,0,0,0,0,0,0,0,0,0,0,0,0,0,0,0,0,0,0,0,0,0,0,0,0,0,0,0,0,0,0,0,0,0,0,0,0,0,0,0,0,0,0,0,0,0,0,0,0,0,0,0,0,0,0,0,0,0,0,0,0,0,0,0,0,0,0,0,0,0,0,0,0,0,0,0,0,0,0,0,0,0,0,0,0,0,0,0,0,0,0,0,0,0,0,0,0,0,0,0,0,0,0,0,0,0,0,0,0,0,0,0,0,0,0,0,0,0,0,0,0,0,0,0,0,0,0,0,0,0,0,0,0,0,0,0,0,0,0,0,0,0,0,0,0,0,0,0,0,0,0,0,0,0,0,0,0,0,0,0,0,0,0,0,0,0,0,0,0,0,0,0,0,0,0,0,0,0,0,0,0,0,0,0,0,0,0,0,0,0,0,0,0,0,0,0,0,0,0,0,0,0,0,0,0,0,0,0,0,0,0,0,0,0,0,0,0,0,0,0,0,0,0,0,0,0,0,0,0,0,0,0,0,0,0,0,0,0,0,0,0,0,0,0,0,0,0,0,0,0,0,0,0,0,0,0,0,0,0,0,0,0,0,0,0,0,0,0,0,0,0,0,0,0,0,0,0,0,0,null,{"$f":"SUM(E25:AM25)","v":{"v":0,"d":"0.0"}},{"$f":"SUM(AN25:BT25)","v":{"v":0,"d":"0.0"}},{"$f":"SUM(BU25:DA25)","v":{"v":0,"d":"0.0"}},{"$f":"SUM(DB25:EF25)","v":{"v":0,"d":"0.0"}},{"$f":"SUM(EG25:FK25)","v":{"v":0,"d":"0.0"}},{"$f":"SUM(FL25:GP25)","v":{"v":0,"d":"0.0"}},{"$f":"SUM(GQ25:GS25)","v":{"v":0,"d":"0.0"}},{"$f":"SUM(GT25:HD25)","v":{"v":0,"d":"0.0"}},{"$f":"SUM(HE25:HJ25)","v":{"v":0,"d":"0.0"}},{"$f":"SUM(HK25:IE25)","v":{"v":0,"d":"0.0"}},{"$f":"SUM(IF25:IZ25)","v":{"v":0,"d":"0.0"}},{"$f":"SUM(JA25:JR25)","v":{"v":0,"d":"0.0"}},{"$f":"SUM(JS25:KN25)","v":{"v":0,"d":"0.0"}},{"$f":"SUM(KO25:LU25)","v":{"v":0,"d":"0.0"}},{"$f":"SUM(LV25:MK25)","v":{"v":0,"d":"0.0"}},{"$f":"SUM(ML25:OP25)","v":{"v":0,"d":"0.0"}},{"$f":"SUM(OQ25:PF25)","v":{"v":0,"d":"0.0"}},{"$f":"SUM(PG25:PY25)","v":{"v":0,"d":"0.0"}},{"v":0,"d":"0.0"},{"v":0,"d":"0.0"},{"v":0,"d":"0.0"},{"v":0,"d":"0.0"},{"v":0,"d":"0.0"},{"v":0,"d":"0.0"},{"v":0,"d":"0.0"},{"v":0,"d":"0.0"},{"v":0,"d":"0.0"},{"v":0,"d":"0.0"},{"v":0,"d":"0.0"},{"v":0,"d":"0.0"},{"v":0,"d":"0.0"},{"v":0,"d":"0.0"},{"v":0,"d":"0.0"},{"v":0,"d":"0.0"},{"v":0,"d":"0.0"},{"v":0,"d":"0.0"},{"v":0,"d":"0.0"},{"v":0,"d":"0.0"},{"v":0,"d":"0.0"},{"v":0,"d":"0.0"},{"v":0,"d":"0.0"},{"v":0,"d":"0.0"},{"v":0,"d":"0.0"},{"v":0,"d":"0.0"},{"v":0,"d":"0.0"},{"$f":"SUM(TC25:UU25)-SUM(UE25:UG25)-SUM(UK25:UP25)","v":0}]
[{"$nulls":3},"VICTIMAS DEL CONFLICTO ARMADO",0,0,0,0,0,0,0,0,0,0,0,0,0,0,0,0,0,0,0,0,0,0,0,0,0,0,0,0,0,0,0,0,0,0,0,0,0,0,0,0,0,0,0,0,0,0,0,0,0,0,0,0,0,0,0,0,0,0,0,0,0,0,0,0,0,0,0,0,0,0,0,0,0,0,0,0,0,0,0,0,0,0,0,0,0,0,0,0,0,0,0,0,0,0,0,0,0,0,0,0,0,0,0,0,0,0,0,0,0,0,0,0,0,0,0,0,0,0,0,0,0,0,0,0,0,0,0,0,0,0,0,0,0,0,0,0,0,0,0,0,0,0,0,0,0,0,0,0,0,0,0,0,0,0,0,0,0,0,0,0,0,0,0,0,0,0,0,0,0,0,0,0,0,0,0,0,0,0,0,0,0,0,0,0,0,0,0,0,0,0,0,0,0,0,0,0,0,0,0,0,0,0,0,0,0,0,0,0,0,0,0,0,0,0,0,0,0,0,0,0,0,0,0,0,0,0,0,0,0,0,0,0,0,0,0,0,0,0,0,0,0,0,0,0,0,0,0,0,0,0,0,0,0,0,0,0,0,0,0,0,0,0,0,0,0,0,0,0,0,0,0,0,0,0,0,0,0,0,0,0,0,0,0,0,0,0,0,0,0,0,0,0,0,0,0,0,0,0,0,0,0,0,0,0,0,0,0,0,0,0,0,0,0,0,0,0,0,0,0,0,0,0,0,0,0,0,0,0,0,0,0,0,0,0,0,0,0,0,0,0,0,0,0,0,0,0,0,0,0,0,0,0,0,0,0,0,0,0,0,0,0,0,0,0,0,0,0,0,0,0,0,0,0,0,0,0,0,0,0,0,0,0,0,0,0,0,0,0,0,0,0,0,0,0,0,0,0,0,0,0,0,0,0,0,0,0,0,0,0,0,0,0,0,0,0,0,0,0,0,0,0,0,0,0,0,0,0,0,0,0,0,0,0,0,0,0,0,0,0,0,0,0,0,0,0,0,0,0,0,0,0,0,0,0,0,0,0,0,0,0,0,0,0,0,0,0,0,0,0,0,0,0,0,0,0,0,0,0,0,0,0,0,0,0,0,0,0,0,0,0,0,0,0,0,0,0,0,0,0,0,0,0,0,0,0,0,0,0,0,0,0,0,0,0,0,0,0,null,{"$f":"SUM(E26:AM26)","v":{"v":0,"d":"0.0"}},{"$f":"SUM(AN26:BT26)","v":{"v":0,"d":"0.0"}},{"$f":"SUM(BU26:DA26)","v":{"v":0,"d":"0.0"}},{"$f":"SUM(DB26:EF26)","v":{"v":0,"d":"0.0"}},{"$f":"SUM(EG26:FK26)","v":{"v":0,"d":"0.0"}},{"$f":"SUM(FL26:GP26)","v":{"v":0,"d":"0.0"}},{"$f":"SUM(GQ26:GS26)","v":{"v":0,"d":"0.0"}},{"$f":"SUM(GT26:HD26)","v":{"v":0,"d":"0.0"}},{"$f":"SUM(HE26:HJ26)","v":{"v":0,"d":"0.0"}},{"$f":"SUM(HK26:IE26)","v":{"v":0,"d":"0.0"}},{"$f":"SUM(IF26:IZ26)","v":{"v":0,"d":"0.0"}},{"$f":"SUM(JA26:JR26)","v":{"v":0,"d":"0.0"}},{"$f":"SUM(JS26:KN26)","v":{"v":0,"d":"0.0"}},{"$f":"SUM(KO26:LU26)","v":{"v":0,"d":"0.0"}},{"$f":"SUM(LV26:MK26)","v":{"v":0,"d":"0.0"}},{"$f":"SUM(ML26:OP26)","v":{"v":0,"d":"0.0"}},{"$f":"SUM(OQ26:PF26)","v":{"v":0,"d":"0.0"}},{"$f":"SUM(PG26:PY26)","v":{"v":0,"d":"0.0"}},{"v":0,"d":"0.0"},{"v":0,"d":"0.0"},{"v":0,"d":"0.0"},{"v":0,"d":"0.0"},{"v":0,"d":"0.0"},{"v":0,"d":"0.0"},{"v":0,"d":"0.0"},{"v":0,"d":"0.0"},{"v":0,"d":"0.0"},{"v":0,"d":"0.0"},{"v":0,"d":"0.0"},{"v":0,"d":"0.0"},{"v":0,"d":"0.0"},{"v":0,"d":"0.0"},{"v":0,"d":"0.0"},{"v":0,"d":"0.0"},{"v":0,"d":"0.0"},{"v":0,"d":"0.0"},{"v":0,"d":"0.0"},{"v":0,"d":"0.0"},{"v":0,"d":"0.0"},{"v":0,"d":"0.0"},{"v":0,"d":"0.0"},{"v":0,"d":"0.0"},{"v":0,"d":"0.0"},{"v":0,"d":"0.0"},{"v":0,"d":"0.0"},0]
[{"$nulls":3},"ZONAS VEREDALES",0,0,0,0,0,0,0,0,0,0,0,0,0,0,0,0,0,0,0,0,0,0,0,0,0,0,0,0,0,0,0,0,0,0,0,0,0,0,0,0,0,0,0,0,0,0,0,0,0,0,0,0,0,0,0,0,0,0,0,0,0,0,0,0,0,0,0,0,0,1,0,0,0,0,0,0,0,0,0,0,0,0,0,0,0,0,0,0,0,0,0,0,0,0,0,0,0,0,0,0,0,0,0,0,0,0,0,0,0,0,0,0,0,0,0,0,0,0,0,0,0,0,0,0,0,0,0,0,0,0,0,0,0,0,0,0,0,0,0,0,0,0,0,0,0,0,0,0,0,0,0,0,0,0,0,0,0,0,0,0,0,0,0,0,0,0,0,0,0,0,0,0,0,0,0,0,0,0,0,0,0,0,0,0,0,0,0,0,0,0,0,0,0,0,0,0,0,0,0,0,0,0,0,0,0,0,0,0,0,0,0,2,0,0,0,0,0,0,0,0,0,0,0,0,0,0,1,0,0,0,0,0,0,0,0,0,0,0,0,0,0,0,0,0,0,0,0,0,0,0,0,0,0,0,0,0,0,0,0,0,0,0,0,0,0,0,0,0,0,0,0,0,0,0,0,0,0,0,0,0,0,0,0,0,0,0,0,0,0,0,0,0,0,0,0,0,0,0,0,0,0,0,0,0,0,0,0,0,0,0,0,0,0,0,0,0,0,0,0,0,0,0,0,1,0,0,0,0,0,0,0,0,0,0,0,0,0,0,0,0,0,0,0,0,0,0,0,0,0,0,0,0,0,0,0,0,0,0,0,0,0,0,0,0,1,0,0,0,0,0,0,0,0,0,0,0,0,0,0,0,0,0,0,0,0,0,0,0,0,0,0,0,0,0,0,0,0,0,0,0,0,0,0,0,0,0,0,0,0,0,0,0,0,0,0,0,0,0,0,0,0,0,0,0,0,0,0,0,1,0,0,0,0,0,0,0,0,0,0,0,0,0,0,0,0,0,0,0,0,0,0,2,0,0,0,0,0,0,0,0,0,0,0,0,0,0,0,0,0,0,0,0,0,0,0,0,0,0,0,0,0,0,0,0,0,0,0,0,0,0,0,0,0,0,0,0,0,0,0,0,0,0,0,0,0,0,0,0,0,0,0,0,0,0,0,0,7,{"$f":"CONCATENATE($G$2,$B$8)","v":"25"},{"$f":"SUM(E27:H27)","v":{"v":0,"d":"0.0"}},{"$f":"SUM(I27:BI27)","v":{"v":0,"d":"0.0"}},{"$f":"SUM(BI27:CP27)","v":{"v":1,"d":"1.0"}},{"$f":"SUM(BJ27:CQ27)","v":{"v":1,"d":"1.0"}},{"$f":"SUM(CR27:CY27)","v":{"v":0,"d":"0.0"}},{"$f":"SUM(CZ27:DW27)","v":{"v":0,"d":"0.0"}},{"$f":"SUM(DX27:EW27)","v":{"v":0,"d":"0.0"}},{"$f":"SUM(EX27:GB27)","v":{"v":0,"d":"0.0"}},{"$f":"SUM(GC27:HG27)","v":{"v":0,"d":"0.0"}},{"$f":"SUM(HH27:HI27)","v":{"v":2,"d":"2.0"}},{"$f":"SUM(HJ27:HO27)","v":{"v":0,"d":"0.0"}},{"$f":"SUM(HV27:IM27)","v":{"v":1,"d":"1.0"}},{"$f":"SUM(IN27:JD27)","v":{"v":0,"d":"0.0"}},{"$f":"SUM(JE27:JW27)","v":{"v":0,"d":"0.0"}},{"$f":"SUM(JX27:KH27)","v":{"v":0,"d":"0.0"}},{"$f":"SUM(KI27:KT27)","v":{"v":0,"d":"0.0"}},{"$f":"SUM(KU27:MY27)","v":{"v":1,"d":"1.0"}},{"$f":"SUM(MZ27:NO27)","v":{"v":1,"d":"1.0"}},{"v":0,"d":"0.0"},{"v":0,"d":"0.0"},{"v":0,"d":"0.0"},{"v":0,"d":"0.0"},{"$f":"SUM(QK27)","v":{"v":0,"d":"0.0"}},{"$f":"SUM(QL27)","v":{"v":0,"d":"0.0"}},{"v":0,"d":"0.0"},{"v":2,"d":"2.0"},{"v":0,"d":"0.0"},{"v":0,"d":"0.0"},{"v":0,"d":"0.0"},{"v":0,"d":"0.0"},{"v":0,"d":"0.0"},{"v":0,"d":"0.0"},{"v":0,"d":"0.0"},{"v":0,"d":"0.0"},{"v":0,"d":"0.0"},{"v":0,"d":"0.0"},{"v":0,"d":"0.0"},{"v":0,"d":"0.0"},{"v":0,"d":"0.0"},{"v":0,"d":"0.0"},{"v":0,"d":"0.0"},{"v":0,"d":"0.0"},{"v":0,"d":"0.0"},{"v":0,"d":"0.0"},{"v":0,"d":"0.0"},{"$f":"SUM(TC27:UQ27)-SUM(UE27:UG27)-SUM(UK27:UP27)","v":9}]
[{"$nulls":3},"FEMENINO",{"$nulls":516},{"$f":"SUM(E28:SZ28)-SUM(SC28:SN28)","v":0},null,{"$f":"SUM(E28:AM28)","v":{"v":0,"d":"0.0"}},{"$f":"SUM(AN28:BT28)","v":{"v":0,"d":"0.0"}},{"$f":"SUM(BU28:DA28)","v":{"v":0,"d":"0.0"}},{"$f":"SUM(DB28:EF28)","v":{"v":0,"d":"0.0"}},{"$f":"SUM(EG28:FK28)","v":{"v":0,"d":"0.0"}},{"$f":"SUM(FL28:GP28)","v":{"v":0,"d":"0.0"}},{"$f":"SUM(GQ28:GS28)","v":{"v":0,"d":"0.0"}},{"$f":"SUM(GT28:HD28)","v":{"v":0,"d":"0.0"}},{"$f":"SUM(HE28:HJ28)","v":{"v":0,"d":"0.0"}},{"$f":"SUM(HK28:IE28)","v":{"v":0,"d":"0.0"}},{"$f":"SUM(IF28:IZ28)","v":{"v":0,"d":"0.0"}},{"$f":"SUM(JA28:JR28)","v":{"v":0,"d":"0.0"}},{"$f":"SUM(JS28:KN28)","v":{"v":0,"d":"0.0"}},{"$f":"SUM(KO28:LU28)","v":{"v":0,"d":"0.0"}},{"$f":"SUM(LV28:MK28)","v":{"v":0,"d":"0.0"}},{"$f":"SUM(ML28:OP28)","v":{"v":0,"d":"0.0"}},{"$f":"SUM(OQ28:PF28)","v":{"v":0,"d":"0.0"}},{"$f":"SUM(PG28:PY28)","v":{"v":0,"d":"0.0"}},{"v":0,"d":"0.0"},{"v":0,"d":"0.0"},{"v":0,"d":"0.0"},{"v":0,"d":"0.0"},{"$f":"SUM(QK28)","v":{"v":0,"d":"0.0"}},{"v":0,"d":"0.0"},{"v":0,"d":"0.0"},{"v":0,"d":"0.0"},{"v":0,"d":"0.0"},{"v":0,"d":"0.0"},{"v":0,"d":"0.0"},{"v":0,"d":"0.0"},{"v":0,"d":"0.0"},{"v":0,"d":"0.0"},{"v":0,"d":"0.0"},{"v":0,"d":"0.0"},{"v":0,"d":"0.0"},{"v":0,"d":"0.0"},{"v":0,"d":"0.0"},{"v":0,"d":"0.0"},{"v":0,"d":"0.0"},{"v":0,"d":"0.0"},{"v":0,"d":"0.0"},{"v":0,"d":"0.0"},{"v":0,"d":"0.0"},{"v":0,"d":"0.0"},{"v":0,"d":"0.0"},0]
[{"$nulls":3},"MASCULINO",{"$nulls":516},0,null,{"$f":"SUM(E29:AM29)","v":{"v":0,"d":"0.0"}},{"$f":"SUM(AN29:BT29)","v":{"v":0,"d":"0.0"}},{"$f":"SUM(BU29:DA29)","v":{"v":0,"d":"0.0"}},{"$f":"SUM(DB29:EF29)","v":{"v":0,"d":"0.0"}},{"$f":"SUM(EG29:FK29)","v":{"v":0,"d":"0.0"}},{"$f":"SUM(FL29:GP29)","v":{"v":0,"d":"0.0"}},{"$f":"SUM(GQ29:GS29)","v":{"v":0,"d":"0.0"}},{"$f":"SUM(GT29:HD29)","v":{"v":0,"d":"0.0"}},{"$f":"SUM(HE29:HJ29)","v":{"v":0,"d":"0.0"}},{"$f":"SUM(HK29:IE29)","v":{"v":0,"d":"0.0"}},{"$f":"SUM(IF29:IZ29)","v":{"v":0,"d":"0.0"}},{"$f":"SUM(JA29:JR29)","v":{"v":0,"d":"0.0"}},{"$f":"SUM(JS29:KN29)","v":{"v":0,"d":"0.0"}},{"$f":"SUM(KO29:LU29)","v":{"v":0,"d":"0.0"}},{"$f":"SUM(LV29:MK29)","v":{"v":0,"d":"0.0"}},{"$f":"SUM(ML29:OP29)","v":{"v":0,"d":"0.0"}},{"$f":"SUM(OQ29:PF29)","v":{"v":0,"d":"0.0"}},{"$f":"SUM(PG29:PY29)","v":{"v":0,"d":"0.0"}},{"v":0,"d":"0.0"},{"v":0,"d":"0.0"},{"v":0,"d":"0.0"},{"v":0,"d":"0.0"},{"v":0,"d":"0.0"},{"v":0,"d":"0.0"},{"v":0,"d":"0.0"},{"v":0,"d":"0.0"},{"v":0,"d":"0.0"},{"v":0,"d":"0.0"},{"v":0,"d":"0.0"},{"v":0,"d":"0.0"},{"v":0,"d":"0.0"},{"v":0,"d":"0.0"},{"v":0,"d":"0.0"},{"v":0,"d":"0.0"},{"v":0,"d":"0.0"},{"v":0,"d":"0.0"},{"v":0,"d":"0.0"},{"v":0,"d":"0.0"},{"v":0,"d":"0.0"},{"v":0,"d":"0.0"},{"v":0,"d":"0.0"},{"v":0,"d":"0.0"},{"v":0,"d":"0.0"},{"v":0,"d":"0.0"},{"v":0,"d":"0.0"},0]
[{"$nulls":3},"OTRO",{"$nulls":516},0,null,{"$f":"SUM(E30:AM30)","v":{"v":0,"d":"0.0"}},{"$f":"SUM(AN30:BT30)","v":{"v":0,"d":"0.0"}},{"$f":"SUM(BU30:DA30)","v":{"v":0,"d":"0.0"}},{"$f":"SUM(DB30:EF30)","v":{"v":0,"d":"0.0"}},{"$f":"SUM(EG30:FK30)","v":{"v":0,"d":"0.0"}},{"$f":"SUM(FL30:GP30)","v":{"v":0,"d":"0.0"}},{"$f":"SUM(GQ30:GS30)","v":{"v":0,"d":"0.0"}},{"$f":"SUM(GT30:HD30)","v":{"v":0,"d":"0.0"}},{"$f":"SUM(HE30:HJ30)","v":{"v":0,"d":"0.0"}},{"$f":"SUM(HK30:IE30)","v":{"v":0,"d":"0.0"}},{"$f":"SUM(IF30:IZ30)","v":{"v":0,"d":"0.0"}},{"$f":"SUM(JA30:JR30)","v":{"v":0,"d":"0.0"}},{"$f":"SUM(JS30:KN30)","v":{"v":0,"d":"0.0"}},{"$f":"SUM(KO30:LU30)","v":{"v":0,"d":"0.0"}},{"$f":"SUM(LV30:MK30)","v":{"v":0,"d":"0.0"}},{"$f":"SUM(ML30:OP30)","v":{"v":0,"d":"0.0"}},{"$f":"SUM(OQ30:PF30)","v":{"v":0,"d":"0.0"}},{"$f":"SUM(PG30:PY30)","v":{"v":0,"d":"0.0"}},{"v":0,"d":"0.0"},{"v":0,"d":"0.0"},{"v":0,"d":"0.0"},{"v":0,"d":"0.0"},{"v":0,"d":"0.0"},{"v":0,"d":"0.0"},{"v":0,"d":"0.0"},{"v":0,"d":"0.0"},{"v":0,"d":"0.0"},{"v":0,"d":"0.0"},{"v":0,"d":"0.0"},{"v":0,"d":"0.0"},{"v":0,"d":"0.0"},{"v":0,"d":"0.0"},{"v":0,"d":"0.0"},{"v":0,"d":"0.0"},{"v":0,"d":"0.0"},{"v":0,"d":"0.0"},{"v":0,"d":"0.0"},{"v":0,"d":"0.0"},{"v":0,"d":"0.0"},{"v":0,"d":"0.0"},{"v":0,"d":"0.0"},{"v":0,"d":"0.0"},{"v":0,"d":"0.0"},{"v":0,"d":"0.0"},{"v":0,"d":"0.0"},0]
[{"$nulls":3},"TOTAL GENERO",{"$f":"SUM(E28:E30)","v":0},0,{"$f":"SUM(G28:G30)","v":0},0,0,0,0,0,0,0,0,0,0,0,0,0,0,0,0,0,0,0,0,0,0,0,0,0,0,0,0,0,0,0,0,0,0,0,0,0,0,0,0,0,0,0,0,0,0,0,0,0,0,0,0,0,0,0,0,0,0,0,0,0,0,0,{"$f":"SUM(BS28:BS30)","v":0},0,0,0,0,0,0,0,0,0,0,0,0,0,0,0,0,0,0,0,0,0,0,0,0,0,0,0,0,0,0,0,0,0,0,0,0,0,0,0,0,0,0,0,0,0,0,0,0,0,0,0,0,0,0,0,0,0,0,0,0,0,0,0,{"$f":"SUM(EE28:EE30)","v":0},0,0,0,0,0,0,0,0,0,0,0,0,0,0,0,0,0,0,0,0,0,0,0,0,0,0,0,0,0,0,0,0,0,0,0,0,0,0,0,0,0,0,0,0,0,0,0,0,0,0,0,0,0,0,0,0,0,0,0,0,0,0,0,{"$f":"SUM(GQ28:GQ30)","v":0},0,0,0,0,0,0,0,0,0,0,0,0,0,0,0,0,0,0,0,0,0,0,0,0,0,0,0,0,0,0,0,0,0,0,0,0,0,0,0,0,0,0,0,0,0,0,0,0,0,0,0,0,0,0,0,0,0,0,0,0,0,0,0,{"$f":"SUM(JC28:JC30)","v":0},0,0,0,0,0,0,0,0,0,0,0,0,0,0,0,0,0,0,0,0,0,0,0,0,0,0,0,0,0,0,0,0,0,0,0,0,0,0,0,0,0,0,0,0,0,0,0,0,0,0,0,0,0,0,0,0,0,0,0,0,0,0,0,{"$f":"SUM(LO28:LO30)","v":0},0,0,0,0,0,0,0,0,0,0,0,0,0,0,0,0,0,0,0,0,0,0,0,0,0,0,0,0,0,0,0,0,0,0,0,0,0,0,0,0,0,0,0,0,0,0,0,0,0,0,0,0,0,0,0,0,0,0,0,0,{"$f":"SUM(NX28:NX30)","v":0},0,0,0,0,0,0,0,0,0,0,0,0,0,0,0,0,0,0,0,0,0,0,0,0,0,0,0,0,0,0,0,0,0,0,0,0,0,0,0,0,0,0,0,0,0,0,0,{"$f":"SUM(PT28:PT30)","v":0},0,0,0,0,0,0,0,0,0,0,0,0,0,0,0,0,0,0,{"$f":"SUM(QM28:QM30)","v":0},0,0,0,0,0,0,0,0,0,0,0,0,0,0,0,0,0,0,0,{"$f":"SUM(RG28:RG30)","v":0},0,0,0,0,0,0,0,0,0,0,0,0,0,0,0,0,0,0,0,0,0,0,0,0,0,0,0,0,0,{"$f":"SUM(SK28:SK30)","v":0},0,0,0,0,0,0,0,0,0,0,0,0,{"$f":"SUM(SX28:SX30)","v":0},0,0,0,null,{"$f":"SUM(TC28:TC30)","v":{"v":0,"d":"0.0"}},{"v":0,"d":"0.0"},{"$f":"SUM(TE28:TE30)","v":{"v":0,"d":"0.0"}},{"v":0,"d":"0.0"},{"v":0,"d":"0.0"},{"v":0,"d":"0.0"},{"v":0,"d":"0.0"},{"v":0,"d":"0.0"},{"v":0,"d":"0.0"},{"v":0,"d":"0.0"},{"v":0,"d":"0.0"},{"v":0,"d":"0.0"},{"v":0,"d":"0.0"},{"v":0,"d":"0.0"},{"v":0,"d":"0.0"},{"v":0,"d":"0.0"},{"v":0,"d":"0.0"},{"v":0,"d":"0.0"},{"v":0,"d":"0.0"},{"v":0,"d":"0.0"},{"v":0,"d":"0.0"},{"v":0,"d":"0.0"},{"v":0,"d":"0.0"},{"v":0,"d":"0.0"},{"v":0,"d":"0.0"},{"v":0,"d":"0.0"},{"v":0,"d":"0.0"},{"v":0,"d":"0.0"},{"v":0,"d":"0.0"},{"v":0,"d":"0.0"},{"v":0,"d":"0.0"},{"v":0,"d":"0.0"},{"v":0,"d":"0.0"},{"v":0,"d":"0.0"},{"v":0,"d":"0.0"},{"v":0,"d":"0.0"},{"v":0,"d":"0.0"},{"v":0,"d":"0.0"},{"v":0,"d":"0.0"},{"v":0,"d":"0.0"},{"v":0,"d":"0.0"},{"v":0,"d":"0.0"},{"$f":"SUM(US28:US30)","v":{"v":0,"d":"0.0"}},{"v":0,"d":"0.0"},{"v":0,"d":"0.0"},{"$f":"SUM(UV28:UV30)","v":0}]
[{"$nulls":3},"CONTRIBUTIVO",{"$nulls":516},{"$f":"SUM(E32:SZ32)-SUM(SC32:SN32)","v":0},null,{"$f":"SUM(E32:AM32)","v":{"v":0,"d":"0.0"}},{"$f":"SUM(AN32:BT32)","v":{"v":0,"d":"0.0"}},{"$f":"SUM(BU32:DA32)","v":{"v":0,"d":"0.0"}},{"$f":"SUM(DB32:EF32)","v":{"v":0,"d":"0.0"}},{"$f":"SUM(EG32:FK32)","v":{"v":0,"d":"0.0"}},{"$f":"SUM(FL32:GP32)","v":{"v":0,"d":"0.0"}},{"$f":"SUM(GQ32:GS32)","v":{"v":0,"d":"0.0"}},{"$f":"SUM(GT32:HD32)","v":{"v":0,"d":"0.0"}},{"$f":"SUM(HE32:HJ32)","v":{"v":0,"d":"0.0"}},{"$f":"SUM(HK32:IE32)","v":{"v":0,"d":"0.0"}},{"$f":"SUM(IF32:IZ32)","v":{"v":0,"d":"0.0"}},{"$f":"SUM(JA32:JR32)","v":{"v":0,"d":"0.0"}},{"$f":"SUM(JS32:KN32)","v":{"v":0,"d":"0.0"}},{"$f":"SUM(KO32:LU32)","v":{"v":0,"d":"0.0"}},{"$f":"SUM(LV32:MK32)","v":{"v":0,"d":"0.0"}},{"$f":"SUM(ML32:OP32)","v":{"v":0,"d":"0.0"}},{"$f":"SUM(OQ32:PF32)","v":{"v":0,"d":"0.0"}},{"$f":"SUM(PG32:PY32)","v":{"v":0,"d":"0.0"}},{"$f":"SUM(PZ32:QA32)","v":{"v":0,"d":"0.0"}},{"$f":"SUM(QB32:QD32)","v":{"v":0,"d":"0.0"}},{"$f":"SUM(QE32:QG32)","v":{"v":0,"d":"0.0"}},{"$f":"SUM(QH32:QJ32)","v":{"v":0,"d":"0.0"}},{"$f":"SUM(QK32)","v":{"v":0,"d":"0.0"}},{"v":0,"d":"0.0"},{"v":0,"d":"0.0"},{"v":0,"d":"0.0"},{"$f":"SUM(QO32:RR32)","v":{"v":0,"d":"0.0"}},{"$f":"SUM(RS32:RU32)","v":{"v":0,"d":"0.0"}},{"$f":"SUM(RV32:RY32)","v":{"v":0,"d":"0.0"}},{"$f":"SUM(RZ32:SB32)","v":{"v":0,"d":"0.0"}},{"$f":"SUM(SC32)","v":{"v":0,"d":"0.0"}},{"v":0,"d":"0.0"},{"v":0,"d":"0.0"},{"v":0,"d":"0.0"},{"v":0,"d":"0.0"},{"v":0,"d":"0.0"},{"v":0,"d":"0.0"},{"v":0,"d":"0.0"},{"v":0,"d":"0.0"},{"v":0,"d":"0.0"},{"v":0,"d":"0.0"},{"v":0,"d":"0.0"},{"$f":"SUM(SO32:SV32)","v":{"v":0,"d":"0.0"}},{"$f":"SUM(SW32:SX32)","v":{"v":0,"d":"0.0"}},{"$f":"SUM(SY32:SZ32)","v":{"v":0,"d":"0.0"}},{"$f":"SUM(TC32:UQ32)-SUM(UE32:UG32)-SUM(UK32:UP32)","v":0}]
[{"$nulls":3},"SUBSIDIADO",{"$nulls":516},0,null,{"$f":"SUM(E33:AM33)","v":{"v":0,"d":"0.0"}},{"$f":"SUM(AN33:BT33)","v":{"v":0,"d":"0.0"}},{"$f":"SUM(BU33:DA33)","v":{"v":0,"d":"0.0"}},{"$f":"SUM(DB33:EF33)","v":{"v":0,"d":"0.0"}},{"$f":"SUM(EG33:FK33)","v":{"v":0,"d":"0.0"}},{"$f":"SUM(FL33:GP33)","v":{"v":0,"d":"0.0"}},{"$f":"SUM(GQ33:GS33)","v":{"v":0,"d":"0.0"}},{"$f":"SUM(GT33:HD33)","v":{"v":0,"d":"0.0"}},{"$f":"SUM(HE33:HJ33)","v":{"v":0,"d":"0.0"}},{"$f":"SUM(HK33:IE33)","v":{"v":0,"d":"0.0"}},{"$f":"SUM(IF33:IZ33)","v":{"v":0,"d":"0.0"}},{"$f":"SUM(JA33:JR33)","v":{"v":0,"d":"0.0"}},{"$f":"SUM(JS33:KN33)","v":{"v":0,"d":"0.0"}},{"$f":"SUM(KO33:LU33)","v":{"v":0,"d":"0.0"}},{"$f":"SUM(LV33:MK33)","v":{"v":0,"d":"0.0"}},{"$f":"SUM(ML33:OP33)","v":{"v":0,"d":"0.0"}},{"$f":"SUM(OQ33:PF33)","v":{"v":0,"d":"0.0"}},{"$f":"SUM(PG33:PY33)","v":{"v":0,"d":"0.0"}},{"$f":"SUM(PZ33:QA33)","v":{"v":0,"d":"0.0"}},{"$f":"SUM(QB33:QD33)","v":{"v":0,"d":"0.0"}},{"$f":"SUM(QE33:QG33)","v":{"v":0,"d":"0.0"}},{"$f":"SUM(QH33:QJ33)","v":{"v":0,"d":"0.0"}},{"v":0,"d":"0.0"},{"v":0,"d":"0.0"},{"v":0,"d":"0.0"},{"v":0,"d":"0.0"},{"$f":"SUM(QO33:RR33)","v":{"v":0,"d":"0.0"}},{"$f":"SUM(RS33:RU33)","v":{"v":0,"d":"0.0"}},{"$f":"SUM(RV33:RY33)","v":{"v":0,"d":"0.0"}},{"$f":"SUM(RZ33:SB33)","v":{"v":0,"d":"0.0"}},{"v":0,"d":"0.0"},{"v":0,"d":"0.0"},{"v":0,"d":"0.0"},{"v":0,"d":"0.0"},{"v":0,"d":"0.0"},{"v":0,"d":"0.0"},{"v":0,"d":"0.0"},{"v":0,"d":"0.0"},{"v":0,"d":"0.0"},{"v":0,"d":"0.0"},{"v":0,"d":"0.0"},{"v":0,"d":"0.0"},{"$f":"SUM(SO33:SV33)","v":{"v":0,"d":"0.0"}},{"$f":"SUM(SW33:SX33)","v":{"v":0,"d":"0.0"}},{"$f":"SUM(SY33:SZ33)","v":{"v":0,"d":"0.0"}},{"$f":"SUM(TC33:UQ33)-SUM(UE33:UG33)-SUM(UK33:UP33)","v":0}]
[{"$nulls":3},"POBRE NO ASEGURADO",{"$nulls":516},0,null,{"$f":"SUM(E34:AM34)","v":{"v":0,"d":"0.0"}},{"$f":"SUM(AN34:BT34)","v":{"v":0,"d":"0.0"}},{"$f":"SUM(BU34:DA34)","v":{"v":0,"d":"0.0"}},{"$f":"SUM(DB34:EF34)","v":{"v":0,"d":"0.0"}},{"$f":"SUM(EG34:FK34)","v":{"v":0,"d":"0.0"}},{"$f":"SUM(FL34:GP34)","v":{"v":0,"d":"0.0"}},{"$f":"SUM(GQ34:GS34)","v":{"v":0,"d":"0.0"}},{"$f":"SUM(GT34:HD34)","v":{"v":0,"d":"0.0"}},{"$f":"SUM(HE34:HJ34)","v":{"v":0,"d":"0.0"}},{"$f":"SUM(HK34:IE34)","v":{"v":0,"d":"0.0"}},{"$f":"SUM(IF34:IZ34)","v":{"v":0,"d":"0.0"}},{"$f":"SUM(JA34:JR34)","v":{"v":0,"d":"0.0"}},{"$f":"SUM(JS34:KN34)","v":{"v":0,"d":"0.0"}},{"$f":"SUM(KO34:LU34)","v":{"v":0,"d":"0.0"}},{"$f":"SUM(LV34:MK34)","v":{"v":0,"d":"0.0"}},{"$f":"SUM(ML34:OP34)","v":{"v":0,"d":"0.0"}},{"$f":"SUM(OQ34:PF34)","v":{"v":0,"d":"0.0"}},{"$f":"SUM(PG34:PY34)","v":{"v":0,"d":"0.0"}},{"$f":"SUM(PZ34:QA34)","v":{"v":0,"d":"0.0"}},{"$f":"SUM(QB34:QD34)","v":{"v":0,"d":"0.0"}},{"$f":"SUM(QE34:QG34)","v":{"v":0,"d":"0.0"}},{"$f":"SUM(QH34:QJ34)","v":{"v":0,"d":"0.0"}},{"v":0,"d":"0.0"},{"v":0,"d":"0.0"},{"v":0,"d":"0.0"},{"v":0,"d":"0.0"},{"$f":"SUM(QO34:RR34)","v":{"v":0,"d":"0.0"}},{"$f":"SUM(RS34:RU34)","v":{"v":0,"d":"0.0"}},{"$f":"SUM(RV34:RY34)","v":{"v":0,"d":"0.0"}},{"$f":"SUM(RZ34:SB34)","v":{"v":0,"d":"0.0"}},{"v":0,"d":"0.0"},{"v":0,"d":"0.0"},{"v":0,"d":"0.0"},{"v":0,"d":"0.0"},{"v":0,"d":"0.0"},{"v":0,"d":"0.0"},{"v":0,"d":"0.0"},{"v":0,"d":"0.0"},{"v":0,"d":"0.0"},{"v":0,"d":"0.0"},{"v":0,"d":"0.0"},{"v":0,"d":"0.0"},{"$f":"SUM(SO34:SV34)","v":{"v":0,"d":"0.0"}},{"$f":"SUM(SW34:SX34)","v":{"v":0,"d":"0.0"}},{"$f":"SUM(SY34:SZ34)","v":{"v":0,"d":"0.0"}},{"$f":"SUM(TC34:UQ34)-SUM(UE34:UG34)-SUM(UK34:UP34)","v":0}]
[{"$nulls":3},"REGIMEN ESPECIAL",{"$nulls":516},0,null,{"$f":"SUM(E35:AM35)","v":{"v":0,"d":"0.0"}},{"$f":"SUM(AN35:BT35)","v":{"v":0,"d":"0.0"}},{"$f":"SUM(BU35:DA35)","v":{"v":0,"d":"0.0"}},{"$f":"SUM(DB35:EF35)","v":{"v":0,"d":"0.0"}},{"$f":"SUM(EG35:FK35)","v":{"v":0,"d":"0.0"}},{"$f":"SUM(FL35:GP35)","v":{"v":0,"d":"0.0"}},{"$f":"SUM(GQ35:GS35)","v":{"v":0,"d":"0.0"}},{"$f":"SUM(GT35:HD35)","v":{"v":0,"d":"0.0"}},{"$f":"SUM(HE35:HJ35)","v":{"v":0,"d":"0.0"}},{"$f":"SUM(HK35:IE35)","v":{"v":0,"d":"0.0"}},{"$f":"SUM(IF35:IZ35)","v":{"v":0,"d":"0.0"}},{"$f":"SUM(JA35:JR35)","v":{"v":0,"d":"0.0"}},{"$f":"SUM(JS35:KN35)","v":{"v":0,"d":"0.0"}},{"$f":"SUM(KO35:LU35)","v":{"v":0,"d":"0.0"}},{"$f":"SUM(LV35:MK35)","v":{"v":0,"d":"0.0"}},{"$f":"SUM(ML35:OP35)","v":{"v":0,"d":"0.0"}},{"$f":"SUM(OQ35:PF35)","v":{"v":0,"d":"0.0"}},{"$f":"SUM(PG35:PY35)","v":{"v":0,"d":"0.0"}},{"$f":"SUM(PZ35:QA35)","v":{"v":0,"d":"0.0"}},{"$f":"SUM(QB35:QD35)","v":{"v":0,"d":"0.0"}},{"$f":"SUM(QE35:QG35)","v":{"v":0,"d":"0.0"}},{"$f":"SUM(QH35:QJ35)","v":{"v":0,"d":"0.0"}},{"v":0,"d":"0.0"},{"v":0,"d":"0.0"},{"v":0,"d":"0.0"},{"v":0,"d":"0.0"},{"$f":"SUM(QO35:RR35)","v":{"v":0,"d":"0.0"}},{"$f":"SUM(RS35:RU35)","v":{"v":0,"d":"0.0"}},{"$f":"SUM(RV35:RY35)","v":{"v":0,"d":"0.0"}},{"$f":"SUM(RZ35:SB35)","v":{"v":0,"d":"0.0"}},{"v":0,"d":"0.0"},{"v":0,"d":"0.0"},{"v":0,"d":"0.0"},{"v":0,"d":"0.0"},{"v":0,"d":"0.0"},{"v":0,"d":"0.0"},{"v":0,"d":"0.0"},{"v":0,"d":"0.0"},{"v":0,"d":"0.0"},{"v":0,"d":"0.0"},{"v":0,"d":"0.0"},{"v":0,"d":"0.0"},{"$f":"SUM(SO35:SV35)","v":{"v":0,"d":"0.0"}},{"$f":"SUM(SW35:SX35)","v":{"v":0,"d":"0.0"}},{"$f":"SUM(SY35:SZ35)","v":{"v":0,"d":"0.0"}},{"$f":"SUM(TC35:UQ35)-SUM(UE35:UG35)-SUM(UK35:UP35)","v":0}]
[{"$nulls":3},"TOTAL REGIMEN",{"$f":"SUM(E32:E35)","v":0},0,0,0,0,0,0,0,0,0,0,0,0,0,0,0,0,0,0,0,0,0,0,0,0,0,0,0,0,0,0,0,0,0,0,0,0,0,0,0,0,0,0,0,0,0,0,0,0,0,0,0,0,0,0,0,0,0,0,0,0,0,0,0,{"$f":"SUM(BQ32:BQ35)","v":0},0,0,0,0,0,0,0,0,0,0,0,0,0,0,0,0,0,0,0,0,0,0,0,0,0,0,0,0,0,0,0,0,0,0,0,0,0,0,0,0,0,0,0,0,0,0,0,0,0,0,0,0,0,0,0,0,0,0,0,0,0,0,0,{"$f":"SUM(EC32:EC35)","v":0},0,0,0,0,0,0,0,0,0,0,0,0,0,0,0,0,0,0,0,0,0,0,0,0,0,0,0,0,0,0,0,0,0,0,0,0,0,0,0,0,0,0,0,0,0,0,0,0,0,0,0,0,0,0,0,0,0,0,0,0,0,0,0,{"$f":"SUM(GO32:GO35)","v":0},0,0,0,0,0,0,0,0,0,0,0,0,0,0,0,0,0,0,0,0,0,0,0,0,0,0,0,0,0,0,0,0,0,0,0,0,0,0,0,0,0,0,0,0,0,0,0,0,0,0,0,0,0,0,0,0,0,0,0,0,0,0,0,{"$f":"SUM(JA32:JA35)","v":0},0,0,0,0,0,0,0,0,0,0,0,0,0,0,0,0,0,0,0,0,0,0,0,0,0,0,0,0,0,0,0,0,0,0,0,0,0,0,0,0,0,0,0,0,0,0,0,0,0,0,0,0,0,0,0,0,0,0,0,0,0,0,0,{"$f":"SUM(LM32:LM35)","v":0},0,0,0,0,0,0,0,0,0,0,0,0,0,0,0,0,0,0,0,0,0,0,0,0,0,0,0,0,0,0,0,0,0,0,0,0,0,0,0,0,0,0,0,0,0,0,0,0,0,0,0,0,0,0,0,0,0,0,0,0,0,0,{"$f":"SUM(NX32:NX35)","v":0},0,0,0,0,0,0,0,0,0,0,0,0,0,0,0,0,0,0,0,0,0,0,0,0,0,0,0,0,0,0,0,0,0,0,0,0,0,0,0,0,0,0,0,0,0,{"$f":"SUM(PR32:PR35)","v":0},0,0,0,0,0,0,0,0,0,0,0,0,0,0,0,0,0,0,0,0,{"$f":"SUM(QM32:QM35)","v":0},0,0,0,0,0,0,0,0,0,0,0,0,0,0,0,0,0,0,0,{"$f":"SUM(RG32:RG35)","v":0},0,0,0,0,0,0,0,0,0,0,0,0,0,0,0,0,0,0,0,0,0,0,0,0,0,0,0,0,0,{"$f":"SUM(SK32:SK35)","v":0},0,0,0,0,0,0,0,0,0,0,0,0,{"$f":"SUM(SX32:SX35)","v":0},0,0,0,null,{"$f":"SUM(TC32:TC35)","v":{"v":0,"d":"0.0"}},{"v":0,"d":"0.0"},{"v":0,"d":"0.0"},{"v":0,"d":"0.0"},{"v":0,"d":"0.0"},{"v":0,"d":"0.0"},{"v":0,"d":"0.0"},{"v":0,"d":"0.0"},{"v":0,"d":"0.0"},{"v":0,"d":"0.0"},{"v":0,"d":"0.0"},{"v":0,"d":"0.0"},{"v":0,"d":"0.0"},{"v":0,"d":"0.0"},{"v":0,"d":"0.0"},{"v":0,"d":"0.0"},{"v":0,"d":"0.0"},{"v":0,"d":"0.0"},{"v":0,"d":"0.0"},{"v":0,"d":"0.0"},{"v":0,"d":"0.0"},{"v":0,"d":"0.0"},{"v":0,"d":"0.0"},{"v":0,"d":"0.0"},{"v":0,"d":"0.0"},{"v":0,"d":"0.0"},{"v":0,"d":"0.0"},{"v":0,"d":"0.0"},{"v":0,"d":"0.0"},{"v":0,"d":"0.0"},{"v":0,"d":"0.0"},{"v":0,"d":"0.0"},{"v":0,"d":"0.0"},{"v":0,"d":"0.0"},{"v":0,"d":"0.0"},{"v":0,"d":"0.0"},{"v":0,"d":"0.0"},{"v":0,"d":"0.0"},{"v":0,"d":"0.0"},{"v":0,"d":"0.0"},{"v":0,"d":"0.0"},{"v":0,"d":"0.0"},{"v":0,"d":"0.0"},{"v":0,"d":"0.0"},{"v":0,"d":"0.0"},{"$f":"SUM(UV32:UV35)","v":0}]
[{"$nulls":3},"INDIGENA",{"$nulls":516},{"$f":"SUM(E37:SZ37)-SUM(SC37:SN37)","v":0},null,{"$f":"SUM(E37:AM37)","v":{"v":0,"d":"0.0"}},{"$f":"SUM(AN37:BT37)","v":{"v":0,"d":"0.0"}},{"$f":"SUM(BU37:DA37)","v":{"v":0,"d":"0.0"}},{"$f":"SUM(DB37:EF37)","v":{"v":0,"d":"0.0"}},{"$f":"SUM(EG37:FK37)","v":{"v":0,"d":"0.0"}},{"$f":"SUM(FL37:GP37)","v":{"v":0,"d":"0.0"}},{"$f":"SUM(GQ37:GS37)","v":{"v":0,"d":"0.0"}},{"$f":"SUM(GT37:HD37)","v":{"v":0,"d":"0.0"}},{"$f":"SUM(HE37:HJ37)","v":{"v":0,"d":"0.0"}},{"$f":"SUM(HK37:IE37)","v":{"v":0,"d":"0.0"}},{"$f":"SUM(IF37:IZ37)","v":{"v":0,"d":"0.0"}},{"$f":"SUM(JA37:JR37)","v":{"v":0,"d":"0.0"}},{"$f":"SUM(JS37:KN37)","v":{"v":0,"d":"0.0"}},{"$f":"SUM(KO37:LU37)","v":{"v":0,"d":"0.0"}},{"$f":"SUM(LV37:MK37)","v":{"v":0,"d":"0.0"}},{"$f":"SUM(ML37:OP37)","v":{"v":0,"d":"0.0"}},{"$f":"SUM(OQ37:PF37)","v":{"v":0,"d":"0.0"}},{"$f":"SUM(PG37:PY37)","v":{"v":0,"d":"0.0"}},{"$f":"SUM(PZ37:QA37)","v":{"v":0,"d":"0.0"}},{"$f":"SUM(QB37:QD37)","v":{"v":0,"d":"0.0"}},{"$f":"SUM(QE37:QG37)","v":{"v":0,"d":"0.0"}},{"$f":"SUM(QH37:QJ37)","v":{"v":0,"d":"0.0"}},{"$f":"SUM(QK37)","v":{"v":0,"d":"0.0"}},{"v":0,"d":"0.0"},{"v":0,"d":"0.0"},{"v":0,"d":"0.0"},{"$f":"SUM(QO37:RR37)","v":{"v":0,"d":"0.0"}},{"$f":"SUM(RS37:RU37)","v":{"v":0,"d":"0.0"}},{"$f":"SUM(RV37:RY37)","v":{"v":0,"d":"0.0"}},{"$f":"SUM(RZ37:SB37)","v":{"v":0,"d":"0.0"}},{"$f":"SUM(SC37)","v":{"v":0,"d":"0.0"}},{"v":0,"d":"0.0"},{"v":0,"d":"0.0"},{"v":0,"d":"0.0"},{"v":0,"d":"0.0"},{"v":0,"d":"0.0"},{"v":0,"d":"0.0"},{"v":0,"d":"0.0"},{"v":0,"d":"0.0"},{"v":0,"d":"0.0"},{"v":0,"d":"0.0"},{"v":0,"d":"0.0"},{"$f":"SUM(SO37:SV37)","v":{"v":0,"d":"0.0"}},{"$f":"SUM(SW37:SX37)","v":{"v":0,"d":"0.0"}},{"$f":"SUM(SY37:SZ37)","v":{"v":0,"d":"0.0"}},{"$f":"SUM(TC37:UQ37)-SUM(UE37:UG37)-SUM(UK37:UP37)","v":0}]
[{"$nulls":3},"ROM  (GITANO)",{"$nulls":516},0,null,{"v":0,"d":"0.0"},{"v":0,"d":"0.0"},{"v":0,"d":"0.0"},{"v":0,"d":"0.0"},{"v":0,"d":"0.0"},{"v":0,"d":"0.0"},{"v":0,"d":"0.0"},{"v":0,"d":"0.0"},{"v":0,"d":"0.0"},{"v":0,"d":"0.0"},{"v":0,"d":"0.0"},{"v":0,"d":"0.0"},{"v":0,"d":"0.0"},{"v":0,"d":"0.0"},{"v":0,"d":"0.0"},{"v":0,"d":"0.0"},{"v":0,"d":"0.0"},{"v":0,"d":"0.0"},{"v":0,"d":"0.0"},{"v":0,"d":"0.0"},{"v":0,"d":"0.0"},{"v":0,"d":"0.0"},{"v":0,"d":"0.0"},{"v":0,"d":"0.0"},{"v":0,"d":"0.0"},{"v":0,"d":"0.0"},{"v":0,"d":"0.0"},{"v":0,"d":"0.0"},{"v":0,"d":"0.0"},{"v":0,"d":"0.0"},{"v":0,"d":"0.0"},{"v":0,"d":"0.0"},{"v":0,"d":"0.0"},{"v":0,"d":"0.0"},{"v":0,"d":"0.0"},{"v":0,"d":"0.0"},{"v":0,"d":"0.0"},{"v":0,"d":"0.0"},{"v":0,"d":"0.0"},{"v":0,"d":"0.0"},{"v":0,"d":"0.0"},{"v":0,"d":"0.0"},{"v":0,"d":"0.0"},{"v":0,"d":"0.0"},{"v":0,"d":"0.0"},0]
[{"$nulls":3},"RAIZAL ",{"$nulls":516},0,null,{"v":0,"d":"0.0"},{"v":0,"d":"0.0"},{"v":0,"d":"0.0"},{"v":0,"d":"0.0"},{"v":0,"d":"0.0"},{"v":0,"d":"0.0"},{"v":0,"d":"0.0"},{"v":0,"d":"0.0"},{"v":0,"d":"0.0"},{"v":0,"d":"0.0"},{"v":0,"d":"0.0"},{"v":0,"d":"0.0"},{"v":0,"d":"0.0"},{"v":0,"d":"0.0"},{"v":0,"d":"0.0"},{"v":0,"d":"0.0"},{"v":0,"d":"0.0"},{"v":0,"d":"0.0"},{"v":0,"d":"0.0"},{"v":0,"d":"0.0"},{"v":0,"d":"0.0"},{"v":0,"d":"0.0"},{"v":0,"d":"0.0"},{"v":0,"d":"0.0"},{"v":0,"d":"0.0"},{"v":0,"d":"0.0"},{"v":0,"d":"0.0"},{"v":0,"d":"0.0"},{"v":0,"d":"0.0"},{"v":0,"d":"0.0"},{"v":0,"d":"0.0"},{"v":0,"d":"0.0"},{"v":0,"d":"0.0"},{"v":0,"d":"0.0"},{"v":0,"d":"0.0"},{"v":0,"d":"0.0"},{"v":0,"d":"0.0"},{"v":0,"d":"0.0"},{"v":0,"d":"0.0"},{"v":0,"d":"0.0"},{"v":0,"d":"0.0"},{"v":0,"d":"0.0"},{"v":0,"d":"0.0"},{"v":0,"d":"0.0"},{"v":0,"d":"0.0"},0]
[{"$nulls":3},"PALENQUERO",{"$nulls":516},0,null,{"v":0,"d":"0.0"},{"v":0,"d":"0.0"},{"v":0,"d":"0.0"},{"v":0,"d":"0.0"},{"v":0,"d":"0.0"},{"v":0,"d":"0.0"},{"v":0,"d":"0.0"},{"v":0,"d":"0.0"},{"v":0,"d":"0.0"},{"v":0,"d":"0.0"},{"v":0,"d":"0.0"},{"v":0,"d":"0.0"},{"v":0,"d":"0.0"},{"v":0,"d":"0.0"},{"v":0,"d":"0.0"},{"v":0,"d":"0.0"},{"v":0,"d":"0.0"},{"v":0,"d":"0.0"},{"v":0,"d":"0.0"},{"v":0,"d":"0.0"},{"v":0,"d":"0.0"},{"v":0,"d":"0.0"},{"v":0,"d":"0.0"},{"v":0,"d":"0.0"},{"v":0,"d":"0.0"},{"v":0,"d":"0.0"},{"v":0,"d":"0.0"},{"v":0,"d":"0.0"},{"v":0,"d":"0.0"},{"v":0,"d":"0.0"},{"v":0,"d":"0.0"},{"v":0,"d":"0.0"},{"v":0,"d":"0.0"},{"v":0,"d":"0.0"},{"v":0,"d":"0.0"},{"v":0,"d":"0.0"},{"v":0,"d":"0.0"},{"v":0,"d":"0.0"},{"v":0,"d":"0.0"},{"v":0,"d":"0.0"},{"v":0,"d":"0.0"},{"v":0,"d":"0.0"},{"v":0,"d":"0.0"},{"v":0,"d":"0.0"},{"v":0,"d":"0.0"},0]
[{"$nulls":3},"NEGRO(A), MULATO (A), AFROCOLOMBIANO (A)",{"$nulls":516},0,null,{"v":0,"d":"0.0"},{"v":0,"d":"0.0"},{"v":0,"d":"0.0"},{"v":0,"d":"0.0"},{"v":0,"d":"0.0"},{"v":0,"d":"0.0"},{"v":0,"d":"0.0"},{"v":0,"d":"0.0"},{"v":0,"d":"0.0"},{"v":0,"d":"0.0"},{"v":0,"d":"0.0"},{"v":0,"d":"0.0"},{"v":0,"d":"0.0"},{"v":0,"d":"0.0"},{"v":0,"d":"0.0"},{"v":0,"d":"0.0"},{"v":0,"d":"0.0"},{"v":0,"d":"0.0"},{"v":0,"d":"0.0"},{"v":0,"d":"0.0"},{"v":0,"d":"0.0"},{"v":0,"d":"0.0"},{"v":0,"d":"0.0"},{"v":0,"d":"0.0"},{"v":0,"d":"0.0"},{"v":0,"d":"0.0"},{"v":0,"d":"0.0"},{"v":0,"d":"0.0"},{"v":0,"d":"0.0"},{"v":0,"d":"0.0"},{"v":0,"d":"0.0"},{"v":0,"d":"0.0"},{"v":0,"d":"0.0"},{"v":0,"d":"0.0"},{"v":0,"d":"0.0"},{"v":0,"d":"0.0"},{"v":0,"d":"0.0"},{"v":0,"d":"0.0"},{"v":0,"d":"0.0"},{"v":0,"d":"0.0"},{"v":0,"d":"0.0"},{"v":0,"d":"0.0"},{"v":0,"d":"0.0"},{"v":0,"d":"0.0"},{"v":0,"d":"0.0"},0]
[{"$nulls":3},"SIN PERTENENCIA ETNICA",{"$nulls":516},0,null,{"v":0,"d":"0.0"},{"v":0,"d":"0.0"},{"v":0,"d":"0.0"},{"v":0,"d":"0.0"},{"v":0,"d":"0.0"},{"v":0,"d":"0.0"},{"v":0,"d":"0.0"},{"v":0,"d":"0.0"},{"v":0,"d":"0.0"},{"v":0,"d":"0.0"},{"v":0,"d":"0.0"},{"v":0,"d":"0.0"},{"v":0,"d":"0.0"},{"v":0,"d":"0.0"},{"v":0,"d":"0.0"},{"v":0,"d":"0.0"},{"v":0,"d":"0.0"},{"v":0,"d":"0.0"},{"v":0,"d":"0.0"},{"v":0,"d":"0.0"},{"v":0,"d":"0.0"},{"v":0,"d":"0.0"},{"v":0,"d":"0.0"},{"v":0,"d":"0.0"},{"v":0,"d":"0.0"},{"v":0,"d":"0.0"},{"v":0,"d":"0.0"},{"v":0,"d":"0.0"},{"v":0,"d":"0.0"},{"v":0,"d":"0.0"},{"v":0,"d":"0.0"},{"v":0,"d":"0.0"},{"v":0,"d":"0.0"},{"v":0,"d":"0.0"},{"v":0,"d":"0.0"},{"v":0,"d":"0.0"},{"v":0,"d":"0.0"},{"v":0,"d":"0.0"},{"v":0,"d":"0.0"},{"v":0,"d":"0.0"},{"v":0,"d":"0.0"},{"v":0,"d":"0.0"},{"v":0,"d":"0.0"},{"v":0,"d":"0.0"},{"v":0,"d":"0.0"},0]
[{"$nulls":3},"TOTAL ETNICOS",{"$f":"SUM(E37:E42)","v":0},0,0,0,0,0,0,0,0,0,0,0,0,0,0,0,0,0,0,0,0,0,0,0,0,0,0,0,0,0,0,0,0,0,0,0,0,0,0,0,0,0,0,0,0,0,0,0,0,0,0,0,0,0,0,0,0,0,0,0,0,0,0,0,{"$f":"SUM(BQ37:BQ42)","v":0},0,0,0,0,0,0,0,0,0,0,0,0,0,0,0,0,0,0,0,0,0,0,0,0,0,0,0,0,0,0,0,0,0,0,0,0,0,0,0,0,0,0,0,0,0,0,0,0,0,0,0,0,0,0,0,0,0,0,0,0,0,0,0,{"$f":"SUM(EC37:EC42)","v":0},0,0,0,0,0,0,0,0,0,0,0,0,0,0,0,0,0,0,0,0,0,0,0,0,0,0,0,0,0,0,0,0,0,0,0,0,0,0,0,0,0,0,0,0,0,0,0,0,0,0,0,0,0,0,0,0,0,0,0,0,0,0,0,{"$f":"SUM(GO37:GO42)","v":0},0,0,0,0,0,0,0,0,0,0,0,0,0,0,0,0,0,0,0,0,0,0,0,0,0,0,0,0,0,0,0,0,0,0,0,0,0,0,0,0,0,0,0,0,0,0,0,0,0,0,0,0,0,0,0,0,0,0,0,0,0,0,0,{"$f":"SUM(JA37:JA42)","v":0},0,0,0,0,0,0,0,0,0,0,0,0,0,0,0,0,0,0,0,0,0,0,0,0,0,0,0,0,0,0,0,0,0,0,0,0,0,0,0,0,0,0,0,0,0,0,0,0,0,0,0,0,0,0,0,0,0,0,0,0,0,0,0,{"$f":"SUM(LM37:LM42)","v":0},0,0,0,0,0,0,0,0,0,0,0,0,0,0,0,0,0,0,0,0,0,0,0,0,0,0,0,0,0,0,0,0,0,0,0,0,0,0,0,0,0,0,0,0,0,0,0,0,0,0,0,0,0,0,0,0,0,0,0,0,0,0,{"$f":"SUM(NX37:NX42)","v":0},0,0,0,0,0,0,0,0,0,0,0,0,0,0,0,0,0,0,0,0,0,0,0,0,0,0,0,0,0,0,0,0,0,0,0,0,0,0,0,0,0,0,0,0,0,{"$f":"SUM(PR37:PR42)","v":0},0,0,0,0,0,0,0,0,0,0,0,0,0,0,0,0,0,0,0,{"$f":"SUM(QL37:QL42)","v":0},0,0,{"$f":"SUM(QO37:QO42)","v":0},0,0,0,0,0,0,0,0,0,0,0,0,0,0,0,0,0,0,0,0,0,0,0,0,0,0,0,{"$f":"SUM(RQ37:RQ42)","v":0},0,0,0,0,0,0,0,0,0,{"$f":"SUM(SA37:SA42)","v":0},0,0,0,0,0,0,0,0,0,0,0,0,0,0,0,0,0,0,{"$f":"SUM(ST37:ST42)","v":0},0,0,0,0,0,0,0,null,{"$f":"SUM(TC37:TC42)","v":{"v":0,"d":"0.0"}},{"v":0,"d":"0.0"},{"v":0,"d":"0.0"},{"v":0,"d":"0.0"},{"v":0,"d":"0.0"},{"v":0,"d":"0.0"},{"v":0,"d":"0.0"},{"v":0,"d":"0.0"},{"v":0,"d":"0.0"},{"v":0,"d":"0.0"},{"v":0,"d":"0.0"},{"v":0,"d":"0.0"},{"v":0,"d":"0.0"},{"v":0,"d":"0.0"},{"v":0,"d":"0.0"},{"v":0,"d":"0.0"},{"v":0,"d":"0.0"},{"v":0,"d":"0.0"},{"v":0,"d":"0.0"},{"v":0,"d":"0.0"},{"v":0,"d":"0.0"},{"v":0,"d":"0.0"},{"v":0,"d":"0.0"},{"v":0,"d":"0.0"},{"v":0,"d":"0.0"},{"v":0,"d":"0.0"},{"v":0,"d":"0.0"},{"v":0,"d":"0.0"},{"v":0,"d":"0.0"},{"v":0,"d":"0.0"},{"v":0,"d":"0.0"},{"v":0,"d":"0.0"},{"v":0,"d":"0.0"},{"v":0,"d":"0.0"},{"v":0,"d":"0.0"},{"v":0,"d":"0.0"},{"v":0,"d":"0.0"},{"v":0,"d":"0.0"},{"v":0,"d":"0.0"},{"v":0,"d":"0.0"},{"v":0,"d":"0.0"},{"v":0,"d":"0.0"},{"v":0,"d":"0.0"},{"v":0,"d":"0.0"},{"v":0,"d":"0.0"},{"$f":"SUM(UV37:UV42)","v":0}]
[{"$nulls":3},"EN SITUACION DE DESPLAZAMIENTO",{"$nulls":516},{"$f":"SUM(E44:SZ44)-SUM(SC44:SN44)","v":0},null,{"$f":"SUM(E44:AM44)","v":{"v":0,"d":"0.0"}},{"$f":"SUM(AN44:BT44)","v":{"v":0,"d":"0.0"}},{"$f":"SUM(BU44:DA44)","v":{"v":0,"d":"0.0"}},{"$f":"SUM(DB44:EF44)","v":{"v":0,"d":"0.0"}},{"$f":"SUM(EG44:FK44)","v":{"v":0,"d":"0.0"}},{"$f":"SUM(FL44:GP44)","v":{"v":0,"d":"0.0"}},{"$f":"SUM(GQ44:GS44)","v":{"v":0,"d":"0.0"}},{"$f":"SUM(GT44:HD44)","v":{"v":0,"d":"0.0"}},{"$f":"SUM(HE44:HJ44)","v":{"v":0,"d":"0.0"}},{"$f":"SUM(HK44:IE44)","v":{"v":0,"d":"0.0"}},{"$f":"SUM(IF44:IZ44)","v":{"v":0,"d":"0.0"}},{"$f":"SUM(JA44:JR44)","v":{"v":0,"d":"0.0"}},{"$f":"SUM(JS44:KN44)","v":{"v":0,"d":"0.0"}},{"$f":"SUM(KO44:LU44)","v":{"v":0,"d":"0.0"}},{"$f":"SUM(LV44:MK44)","v":{"v":0,"d":"0.0"}},{"$f":"SUM(ML44:OP44)","v":{"v":0,"d":"0.0"}},{"$f":"SUM(OQ44:PF44)","v":{"v":0,"d":"0.0"}},{"$f":"SUM(PG44:PY44)","v":{"v":0,"d":"0.0"}},{"$f":"SUM(PZ44:QA44)","v":{"v":0,"d":"0.0"}},{"$f":"SUM(QB44:QD44)","v":{"v":0,"d":"0.0"}},{"$f":"SUM(QE44:QG44)","v":{"v":0,"d":"0.0"}},{"$f":"SUM(QH44:QJ44)","v":{"v":0,"d":"0.0"}},{"$f":"SUM(QK44)","v":{"v":0,"d":"0.0"}},{"v":0,"d":"0.0"},{"v":0,"d":"0.0"},{"v":0,"d":"0.0"},{"$f":"SUM(QO44:RR44)","v":{"v":0,"d":"0.0"}},{"$f":"SUM(RS44:RU44)","v":{"v":0,"d":"0.0"}},{"$f":"SUM(RV44:RY44)","v":{"v":0,"d":"0.0"}},{"$f":"SUM(RZ44:SB44)","v":{"v":0,"d":"0.0"}},{"$f":"SUM(SC44)","v":{"v":0,"d":"0.0"}},{"v":0,"d":"0.0"},{"v":0,"d":"0.0"},{"v":0,"d":"0.0"},{"v":0,"d":"0.0"},{"v":0,"d":"0.0"},{"v":0,"d":"0.0"},{"v":0,"d":"0.0"},{"v":0,"d":"0.0"},{"v":0,"d":"0.0"},{"v":0,"d":"0.0"},{"v":0,"d":"0.0"},{"$f":"SUM(SO44:SV44)","v":{"v":0,"d":"0.0"}},{"$f":"SUM(SW44:SX44)","v":{"v":0,"d":"0.0"}},{"$f":"SUM(SY44:SZ44)","v":{"v":0,"d":"0.0"}},{"$f":"SUM(TC44:UQ44)-SUM(UE44:UG44)-SUM(UK44:UP44)","v":0}]
[{"$nulls":3},"EN CONDICION DE DISCAPACIDAD",{"$nulls":516},0,null,{"$f":"SUM(E45:AM45)","v":{"v":0,"d":"0.0"}},{"$f":"SUM(AN45:BT45)","v":{"v":0,"d":"0.0"}},{"$f":"SUM(BU45:DA45)","v":{"v":0,"d":"0.0"}},{"$f":"SUM(DB45:EF45)","v":{"v":0,"d":"0.0"}},{"$f":"SUM(EG45:FK45)","v":{"v":0,"d":"0.0"}},{"$f":"SUM(FL45:GP45)","v":{"v":0,"d":"0.0"}},{"$f":"SUM(GQ45:GS45)","v":{"v":0,"d":"0.0"}},{"$f":"SUM(GT45:HD45)","v":{"v":0,"d":"0.0"}},{"$f":"SUM(HE45:HJ45)","v":{"v":0,"d":"0.0"}},{"$f":"SUM(HK45:IE45)","v":{"v":0,"d":"0.0"}},{"$f":"SUM(IF45:IZ45)","v":{"v":0,"d":"0.0"}},{"$f":"SUM(JA45:JR45)","v":{"v":0,"d":"0.0"}},{"$f":"SUM(JS45:KN45)","v":{"v":0,"d":"0.0"}},{"$f":"SUM(KO45:LU45)","v":{"v":0,"d":"0.0"}},{"$f":"SUM(LV45:MK45)","v":{"v":0,"d":"0.0"}},{"$f":"SUM(ML45:OP45)","v":{"v":0,"d":"0.0"}},{"$f":"SUM(OQ45:PF45)","v":{"v":0,"d":"0.0"}},{"$f":"SUM(PG45:PY45)","v":{"v":0,"d":"0.0"}},{"v":0,"d":"0.0"},{"v":0,"d":"0.0"},{"v":0,"d":"0.0"},{"v":0,"d":"0.0"},{"v":0,"d":"0.0"},{"v":0,"d":"0.0"},{"v":0,"d":"0.0"},{"v":0,"d":"0.0"},{"v":0,"d":"0.0"},{"v":0,"d":"0.0"},{"v":0,"d":"0.0"},{"v":0,"d":"0.0"},{"v":0,"d":"0.0"},{"v":0,"d":"0.0"},{"v":0,"d":"0.0"},{"v":0,"d":"0.0"},{"v":0,"d":"0.0"},{"v":0,"d":"0.0"},{"v":0,"d":"0.0"},{"v":0,"d":"0.0"},{"v":0,"d":"0.0"},{"v":0,"d":"0.0"},{"v":0,"d":"0.0"},{"v":0,"d":"0.0"},{"v":0,"d":"0.0"},{"v":0,"d":"0.0"},{"v":0,"d":"0.0"},0]
[{"$nulls":3},"VICTIMAS DEL CONFLICTO ARMADO",{"$nulls":516},0,null,{"$f":"SUM(E46:AM46)","v":{"v":0,"d":"0.0"}},{"$f":"SUM(AN46:BT46)","v":{"v":0,"d":"0.0"}},{"$f":"SUM(BU46:DA46)","v":{"v":0,"d":"0.0"}},{"$f":"SUM(DB46:EF46)","v":{"v":0,"d":"0.0"}},{"$f":"SUM(EG46:FK46)","v":{"v":0,"d":"0.0"}},{"$f":"SUM(FL46:GP46)","v":{"v":0,"d":"0.0"}},{"$f":"SUM(GQ46:GS46)","v":{"v":0,"d":"0.0"}},{"$f":"SUM(GT46:HD46)","v":{"v":0,"d":"0.0"}},{"$f":"SUM(HE46:HJ46)","v":{"v":0,"d":"0.0"}},{"$f":"SUM(HK46:IE46)","v":{"v":0,"d":"0.0"}},{"$f":"SUM(IF46:IZ46)","v":{"v":0,"d":"0.0"}},{"$f":"SUM(JA46:JR46)","v":{"v":0,"d":"0.0"}},{"$f":"SUM(JS46:KN46)","v":{"v":0,"d":"0.0"}},{"$f":"SUM(KO46:LU46)","v":{"v":0,"d":"0.0"}},{"$f":"SUM(LV46:MK46)","v":{"v":0,"d":"0.0"}},{"$f":"SUM(ML46:OP46)","v":{"v":0,"d":"0.0"}},{"$f":"SUM(OQ46:PF46)","v":{"v":0,"d":"0.0"}},{"$f":"SUM(PG46:PY46)","v":{"v":0,"d":"0.0"}},{"v":0,"d":"0.0"},{"v":0,"d":"0.0"},{"v":0,"d":"0.0"},{"v":0,"d":"0.0"},{"v":0,"d":"0.0"},{"v":0,"d":"0.0"},{"v":0,"d":"0.0"},{"v":0,"d":"0.0"},{"v":0,"d":"0.0"},{"v":0,"d":"0.0"},{"v":0,"d":"0.0"},{"v":0,"d":"0.0"},{"v":0,"d":"0.0"},{"v":0,"d":"0.0"},{"v":0,"d":"0.0"},{"v":0,"d":"0.0"},{"v":0,"d":"0.0"},{"v":0,"d":"0.0"},{"v":0,"d":"0.0"},{"v":0,"d":"0.0"},{"v":0,"d":"0.0"},{"v":0,"d":"0.0"},{"v":0,"d":"0.0"},{"v":0,"d":"0.0"},{"v":0,"d":"0.0"},{"v":0,"d":"0.0"},{"v":0,"d":"0.0"},0]
[{"$nulls":3},"ZONAS VEREDALES",{"$nulls":516},{"$f":"SUM(E47:QK47)-SUM(PZ47:QC47)-SUM(QF47:QI47)","v":0},{"$f":"CONCATENATE($G$2,$B$28)","v":"25"},{"$f":"SUM(E47:H47)","v":{"v":0,"d":"0.0"}},{"$f":"SUM(I47:BI47)","v":{"v":0,"d":"0.0"}},{"$f":"SUM(BI47:CP47)","v":{"v":0,"d":"0.0"}},{"$f":"SUM(BJ47:CQ47)","v":{"v":0,"d":"0.0"}},{"$f":"SUM(CR47:CY47)","v":{"v":0,"d":"0.0"}},{"$f":"SUM(CZ47:DW47)","v":{"v":0,"d":"0.0"}},{"$f":"SUM(DX47:EW47)","v":{"v":0,"d":"0.0"}},{"$f":"SUM(EX47:GB47)","v":{"v":0,"d":"0.0"}},{"$f":"SUM(GC47:HG47)","v":{"v":0,"d":"0.0"}},{"$f":"SUM(HH47:HI47)","v":{"v":0,"d":"0.0"}},{"$f":"SUM(HJ47:HO47)","v":{"v":0,"d":"0.0"}},{"$f":"SUM(HV47:IM47)","v":{"v":0,"d":"0.0"}},{"$f":"SUM(IN47:JD47)","v":{"v":0,"d":"0.0"}},{"$f":"SUM(JE47:JW47)","v":{"v":0,"d":"0.0"}},{"$f":"SUM(JX47:KH47)","v":{"v":0,"d":"0.0"}},{"$f":"SUM(KI47:KT47)","v":{"v":0,"d":"0.0"}},{"$f":"SUM(KU47:MY47)","v":{"v":0,"d":"0.0"}},{"$f":"SUM(MZ47:NO47)","v":{"v":0,"d":"0.0"}},{"v":0,"d":"0.0"},{"v":0,"d":"0.0"},{"v":0,"d":"0.0"},{"v":0,"d":"0.0"},{"$f":"SUM(QK47)","v":{"v":0,"d":"0.0"}},{"$f":"SUM(QL47)","v":{"v":0,"d":"0.0"}},{"v":0,"d":"0.0"},{"v":0,"d":"0.0"},{"v":0,"d":"0.0"},{"v":0,"d":"0.0"},{"v":0,"d":"0.0"},{"v":0,"d":"0.0"},{"v":0,"d":"0.0"},{"v":0,"d":"0.0"},{"v":0,"d":"0.0"},{"v":0,"d":"0.0"},{"v":0,"d":"0.0"},{"v":0,"d":"0.0"},{"v":0,"d":"0.0"},{"v":0,"d":"0.0"},{"v":0,"d":"0.0"},{"v":0,"d":"0.0"},{"v":0,"d":"0.0"},{"v":0,"d":"0.0"},{"v":0,"d":"0.0"},{"v":0,"d":"0.0"},{"v":0,"d":"0.0"},0]
[{"$nulls":3},"FEMENINO",{"$nulls":516},{"$f":"SUM(E48:SZ48)-SUM(SC48:SN48)","v":0}]
[{"$nulls":3},"MASCULINO",{"$nulls":516},0]
[{"$nulls":3},"OTRO",{"$nulls":516},0]
[{"$nulls":3},"TOTAL GENERO",{"$f":"SUM(E48:E50)","v":0},{"$f":"SUM(F48:F50)","v":0},0,0,0,0,0,0,0,0,0,0,0,0,0,0,0,0,0,0,0,0,0,0,0,0,0,0,0,0,0,0,0,0,0,0,0,0,0,0,0,0,0,0,0,0,0,0,0,0,0,0,0,0,0,0,0,0,0,0,0,0,0,0,0,{"$f":"SUM(BR48:BR50)","v":0},0,0,0,0,0,0,0,0,0,0,0,0,0,0,0,0,0,0,0,0,0,0,0,0,0,0,0,0,0,0,0,0,0,0,0,0,0,0,0,0,0,0,0,0,0,0,0,0,0,0,0,0,0,0,0,0,0,0,0,0,0,0,0,{"$f":"SUM(ED48:ED50)","v":0},0,0,0,0,0,0,0,0,0,0,0,0,0,0,0,0,0,0,0,0,0,0,0,0,0,0,0,0,0,0,0,0,0,0,0,0,0,0,0,0,0,0,0,0,0,0,0,0,0,0,0,0,0,0,0,0,0,0,0,0,0,0,0,{"$f":"SUM(GP48:GP50)","v":0},0,0,0,0,0,0,0,0,0,0,0,0,0,0,0,0,0,0,0,0,0,0,0,0,0,0,0,0,0,0,0,0,0,0,0,0,0,0,0,0,0,0,0,0,0,0,0,0,0,0,0,0,0,0,0,0,0,0,0,0,0,0,0,{"$f":"SUM(JB48:JB50)","v":0},0,0,0,0,0,0,0,0,0,0,0,0,0,0,0,0,0,0,0,0,0,0,0,0,0,0,0,0,0,0,0,0,0,0,0,0,0,0,0,0,0,0,0,0,0,0,0,0,0,0,0,0,0,0,0,0,0,0,0,0,0,0,0,{"$f":"SUM(LN48:LN50)","v":0},0,0,0,0,0,0,0,0,0,0,0,0,0,0,0,0,0,0,0,0,0,0,0,0,0,0,0,0,0,0,0,0,0,0,0,0,0,0,0,0,0,0,0,0,0,0,0,0,0,0,0,0,0,0,0,0,0,0,0,0,0,{"$f":"SUM(NX48:NX50)","v":0},0,0,0,0,0,0,0,0,0,0,0,0,0,0,0,0,0,0,0,0,0,0,0,0,0,0,0,0,0,0,0,0,0,0,0,0,0,0,0,0,0,0,0,0,0,0,{"$f":"SUM(PS48:PS50)","v":0},0,0,0,0,0,0,0,0,0,0,0,0,0,0,0,0,0,0,0,0,0,0,0,0,0,0,0,0,0,0,0,0,0,0,0,0,0,0,0,0,0,0,0,0,0,0,0,0,0,0,0,0,0,0,0,0,0,0,0,0,0,0,0,0,0,0,0,0,0,0,0,0,0,0,0,0,0,0,0,0,0,0,0,0,0,0]
[{"$nulls":3},"CONTRIBUTIVO",{"$nulls":516},{"$f":"SUM(E52:SZ52)-SUM(SC52:SN52)","v":0}]
[{"$nulls":3},"SUBSIDIADO",{"$nulls":516},0]
[{"$nulls":3},"POBRE NO ASEGURADO",{"$nulls":516},0]
[{"$nulls":3},"REGIMEN ESPECIAL",{"$nulls":516},0]
[{"$nulls":3},"TOTAL REGIMEN",{"$f":"SUM(E52:E55)","v":0},0,0,0,0,0,0,0,0,0,0,0,0,0,0,0,0,0,0,0,0,0,0,0,0,0,0,0,0,0,0,0,0,0,0,0,0,0,0,0,0,0,0,0,0,0,0,0,0,0,0,0,0,0,0,0,0,0,0,0,0,0,0,0,{"$f":"SUM(BQ52:BQ55)","v":0},0,0,0,0,0,0,0,0,0,0,0,0,0,0,0,0,0,0,0,0,0,0,0,0,0,0,0,0,0,0,0,0,0,0,0,0,0,0,0,0,0,0,0,0,0,0,0,0,0,0,0,0,0,0,0,0,0,0,0,0,0,0,0,{"$f":"SUM(EC52:EC55)","v":0},0,0,0,0,0,0,0,0,0,0,0,0,0,0,0,0,0,0,0,0,0,0,0,0,0,0,0,0,0,0,0,0,0,0,0,0,0,0,0,0,0,0,0,0,0,0,0,0,0,0,0,0,0,0,0,0,0,0,0,0,0,0,0,{"$f":"SUM(GO52:GO55)","v":0},0,0,0,0,0,0,0,0,0,0,0,0,0,0,0,0,0,0,0,0,0,0,0,0,0,0,0,0,0,0,0,0,0,0,0,0,0,0,0,0,0,0,0,0,0,0,0,0,0,0,0,0,0,0,0,0,0,0,0,0,0,0,0,{"$f":"SUM(JA52:JA55)","v":0},0,0,0,0,0,0,0,0,0,0,0,0,0,0,0,0,0,0,0,0,0,0,0,0,0,0,0,0,0,0,0,0,0,0,0,0,0,0,0,0,0,0,0,0,0,0,0,0,0,0,0,0,0,0,0,0,0,0,0,0,0,0,0,{"$f":"SUM(LM52:LM55)","v":0},0,0,0,0,0,0,0,0,0,0,0,0,0,0,0,0,0,0,0,0,0,0,0,0,0,0,0,0,0,0,0,0,0,0,0,0,0,0,0,0,0,0,0,0,0,0,0,0,0,0,0,0,0,0,0,0,0,0,0,0,0,0,{"$f":"SUM(NX52:NX55)","v":0},0,0,0,0,0,0,0,0,0,0,0,0,0,0,0,0,0,0,0,0,0,0,0,0,0,0,0,0,0,0,0,0,0,0,0,0,0,0,0,0,0,0,0,0,0,{"$f":"SUM(PR52:PR55)","v":0},0,0,0,0,0,0,0,0,0,0,0,0,0,0,0,0,0,0,0,0,0,0,0,0,0,0,0,0,0,0,0,0,0,0,0,0,0,0,0,0,0,0,0,0,0,0,0,0,0,0,0,0,0,0,0,0,0,0,0,0,0,0,0,0,0,0,0,0,0,0,0,0,0,0,0,0,0,0,0,0,0,0,0,0,0,0,0]
[{"$nulls":3},"INDIGENA",{"$nulls":516},{"$f":"SUM(E57:SZ57)-SUM(SC57:SN57)","v":0}]
[{"$nulls":3},"ROM  (GITANO)",{"$nulls":516},0]
[{"$nulls":3},"RAIZAL ",{"$nulls":516},0]
[{"$nulls":3},"PALENQUERO",{"$nulls":516},0]
[{"$nulls":3},"NEGRO(A), MULATO (A), AFROCOLOMBIANO (A)",{"$nulls":516},0]
[{"$nulls":3},"SIN PERTENENCIA ETNICA",{"$nulls":516},0]
[{"$nulls":3},"TOTAL ETNICOS",{"$f":"SUM(E57:E62)","v":0},0,0,0,0,0,0,0,0,0,0,0,0,0,0,0,0,0,0,0,0,0,0,0,0,0,0,0,0,0,0,0,0,0,0,0,0,0,0,0,0,0,0,0,0,0,0,0,0,0,0,0,0,0,0,0,0,0,0,0,0,0,0,0,{"$f":"SUM(BQ57:BQ62)","v":0},0,0,0,0,0,0,0,0,0,0,0,0,0,0,0,0,0,0,0,0,0,0,0,0,0,0,0,0,0,0,0,0,0,0,0,0,0,0,0,0,0,0,0,0,0,0,0,0,0,0,0,0,0,0,0,0,0,0,0,0,0,0,0,{"$f":"SUM(EC57:EC62)","v":0},0,0,0,0,0,0,0,0,0,0,0,0,0,0,0,0,0,0,0,0,0,0,0,0,0,0,0,0,0,0,0,0,0,0,0,0,0,0,0,0,0,0,0,0,0,0,0,0,0,0,0,0,0,0,0,0,0,0,0,0,0,0,0,{"$f":"SUM(GO57:GO62)","v":0},0,0,0,0,0,0,0,0,0,0,0,0,0,0,0,0,0,0,0,0,0,0,0,0,0,0,0,0,0,0,0,0,0,0,0,0,0,0,0,0,0,0,0,0,0,0,0,0,0,0,0,0,0,0,0,0,0,0,0,0,0,0,0,{"$f":"SUM(JA57:JA62)","v":0},0,0,0,0,0,0,0,0,0,0,0,0,0,0,0,0,0,0,0,0,0,0,0,0,0,0,0,0,0,0,0,0,0,0,0,0,0,0,0,0,0,0,0,0,0,0,0,0,0,0,0,0,0,0,0,0,0,0,0,0,0,0,0,{"$f":"SUM(LM57:LM62)","v":0},0,0,0,0,0,0,0,0,0,0,0,0,0,0,0,0,0,0,0,0,0,0,0,0,0,0,0,0,0,0,0,0,0,0,0,0,0,0,0,0,0,0,0,0,0,0,0,0,0,0,0,0,0,0,0,0,0,0,0,0,0,0,{"$f":"SUM(NX57:NX62)","v":0},0,0,0,0,0,0,0,0,0,0,0,0,0,0,0,0,0,0,0,0,0,0,0,0,0,0,0,0,0,0,0,0,0,0,0,0,0,0,0,0,0,0,0,0,0,{"$f":"SUM(PR57:PR62)","v":0},0,0,0,0,0,0,0,0,0,0,0,0,0,0,0,0,0,0,0,0,0,0,0,0,0,0,0,0,0,0,0,0,0,0,0,0,0,0,0,0,0,0,0,0,0,0,0,0,0,0,0,0,0,0,0,0,0,0,0,0,0,0,0,0,0,0,0,0,0,0,0,0,0,0,0,0,0,0,0,0,0,0,0,0,0,0,0]
[{"$nulls":3},"EN SITUACION DE DESPLAZAMIENTO",{"$nulls":516},{"$f":"SUM(E64:SZ64)-SUM(SC64:SN64)","v":0}]
[{"$nulls":3},"EN CONDICION DE DISCAPACIDAD",{"$nulls":516},0]
[{"$nulls":3},"VICTIMAS DEL CONFLICTO ARMADO",{"$nulls":516},0]
[{"$nulls":3},"ZONAS VEREDALES",{"$nulls":516},{"$f":"SUM(E67:QK67)-SUM(PZ67:QC67)-SUM(QF67:QI67)","v":0},{"$f":"CONCATENATE($G$2,#REF!)","v":{"$error":"#REF!"}}]
[{"$nulls":3},"FEMENINO",{"$nulls":516},{"$f":"SUM(E68:SZ68)-SUM(SC68:SN68)","v":0}]
[{"$nulls":3},"MASCULINO",{"$nulls":516},0]
[{"$nulls":3},"OTRO",{"$nulls":516},0]
[{"$nulls":3},"TOTAL GENERO",{"$f":"SUM(E68:E70)","v":0},{"$f":"SUM(F68:F70)","v":0},0,0,0,0,0,0,0,0,0,0,0,0,0,0,0,0,0,0,0,0,0,0,0,0,0,0,0,0,0,0,0,0,0,0,0,0,0,0,0,0,0,0,0,0,0,0,0,0,0,0,0,0,0,0,0,0,0,0,0,0,0,0,0,{"$f":"SUM(BR68:BR70)","v":0},0,0,0,0,0,0,0,0,0,0,0,0,0,0,0,0,0,0,0,0,0,0,0,0,0,0,0,0,0,0,0,0,0,0,0,0,0,0,0,0,0,0,0,0,0,0,0,0,0,0,0,0,0,0,0,0,0,0,0,0,0,0,0,{"$f":"SUM(ED68:ED70)","v":0},0,0,0,0,0,0,0,0,0,0,0,0,0,0,0,0,0,0,0,0,0,0,0,0,0,0,0,0,0,0,0,0,0,0,0,0,0,0,0,0,0,0,0,0,0,0,0,0,0,0,0,0,0,0,0,0,0,0,0,0,0,0,0,{"$f":"SUM(GP68:GP70)","v":0},0,0,0,0,0,0,0,0,0,0,0,0,0,0,0,0,0,0,0,0,0,0,0,0,0,0,0,0,0,0,0,0,0,0,0,0,0,0,0,0,0,0,0,0,0,0,0,0,0,0,0,0,0,0,0,0,0,0,0,0,0,0,0,{"$f":"SUM(JB68:JB70)","v":0},0,0,0,0,0,0,0,0,0,0,0,0,0,0,0,0,0,0,0,0,0,0,0,0,0,0,0,0,0,0,0,0,0,0,0,0,0,0,0,0,0,0,0,0,0,0,0,0,0,0,0,0,0,0,0,0,0,0,0,0,0,0,0,{"$f":"SUM(LN68:LN70)","v":0},0,0,0,0,0,0,0,0,0,0,0,0,0,0,0,0,0,0,0,0,0,0,0,0,0,0,0,0,0,0,0,0,0,0,0,0,0,0,0,0,0,0,0,0,0,0,0,0,0,0,0,0,0,0,0,0,0,0,0,0,0,{"$f":"SUM(NX68:NX70)","v":0},0,0,0,0,0,0,0,0,0,0,0,0,0,0,0,0,0,0,0,0,0,0,0,0,0,0,0,0,0,0,0,0,0,0,0,0,0,0,0,0,0,0,0,0,0,0,{"$f":"SUM(PS68:PS70)","v":0},0,0,0,0,0,0,0,0,0,0,0,0,0,0,0,0,0,0,0,0,0,0,0,0,0,0,0,0,0,0,0,0,0,0,0,0,0,0,0,0,0,0,0,0,0,0,0,0,0,0,0,0,0,0,0,0,0,0,0,0,0,0,0,0,0,0,0,0,0,0,0,0,0,0,0,0,0,0,0,0,0,0,0,0,0,0]
[{"$nulls":3},"CONTRIBUTIVO",{"$nulls":516},{"$f":"SUM(E72:SZ72)-SUM(SC72:SN72)","v":0}]
[{"$nulls":3},"SUBSIDIADO",{"$nulls":516},0]
[{"$nulls":3},"POBRE NO ASEGURADO",{"$nulls":516},0]
[{"$nulls":3},"REGIMEN ESPECIAL",{"$nulls":516},0]
[{"$nulls":3},"TOTAL REGIMEN",{"$f":"SUM(E72:E75)","v":0},0,0,0,0,0,0,0,0,0,0,0,0,0,0,0,0,0,0,0,0,0,0,0,0,0,0,0,0,0,0,0,0,0,0,0,0,0,0,0,0,0,0,0,0,0,0,0,0,0,0,0,0,0,0,0,0,0,0,0,0,0,0,0,{"$f":"SUM(BQ72:BQ75)","v":0},0,0,0,0,0,0,0,0,0,0,0,0,0,0,0,0,0,0,0,0,0,0,0,0,0,0,0,0,0,0,0,0,0,0,0,0,0,0,0,0,0,0,0,0,0,0,0,0,0,0,0,0,0,0,0,0,0,0,0,0,0,0,0,{"$f":"SUM(EC72:EC75)","v":0},0,0,0,0,0,0,0,0,0,0,0,0,0,0,0,0,0,0,0,0,0,0,0,0,0,0,0,0,0,0,0,0,0,0,0,0,0,0,0,0,0,0,0,0,0,0,0,0,0,0,0,0,0,0,0,0,0,0,0,0,0,0,0,{"$f":"SUM(GO72:GO75)","v":0},0,0,0,0,0,0,0,0,0,0,0,0,0,0,0,0,0,0,0,0,0,0,0,0,0,0,0,0,0,0,0,0,0,0,0,0,0,0,0,0,0,0,0,0,0,0,0,0,0,0,0,0,0,0,0,0,0,0,0,0,0,0,0,{"$f":"SUM(JA72:JA75)","v":0},0,0,0,0,0,0,0,0,0,0,0,0,0,0,0,0,0,0,0,0,0,0,0,0,0,0,0,0,0,0,0,0,0,0,0,0,0,0,0,0,0,0,0,0,0,0,0,0,0,0,0,0,0,0,0,0,0,0,0,0,0,0,0,{"$f":"SUM(LM72:LM75)","v":0},0,0,0,0,0,0,0,0,0,0,0,0,0,0,0,0,0,0,0,0,0,0,0,0,0,0,0,0,0,0,0,0,0,0,0,0,0,0,0,0,0,0,0,0,0,0,0,0,0,0,0,0,0,0,0,0,0,0,0,0,0,0,{"$f":"SUM(NX72:NX75)","v":0},0,0,0,0,0,0,0,0,0,0,0,0,0,0,0,0,0,0,0,0,0,0,0,0,0,0,0,0,0,0,0,0,0,0,0,0,0,0,0,0,0,0,0,0,0,{"$f":"SUM(PR72:PR75)","v":0},0,0,0,0,0,0,0,0,0,0,0,0,0,0,0,0,0,0,0,0,0,0,0,0,0,0,0,0,0,0,0,0,0,0,0,0,0,0,0,0,0,0,0,0,0,0,0,0,0,0,0,0,0,0,0,0,0,0,0,0,0,0,0,0,0,0,0,0,0,0,0,0,0,0,0,0,0,0,0,0,0,0,0,0,0,0,0]
[{"$nulls":3},"INDIGENA",{"$nulls":516},{"$f":"SUM(E77:SZ77)-SUM(SC77:SN77)","v":0}]
[{"$nulls":3},"ROM  (GITANO)",{"$nulls":516},0]
[{"$nulls":3},"RAIZAL ",{"$nulls":516},0]
[{"$nulls":3},"PALENQUERO",{"$nulls":516},0]
[{"$nulls":3},"NEGRO(A), MULATO (A), AFROCOLOMBIANO (A)",{"$nulls":516},0]
[{"$nulls":3},"SIN PERTENENCIA ETNICA",{"$nulls":516},0]
[{"$nulls":3},"TOTAL ETNICOS",{"$f":"SUM(E77:E82)","v":0},0,0,0,0,0,0,0,0,0,0,0,0,0,0,0,0,0,0,0,0,0,0,0,0,0,0,0,0,0,0,0,0,0,0,0,0,0,0,0,0,0,0,0,0,0,0,0,0,0,0,0,0,0,0,0,0,0,0,0,0,0,0,0,{"$f":"SUM(BQ77:BQ82)","v":0},0,0,0,0,0,0,0,0,0,0,0,0,0,0,0,0,0,0,0,0,0,0,0,0,0,0,0,0,0,0,0,0,0,0,0,0,0,0,0,0,0,0,0,0,0,0,0,0,0,0,0,0,0,0,0,0,0,0,0,0,0,0,0,{"$f":"SUM(EC77:EC82)","v":0},0,0,0,0,0,0,0,0,0,0,0,0,0,0,0,0,0,0,0,0,0,0,0,0,0,0,0,0,0,0,0,0,0,0,0,0,0,0,0,0,0,0,0,0,0,0,0,0,0,0,0,0,0,0,0,0,0,0,0,0,0,0,0,{"$f":"SUM(GO77:GO82)","v":0},0,0,0,0,0,0,0,0,0,0,0,0,0,0,0,0,0,0,0,0,0,0,0,0,0,0,0,0,0,0,0,0,0,0,0,0,0,0,0,0,0,0,0,0,0,0,0,0,0,0,0,0,0,0,0,0,0,0,0,0,0,0,0,{"$f":"SUM(JA77:JA82)","v":0},0,0,0,0,0,0,0,0,0,0,0,0,0,0,0,0,0,0,0,0,0,0,0,0,0,0,0,0,0,0,0,0,0,0,0,0,0,0,0,0,0,0,0,0,0,0,0,0,0,0,0,0,0,0,0,0,0,0,0,0,0,0,0,{"$f":"SUM(LM77:LM82)","v":0},0,0,0,0,0,0,0,0,0,0,0,0,0,0,0,0,0,0,0,0,0,0,0,0,0,0,0,0,0,0,0,0,0,0,0,0,0,0,0,0,0,0,0,0,0,0,0,0,0,0,0,0,0,0,0,0,0,0,0,0,0,0,{"$f":"SUM(NX77:NX82)","v":0},0,0,0,0,0,0,0,0,0,0,0,0,0,0,0,0,0,0,0,0,0,0,0,0,0,0,0,0,0,0,0,0,0,0,0,0,0,0,0,0,0,0,0,0,0,{"$f":"SUM(PR77:PR82)","v":0},0,0,0,0,0,0,0,0,0,0,0,0,0,0,0,0,0,0,0,0,0,0,0,0,0,0,0,0,0,0,0,0,0,0,0,0,0,0,0,0,0,0,0,0,0,0,0,0,0,0,0,0,0,0,0,0,0,0,0,0,0,0,0,0,0,0,0,0,0,0,0,0,0,0,0,0,0,0,0,0,0,0,0,0,0,0,0]
[{"$nulls":3},"EN SITUACION DE DESPLAZAMIENTO",{"$nulls":516},{"$f":"SUM(E84:SZ84)-SUM(SC84:SN84)","v":0}]
[{"$nulls":3},"EN CONDICION DE DISCAPACIDAD",{"$nulls":516},0]
[{"$nulls":3},"VICTIMAS DEL CONFLICTO ARMADO",{"$nulls":516},0]
[{"$nulls":3},"ZONAS VEREDALES",{"$nulls":516},{"$f":"SUM(E87:QK87)-SUM(PZ87:QC87)-SUM(QF87:QI87)","v":0},{"$f":"CONCATENATE($G$2,#REF!)","v":{"$error":"#REF!"}}]
["TOTALES",null,null,"FEMENINO",{"$f":"SUMIF($D$8:$D$87,$D88,E$8:E$87)","v":0},0,0,0,0,0,0,0,0,0,0,0,0,0,0,0,{"$f":"SUMIF($D$8:$D$87,$D88,U$8:U$87)","v":0},0,0,0,0,0,0,8,6,3,0,204,116,51,6,{"v":2996,"d":"2,996"},{"v":1499,"d":"1,499"},{"v":1190,"d":"1,190"},567,1,3,2,1,0,0,0,0,0,0,0,0,0,0,0,0,0,0,231,5,2,1,0,0,1,2,0,0,0,0,0,0,9,339,336,308,0,0,3,0,0,1,0,0,0,{"$f":"SUMIF($D$8:$D$87,$D88,CG$8:CG$87)","v":0},0,0,0,0,0,9,0,0,1,0,0,0,1,0,0,0,0,1,5,9,0,0,0,0,0,0,0,0,0,0,0,0,0,0,0,0,2,0,15,0,0,2,6,0,1,241,1,0,0,2,39,0,0,0,0,0,0,0,0,0,0,0,0,{"$f":"SUMIF($D$8:$D$87,$D88,ES$8:ES$87)","v":0},0,0,0,0,0,0,0,0,0,1,0,0,2,0,0,0,8,1,0,0,0,0,0,0,0,0,0,0,0,0,0,0,0,0,0,0,0,0,0,0,0,0,0,0,0,0,0,0,0,111,116,111,63,140,172,0,0,3,149,0,27,112,105,{"$f":"SUMIF($D$8:$D$87,$D88,HE$8:HE$87)","v":32},64,23,426,54,41,31,3,0,1,0,3,0,2,4,3,7,117,{"v":1033,"d":"1,033"},34,0,0,1,1,1,0,112,139,0,0,2,16,0,0,0,0,0,0,1,3,0,13,95,4,0,0,0,0,51,8,5,1,2,3,2,1,6,5,1,0,3,23,205,85,{"$f":"SUMIF($D$8:$D$87,$D88,JQ$8:JQ$87)","v":58},23,84,193,3,60,5,20,1,15,5,12,5,15,4,10,2,9,3,2,26,23,278,55,0,0,0,0,0,0,0,0,0,0,0,0,0,0,0,0,0,0,0,0,0,0,0,0,1,0,0,41,3,4,215,126,53,25,1,5,0,4,1,0,{"$f":"SUMIF($D$8:$D$87,$D88,MC$8:MC$87)","v":2},3,11,2,0,0,139,56,942,0,0,0,0,0,0,0,0,0,0,3,1,2,1,1,1,0,0,0,49,34,9,3,0,{"v":1414,"d":"1,414"},646,411,269,199,36,0,0,0,0,0,0,0,0,0,0,0,0,0,1,0,0,0,103,71,41,19,22,35,21,13,{"$f":"SUMIF($D$8:$D$87,$D88,OO$8:OO$87)","v":4},1,0,0,0,0,0,0,9,0,0,0,0,0,0,0,0,0,7,0,0,0,0,182,0,0,0,0,{"v":1985,"d":"1,985"},5,1,1,0,0,0,0,0,217,223,79,84,140,5,6,311,752,52,8,1,{"v":1367,"d":"1,367"},883,{"v":6975,"d":"6,975"},4,3,3,4,3,15,4,5,15,4,6,9,{"$f":"SUMIF($D$8:$D$87,$D88,RA$8:RA$87)","v":4},4,9,5,4,5,3,6,15,5,2,11,2,1,10,521,432,249,55,51,35,0,0,0,0,0,0,0,0,0,0,0,0,0,0,0,0,0,0,0,335,236,29,71,64,4,18,429,97,25,7,143,{"$f":"SUM(E88:QK88)-SUM(PZ88:QC88)-SUM(QF88:QI88)","v":{"v":20313,"d":"20,313"}}]
[{"$nulls":3},"MASCULINO",1,{"$f":"SUMIF($D$8:$D$87,$D89,F$8:F$87)","v":0},1,0,0,0,0,0,0,0,0,0,0,0,0,0,0,0,1,1,0,0,0,6,6,2,0,83,31,18,0,{"v":2567,"d":"2,567"},{"v":1020,"d":"1,020"},620,350,1,4,2,1,0,1,0,0,0,0,0,0,0,0,0,0,0,0,207,11,1,0,0,0,0,3,0,0,0,0,0,0,3,343,359,309,0,0,2,0,1,0,0,0,0,0,0,0,0,0,0,10,2,0,0,0,0,0,1,1,0,0,0,0,3,11,0,0,0,0,0,0,0,0,0,0,0,0,0,0,0,0,0,0,15,1,1,1,10,0,1,260,0,0,0,2,33,0,0,0,0,0,0,0,0,0,0,0,0,0,0,0,1,0,0,0,0,0,0,0,0,0,2,0,0,0,0,2,0,0,0,0,0,0,0,0,0,0,0,0,0,0,0,0,0,0,0,0,0,0,0,0,0,0,0,0,0,0,2,123,117,94,83,158,139,0,0,4,132,2,35,268,101,32,48,11,569,62,108,37,3,1,1,2,0,1,3,3,3,15,73,634,22,0,1,1,4,1,1,81,110,0,0,1,31,0,0,0,0,1,0,0,4,2,13,90,4,1,1,0,0,59,8,2,2,3,5,2,1,4,1,5,2,3,56,322,120,77,39,54,178,1,55,2,23,4,8,5,17,4,8,3,9,3,8,3,4,23,19,275,88,0,0,0,0,0,0,0,0,0,0,1,0,0,1,0,0,0,0,0,0,0,1,0,0,0,0,0,25,4,1,212,119,46,32,2,4,1,3,1,4,0,1,14,3,1,0,76,35,506,0,0,0,0,0,0,0,0,0,0,0,0,0,0,0,0,0,0,0,0,0,0,0,0,0,0,0,0,0,0,0,0,0,149,33,7,0,0,{"v":4177,"d":"4,177"},{"v":1457,"d":"1,457"},645,202,56,12,0,0,0,266,117,65,22,10,75,30,17,13,3,0,0,0,0,0,0,0,0,0,0,0,0,0,0,0,0,4,0,0,0,2,142,0,0,0,0,{"v":1866,"d":"1,866"},0,0,0,0,0,0,0,0,195,251,86,71,150,4,4,360,712,0,14,5,{"v":1346,"d":"1,346"},723,{"v":6344,"d":"6,344"},6,1,0,10,7,6,20,11,4,11,5,4,17,11,8,15,6,7,10,6,3,13,7,7,5,6,3,82,61,40,39,33,24,0,0,0,0,0,0,0,0,0,0,0,0,0,0,0,0,0,0,0,327,194,38,52,53,1,16,375,145,48,6,75,{"v":21686,"d":"21,686"}]
[{"$nulls":3},"OTRO",0,0,0,0,0,0,0,0,0,0,0,0,0,0,0,0,0,0,0,0,0,0,0,0,0,0,0,0,0,0,0,0,0,0,0,0,0,0,0,0,0,0,0,0,0,0,0,0,0,0,0,0,0,0,0,0,0,0,0,0,0,0,0,0,0,0,0,0,0,0,0,0,0,0,0,0,0,0,0,0,0,0,0,0,0,0,0,0,0,0,0,0,0,0,0,0,0,0,0,0,0,0,0,0,0,0,0,0,0,0,0,0,0,0,0,0,0,0,0,0,0,0,0,0,0,0,0,0,0,0,0,0,0,0,0,0,0,0,0,0,0,0,0,0,0,0,0,0,0,0,0,0,0,0,0,0,0,0,0,0,0,0,0,0,0,0,0,0,0,0,0,0,0,0,0,0,0,0,0,0,0,0,0,0,0,0,0,0,0,0,0,0,0,0,0,0,0,0,0,0,0,0,0,0,0,0,0,0,0,0,0,0,0,0,0,0,0,0,0,0,0,0,0,0,0,0,0,0,0,0,0,0,0,0,0,0,0,0,0,0,0,0,0,0,0,0,0,0,0,0,0,0,0,0,0,0,0,0,0,0,0,0,0,0,0,0,0,0,0,0,2,0,0,0,0,0,0,0,0,0,0,0,0,0,0,0,0,0,0,0,0,0,0,0,0,0,0,0,0,0,0,0,0,0,0,0,0,0,0,0,0,0,0,0,0,0,0,0,0,0,0,0,0,0,0,0,0,0,0,0,0,0,0,0,0,0,0,0,0,0,0,0,0,0,0,0,0,0,0,0,0,0,0,0,0,0,0,0,0,0,0,0,0,0,0,0,0,0,0,0,0,0,0,0,0,0,0,0,0,0,0,0,0,2,0,0,0,0,0,0,0,0,0,0,0,0,0,0,0,0,0,0,0,0,0,0,0,0,0,0,0,0,0,0,0,0,0,0,0,0,0,0,0,0,0,0,0,0,0,0,0,0,0,0,0,0,0,0,0,0,0,0,0,0,0,0,0,0,0,0,0,1,0,0,0,0,0,0,0,0,0,0,0,0,0,0,0,0,0,0,0,0,0,0,0,0,0,0,0,0,0,0,0,0,0,0,0,0,0,0,0,0,0,0,0,0,0,0,0,0,0,0,0,0,0,0,0,0,0,0,0,0,0,0,0,0,4]
[{"$nulls":3},"TOTAL GENERO",{"$f":"SUM(E88:E90)","v":1},{"$f":"SUM(F88:F90)","v":0},1,0,0,0,0,0,0,0,0,0,0,0,0,0,0,0,1,1,0,0,0,14,12,5,0,287,147,69,6,{"v":5563,"d":"5,563"},{"v":2519,"d":"2,519"},{"v":1810,"d":"1,810"},917,2,7,4,2,0,1,0,0,0,0,0,0,0,0,0,0,0,0,438,16,3,1,0,0,1,5,0,0,0,0,{"$f":"SUM(BR88:BR90)","v":0},0,12,682,695,617,0,0,5,0,1,1,0,0,0,0,0,0,0,0,0,19,2,0,1,0,0,0,2,1,0,0,0,1,8,20,0,0,0,0,0,0,0,0,0,0,0,0,0,0,0,0,2,0,30,1,1,3,16,0,2,501,1,0,{"$f":"SUM(ED88:ED90)","v":0},4,72,0,0,0,0,0,0,0,0,0,0,0,0,0,0,0,1,0,0,0,0,0,0,1,0,0,4,0,0,0,8,3,0,0,0,0,0,0,0,0,0,0,0,0,0,0,0,0,0,0,0,0,0,0,0,0,0,0,0,0,0,0,{"$f":"SUM(GP88:GP90)","v":2},234,233,205,146,298,311,0,0,7,281,2,62,380,206,64,112,34,995,116,149,68,6,1,2,2,3,1,5,7,6,22,190,{"v":1667,"d":"1,667"},56,0,1,2,5,2,1,193,249,0,0,3,47,0,0,0,0,1,0,1,7,2,26,185,8,1,1,0,0,110,{"$f":"SUM(JB88:JB90)","v":16},7,3,5,8,4,2,10,6,6,2,6,79,529,205,135,62,138,371,4,115,7,43,5,23,10,29,9,23,7,19,5,17,6,6,49,42,553,143,0,0,0,0,0,0,0,0,0,0,1,0,0,1,0,0,0,0,0,0,0,1,0,0,1,{"$f":"SUM(LN88:LN90)","v":0},0,66,7,5,427,245,99,57,3,9,1,7,2,4,2,4,25,5,1,0,215,91,{"v":1448,"d":"1,448"},0,0,0,0,0,0,0,0,0,0,3,1,2,1,1,1,0,0,0,49,34,9,3,0,{"v":1414,"d":"1,414"},646,411,269,199,36,0,0,0,149,33,7,0,0,{"v":4179,"d":"4,179"},{"v":1457,"d":"1,457"},{"$f":"SUM(NZ88:NZ90)","v":645},202,56,13,0,0,0,369,188,106,41,32,110,51,30,17,4,0,0,0,0,0,0,9,0,0,0,0,0,0,0,0,0,11,0,0,0,2,324,0,0,0,0,{"v":3851,"d":"3,851"},5,1,1,0,0,0,0,0,412,474,165,155,290,9,10,671,{"v":1464,"d":"1,464"},52,22,6,{"$f":"SUM(QL88:QL90)","v":{"v":2713,"d":"2,713"}},{"v":1606,"d":"1,606"},{"v":13320,"d":"13,320"},10,4,3,14,10,21,24,16,19,15,11,13,21,15,17,20,10,12,13,12,18,18,9,18,7,7,13,603,493,289,94,84,59,0,0,0,0,0,0,0,0,0,0,0,0,0,0,0,0,0,0,0,662,430,67,123,117,5,34,804,242,{"$f":"SUM(SX88:SX90)","v":73},13,218,{"$f":"SUM(TA88:TA90)","v":{"v":42003,"d":"42,003"}}]
[{"$nulls":3},"CONTRIBUTIVO",{"$f":"SUMIF($D$8:$D$87,$D92,E$8:E$87)","v":1},0,1,0,0,0,0,0,0,0,0,0,0,0,0,0,{"$f":"SUMIF($D$8:$D$87,$D92,U$8:U$87)","v":0},0,0,1,0,0,0,12,9,4,0,207,121,58,6,{"v":4512,"d":"4,512"},{"v":2190,"d":"2,190"},{"v":1610,"d":"1,610"},792,2,6,4,2,0,1,0,0,0,0,0,0,0,0,0,0,0,0,430,14,3,1,0,0,1,5,0,0,0,0,0,0,10,647,663,585,0,0,3,0,1,0,0,0,0,{"$f":"SUMIF($D$8:$D$87,$D92,CG$8:CG$87)","v":0},0,0,0,0,0,17,1,0,0,0,0,0,2,1,0,0,0,0,7,14,0,0,0,0,0,0,0,0,0,0,0,0,0,0,0,0,2,0,22,0,1,2,14,0,2,479,1,0,0,4,43,0,0,0,0,0,0,0,0,0,0,0,0,{"$f":"SUMIF($D$8:$D$87,$D92,ES$8:ES$87)","v":0},0,0,1,0,0,0,0,0,0,1,0,0,4,0,0,0,8,3,0,0,0,0,0,0,0,0,0,0,0,0,0,0,0,0,0,0,0,0,0,0,0,0,0,0,0,0,0,0,2,225,225,199,137,286,298,0,0,6,274,2,49,255,170,{"$f":"SUMIF($D$8:$D$87,$D92,HE$8:HE$87)","v":63},108,32,788,56,91,63,4,1,2,2,3,1,4,6,6,14,112,{"v":1107,"d":"1,107"},54,0,1,2,4,2,1,110,237,0,0,3,42,0,0,0,0,1,0,0,1,1,13,172,4,1,1,0,0,98,14,7,2,3,8,2,2,6,6,6,1,6,23,306,177,{"$f":"SUMIF($D$8:$D$87,$D92,JQ$8:JQ$87)","v":105},53,126,364,1,110,2,40,0,22,2,27,0,22,1,18,2,16,2,6,21,38,457,107,0,0,0,0,0,0,0,0,0,0,1,0,0,1,0,0,0,0,0,0,0,0,0,0,0,0,0,44,6,4,324,155,95,49,3,6,1,5,2,4,{"$f":"SUMIF($D$8:$D$87,$D92,MC$8:MC$87)","v":2},2,17,1,0,0,162,78,{"v":1118,"d":"1,118"},0,0,0,0,0,0,0,0,0,0,2,0,1,0,1,0,0,0,0,29,29,8,2,0,{"v":1122,"d":"1,122"},459,303,212,158,35,0,0,0,97,30,5,0,0,{"v":3651,"d":"3,651"},{"v":1349,"d":"1,349"},93,22,0,1,0,0,0,343,183,103,41,30,99,48,29,{"$f":"SUMIF($D$8:$D$87,$D92,OO$8:OO$87)","v":17},4,0,0,0,0,0,0,3,0,0,0,0,0,0,0,0,0,10,0,0,0,2,265,0,0,0,0,{"v":3118,"d":"3,118"},5,1,1,0,0,0,0,0,401,467,157,151,276,9,10,635,{"v":1306,"d":"1,306"},51,21,5,{"v":2563,"d":"2,563"},{"v":1403,"d":"1,403"},{"v":11753,"d":"11,753"},10,4,2,14,10,20,19,15,19,14,10,13,{"$f":"SUMIF($D$8:$D$87,$D92,RA$8:RA$87)","v":21},13,16,18,9,12,13,12,18,17,9,18,7,7,12,556,459,268,76,73,52,0,0,0,0,0,0,0,0,0,0,0,0,0,0,0,0,0,0,0,641,418,65,119,112,5,32,656,125,17,12,205,{"$f":"SUM(E92:QK92)-SUM(PZ92:QC92)-SUM(QF92:QI92)","v":{"v":34283,"d":"34,283"}}]
[{"$nulls":3},"SUBSIDIADO",0,{"$f":"SUMIF($D$8:$D$87,$D93,F$8:F$87)","v":0},0,0,0,0,0,0,0,0,0,0,0,0,0,0,0,0,0,0,0,0,0,1,1,1,0,20,16,5,0,482,203,114,88,0,1,0,0,0,0,0,0,0,0,0,0,0,0,0,0,0,0,0,0,0,0,0,0,0,0,0,0,0,0,0,0,2,4,4,4,0,0,1,0,0,0,0,0,0,0,0,0,0,0,0,0,1,0,0,0,0,0,0,0,0,0,0,1,0,0,0,0,0,0,0,0,0,0,0,0,0,0,0,0,0,0,0,0,0,0,0,0,1,0,0,9,0,0,0,0,4,0,0,0,0,0,0,0,0,0,0,0,0,0,0,0,0,0,0,0,0,0,0,0,0,0,0,0,0,0,0,0,0,0,0,0,0,0,0,0,0,0,0,0,0,0,0,0,0,0,0,0,0,0,0,0,0,0,0,0,0,0,0,0,1,1,1,1,1,0,0,0,0,0,1,115,30,0,1,2,164,9,18,0,1,0,0,0,0,0,0,0,0,1,7,95,1,0,0,0,0,0,0,8,0,0,0,0,4,0,0,0,0,0,0,1,2,0,1,2,0,0,0,0,0,0,1,0,0,0,0,0,0,0,0,0,0,0,1,25,2,2,0,1,0,1,0,0,0,2,0,0,0,0,0,1,0,0,0,1,0,1,0,25,4,0,0,0,0,0,0,0,0,0,0,0,0,0,0,0,0,0,0,0,0,0,0,0,0,0,0,0,4,0,1,18,8,3,0,0,0,0,0,0,0,0,0,0,0,0,0,10,1,95,0,0,0,0,0,0,0,0,0,0,0,0,0,0,0,1,0,0,0,5,3,0,1,0,132,50,20,24,8,1,0,0,0,10,3,0,0,0,214,50,8,1,0,0,0,0,0,11,2,2,0,2,5,1,1,0,0,0,0,0,0,0,0,0,0,0,0,0,0,0,0,0,0,0,0,0,0,0,4,0,0,0,0,97,0,0,0,0,0,0,0,0,0,0,0,0,3,0,0,3,22,1,1,0,26,19,468,0,0,0,0,0,0,1,0,0,0,0,0,0,0,1,1,0,0,0,0,0,0,0,0,0,0,1,14,9,4,10,2,1,0,0,0,0,0,0,0,0,0,0,0,0,0,0,0,0,0,0,0,2,2,1,1,1,0,0,12,6,0,0,1,{"$f":"SUM(E93:QK93)-SUM(PZ93:QC93)-SUM(QF93:QI93)","v":{"v":2298,"d":"2,298"}}]
[{"$nulls":3},"POBRE NO ASEGURADO",0,0,0,0,0,0,0,0,0,0,0,0,0,0,0,0,0,0,1,0,0,0,0,1,0,0,0,1,1,1,0,264,24,12,3,0,0,0,0,0,0,0,0,0,0,0,0,0,0,0,0,0,0,1,2,0,0,0,0,0,0,0,0,0,0,0,0,0,3,5,3,0,0,1,0,0,0,0,0,0,0,0,0,0,0,0,1,0,0,0,0,0,0,0,0,0,0,0,0,0,1,0,0,0,0,0,0,0,0,0,0,0,0,0,0,0,0,0,0,0,1,0,1,0,0,0,2,0,0,0,0,24,0,0,0,0,0,0,0,0,0,0,0,0,0,0,0,0,0,0,0,0,0,0,0,0,0,0,0,0,0,0,0,0,0,0,0,0,0,0,0,0,0,0,0,0,0,0,0,0,0,0,0,0,0,0,0,0,0,0,0,0,0,0,3,3,1,3,6,3,0,0,1,2,0,6,0,1,0,0,0,3,28,0,3,1,0,0,0,0,0,1,1,0,4,11,180,0,0,0,0,1,0,0,65,4,0,0,0,0,0,0,0,0,0,0,0,3,1,11,5,4,0,0,0,0,3,1,0,1,1,0,1,0,4,0,0,1,0,1,50,13,12,5,6,1,2,3,5,0,3,0,8,1,9,0,5,0,3,0,3,0,21,1,14,1,0,0,0,0,0,0,0,0,0,0,0,0,0,0,0,0,0,0,0,0,0,1,0,0,1,0,0,15,0,0,73,77,0,2,0,2,0,2,0,0,0,2,1,4,0,0,31,2,67,0,0,0,0,0,0,0,0,0,0,0,0,0,0,0,0,0,0,0,1,1,0,0,0,38,6,4,1,2,0,0,0,0,2,0,0,0,0,97,16,0,0,0,0,0,0,0,12,2,1,0,0,2,1,0,0,0,0,0,0,0,0,0,1,0,0,0,0,0,0,0,0,0,1,0,0,0,0,25,0,0,0,0,403,0,0,0,0,0,0,0,0,2,0,2,0,4,0,0,4,55,0,0,1,47,61,404,0,0,0,0,0,0,2,0,0,0,0,0,0,0,0,0,1,0,0,0,0,0,0,0,0,0,0,13,3,4,4,5,2,0,0,0,0,0,0,0,0,0,0,0,0,0,0,0,0,0,0,0,3,3,0,0,0,0,1,54,76,1,0,2,{"$f":"SUM(E94:QK94)-SUM(PZ94:QC94)-SUM(QF94:QI94)","v":{"v":1788,"d":"1,788"}}]
[{"$nulls":3},"REGIMEN ESPECIAL",0,0,0,0,0,0,0,0,0,0,0,0,0,0,0,0,0,0,0,0,0,0,0,0,2,0,0,59,9,5,0,305,102,74,34,0,0,0,0,0,0,0,0,0,0,0,0,0,0,0,0,0,0,7,0,0,0,0,0,0,0,0,0,0,0,0,0,0,28,23,25,0,0,0,0,0,1,0,0,0,0,0,0,0,0,0,1,0,0,1,0,0,0,0,0,0,0,0,0,1,5,0,0,0,0,0,0,0,0,0,0,0,0,0,0,0,0,0,0,8,0,0,0,1,0,0,11,0,0,0,0,1,0,0,0,0,0,0,0,0,0,0,0,{"$f":"SUMIF($D$8:$D$87,$D95,ER$8:ER$87)","v":0},0,0,0,0,0,0,0,0,0,0,0,0,0,0,0,0,0,0,0,0,0,0,0,0,0,0,0,0,0,0,0,0,0,0,0,0,0,0,0,0,0,0,0,0,0,0,0,0,0,0,6,4,4,5,5,9,0,0,0,5,0,6,10,5,1,3,0,40,23,40,2,0,0,0,0,0,0,0,0,0,3,60,285,1,0,0,0,0,0,0,10,8,0,0,0,1,0,0,0,0,0,0,0,1,0,1,6,0,0,0,0,0,9,0,0,0,1,0,1,0,0,0,0,0,0,54,148,{"$f":"SUMIF($D$8:$D$87,$D95,JP$8:JP$87)","v":13},16,4,5,6,0,2,0,3,0,1,0,1,0,1,0,1,0,1,0,0,6,3,57,31,0,0,0,0,0,0,0,0,0,0,0,0,0,0,0,0,0,0,0,0,0,0,0,0,0,0,0,3,1,0,12,5,1,6,0,1,0,0,0,0,0,0,7,0,1,0,12,10,168,0,0,0,0,0,0,0,0,0,0,1,1,1,1,0,0,0,0,0,14,1,1,0,0,122,131,84,32,31,0,0,0,0,40,0,2,0,0,217,42,544,179,56,12,0,0,0,3,1,0,0,0,4,1,{"$f":"SUMIF($D$8:$D$87,$D95,ON$8:ON$87)","v":0},0,0,0,0,0,0,0,0,5,0,0,0,0,0,0,0,0,0,0,0,0,0,0,30,0,0,0,0,233,0,0,0,0,0,0,0,0,9,7,6,4,7,0,0,29,81,0,0,0,77,123,695,0,0,1,0,0,1,2,1,0,1,1,0,0,2,0,1,0,0,0,0,0,1,0,0,0,0,0,20,22,13,4,4,4,0,0,0,0,0,0,0,0,0,0,0,0,0,0,0,0,0,0,0,16,7,1,3,4,0,1,82,35,55,1,10,{"$f":"SUM(E95:QK95)-SUM(PZ95:QC95)-SUM(QF95:QI95)","v":{"v":3634,"d":"3,634"}}]
[{"$nulls":3},"TOTAL REGIMEN",{"$f":"SUM(E92:E95)","v":1},{"$f":"SUM(F92:F95)","v":0},1,0,0,0,0,0,0,0,0,0,0,0,0,0,0,0,1,1,0,0,0,14,12,5,0,287,147,69,6,{"v":5563,"d":"5,563"},{"v":2519,"d":"2,519"},{"v":1810,"d":"1,810"},917,2,7,4,2,0,1,0,0,0,0,0,0,0,0,0,0,0,0,438,16,3,1,0,0,1,5,0,0,0,0,{"$f":"SUM(BR92:BR95)","v":0},0,12,682,695,617,0,0,5,0,1,1,0,0,0,0,0,0,0,0,0,19,2,0,1,0,0,0,2,1,0,0,0,1,8,20,0,0,0,0,0,0,0,0,0,0,0,0,0,0,0,0,2,0,30,1,1,3,16,0,2,501,1,0,{"$f":"SUM(ED92:ED95)","v":0},4,72,0,0,0,0,0,0,0,0,0,0,0,0,0,0,0,1,0,0,0,0,0,0,1,0,0,4,0,0,0,8,3,0,0,0,0,0,0,0,0,0,0,0,0,0,0,0,0,0,0,0,0,0,0,0,0,0,0,0,0,0,0,{"$f":"SUM(GP92:GP95)","v":2},234,233,205,146,298,311,0,0,7,281,2,62,380,206,64,112,34,995,116,149,68,6,1,2,2,3,1,5,7,6,22,190,{"v":1667,"d":"1,667"},56,0,1,2,5,2,1,193,249,0,0,3,47,0,0,0,0,1,0,1,7,2,26,185,8,1,1,0,0,110,{"$f":"SUM(JB92:JB95)","v":16},7,3,5,8,4,2,10,6,6,2,6,79,529,205,135,62,138,371,4,115,7,43,5,23,10,29,9,23,7,19,5,17,6,6,49,42,553,143,0,0,0,0,0,0,0,0,0,0,1,0,0,1,0,0,0,0,0,0,0,1,0,0,1,{"$f":"SUM(LN92:LN95)","v":0},0,66,7,5,427,245,99,57,3,9,1,7,2,4,2,4,25,5,1,0,215,91,{"v":1448,"d":"1,448"},0,0,0,0,0,0,0,0,0,0,3,1,2,1,1,1,0,0,0,49,34,9,3,0,{"v":1414,"d":"1,414"},646,411,269,199,36,0,0,0,149,33,7,0,0,{"v":4179,"d":"4,179"},{"v":1457,"d":"1,457"},{"$f":"SUM(NZ92:NZ95)","v":645},202,56,13,0,0,0,369,188,106,41,32,110,51,30,17,4,0,0,0,0,0,0,9,0,0,0,0,0,0,0,0,0,11,0,0,0,2,324,0,0,0,0,{"v":3851,"d":"3,851"},5,1,1,0,0,0,0,0,412,474,165,155,290,9,10,671,{"v":1464,"d":"1,464"},52,22,6,{"$f":"SUM(QL92:QL95)","v":{"v":2713,"d":"2,713"}},{"v":1606,"d":"1,606"},{"v":13320,"d":"13,320"},10,4,3,14,10,21,24,16,19,15,11,13,21,15,17,20,10,12,13,12,18,18,9,18,7,7,13,603,493,289,94,84,59,0,0,0,0,0,0,0,0,0,0,0,0,0,0,0,0,0,0,0,662,430,67,123,117,5,34,804,242,{"$f":"SUM(SX92:SX95)","v":73},13,218,{"$f":"SUM(TA92:TA95)","v":{"v":42003,"d":"42,003"}}]
[{"$nulls":3},"INDIGENA",{"$f":"SUMIF($D$8:$D$87,$D97,E$8:E$87)","v":0},0,0,0,0,0,0,0,0,0,0,0,0,0,0,0,{"$f":"SUMIF($D$8:$D$87,$D97,U$8:U$87)","v":0},0,0,0,0,0,0,0,0,0,0,0,1,0,0,6,4,2,2,0,0,0,0,0,0,0,0,0,0,0,0,0,0,0,0,0,0,0,0,0,0,0,0,0,0,0,0,0,0,0,0,0,0,0,0,0,0,0,0,0,0,0,0,0,{"$f":"SUMIF($D$8:$D$87,$D97,CG$8:CG$87)","v":0},0,0,0,0,0,0,0,0,0,0,0,0,0,0,0,0,0,0,0,0,0,0,0,0,0,0,0,0,0,0,0,0,0,0,0,0,0,0,0,0,0,0,0,0,0,0,0,0,0,0,0,0,0,0,0,0,0,0,0,0,0,0,0,{"$f":"SUMIF($D$8:$D$87,$D97,ES$8:ES$87)","v":0},0,0,0,0,0,0,0,0,0,0,0,0,0,0,0,0,0,0,0,0,0,0,0,0,0,0,0,0,0,0,0,0,0,0,0,0,0,0,0,0,0,0,0,0,0,0,0,0,0,0,0,0,0,0,0,0,0,0,0,0,0,1,0,{"$f":"SUMIF($D$8:$D$87,$D97,HE$8:HE$87)","v":0},0,0,0,0,0,0,0,0,0,0,0,0,0,0,0,0,0,2,0,0,0,0,0,0,0,1,0,0,0,0,0,0,0,0,0,0,0,0,0,0,0,0,0,0,0,0,0,0,0,0,0,0,0,0,0,0,0,0,0,0,0,1,1,{"$f":"SUMIF($D$8:$D$87,$D97,JQ$8:JQ$87)","v":0},0,0,0,0,0,0,0,0,0,0,0,0,0,0,0,0,0,0,0,0,0,0,0,0,0,0,0,0,0,0,0,0,0,0,0,0,0,0,0,0,0,0,0,0,0,0,0,0,0,0,0,0,0,1,0,0,0,0,0,0,0,0,0,{"$f":"SUMIF($D$8:$D$87,$D97,MC$8:MC$87)","v":0},0,0,0,0,0,0,0,2,0,0,0,0,0,0,0,0,0,0,0,0,0,0,0,0,0,0,0,0,0,0,0,0,3,0,1,0,0,0,0,0,0,0,0,0,0,0,5,4,1,0,0,0,0,0,0,1,0,0,0,0,0,0,0,{"$f":"SUMIF($D$8:$D$87,$D97,OO$8:OO$87)","v":0},0,0,0,0,0,0,0,0,0,0,0,0,0,0,0,0,0,0,0,0,0,0,0,0,0,0,0,1,0,0,0,0,0,0,0,0,0,0,0,0,0,0,0,0,0,0,0,0,0,0,5,0,0,0,0,0,0,0,0,1,0,0,0,{"$f":"SUMIF($D$8:$D$87,$D97,RA$8:RA$87)","v":0},0,0,0,0,0,0,0,0,0,0,0,0,0,0,0,1,0,0,0,0,0,0,0,0,0,0,0,0,0,0,0,0,0,0,0,0,0,0,0,0,0,0,0,1,0,0,0,1,0,0,0,{"$f":"SUM(E97:QK97)-SUM(PZ97:QC97)-SUM(QF97:QI97)","v":40}]
[{"$nulls":3},"ROM  (GITANO)",0,{"$f":"SUMIF($D$8:$D$87,$D98,F$8:F$87)","v":0},0,0,0,0,0,0,0,0,0,0,0,0,0,0,0,0,0,0,0,0,0,0,0,0,0,0,0,0,0,0,1,0,0,0,0,0,0,0,0,0,0,0,0,0,0,0,0,0,0,0,0,0,0,0,0,0,0,0,0,0,0,0,0,0,0,0,0,0,0,0,0,0,0,0,0,0,0,0,0,0,0,0,0,0,0,0,0,0,0,0,0,0,0,0,0,0,0,0,0,0,0,0,0,0,0,0,0,0,0,0,0,0,0,0,0,0,0,0,0,0,0,0,0,0,0,0,0,0,0,0,0,0,0,0,0,0,0,0,0,0,0,0,0,0,0,0,0,0,0,0,0,0,0,0,0,0,0,0,0,0,0,0,0,0,0,0,0,0,0,0,0,0,0,0,0,0,0,0,0,0,0,0,0,0,0,0,0,0,0,0,0,0,0,0,0,0,0,0,0,0,0,0,0,0,0,1,0,0,0,0,0,0,0,0,0,0,0,0,0,0,0,0,0,0,0,0,0,0,0,0,0,0,0,0,0,0,0,0,0,0,0,0,0,0,0,0,0,0,0,0,0,0,0,0,0,0,0,0,0,0,0,0,0,0,0,0,0,0,0,0,0,0,0,0,0,0,0,0,0,0,0,0,0,0,0,0,0,0,0,0,0,0,0,0,0,0,0,0,0,0,0,0,0,0,0,0,0,0,0,0,0,0,0,0,0,0,0,0,0,0,0,0,0,0,0,0,0,0,0,0,0,0,0,0,0,0,0,0,0,0,0,0,0,0,0,0,0,0,0,0,0,0,0,0,0,0,0,0,0,0,0,0,0,0,0,0,0,0,0,0,0,0,0,0,0,0,0,0,0,0,0,0,0,0,0,0,0,0,0,0,0,0,0,0,0,0,0,0,0,0,0,0,0,0,0,0,0,0,0,0,0,0,0,0,0,0,0,0,0,0,0,0,0,0,0,0,1,0,0,0,0,0,0,0,0,0,0,0,0,0,0,0,0,0,0,0,0,0,0,0,0,0,0,0,0,0,0,0,0,0,0,0,0,0,0,0,0,0,0,0,0,0,0,0,0,0,0,0,0,0,0,0,0,0,0,0,0,0,0,0,0,0,0,0,0,0,0,0,0,0,0,0,0,0,0,0,0,0,0,0,0,0,0,0,3]
[{"$nulls":3},"RAIZAL ",0,0,0,0,0,0,0,0,0,0,0,0,0,0,0,0,0,0,0,0,0,0,0,0,0,0,0,0,0,0,0,0,0,0,1,0,0,0,0,0,0,0,0,0,0,0,0,0,0,0,0,0,0,0,0,0,0,0,0,0,0,0,0,0,0,0,0,0,0,0,0,0,0,0,0,0,0,0,0,0,0,0,0,0,0,0,0,0,0,0,0,0,0,0,0,0,0,0,0,0,0,0,0,0,0,0,0,0,0,0,0,0,0,0,0,0,0,0,0,0,0,0,0,0,0,0,0,0,0,0,0,0,0,0,0,0,0,0,0,0,0,0,0,0,0,0,0,0,0,0,0,0,0,0,0,0,0,0,0,0,0,0,0,0,0,0,0,0,0,0,0,0,0,0,0,0,0,0,0,0,0,0,0,0,0,0,0,0,0,0,0,0,0,0,0,0,0,0,0,0,0,0,0,0,0,0,0,0,0,0,0,0,0,0,0,0,0,0,0,0,0,0,0,0,0,0,0,0,0,0,0,0,0,0,0,0,0,0,0,0,0,0,0,0,0,0,0,0,0,0,0,0,0,0,0,0,0,0,0,0,0,0,0,0,0,0,0,0,0,0,0,0,0,0,0,0,0,0,0,0,0,0,0,0,0,0,0,0,0,0,0,0,0,0,0,0,0,0,0,0,0,0,0,0,0,0,0,0,0,0,0,0,0,0,0,0,0,0,0,0,0,0,0,0,0,0,0,0,0,0,0,0,0,0,0,0,0,0,0,0,0,0,0,0,0,0,0,0,0,0,0,0,0,0,0,0,0,0,0,0,0,0,0,0,0,0,0,0,0,0,0,0,0,0,0,0,0,0,0,0,0,0,0,2,0,0,0,0,0,0,0,0,0,0,0,0,0,0,0,0,0,0,0,0,0,0,0,0,0,0,0,0,0,0,0,0,0,0,0,0,0,0,0,0,0,0,0,0,0,0,0,0,0,0,0,0,0,1,0,0,0,0,0,0,0,0,0,0,0,0,0,3,0,0,0,0,0,0,0,0,0,0,0,0,0,0,0,0,0,0,0,0,0,0,0,0,0,0,0,1,0,0,0,0,0,0,0,0,0,0,0,0,0,0,0,0,0,0,0,0,0,0,0,0,0,0,0,0,0,0,0,0,0,0,0,0,3]
[{"$nulls":3},"PALENQUERO",0,0,0,0,0,0,0,0,0,0,0,0,0,0,0,0,0,0,0,0,0,0,0,0,0,0,0,0,0,0,0,2,1,0,0,0,0,0,0,0,0,0,0,0,0,0,0,0,0,0,0,0,0,0,0,0,0,0,0,0,0,0,0,0,0,0,0,0,0,0,0,0,0,0,0,0,0,0,0,0,0,0,0,0,0,0,0,0,0,0,0,0,0,0,0,0,0,0,0,0,0,0,0,0,0,0,0,0,0,0,0,0,0,0,0,0,0,0,0,0,0,0,0,0,0,0,0,0,0,0,0,0,0,0,0,0,0,0,0,0,0,0,0,{"$f":"SUMIF($D$8:$D$87,$D100,ER$8:ER$87)","v":0},0,0,0,0,0,0,0,0,0,0,0,0,0,0,0,0,0,0,0,0,0,0,0,0,0,0,0,0,0,0,0,0,0,0,0,0,0,0,0,0,0,0,0,0,0,0,0,0,0,0,0,0,0,0,0,0,0,0,0,0,0,0,0,0,0,0,0,0,0,0,0,0,0,0,0,0,0,0,0,0,0,0,1,0,0,0,0,0,0,0,0,0,0,0,0,0,0,0,0,0,0,0,0,0,0,0,0,0,0,0,0,0,0,0,0,0,0,0,0,0,0,0,0,0,0,0,0,{"$f":"SUMIF($D$8:$D$87,$D100,JP$8:JP$87)","v":0},0,0,0,0,0,0,0,0,0,0,0,0,0,0,0,0,0,0,0,0,0,0,0,1,0,0,0,0,0,0,0,0,0,0,0,0,0,0,0,0,0,0,0,0,0,0,0,0,0,0,0,0,0,0,0,0,0,0,0,0,0,0,0,0,0,0,0,0,0,0,0,0,0,0,0,0,0,0,0,0,0,0,0,0,0,0,0,0,0,0,0,0,0,0,0,0,0,0,0,0,0,0,0,0,0,0,0,0,0,0,0,1,1,1,0,0,0,0,0,0,0,0,0,0,0,0,0,{"$f":"SUMIF($D$8:$D$87,$D100,ON$8:ON$87)","v":0},0,0,0,0,0,0,0,0,0,0,0,0,0,0,0,0,0,0,0,0,0,0,0,0,0,0,0,0,4,0,0,0,0,0,0,0,0,0,0,0,0,0,0,0,0,3,0,0,0,1,0,3,0,0,0,0,0,0,0,0,0,0,0,0,0,0,0,0,0,0,0,0,0,0,0,0,0,0,0,0,0,0,0,0,0,0,0,0,0,0,0,0,0,0,0,0,0,0,0,0,0,0,0,0,0,0,0,0,0,0,0,2,0,0,0,0,12]
[{"$nulls":3},"NEGRO(A), MULATO (A), AFROCOLOMBIANO (A)",0,0,0,0,0,0,0,0,0,0,0,0,0,0,0,0,0,0,0,0,0,0,0,0,0,0,0,1,0,0,0,8,1,5,2,0,0,0,0,0,0,0,0,0,0,0,0,0,0,0,0,0,0,0,0,0,0,0,0,0,0,0,0,0,{"$f":"SUMIF($D$8:$D$87,$D101,BQ$8:BQ$87)","v":0},0,0,0,0,0,0,0,0,0,0,0,0,0,0,0,0,0,0,0,0,0,0,0,0,0,0,0,0,0,0,0,0,0,0,0,0,0,0,0,0,0,0,0,0,0,0,0,0,0,0,0,0,0,0,0,0,0,0,0,0,0,1,0,{"$f":"SUMIF($D$8:$D$87,$D101,EC$8:EC$87)","v":0},0,0,0,0,0,0,0,0,0,0,0,0,0,0,0,0,0,0,0,0,0,0,0,0,0,0,0,0,0,0,0,0,0,0,0,0,0,0,0,0,0,0,0,0,0,0,0,0,0,0,0,0,0,0,0,0,0,0,0,0,0,0,0,0,0,0,0,0,0,0,0,0,0,0,0,0,0,0,0,{"$f":"SUMIF($D$8:$D$87,$D101,HE$8:HE$87)","v":1},1,0,4,0,0,0,0,0,0,0,0,0,0,0,0,0,0,3,0,0,0,0,0,0,0,0,0,0,0,0,0,0,0,0,0,0,0,0,0,0,0,0,0,0,0,0,0,0,0,0,0,0,0,0,0,0,0,0,0,0,0,1,0,0,0,0,0,0,0,0,0,0,0,0,0,0,0,0,0,0,0,0,0,0,0,0,0,0,0,0,0,0,0,0,0,0,0,0,0,0,0,0,0,0,0,0,0,0,0,0,0,0,0,0,0,0,0,0,0,0,0,0,0,0,0,0,0,{"$f":"SUMIF($D$8:$D$87,$D101,MC$8:MC$87)","v":0},0,0,0,0,0,0,1,3,0,0,0,0,0,0,0,0,0,0,0,0,0,0,0,0,0,0,0,0,0,0,0,0,1,1,3,0,3,1,0,0,0,0,0,0,0,0,17,3,2,1,2,0,0,0,0,1,1,1,0,0,0,0,0,0,0,0,0,0,0,0,0,0,0,0,0,0,0,0,0,0,0,0,0,0,0,0,0,0,0,0,0,5,0,0,0,0,0,0,0,0,0,0,0,0,0,0,0,0,0,0,0,0,4,0,16,0,0,0,0,0,0,0,0,0,0,0,0,0,0,0,0,0,0,0,0,0,0,0,0,0,0,0,0,0,0,0,0,0,0,0,0,0,0,0,0,0,0,0,0,0,0,0,0,0,0,0,0,0,0,0,0,0,0,0,{"$f":"SUMIF($D$8:$D$87,$D101,SV$8:SV$87)","v":0},0,0,0,0,74]
[{"$nulls":3},"SIN PERTENENCIA ETNICA",1,{"$f":"SUMIF($D$8:$D$87,$D102,F$8:F$87)","v":0},1,0,0,0,0,0,0,0,0,0,0,0,0,0,0,0,1,1,0,0,0,14,12,5,0,286,146,69,6,{"v":5547,"d":"5,547"},{"v":2512,"d":"2,512"},{"v":1803,"d":"1,803"},912,2,7,4,2,0,1,0,0,0,0,0,0,0,0,0,0,0,0,438,16,3,1,0,0,1,5,0,0,0,0,0,0,12,682,695,617,0,0,5,0,1,1,0,0,0,0,0,0,0,0,0,19,2,0,1,0,0,0,2,1,0,0,0,1,8,20,0,0,0,0,0,0,0,0,0,0,0,0,0,0,0,0,2,0,30,1,1,3,16,0,2,500,1,0,0,4,72,0,0,0,0,0,0,0,0,0,0,0,0,0,0,0,1,0,0,0,0,0,0,1,0,0,4,0,0,0,8,3,0,0,0,0,0,0,0,0,0,0,0,0,0,0,0,0,0,0,0,0,0,0,0,0,0,0,0,0,0,0,2,234,233,205,146,298,311,0,0,7,281,2,62,379,205,63,111,34,991,116,149,68,6,1,2,2,3,1,5,7,6,22,190,{"v":1661,"d":"1,661"},56,0,1,2,5,2,1,192,249,0,0,3,47,0,0,0,0,1,0,1,7,2,26,185,8,1,1,0,0,110,16,7,3,5,8,4,2,10,6,6,2,6,79,527,204,135,62,138,371,4,115,7,43,5,23,10,29,9,23,7,19,5,17,6,6,49,42,553,142,0,0,0,0,0,0,0,0,0,0,1,0,0,1,0,0,0,0,0,0,0,1,0,0,1,0,0,66,7,5,426,245,99,57,3,9,1,7,2,4,2,4,25,5,1,0,215,90,{"v":1443,"d":"1,443"},0,0,0,0,0,0,0,0,0,0,3,1,2,1,1,1,0,0,0,49,34,9,3,0,{"v":1410,"d":"1,410"},645,407,269,196,35,0,0,0,149,33,7,0,0,{"v":4154,"d":"4,154"},{"v":1449,"d":"1,449"},641,201,54,13,0,0,0,367,187,105,41,32,110,51,30,17,4,0,0,0,0,0,0,9,0,0,0,0,0,0,0,0,0,11,0,0,0,2,324,0,0,0,0,{"v":3840,"d":"3,840"},5,1,1,0,0,0,0,0,411,474,165,155,290,9,10,671,{"v":1461,"d":"1,461"},52,22,6,{"v":2708,"d":"2,708"},{"v":1606,"d":"1,606"},{"v":13293,"d":"13,293"},10,4,3,14,10,21,24,16,18,15,11,13,{"$f":"SUMIF($D$8:$D$87,$D102,RA$8:RA$87)","v":21},15,17,20,10,12,13,12,18,18,9,18,7,7,13,602,492,289,94,84,59,0,0,0,0,0,0,0,0,0,0,0,0,0,0,0,0,0,0,0,662,430,67,123,116,5,34,802,241,73,13,218,{"v":41871,"d":"41,871"}]
[{"$nulls":3},"TOTAL ETNICOS",{"$f":"SUM(E97:E102)","v":1},{"$f":"SUM(F97:F102)","v":0},1,0,0,0,0,0,0,0,0,0,0,0,0,0,0,0,1,1,0,0,0,14,12,5,0,287,147,69,6,{"v":5563,"d":"5,563"},{"v":2519,"d":"2,519"},{"v":1810,"d":"1,810"},917,2,7,4,2,0,1,0,0,0,0,0,0,0,0,0,0,0,0,438,16,3,1,0,0,1,5,0,0,0,0,{"$f":"SUM(BR97:BR102)","v":0},0,12,682,695,617,0,0,5,0,1,1,0,0,0,0,0,0,0,0,0,19,2,0,1,0,0,0,2,1,0,0,0,1,8,20,0,0,0,0,0,0,0,0,0,0,0,0,0,0,0,0,2,0,30,1,1,3,16,0,2,501,1,0,{"$f":"SUM(ED97:ED102)","v":0},4,72,0,0,0,0,0,0,0,0,0,0,0,0,0,0,0,1,0,0,0,0,0,0,1,0,0,4,0,0,0,8,3,0,0,0,0,0,0,0,0,0,0,0,0,0,0,0,0,0,0,0,0,0,0,0,0,0,0,0,0,0,0,{"$f":"SUM(GP97:GP102)","v":2},234,233,205,146,298,311,0,0,7,281,2,62,380,206,64,112,34,995,116,149,68,6,1,2,2,3,1,5,7,6,22,190,{"v":1667,"d":"1,667"},56,0,1,2,5,2,1,193,249,0,0,3,47,0,0,0,0,1,0,1,7,2,26,185,8,1,1,0,0,110,{"$f":"SUM(JB97:JB102)","v":16},7,3,5,8,4,2,10,6,6,2,6,79,529,205,135,62,138,371,4,115,7,43,5,23,10,29,9,23,7,19,5,17,6,6,49,42,553,143,0,0,0,0,0,0,0,0,0,0,1,0,0,1,0,0,0,0,0,0,0,1,0,0,1,{"$f":"SUM(LN97:LN102)","v":0},0,66,7,5,427,245,99,57,3,9,1,7,2,4,2,4,25,5,1,0,215,91,{"v":1448,"d":"1,448"},0,0,0,0,0,0,0,0,0,0,3,1,2,1,1,1,0,0,0,49,34,9,3,0,{"v":1414,"d":"1,414"},646,411,269,199,36,0,0,0,149,33,7,0,0,{"v":4179,"d":"4,179"},{"v":1457,"d":"1,457"},{"$f":"SUM(NZ97:NZ102)","v":645},202,56,13,0,0,0,369,188,106,41,32,110,51,30,17,4,0,0,0,0,0,0,9,0,0,0,0,0,0,0,0,0,11,0,0,0,2,324,0,0,0,0,{"v":3851,"d":"3,851"},5,1,1,0,0,0,0,0,412,474,165,155,290,9,10,671,{"v":1464,"d":"1,464"},52,22,6,{"$f":"SUM(QL97:QL102)","v":{"v":2713,"d":"2,713"}},{"v":1606,"d":"1,606"},{"v":13320,"d":"13,320"},10,4,3,14,10,21,24,16,19,15,11,13,21,15,17,20,10,12,13,12,18,18,9,18,7,7,13,603,493,289,94,84,59,0,0,0,0,0,0,0,0,0,0,0,0,0,0,0,0,0,0,0,662,430,67,123,117,5,34,804,242,{"$f":"SUM(SX97:SX102)","v":73},13,218,{"$f":"SUM(TA97:TA102)","v":{"v":42003,"d":"42,003"}}]
[{"$nulls":3},"EN SITUACION DE DESPLAZAMIENTO",{"$f":"SUMIF($D$8:$D$87,$D104,E$8:E$87)","v":0},0,0,0,0,0,0,0,0,0,0,0,0,0,0,0,{"$f":"SUMIF($D$8:$D$87,$D104,U$8:U$87)","v":0},0,0,0,0,0,0,0,0,0,0,0,0,0,0,0,0,0,0,0,0,0,0,0,0,0,0,0,0,0,0,0,0,0,0,0,0,0,0,0,0,0,0,0,0,0,0,0,0,0,0,0,0,0,0,0,0,0,0,0,0,0,0,0,{"$f":"SUMIF($D$8:$D$87,$D104,CG$8:CG$87)","v":0},0,0,0,0,0,0,0,0,0,0,0,0,0,0,0,0,0,0,0,0,0,0,0,0,0,0,0,0,0,0,0,0,0,0,0,0,0,0,0,0,0,0,0,0,0,0,0,0,0,0,0,0,0,0,0,0,0,0,0,0,0,0,0,{"$f":"SUMIF($D$8:$D$87,$D104,ES$8:ES$87)","v":0},0,0,0,0,0,0,0,0,0,0,0,0,0,0,0,0,0,0,0,0,0,0,0,0,0,0,0,0,0,0,0,0,0,0,0,0,0,0,0,0,0,0,0,0,0,0,0,0,0,0,0,0,0,0,0,0,0,0,0,0,0,0,0,{"$f":"SUMIF($D$8:$D$87,$D104,HE$8:HE$87)","v":0},0,0,0,0,0,0,0,0,0,0,0,0,0,0,0,0,0,0,0,0,0,0,0,0,0,0,0,0,0,0,0,0,0,0,0,0,0,0,0,0,0,0,0,0,0,0,0,0,0,0,0,0,0,0,0,0,0,0,0,0,0,0,0,{"$f":"SUMIF($D$8:$D$87,$D104,JQ$8:JQ$87)","v":0},0,0,0,0,0,0,0,0,0,0,0,0,0,0,0,0,0,0,0,0,0,0,0,0,0,0,0,0,0,0,0,0,0,0,0,0,0,0,0,0,0,0,0,0,0,0,0,0,0,0,0,0,0,0,0,0,0,0,0,0,0,0,0,{"$f":"SUMIF($D$8:$D$87,$D104,MC$8:MC$87)","v":0},0,0,0,0,0,0,0,0,0,0,0,0,0,0,0,0,0,0,0,0,0,0,0,0,0,0,0,0,0,0,0,0,0,0,0,0,0,0,0,0,0,0,0,0,0,0,0,0,0,0,0,0,0,0,0,0,0,0,0,0,0,0,0,{"$f":"SUMIF($D$8:$D$87,$D104,OO$8:OO$87)","v":0},0,0,0,0,0,0,0,0,0,0,0,0,0,0,0,0,0,0,0,0,0,0,0,0,0,0,0,0,0,0,0,0,0,0,0,0,0,0,0,0,0,0,0,0,0,0,0,0,0,0,0,0,0,0,0,0,0,0,0,0,0,0,0,{"$f":"SUMIF($D$8:$D$87,$D104,RA$8:RA$87)","v":0},0,0,0,0,0,0,0,0,0,0,0,0,0,0,0,0,0,0,0,0,0,0,0,0,0,0,0,0,0,0,0,0,0,0,0,0,0,0,0,0,0,0,0,0,0,0,0,0,0,0,0,{"$f":"SUM(E104:QK104)-SUM(PZ104:QC104)-SUM(QF104:QI104)","v":0}]
[{"$nulls":3},"EN CONDICION DE DISCAPACIDAD",0,{"$f":"SUMIF($D$8:$D$87,$D105,F$8:F$87)","v":0},0,0,0,0,0,0,0,0,0,0,0,0,0,0,0,0,0,0,0,0,0,0,0,0,0,0,0,0,0,0,0,0,0,0,0,0,0,0,0,0,0,0,0,0,0,0,0,0,0,0,0,0,0,0,0,0,0,0,0,0,0,0,0,0,0,0,0,0,0,0,0,0,0,0,0,0,0,0,0,0,0,0,0,0,0,0,0,0,0,0,0,0,0,0,0,0,0,0,0,0,0,0,0,0,0,0,0,0,0,0,0,0,0,0,0,0,0,0,0,0,0,0,0,0,0,0,0,0,0,0,0,0,0,0,0,0,0,0,0,0,0,0,0,0,0,0,0,0,0,0,0,0,0,0,0,0,0,0,0,0,0,0,0,0,0,0,0,0,0,0,0,0,0,0,0,0,0,0,0,0,0,0,0,0,0,0,0,0,0,0,0,0,0,0,0,0,0,0,0,0,0,0,0,0,0,0,0,0,0,0,0,0,0,0,0,0,0,0,0,0,0,0,0,0,0,0,0,0,0,0,0,0,0,0,0,0,0,0,0,0,0,0,0,0,0,0,0,0,0,0,0,0,0,0,0,0,0,0,0,0,0,0,0,0,0,0,0,0,0,0,0,0,0,0,0,0,0,0,0,0,0,0,0,0,0,0,0,0,0,0,0,0,0,0,0,0,0,0,0,0,0,0,0,0,0,0,0,0,0,0,0,0,0,0,0,0,0,0,0,0,0,0,0,0,0,0,0,0,0,0,0,0,0,0,0,0,0,0,0,0,0,0,0,0,0,0,0,0,0,0,0,0,0,0,0,0,0,0,0,0,0,0,0,0,0,0,0,0,0,0,0,0,0,0,0,0,0,0,0,0,0,0,0,0,0,0,0,0,0,0,0,0,0,0,0,0,0,0,0,0,0,0,0,0,0,0,0,0,0,0,0,0,0,0,0,0,0,0,0,0,0,0,0,0,0,0,0,0,0,0,0,0,0,0,0,0,0,0,0,0,0,0,0,0,0,0,0,0,0,0,0,0,0,0,0,0,0,0,0,0,0,0,0,0,0,0,0,0,0,0,0,0,0,0,0,0,0,0,0,0,0,0,0,0,0,0,0,0,0,0,0,0,0,0,0,0,0,0,0,0,0,0,0,0,0,0,0,0,0,0,0,0,0,0,{"$f":"SUM(E105:QK105)-SUM(PZ105:QC105)-SUM(QF105:QI105)","v":0}]
[{"$nulls":3},"VICTIMAS DEL CONFLICTO ARMADO",0,0,0,0,0,0,0,0,0,0,0,0,0,0,0,0,0,0,0,0,0,0,0,0,0,0,0,0,0,0,0,0,0,0,0,0,0,0,0,0,0,0,0,0,0,0,0,0,0,0,0,0,0,0,0,0,0,0,0,0,0,0,0,0,0,0,0,0,0,0,0,0,0,0,0,0,0,0,0,0,0,0,0,0,0,0,0,0,0,0,0,0,0,0,0,0,0,0,0,0,0,0,0,0,0,0,0,0,0,0,0,0,0,0,0,0,0,0,0,0,0,0,0,0,0,0,0,0,0,0,0,0,0,0,0,0,0,0,0,0,0,0,0,0,0,0,0,0,0,0,0,0,0,0,0,0,0,0,0,0,0,0,0,0,0,0,0,0,0,0,0,0,0,0,0,0,0,0,0,0,0,0,0,0,0,0,0,0,0,0,0,0,0,0,0,0,0,0,0,0,0,0,0,0,0,0,0,0,0,0,0,0,0,0,0,0,0,0,0,0,0,0,0,0,0,0,0,0,0,0,0,0,0,0,0,0,0,0,0,0,0,0,0,0,0,0,0,0,0,0,0,0,0,0,0,0,0,0,0,0,0,0,0,0,0,0,0,0,0,0,0,0,0,0,0,0,0,0,0,0,0,0,0,0,0,0,0,0,0,0,0,0,0,0,0,0,0,0,0,0,0,0,0,0,0,0,0,0,0,0,0,0,0,0,0,0,0,0,0,0,0,0,0,0,0,0,0,0,0,0,0,0,0,0,0,0,0,0,0,0,0,0,0,0,0,0,0,0,0,0,0,0,0,0,0,0,0,0,0,0,0,0,0,0,0,0,0,0,0,0,0,0,0,0,0,0,0,0,0,0,0,0,0,0,0,0,0,0,0,0,0,0,0,0,0,0,0,0,0,0,0,0,0,0,0,0,0,0,0,0,0,0,0,0,0,0,0,0,0,0,0,0,0,0,0,0,0,0,0,0,0,0,0,0,0,0,0,0,0,0,0,0,0,0,0,0,0,0,0,0,0,0,0,0,0,0,0,0,0,0,0,0,0,0,0,0,0,0,0,0,0,0,0,0,0,0,0,0,0,0,0,0,0,0,0,0,0,0,0,0,0,0,0,0,0,0,0,0,0,0,0,0,0,0,0,0,0,0,0,0,0,0,0,0,0,0,{"$f":"SUM(E106:QK106)-SUM(PZ106:QC106)-SUM(QF106:QI106)","v":0}]
[{"$nulls":3},"ZONAS VEREDALES",0,0,0,0,0,0,0,0,0,0,0,0,0,0,0,0,0,0,0,0,0,0,0,0,0,0,0,0,0,0,0,0,0,0,0,0,0,0,0,0,0,0,0,0,0,0,0,0,0,0,0,0,0,0,0,0,0,0,0,0,0,0,0,0,0,0,0,0,0,1,0,0,0,0,0,0,0,0,0,0,0,0,0,0,0,0,0,0,0,0,0,0,0,0,0,0,0,0,0,0,0,0,0,0,0,0,0,0,0,0,0,0,0,0,0,0,0,0,0,0,0,0,0,0,0,0,0,0,0,0,0,0,0,0,0,0,0,0,0,0,0,0,0,{"$f":"SUMIF($D$8:$D$87,$D107,ER$8:ER$87)","v":0},0,0,0,0,0,0,0,0,0,0,0,0,0,0,0,0,0,0,0,0,0,0,0,0,0,0,0,0,0,0,0,0,0,0,0,0,0,0,0,0,0,0,0,0,0,0,0,0,0,0,0,0,0,0,0,0,0,0,0,0,0,0,0,0,0,0,0,2,0,0,0,0,0,0,0,0,0,0,0,0,0,0,1,0,0,0,0,0,0,0,0,0,0,0,0,0,0,0,0,0,0,0,0,0,0,0,0,0,0,0,0,0,0,0,0,0,0,0,0,0,0,0,0,0,0,0,0,{"$f":"SUMIF($D$8:$D$87,$D107,JP$8:JP$87)","v":0},0,0,0,0,0,0,0,0,0,0,0,0,0,0,0,0,0,0,0,0,0,0,0,0,0,0,0,0,0,0,0,0,0,0,0,0,0,0,0,0,0,0,0,0,0,0,0,0,0,0,0,1,0,0,0,0,0,0,0,0,0,0,0,0,0,0,0,0,0,0,0,0,0,0,0,0,0,0,0,0,0,0,0,0,0,0,0,0,0,0,0,0,1,0,0,0,0,0,0,0,0,0,0,0,0,0,0,0,0,0,0,0,0,0,0,0,0,0,0,0,0,0,0,0,0,0,0,{"$f":"SUMIF($D$8:$D$87,$D107,ON$8:ON$87)","v":0},0,0,0,0,0,0,0,0,0,0,0,0,0,0,0,0,0,0,0,0,0,0,0,0,0,0,0,0,1,0,0,0,0,0,0,0,0,0,0,0,0,0,0,0,0,0,0,0,0,0,0,2,0,0,0,0,0,0,0,0,0,0,0,0,0,0,0,0,0,0,0,0,0,0,0,0,0,0,0,0,0,0,0,0,0,0,0,0,0,0,0,0,0,0,0,0,0,0,0,0,0,0,0,0,0,0,0,0,0,0,0,0,0,0,0,0,{"$f":"SUM(E107:QK107)-SUM(PZ107:QC107)-SUM(QF107:QI107)","v":7}]
[null,"."]

{"sheet":"3_CONSOLIDADO REGIMEN","index":3,"n_rows":9,"n_cols":961,"rows_kept":9,"merged":[[0,3,0,442],[0,443,0,958]]}
[{"$nulls":3},"VACUNAS PAI",{"$nulls":439},"MERCADO PRIVADO O REGIMEN ESPECIAL"]
["Nº","COD\nMPIO","NOMBRE MUNICIPIO","BCG NIÑO O NIÑA  RECIEN NACIDO (DE 0 HASTA 29 DÍAS)","BCG NIÑO O NIÑA MENOR  DE UN AÑO                                             (A PARTIR DE 30 DIAS HASTA 11 MESES 29 DIAS)","BCG POBLACION INDIGENA Y RURAL DISPERSA (DE 1 AÑO A 5 AÑOS, 11 MESES, 29 DIAS)","CONTACTOS DE HANSEN  (LEPRA) OTRAS EDADES","HEPATITIS B RECIEN NACIDO (Primeras 12 Horas)","HEPATITIS B RECIEN NACIDO Entre 12 horas y 29 dias","HEPATITIS B DE 2 A 11 MESES 29 DÍAS 1a","HEPATITIS B DE 2 A 11 MESES 29 DÍAS  2a","HEPATITIS B DE 2 A 11 MESES 29 DÍAS 3a","HEPATITIS B DE 1 AÑO 1a","HEPATITIS B DE 1 AÑO 2a","HEPATITIS B DE 1 AÑO 3a","HEPATITIS B DE 2 AÑOS 1a","HEPATITIS B DE 2 AÑOS 2a","HEPATITIS B DE 2 AÑOS 3a","HEPATITIS B DE 3 AÑOS 1a","HEPATITIS B DE 3 AÑOS 2a","HEPATITIS B DE 3 AÑOS 3a","HEPATITIS B DE 4 AÑOS 1a","HEPATITIS B DE 4 AÑOS 2a","HEPATITIS B DE 4 AÑOS 3a","HEPATITIS B DE 5 AÑOS 1a","HEPATITIS B DE 5 AÑOS 2a","HEPATITIS B DE 5 AÑOS 3a","HEPATITIS B DEDE 6 a  18 AÑOS\n(ICBF) 1a","HEPATITIS B DEDE 6 a  18 AÑOS\n(ICBF) 2a ","HEPATITIS B DEDE 6 a  18 AÑOS\n(ICBF) 3a","HEPATITIS B  (RESOLUCION. 0459/2012 y Circular 031/14) \n1 AÑO - 1a Dosis","HEPATITIS B  (RESOLUCION. 0459/2012 y Circular 031/14) \n1 AÑO - 2a Dosis","HEPATITIS B  (RESOLUCION. 0459/2012 y Circular 031/14) \n1 AÑO - 3a Dosis","HEPATITIS B  (RESOLUCION. 0459/2012 y Circular 031/14) \n1 AÑO - Dosis ADICIONAL","HEPATITIS B  (RESOLUCION. 0459/2012 y Circular 031/14) \n2 AÑOS - 1a Dosis","HEPATITIS B  (RESOLUCION. 0459/2012 y Circular 031/14) \n2 AÑOS - 2a Dosis","HEPATITIS B  (RESOLUCION. 0459/2012 y Circular 031/14) \n2 AÑOS - 3a Dosis","HEPATITIS B  (RESOLUCION. 0459/2012 y Circular 031/14) \n2 AÑOS -  Dosis ADICIONAL","HEPATITIS B  (RESOLUCION. 0459/2012 y Circular 031/14) \n3 AÑOS - 1a Dosis","HEPATITIS B  (RESOLUCION. 0459/2012 y Circular 031/14) \n3 AÑOS - 2a Dosis","HEPATITIS B  (RESOLUCION. 0459/2012 y Circular 031/14) \n3 AÑOS - 3a Dosis","HEPATITIS B  (RESOLUCION. 0459/2012 y Circular 031/14) \n3 AÑOS -  Dosis ADICIONAL","HEPATITIS B  (RESOLUCION. 0459/2012 y Circular 031/14) \n4 AÑOS - 1a Dosis","HEPATITIS B  (RESOLUCION. 0459/2012 y Circular 031/14) \n4 AÑOS - 2a Dosis","HEPATITIS B  (RESOLUCION. 0459/2012 y Circular 031/14) \n4 AÑOS - 3a Dosis","HEPATITIS B  (RESOLUCION. 0459/2012 y Circular 031/14) \n4 AÑOS -  Dosis ADICIONAL","HEPATITIS B  (RESOLUCION. 0459/2012 y Circular 031/14) \n5 AÑOS - 1a Dosis","HEPATITIS B  (RESOLUCION. 0459/2012 y Circular 031/14) \n5 AÑOS - 2a Dosis","HEPATITIS B  (RESOLUCION. 0459/2012 y Circular 031/14) \n5 AÑOS - 3a Dosis","HEPATITIS B  (RESOLUCION. 0459/2012 y Circular 031/14) \n5 AÑOS -  Dosis ADICIONAL","HEPATITIS B  (RESOLUCION. 0459/2012 y Circular 031/14) 6 A 14 AÑOS 1a","HEPATITIS B  (RESOLUCION. 0459/2012 y Circular 031/14) 6 A 14 AÑOS 2a","HEPATITIS B  (RESOLUCION. 0459/2012 y Circular 031/14) 6 A 14 AÑOS 3a","HEPATITIS B  (RESOLUCION. 0459/2012 y Circular 031/14) 6 A 14 AÑOS Adicional","HEPATITIS B  (RESOLUCION. 0459/2012 y Circular 031/14) DE 15 AÑOS A 17 AÑOS 1a","HEPATITIS B  (RESOLUCION. 0459/2012 y Circular 031/14) DE 15 AÑOS A 17 AÑOS 2a","HEPATITIS B  (RESOLUCION. 0459/2012 y Circular 031/14) DE 15 AÑOS A 17 AÑOS 3a","HEPATITIS B  (RESOLUCION. 0459/2012 y Circular 031/14) DE 15 AÑOS A 17 AÑOS Adicional","HEPATITIS B  (RESOLUCION. 0459/2012 y Circular 031/14) DE 18 AÑOS Y MAS 1a","HEPATITIS B  (RESOLUCION. 0459/2012 y Circular 031/14) DE 18 AÑOS Y MAS 2a","HEPATITIS B  (RESOLUCION. 0459/2012 y Circular 031/14) DE 18 AÑOS Y MAS 3a","HEPATITIS B  (RESOLUCION. 0459/2012 y Circular 031/14) DE 18 AÑOS Y MAS Adicional","POBLACION PRIORIZADA PARA HEPATITIS B\n (Municipios priorizados) 1a ","POBLACION PRIORIZADA PARA HEPATITIS B\n (Municipios priorizados)  2a","POBLACION PRIORIZADA PARA HEPATITIS B\n (Municipios priorizados)  3a","POBLACION PRIORIZADA PARA HEPATITIS B\n (Municipios priorizados)  DOSIS ADICIONAL","ANTIPOLIO INACTIVADA (VIP)  <  DE 1 AÑO                           1a","ANTIPOLIO INACTIVADA (VIP) <  DE 1 AÑO                           2a","ANTIPOLIO INACTIVADA (VIP)  <  DE 1 AÑO                           3a","ANTIPOLIO INACTIVADA (VIP)  DE 1 AÑO                                                                              1a","ANTIPOLIO INACTIVADA (VIP) DE 1 AÑO                                                                              2a","ANTIPOLIO INACTIVADA (VIP)  DE 1 AÑO                                                                              3a","ANTIPOLIO INACTIVADA (VIP) DE 2 AÑOS                             1a","ANTIPOLIO INACTIVADA (VIP) DE 2 AÑOS                             2a","ANTIPOLIO INACTIVADA (VIP) DE 2 AÑOS                             3a","ANTIPOLIO INACTIVADA (VIP)   DE 3 AÑOS                            1a","ANTIPOLIO INACTIVADA (VIP)   DE 3 AÑOS                            2a","ANTIPOLIO INACTIVADA (VIP)   DE 3 AÑOS                            3a","ANTIPOLIO INACTIVADA (VIP)   DE 4 AÑOS                           1a","ANTIPOLIO INACTIVADA (VIP)   DE 4 AÑOS                           2a","ANTIPOLIO INACTIVADA (VIP)   DE 4 AÑOS                           3a","ANTIPOLIO INACTIVADA (VIP)   DE 5 AÑOS                      1a","ANTIPOLIO INACTIVADA (VIP)   DE 5 AÑOS                      2a","ANTIPOLIO INACTIVADA (VIP)   DE 5 AÑOS                      3a","ANTIPOLIO INACTIVADA (VIP)   AL AÑO DE LA 3ra DOSIS (De 18 a 23 meses) 1er REF.","ANTIPOLIO INACTIVADA (VIP)   DE 2 AÑOS 1er REF","ANTIPOLIO INACTIVADA (VIP)   DE 3 AÑOS 1er REF","ANTIPOLIO INACTIVADA (VIP)   DE 4 AÑOS 1er REF","ANTIPOLIO INACTIVADA (VIP)   DE 5 AÑOS 1er REF","ANTIPOLIO INACTIVADA (VIP)   3 AÑOS 2° REF.","ANTIPOLIO INACTIVADA (VIP)   4 AÑOS 2° REF.","ANTIPOLIO INACTIVADA (VIP)   5 AÑOS 2° REF.","ANTIPOLIO INACTIVADA (VIP)   DE 6 AÑOS 1a","ANTIPOLIO INACTIVADA (VIP)   DE 6 AÑOS 2a","ANTIPOLIO INACTIVADA (VIP)   DE 6 AÑOS 3a","ANTIPOLIO INACTIVADA (VIP)   DE 7  A 17 AÑOS (AUTORIZADAS POR EL MINISTERIO) 1a","ANTIPOLIO INACTIVADA (VIP)   DE 7  A 17 AÑOS (AUTORIZADAS POR EL MINISTERIO) 2a","ANTIPOLIO INACTIVADA (VIP)   DE 7  A 17 AÑOS (AUTORIZADAS POR EL MINISTERIO) 3a","ANTIPOLIO INACTIVADA (VIP)   DE 18  A 60 AÑOS (AUTORIZADAS POR EL MINISTERIO) 1a","ANTIPOLIO INACTIVADA (VIP)   DE 18  A 60 AÑOS (AUTORIZADAS POR EL MINISTERIO) 2a","POLIO ORAL - VOP AL AÑO DE LA 3ra DOSIS (De 18 a 23 meses) 1er REF.","POLIO ORAL - VOP DE 2 AÑOS 1er REF.","POLIO ORAL - VOP DE 3 AÑOS 1er REF.","POLIO ORAL - VOP DE 4 AÑOS 1er REF.","POLIO ORAL - VOP DE 5 AÑOS 1er REF.","POLIO ORAL - VOP 3 AÑOS 2° REF.","POLIO ORAL - VOP 4 AÑOS 2° REF.","POLIO ORAL - VOP DE 5 AÑOS 2er REF.","PENTAVALENTE \nDPT - HB - Hib < DE 1 AÑO 1a","PENTAVALENTE \nDPT - HB - Hib < DE 1 AÑO 2a","PENTAVALENTE \nDPT - HB - Hib < DE 1 AÑO 3a","PENTAVALENTE \nDPT - HB - Hib DE 1 AÑO 1a","PENTAVALENTE \nDPT - HB - Hib DE 1 AÑO 2a","PENTAVALENTE \nDPT - HB - Hib DE 1 AÑO 3a","PENTAVALENTE \nDPT - HB - Hib AL AÑO DE LA 3ra DOSIS (De 18 a 23 meses) 1e Ref.","PENTAVALENTE \nDPT - HB - Hib DE 2 AÑO 1e Ref.","PENTAVALENTE \nDPT - HB - Hib DE 3 AÑO 1e Ref.","PENTAVALENTE \nDPT - HB - Hib DE 4 AÑO 1e Ref.","PENTAVALENTE \nDPT - HB - Hib DE 5 AÑO 1e Ref.","PENTAVALENTE DPT - HB - Hib (CUANDO EL MINISTERIO LA AUTORICE) DE 2 AÑOS 1a","PENTAVALENTE DPT - HB - Hib (CUANDO EL MINISTERIO LA AUTORICE) DE 3 AÑOS 1a","PENTAVALENTE DPT - HB - Hib (CUANDO EL MINISTERIO LA AUTORICE) DE 4  AÑOS 1a","PENTAVALENTE DPT - HB - Hib (CUANDO EL MINISTERIO LA AUTORICE) DE 5 AÑOS 1a","DPT < DE 1 AÑO 1a","DPT < DE 1 AÑO 2a","DPT < DE 1 AÑO 3a","DPT DE 1 AÑO 1a","DPT DE 1 AÑO 2a","DPT DE 1 AÑO 3a","DPT DE 2 AÑOS 1a","DPT DE 2 AÑOS 2a","DPT DE 2 AÑOS 3a","DPT DE 3 AÑOS 1a","DPT DE 3 AÑOS 2a","DPT DE 3 AÑOS 3a","DPT DE 4  AÑOS 1a","DPT DE 4  AÑOS 2a","DPT DE 4  AÑOS 3a","DPT DE 5 AÑOS 1a","DPT DE 5 AÑOS 2a","DPT DE 5 AÑOS 3a","DPT AL AÑO DE LA 3ra DOSIS (De 18 a 23 meses) 1er REF.","DPT DE 2 AÑOS 1er REF.","DPT DE 3 AÑOS 1er REF.","DPT DE 4 AÑOS 1er REF.","DPT DE 5 AÑOS 1er REF.","DPT DE 3 AÑOS 2o REF.","DPT DE 4 AÑOS 2o REF.","DPT DE 5 AÑOS 2o REF.","DTPa Acelular Pediatrica < DE 1 AÑO 1a","DTPa Acelular Pediatrica < DE 1 AÑO 2a","DTPa Acelular Pediatrica < DE 1 AÑO 3a","DTPa Acelular Pediatrica DE 1 AÑO 1a","DTPa Acelular Pediatrica DE 1 AÑO 2a","DTPa Acelular Pediatrica DE 1 AÑO 3a","DTPa Acelular Pediatrica DE 2 AÑOS 1a","DTPa Acelular Pediatrica DE 2 AÑOS 2a","DTPa Acelular Pediatrica DE 2 AÑOS 3a","DTPa Acelular Pediatrica DE 3 AÑOS 1a","DTPa Acelular Pediatrica DE 3 AÑOS 2a","DTPa Acelular Pediatrica DE 3 AÑOS 3a","DTPa Acelular Pediatrica DE 4 AÑOS 1a","DTPa Acelular Pediatrica DE 4 AÑOS 2a","DTPa Acelular Pediatrica DE 4 AÑOS 3a","DTPa Acelular Pediatrica DE 5 AÑOS 1a","DTPa Acelular Pediatrica DE 5 AÑOS 2a","DTPa Acelular Pediatrica DE 5 AÑOS 3a","DTPa Acelular Pediatrica AL AÑO DE LA 3ra DOSIS (De 18 a 23 meses) 1er REF.","DTPa Acelular Pediatrica DE 2 AÑOS 1er REF.","DTPa Acelular Pediatrica DE 3 AÑOS 1er REF.","DTPa Acelular Pediatrica DE 4 AÑOS 1er REF.","DTPa Acelular Pediatrica DE 5 AÑOS 1er REF.","DTPa Acelular Pediatrica DE 3 AÑOS 2° REF.","DTPa Acelular Pediatrica DE 4 AÑOS 2° REF.","DTPa Acelular Pediatrica DE 5 AÑOS 2° REF.","DTPa Acelular Pediatrica DE 6 AÑOS 1a","DTPa Acelular Pediatrica DE 6 AÑOS 2a","DTPa Acelular Pediatrica DE 6 AÑOS 3a","DTPa Acelular Pediatrica DE 6 AÑOS 1er REF.","DTPa Acelular Pediatrica DE 6 AÑOS 2° REF.","TOXOIDE TETANICO-DIFTERICO PEDIATRICO (TD)  < DE 1 AÑO 1a","TOXOIDE TETANICO-DIFTERICO PEDIATRICO (TD)  < DE 1 AÑO 2a","TOXOIDE TETANICO-DIFTERICO PEDIATRICO (TD)  < DE 1 AÑO 3a","TOXOIDE TETANICO-DIFTERICO PEDIATRICO (TD)  DE 1 AÑO 1a","TOXOIDE TETANICO-DIFTERICO PEDIATRICO (TD)  DE 1 AÑO 2a","TOXOIDE TETANICO-DIFTERICO PEDIATRICO (TD)  DE 1 AÑO 3a","TOXOIDE TETANICO-DIFTERICO PEDIATRICO (TD)  DE 2 AÑOS 1a","TOXOIDE TETANICO-DIFTERICO PEDIATRICO (TD)  DE 2 AÑOS 2a","TOXOIDE TETANICO-DIFTERICO PEDIATRICO (TD)  DE 2 AÑOS 3a","TOXOIDE TETANICO-DIFTERICO PEDIATRICO (TD)  DE 3 AÑOS 1a","TOXOIDE TETANICO-DIFTERICO PEDIATRICO (TD)  DE 3 AÑOS 2a","TOXOIDE TETANICO-DIFTERICO PEDIATRICO (TD)  DE 3 AÑOS 3a","TOXOIDE TETANICO-DIFTERICO PEDIATRICO (TD)  DE 4 AÑOS 1a","TOXOIDE TETANICO-DIFTERICO PEDIATRICO (TD)  DE 4 AÑOS 2a","TOXOIDE TETANICO-DIFTERICO PEDIATRICO (TD)  DE 4 AÑOS 3a","TOXOIDE TETANICO-DIFTERICO PEDIATRICO (TD)  DE 5 AÑOS 1a","TOXOIDE TETANICO-DIFTERICO PEDIATRICO (TD)  DE 5 AÑOS 2a","TOXOIDE TETANICO-DIFTERICO PEDIATRICO (TD)  DE 5 AÑOS 3a","TOXOIDE TETANICO-DIFTERICO PEDIATRICO (TD)  AL AÑO DE LA 3ra DOSIS (De 18 a 23 meses) 1er REF.","TOXOIDE TETANICO-DIFTERICO PEDIATRICO (TD)  DE 2 AÑOS 1er REF.","TOXOIDE TETANICO-DIFTERICO PEDIATRICO (TD)  DE 3 AÑOS 1er REF.","TOXOIDE TETANICO-DIFTERICO PEDIATRICO (TD)  DE 4 AÑOS 1er REF.","TOXOIDE TETANICO-DIFTERICO PEDIATRICO (TD)  DE 5 AÑOS 1er REF.","TOXOIDE TETANICO-DIFTERICO PEDIATRICO (TD) 3 AÑOS 2° REF.","TOXOIDE TETANICO-DIFTERICO PEDIATRICO (TD) 4 AÑOS 2° REF.","TOXOIDE TETANICO-DIFTERICO PEDIATRICO (TD) 5 AÑOS 2° REF.","TOXOIDE TETANICO-DIFTERICO PEDIATRICO (TD)  DE 6 AÑOS  1a","TOXOIDE TETANICO-DIFTERICO PEDIATRICO (TD)  DE 6 AÑOS  2a","TOXOIDE TETANICO-DIFTERICO PEDIATRICO (TD)  DE 6 AÑOS  3a","TOXOIDE TETANICO-DIFTERICO PEDIATRICO (TD)  DE 6 AÑOS  1er REF.","TOXOIDE TETANICO-DIFTERICO PEDIATRICO (TD)  DE 6 AÑOS  2° REF.","ROTAVIRUS DE 2 MESES A 3 MESES y 21 DIAS 1a","ROTAVIRUS DE 4 MESES A 11 MESES y 29 DIAS 2a","NEUMOCOCO CONJUGADA DECAVALENTE DE 2 A 11 MESES 29 DIAS 1a","NEUMOCOCO CONJUGADA DECAVALENTE DE 2 A 11 MESES 29 DIAS 2a","NEUMOCOCO CONJUGADA DECAVALENTE DE 12 A 23 MESES 29 DIAS 1er Ref.","NEUMOCOCO CONJUGADA DECAVALENTE DE 12 A 23 MESES 1a","NEUMOCOCO CONJUGADA DECAVALENTE DE 12 A 23 MESES 2a","NEUMOCOCO CONJUGADA DECAVALENTE DE DE 24 MESES A 5 AÑOS Unica","NEUMOCOCO CONJUGADA TRECEVALENTE DE 2 A 11 MESES 29 DIAS 1a","NEUMOCOCO CONJUGADA TRECEVALENTE DE 2 A 11 MESES 29 DIAS 2a","NEUMOCOCO CONJUGADA TRECEVALENTE DE DE 12 A 23 MESES 1er Ref.","NEUMOCOCO CONJUGADA TRECEVALENTE DE 12 A 23 MESES 1a","NEUMOCOCO CONJUGADA TRECEVALENTE DE 12 A 23 MESES 2a","NEUMOCOCO CONJUGADA TRECEVALENTE DE DE 24 MESES A 5 AÑOS Unica","SRP (TRIPLE VIRAL) PRIMERA DOSIS DE 1 AÑO","SRP (TRIPLE VIRAL) PRIMERA DOSIS DE 2 AÑOS","SRP (TRIPLE VIRAL) PRIMERA DOSIS DE 3 AÑOS","SRP (TRIPLE VIRAL) PRIMERA DOSIS DE 4 AÑOS","SRP (TRIPLE VIRAL) PRIMERA DOSIS DE 5 AÑOS","SRP (TRIPLE VIRAL) PRIMERA DOSIS DE 6 AÑOS","SRP (TRIPLE VIRAL) PRIMERA DOSIS DE 7 AÑOS","SRP (TRIPLE VIRAL) PRIMERA DOSIS DE 8 AÑOS","SRP (TRIPLE VIRAL) PRIMERA DOSIS DE 9 AÑOS","SRP (TRIPLE VIRAL) PRIMERA DOSIS DE 10 AÑOS","SRP (TRIPLE VIRAL) PRIMERA DOSIS DE 11 AÑOS","SRP (TRIPLE VIRAL) REFUERZO DE 5 AÑOS","SRP (TRIPLE VIRAL) REFUERZO DE 6 AÑOS","SRP (TRIPLE VIRAL) REFUERZO DE 7 AÑOS","SRP (TRIPLE VIRAL) REFUERZO DE 8 AÑOS","SRP (TRIPLE VIRAL) REFUERZO DE 9 AÑOS","SRP (TRIPLE VIRAL) REFUERZO DE 10 AÑOS","SRP (TRIPLE VIRAL) REFUERZO DE 11 AÑOS","SR (DOBLE VIRAL) DOSIS CERO SR * 6 a 11 MESES 29 DIAS","SR (DOBLE VIRAL) DOSIS  DE 1 AÑO UNICA","SR (DOBLE VIRAL) DOSIS  DE 2 AÑOS UNICA","SR (DOBLE VIRAL) DOSIS  DE 3 AÑOS UNICA","SR (DOBLE VIRAL) DOSIS  DE 4 AÑOS UNICA","SR (DOBLE VIRAL) DOSIS  DE  5 AÑOS UNICA","SR (DOBLE VIRAL) DOSIS  DE 6 AÑOS UNICA","SR (DOBLE VIRAL) DOSIS  DE 7 AÑOS UNICA","SR (DOBLE VIRAL) DOSIS  DE 8 AÑOS UNICA","SR (DOBLE VIRAL) DOSIS  DE 9 AÑOS UNICA","SR (DOBLE VIRAL) DOSIS  DE 10 AÑOS UNICA","SR (DOBLE VIRAL) DOSIS  DE 11 AÑOS UNICA","SR (DOBLE VIRAL) DOSIS  DE 12 a 14 AÑOS UNICA","SR (DOBLE VIRAL) DOSIS  DE 15 a 17 AÑOS UNICA","SR (DOBLE VIRAL) DOSIS  18 A 30 AÑOS UNICA","SR (DOBLE VIRAL) DOSIS  31 A 40 AÑOS UNICA","SR (DOBLE VIRAL) DOSIS  41 Y MAS AÑOS UNICA","FIEBRE AMARILLA DE 1 AÑO DOSIS UNICA","FIEBRE AMARILLA DE 2 AÑOS DOSIS UNICA","FIEBRE AMARILLA DE 3 AÑOS DOSIS UNICA","FIEBRE AMARILLA DE 4 AÑOS DOSIS UNICA","FIEBRE AMARILLA DE 5 AÑOS DOSIS UNICA","FIEBRE AMARILLA DE 6 AÑOS DOSIS UNICA","FIEBRE AMARILLA DE 7 AÑOS DOSIS UNICA","FIEBRE AMARILLA DE 8 AÑOS DOSIS UNICA","FIEBRE AMARILLA DE 9 AÑOS DOSIS UNICA","FIEBRE AMARILLA DE 10 AÑOS DOSIS UNICA","FIEBRE AMARILLA DE 11 AÑOS DOSIS UNICA","FIEBRE AMARILLA DE 12 AÑOS DOSIS UNICA","FIEBRE AMARILLA DE 13 a 14 AÑOS DOSIS UNICA","FIEBRE AMARILLA DE 15 a 17 AÑOS DOSIS UNICA","FIEBRE AMARILLA 18 A 30 AÑOS DOSIS UNICA","FIEBRE AMARILLA 31 A 40 AÑOS DOSIS UNICA","FIEBRE AMARILLA 41 A 50 AÑOS DOSIS UNICA","FIEBRE AMARILLA 51 A 59 AÑOS DOSIS UNICA","FIEBRE AMARILLA DOSIS UNICA SOLO EN SITUACIÓN DE BROTE 6 meses a 11 meses (Con Autorizacion del MSPS de acuerdo a Lineamientos)","HEPATITIS A (Cohorte de nacidos a partir de 1 de enero de 2012) DOSIS ÚNICA DE 1 AÑO","HEPATITIS A (Cohorte de nacidos a partir de 1 de enero de 2012) DOSIS ÚNICA DE 2 AÑOS","HEPATITIS A (Cohorte de nacidos a partir de 1 de enero de 2012) DOSIS ÚNICA DE 3 AÑOS","HEPATITIS A (Cohorte de nacidos a partir de 1 de enero de 2012) DOSIS ÚNICA DE 4 AÑOS","HEPATITIS A (Cohorte de nacidos a partir de 1 de enero de 2012) DOSIS ÚNICA DE 5 AÑOS","HEPATITIS A (Cohorte de nacidos a partir de 1 de enero de 2012) DOSIS ÚNICA DE 6 AÑOS","HEPATITIS A (Cohorte de nacidos a partir de 1 de enero de 2012) DOSIS ÚNICA DE 7 AÑOS","HEPATITIS A (Cohorte de nacidos a partir de 1 de enero de 2012) DOSIS ÚNICA DE 8 AÑOS","HEPATITIS A (Cohorte de nacidos a partir de 1 de enero de 2012) DOSIS ÚNICA DE 9 AÑOS","HEPATITIS A (Cohorte de nacidos a partir de 1 de enero de 2012) DOSIS ÚNICA DE 10 AÑOS","VARICELA\n(Cohorte de nacidos a partir de 1 de julio de 2014) \nPRIMERA DOSIS DE 1 AÑO","VARICELA\n(Cohorte de nacidos a partir de 1 de julio de 2014) \nPRIMERA DOSIS DE 2 AÑOS ","VARICELA\n(Cohorte de nacidos a partir de 1 de julio de 2014) \nPRIMERA DOSIS DE 3 AÑOS","VARICELA\n(Cohorte de nacidos a partir de 1 de julio de 2014) \nPRIMERA DOSIS DE 4 AÑOS ","VARICELA\n(Cohorte de nacidos a partir de 1 de julio de 2014) \nPRIMERA DOSIS DE 5 AÑOS ","VARICELA\n(Cohorte de nacidos a partir de 1 de julio de 2014) \nPRIMERA DOSIS DE 6 AÑOS ","VARICELA\n(Cohorte de nacidos a partir de 1 de julio de 2014) \nPRIMERA DOSIS DE 7 AÑOS ","VARICELA\n(Cohorte de nacidos a partir de 1 de julio de 2014) \nPRIMERA DOSIS DE 8 AÑOS ","VARICELA\n(Cohorte de nacidos a partir de 1 de julio de 2014) REFUERZO DE 5 AÑOS (aplicadas a partir del 1 de julio de 2019)","VARICELA\n(Cohorte de nacidos a partir de 1 de julio de 2014) REFUERZO DE 6 AÑOS (aplicadas a partir del 1 de julio de 2019)","VARICELA\n(Cohorte de nacidos a partir de 1 de julio de 2014) REFUERZO DE 7 AÑOS (aplicadas a partir del 1 de julio de 2019)","VARICELA\n(Cohorte de nacidos a partir de 1 de julio de 2014) REFUERZO DE 8 AÑOS (aplicadas a partir del 1 de julio de 2019)","TOXOIDE TETANICO-DIFTERICO DE ADULTOS (Td)  NIÑOS Y NIÑAS DE 7 A 9 AÑOS Td1","TOXOIDE TETANICO-DIFTERICO DE ADULTOS (Td)  NIÑOS Y NIÑAS DE 7 A 9 AÑOS Td2","TOXOIDE TETANICO-DIFTERICO DE ADULTOS (Td)  NIÑOS Y NIÑAS DE 7 A 9 AÑOS Td3","TOXOIDE TETANICO-DIFTERICO DE ADULTOS (Td)  NIÑOS Y NIÑAS DE 7 A 9 AÑOS Ref 1","TOXOIDE TETANICO-DIFTERICO DE ADULTOS (Td)  NIÑOS Y NIÑAS DE 7 A 9 AÑOS Ref 2","TOXOIDE TETANICO-DIFTERICO DE ADULTOS (Td) GESTANTES DE 9 AÑOS A 17 AÑOS Td1","TOXOIDE TETANICO-DIFTERICO DE ADULTOS (Td) GESTANTES DE 9 AÑOS A 17 AÑOS Td2","TOXOIDE TETANICO-DIFTERICO DE ADULTOS (Td) GESTANTES DE 9 AÑOS A 17 AÑOS Td3","TOXOIDE TETANICO-DIFTERICO DE ADULTOS (Td) GESTANTES DE 9 AÑOS A 17 AÑOS Td4","TOXOIDE TETANICO-DIFTERICO DE ADULTOS (Td) GESTANTES DE 9 AÑOS A 17 AÑOS Td5","TOXOIDE TETANICO-DIFTERICO DE ADULTOS (Td) GESTANTES DE 18 AÑOS Y MAS Td1","TOXOIDE TETANICO-DIFTERICO DE ADULTOS (Td) GESTANTES DE 18 AÑOS Y MAS Td2","TOXOIDE TETANICO-DIFTERICO DE ADULTOS (Td) GESTANTES DE 18 AÑOS Y MAS Td3","TOXOIDE TETANICO-DIFTERICO DE ADULTOS (Td) GESTANTES DE 18 AÑOS Y MAS Td4","TOXOIDE TETANICO-DIFTERICO DE ADULTOS (Td) GESTANTES DE 18 AÑOS Y MAS Td5","TOXOIDE TETANICO-DIFTERICO DE ADULTOS (Td) REFUERZOS GESTANTES\n15 A 49 AÑOS REF.\n1","TOXOIDE TETANICO-DIFTERICO DE ADULTOS (Td) REFUERZOS GESTANTES\n15 A 49 AÑOS REF.\n2","TOXOIDE TETANICO-DIFTERICO DE ADULTOS (Td) REFUERZOS GESTANTES\n15 A 49 AÑOS REF.\n3","TOXOIDE TETANICO-DIFTERICO DE ADULTOS (Td) REFUERZOS GESTANTES\n15 A 49 AÑOS REF.\n4","TOXOIDE TETANICO-DIFTERICO DE ADULTOS (Td) MUJERES EN EDAD FERTIL\n(MEF) DE 10 AÑOS A 17 AÑOS Td1","TOXOIDE TETANICO-DIFTERICO DE ADULTOS (Td) MUJERES EN EDAD FERTIL\n(MEF) DE 10 AÑOS A 17 AÑOS Td2","TOXOIDE TETANICO-DIFTERICO DE ADULTOS (Td) MUJERES EN EDAD FERTIL\n(MEF) DE 10 AÑOS A 17 AÑOS Td3","TOXOIDE TETANICO-DIFTERICO DE ADULTOS (Td) MUJERES EN EDAD FERTIL\n(MEF) DE 10 AÑOS A 17 AÑOS Td4","TOXOIDE TETANICO-DIFTERICO DE ADULTOS (Td) MUJERES EN EDAD FERTIL\n(MEF) DE 10 AÑOS A 17 AÑOS Td5","TOXOIDE TETANICO-DIFTERICO DE ADULTOS (Td) MUJERES EN EDAD FERTIL\n(MEF) DE 18 A 49 AÑOS Td1","TOXOIDE TETANICO-DIFTERICO DE ADULTOS (Td) MUJERES EN EDAD FERTIL\n(MEF) DE 18 A 49 AÑOS Td2","TOXOIDE TETANICO-DIFTERICO DE ADULTOS (Td) MUJERES EN EDAD FERTIL\n(MEF) DE 18 A 49 AÑOS Td3","TOXOIDE TETANICO-DIFTERICO DE ADULTOS (Td) MUJERES EN EDAD FERTIL\n(MEF) DE 18 A 49 AÑOS Td4","TOXOIDE TETANICO-DIFTERICO DE ADULTOS (Td) MUJERES EN EDAD FERTIL\n(MEF) DE 18 A 49 AÑOS Td5","TOXOIDE TETANICO-DIFTERICO DE ADULTOS (Td) REFUERZOS\nMEF DE 15 A 49 AÑOS REF.\n1","TOXOIDE TETANICO-DIFTERICO DE ADULTOS (Td) REFUERZOS\nMEF DE 15 A 49 AÑOS REF.\n2","TOXOIDE TETANICO-DIFTERICO DE ADULTOS (Td) REFUERZOS\nMEF DE 15 A 49 AÑOS REF.\n3","TOXOIDE TETANICO-DIFTERICO DE ADULTOS (Td) REFUERZOS\nMEF DE 15 A 49 AÑOS REF.\n4","TOXOIDE TETANICO-DIFTERICO DE ADULTOS (Td) HOMBRES DE 10 A 17 AÑOS Td1","TOXOIDE TETANICO-DIFTERICO DE ADULTOS (Td) HOMBRES DE 10 A 17 AÑOS Td2","TOXOIDE TETANICO-DIFTERICO DE ADULTOS (Td) HOMBRES DE 10 A 17 AÑOS Td3","TOXOIDE TETANICO-DIFTERICO DE ADULTOS (Td) HOMBRES DE 10 A 17 AÑOS\nTd4","TOXOIDE TETANICO-DIFTERICO DE ADULTOS (Td) HOMBRES DE 10 A 17 AÑOS \nTd5","TOXOIDE TETANICO-DIFTERICO DE ADULTOS (Td) HOMBRES DE 18 A 49 AÑOS Td1","TOXOIDE TETANICO-DIFTERICO DE ADULTOS (Td) HOMBRES DE 18 A 49 AÑOS Td2","TOXOIDE TETANICO-DIFTERICO DE ADULTOS (Td) HOMBRES DE 18 A 49 AÑOS Td3","TOXOIDE TETANICO-DIFTERICO DE ADULTOS (Td) HOMBRES DE 18 A 49 AÑOS\nTd4","TOXOIDE TETANICO-DIFTERICO DE ADULTOS (Td) HOMBRES DE 18 A 49 AÑOS\nTd5","TOXOIDE TETANICO-DIFTERICO DE ADULTOS (Td) REFUERZOS\nHOMBRES DE 15 A 49 AÑOS REF.\n1","TOXOIDE TETANICO-DIFTERICO DE ADULTOS (Td) REFUERZOS\nHOMBRES DE 15 A 49 AÑOS REF.\n2","TOXOIDE TETANICO-DIFTERICO DE ADULTOS (Td) REFUERZOS\nHOMBRES DE 15 A 49 AÑOS REF.\n3","TOXOIDE TETANICO-DIFTERICO DE ADULTOS (Td) REFUERZOS\nHOMBRES DE 15 A 49 AÑOS REF.\n4","TOXOIDE TETANICO-DIFTERICO DE ADULTOS (Td) OTROS DE 50 A 59 AÑOS Td1","TOXOIDE TETANICO-DIFTERICO DE ADULTOS (Td) OTROS DE 50 A 59 AÑOS Td2","TOXOIDE TETANICO-DIFTERICO DE ADULTOS (Td) OTROS DE 50 A 59 AÑOS Td3","TOXOIDE TETANICO-DIFTERICO DE ADULTOS (Td) OTROS DE 50 A 59 AÑOS Td4","TOXOIDE TETANICO-DIFTERICO DE ADULTOS (Td) OTROS DE 50 A 59 AÑOS Td5","TOXOIDE TETANICO-DIFTERICO DE ADULTOS (Td) OTROS DE 60 AÑOS Y MAS Td1","TOXOIDE TETANICO-DIFTERICO DE ADULTOS (Td) OTROS DE 60 AÑOS Y MAS Td2","TOXOIDE TETANICO-DIFTERICO DE ADULTOS (Td) OTROS DE 60 AÑOS Y MAS Td3","TOXOIDE TETANICO-DIFTERICO DE ADULTOS (Td) OTROS DE 60 AÑOS Y MAS Td4","TOXOIDE TETANICO-DIFTERICO DE ADULTOS (Td) OTROS DE 60 AÑOS Y MAS Td5","Tdap ACELULAR   DE 9 A 17 AÑOS GESTANTES A PARTIR DE LA SEMANA 26 UNICA DOSIS EN CADA EMBARAZO","Tdap ACELULAR   DE 9 A 17 AÑOS GESTANTES A PARTIR DE LA SEMANA 26 Corresponde a Td1","Tdap ACELULAR   DE 9 A 17 AÑOS GESTANTES A PARTIR DE LA SEMANA 26 Corresponde a Td2","Tdap ACELULAR   DE 9 A 17 AÑOS GESTANTES A PARTIR DE LA SEMANA 26 Corresponde a Td3","Tdap ACELULAR   DE 9 A 17 AÑOS GESTANTES A PARTIR DE LA SEMANA 26 Corresponde a Td4","Tdap ACELULAR   DE 9 A 17 AÑOS GESTANTES A PARTIR DE LA SEMANA 26 Corresponde a Td5","Tdap ACELULAR   DE 18 Y MAS AÑOS GESTANTES  A PARTIR DE LA SEMANA 26 UNICA DOSIS EN CADA EMBARAZO","Tdap ACELULAR   DE 18 Y MAS AÑOS GESTANTES  A PARTIR DE LA SEMANA 26 Corresponde a Td1","Tdap ACELULAR   DE 18 Y MAS AÑOS GESTANTES  A PARTIR DE LA SEMANA 26 Corresponde a Td2","Tdap ACELULAR   DE 18 Y MAS AÑOS GESTANTES  A PARTIR DE LA SEMANA 26 Corresponde a Td3","Tdap ACELULAR   DE 18 Y MAS AÑOS GESTANTES  A PARTIR DE LA SEMANA 26 Corresponde a Td4","Tdap ACELULAR   DE 18 Y MAS AÑOS GESTANTES  A PARTIR DE LA SEMANA 26 Corresponde a Td5","INFLUENZA DE 6 MESES A 11 MESES 1a","INFLUENZA DE 6 MESES A 11 MESES 2a","INFLUENZA DE 12 MESES A 23 MESES 1a","INFLUENZA DE 12 MESES A 23 MESES 2a","INFLUENZA DE 12 MESES A 23 MESES ÚNICA","INFLUENZA 24 A 35 MESES 1a","INFLUENZA 24 A 35 MESES 2a","INFLUENZA 24 A 35 MESES ÚNICA","INFLUENZA DE 60 Y MAS AÑOS  ÚNICA","INFLUENZA GESTANTES A PARTIR DE LA SEMANA 14 ÚNICA","POBLACIÓN CON DIAGNÓSTICO DE RIESGO\nDE 3 A 8 AÑOS\n1a","POBLACIÓN CON DIAGNÓSTICO DE RIESGO\nDE 3 A 8 AÑOS\n2a","POBLACIÓN CON DIAGNÓSTICO DE RIESGO\nDE 3 A 8 AÑOS\n3a","POBLACIÓN CON DIAGNÓSTICO DE RIESGO\nDE 9 A 17 AÑOS\nUnica","POBLACIÓN CON DIAGNÓSTICO DE RIESGO\nDE 18 A 59 AÑOS\nUnica","MENINGOCOCO \n6 A 11 MESES\n1a","MENINGOCOCO \n6 A 11 MESES\n2a","MENINGOCOCO \n6 A 11 MESES\n3a","MENINGOCOCO \n12 A 23 MESES \n1a","MENINGOCOCO \n12 A 23 MESES \n2a","MENINGOCOCO MAYORES 2 AÑOS 2 Unica","V.  P.  H. 9 AÑOS 1a","V.  P.  H. 9 AÑOS 2a","V.  P.  H. 9 AÑOS 3a","V.  P.  H. 10 AÑOS 1a","V.  P.  H. 10 AÑOS 2a","V.  P.  H. 10 AÑOS 3a","V.  P.  H. 11 AÑOS 1a","V.  P.  H. 11 AÑOS 2a","V.  P.  H. 11 AÑOS 3a","V.  P.  H. 12 AÑOS 1a","V.  P.  H. 12 AÑOS 2a","V.  P.  H. 12 AÑOS 3a","V.  P.  H. 13 AÑOS 1a","V.  P.  H. 13 AÑOS 2a","V.  P.  H. 13 AÑOS 3a","V.  P.  H. 14 AÑOS 1a","V.  P.  H. 14 AÑOS 2a","V.  P.  H. 14 AÑOS 3a","V.  P.  H. 15 AÑOS 1a","V.  P.  H. 15 AÑOS 2a","V.  P.  H. 15 AÑOS 3a","V.  P.  H. 16 AÑOS 1a","V.  P.  H. 16 AÑOS 2a","V.  P.  H. 16 AÑOS 3a","V.  P.  H. 17 AÑOS 1a","V.  P.  H. 17 AÑOS 2a","V.  P.  H. 17 AÑOS 3a","V.  P.  H. DE 18 AÑOS Y MAS  2a","V.  P.  H. DE 18 AÑOS Y MAS  3a","ANTIRRABICA HUMANA \nPRE/POST-EXPOSICION ESQUEMA PRE EXPOSICIÓN OPCION 1 (I.D.) \n(Se aplica previa autorización del Ministerio) 1a. y 2a","ANTIRRABICA HUMANA \nPRE/POST-EXPOSICION ESQUEMA PRE EXPOSICIÓN OPCION 1 (I.D.) \n(Se aplica previa autorización del Ministerio) 3a y 4a.","ANTIRRABICA HUMANA \nPRE/POST-EXPOSICION ESQUEMA PRE EXPOSICIÓN OPCION 2 (I.M.)  \n(Se aplica previa autorización del Ministerio) 1a día 0","ANTIRRABICA HUMANA \nPRE/POST-EXPOSICION ESQUEMA PRE EXPOSICIÓN OPCION 2 (I.M.)  \n(Se aplica previa autorización del Ministerio) 2a día 7","ANTIRRABICA HUMANA \nPRE/POST-EXPOSICION ESQUEMA POST EXPOSICION  Número de dosis aplicadas  1a día 0","ANTIRRABICA HUMANA \nPRE/POST-EXPOSICION ESQUEMA POST EXPOSICION Número de dosis aplicadas  2a dia 3","ANTIRRABICA HUMANA \nPRE/POST-EXPOSICION ESQUEMA POST EXPOSICION Número de dosis aplicadas  3a día 7","ANTIRRABICA HUMANA \nPRE/POST-EXPOSICION ESQUEMA POST EXPOSICION                                     Número de dosis aplicadas  4a día 14","ANTIRRABICA HUMANA \nPRE/POST-EXPOSICION ESQUEMA POST EXPOSICION ACORTADO (ZAGREB) Número de dosis aplicadas 1as. Y 2das dosis 0,0","ANTIRRABICA HUMANA \nPRE/POST-EXPOSICION ESQUEMA POST EXPOSICION ACORTADO (ZAGREB) Número de dosis aplicadas 3a día 7","ANTIRRABICA HUMANA \nPRE/POST-EXPOSICION ESQUEMA POST EXPOSICION ACORTADO (ZAGREB) Número de dosis aplicadas 4a día 21","ANTIRRABICA HUMANA \nPRE/POST-EXPOSICION ESQUEMA POST EXPOSICION\nTOTAL DE ESQUEMAS POST EXPOSICION (USUARIOS CON  ESQUEMA DE VACUNACION  COMPLETO)\nNúmero de usuarios","ANTIRRABICA HUMANA \nPRE/POST-EXPOSICION INMUNOGLOBULINA ANTIRRÁBICA (Número de frascos utilizados)","ANTIRRABICA HUMANA \nPRE/POST-EXPOSICION No. De personas que recibieron inmunoglobulina antirrabica.","INMUNOGLOBULINA\nANTI HEPATITIS B RECIEN NACIDO\n(Hijo de Madre Antigenos + para HB) Número de frascos utilizados","INMUNOGLOBULINA\nANTI HEPATITIS B RECIEN NACIDO\n(Hijo de Madre Antigenos + para HB) N° recién nacidos que recibieron dosis de Ig en las primeras 12 horas","INMUNOGLOBULINA\nANTI HEPATITIS B RECIEN NACIDO\n(Hijo de Madre Antigenos + para HB) N° recién nacidos que recibieron dosis de Ig despues de las primeras 12 horas","INMUNOGLOBULINA\nANTI HEPATITIS B (RESOLUCION\n0459/2012- circular 031/14) Número de frascos utilizados","INMUNOGLOBULINA\nANTI HEPATITIS B (RESOLUCION\n0459/2012- circular 031/14) N° Personas que recibieron dosis de Ig","INMUNOGLOBULINAS/ANTITOXINAS TETÁNICAS INMUNOGLOBULINA\nANTI TETANICA (Suero homólogo) Número de frascos utilizados","INMUNOGLOBULINAS/ANTITOXINAS TETÁNICAS INMUNOGLOBULINA\nANTI TETANICA (Suero homólogo) N° Personas que recibieron dosis de Ig","ANTI TOXINA DIFTERICA (Suero heterólogo) Número de frascos utilizados","ANTI TOXINA DIFTERICA (Suero heterólogo) Número de frascos utilizados","HEPATITIS B MENORES DE 1 AÑO  1a","HEPATITIS B MENORES DE 1 AÑO  2a","HEPATITIS B MENORES DE 1 AÑO  3a","HEPATITIS B DE 1 AÑO 1a","HEPATITIS B DE 1 AÑO 2a","HEPATITIS B DE 1 AÑO 3a","HEPATITIS B DE 1 AÑO (18 MESES Inmunosuprimidos) REF.","HEPATITIS B DE 2 AÑOS 1a","HEPATITIS B DE 2 AÑOS 2a","HEPATITIS B DE 2 AÑOS 3a","HEPATITIS B DE 3 AÑOS 1a","HEPATITIS B DE 3 AÑOS 2a","HEPATITIS B DE 3 AÑOS 3a","HEPATITIS B DE 4 AÑOS 1a","HEPATITIS B DE 4 AÑOS 2a","HEPATITIS B DE 4 AÑOS 3a","HEPATITIS B DE 5 AÑOS 1a","HEPATITIS B DE 5 AÑOS 2a","HEPATITIS B DE 5 AÑOS 3a","HEPATITIS B 6 AÑOS 1a","HEPATITIS B 6 AÑOS 2a","HEPATITIS B 6 AÑOS 3a","HEPATITIS B 6 AÑOS Adicional","HEPATITIS B 7 A 14 AÑOS 1a","HEPATITIS B 7 A 14 AÑOS 2a","HEPATITIS B 7 A 14 AÑOS 3a","HEPATITIS B 7 A 14 AÑOS Adicional","HEPATITIS B DE 15 AÑOS A 17 AÑOS 1a","HEPATITIS B DE 15 AÑOS A 17 AÑOS 2a","HEPATITIS B DE 15 AÑOS A 17 AÑOS 3a","HEPATITIS B DE 15 AÑOS A 17 AÑOS Adicional","HEPATITIS B DE 18 AÑOS Y MAS 1a","HEPATITIS B DE 18 AÑOS Y MAS 2a","HEPATITIS B DE 18 AÑOS Y MAS 3a","HEPATITIS B DE 18 AÑOS Y MAS Adicional","PENTAVALENTE (DPTa -Hib-VIP) < DE 1 AÑO\n 1a","PENTAVALENTE (DPTa -Hib-VIP) < DE 1 AÑO\n 2a","PENTAVALENTE (DPTa -Hib-VIP) < DE 1 AÑO\n 3a","PENTAVALENTE (DPTa -Hib-VIP)  DE 1 AÑO\n 1a","PENTAVALENTE (DPTa -Hib-VIP)  DE 1 AÑO\n 2a","PENTAVALENTE (DPTa -Hib-VIP)  DE 1 AÑO\n 3a","PENTAVALENTE (DPTa -Hib-VIP)  DE 2 AÑOS\n 1a","PENTAVALENTE (DPTa -Hib-VIP)  DE 2 AÑOS\n 2a","PENTAVALENTE (DPTa -Hib-VIP)  DE 2 AÑOS\n 3a","PENTAVALENTE (DPTa -Hib-VIP)  DE 3 AÑOS\n 1a","PENTAVALENTE (DPTa -Hib-VIP)  DE 3 AÑOS\n 2a","PENTAVALENTE (DPTa -Hib-VIP)  DE 3 AÑOS\n 3a","PENTAVALENTE (DPTa -Hib-VIP)  DE 4 AÑOS\n 1a","PENTAVALENTE (DPTa -Hib-VIP)  DE 4 AÑOS\n 2a","PENTAVALENTE (DPTa -Hib-VIP)  DE 4 AÑOS\n 3a","PENTAVALENTE (DPTa -Hib-VIP)  DE 5 AÑOS 1a","PENTAVALENTE (DPTa -Hib-VIP)  DE 5 AÑOS 2a","PENTAVALENTE (DPTa -Hib-VIP)  DE 5 AÑOS 3a","PENTAVALENTE (DPTa -Hib-VIP) AL AÑO DE LA 3ra DOSIS (De 18 a 23 meses) 1er REF.","PENTAVALENTE (DPTa -Hib-VIP)  \nDE 2 AÑOS \n1er Ref.","PENTAVALENTE (DPTa -Hib-VIP)  \nDE 3 AÑOS \n1er Ref.","PENTAVALENTE (DPTa -Hib-VIP)  \nDE 3 AÑOS \n1er Ref.","PENTAVALENTE (DPTa -Hib-VIP) DE 5 AÑOS \n1er Ref.","PENTAVALENTE (DPTa -Hib-VIP) 3 AÑOS 2° REF.","PENTAVALENTE (DPTa -Hib-VIP) 4 AÑOS 2° REF.","PENTAVALENTE (DPTa -Hib-VIP) 5 AÑOS 2° REF.","PENTAVALENTE (DPTa -Hib-VIP)  DE 6 A 17 AÑOS 1a","PENTAVALENTE (DPTa -Hib-VIP)  DE 6 A 17 AÑOS 2a","PENTAVALENTE (DPTa -Hib-VIP)  DE 6 A 17 AÑOS 3a","PENTAVALENTE (DPTa -Hib-VIP)  DE 6 A 17 AÑOS 1er REF.","PENTAVALENTE (DPTa -Hib-VIP)  DE 6 A 17 AÑOS 2° REF.","PENTAVALENTE (DPTa -Hib-VIP)  DE 6 A 17 AÑOS \nDOSIS ADICIONAL","PENTAVALENTE (DPTa -Hib-VIP)  DE 18 AÑOS Y MAS\nDOSIS ADICIONAL","HEXAVALENTE  (DPTa-HB-Hib-VIP) < DE 1 AÑO\n 1a","HEXAVALENTE  (DPTa-HB-Hib-VIP) < DE 1 AÑO\n 2a","HEXAVALENTE  (DPTa-HB-Hib-VIP) < DE 1 AÑO\n 3a","HEXAVALENTE  (DPTa-HB-Hib-VIP)  DE 1 AÑO\n 1a","HEXAVALENTE  (DPTa-HB-Hib-VIP)  DE 1 AÑO\n 2a","HEXAVALENTE  (DPTa-HB-Hib-VIP)  DE 1 AÑO\n 3a","HEXAVALENTE  (DPTa-HB-Hib-VIP)  DE 2 AÑOS\n 1a","HEXAVALENTE  (DPTa-HB-Hib-VIP)  DE 2 AÑOS\n 2a","HEXAVALENTE  (DPTa-HB-Hib-VIP)  DE 2 AÑOS\n 3a","HEXAVALENTE  (DPTa-HB-Hib-VIP)  DE 3 AÑOS\n 1a","HEXAVALENTE  (DPTa-HB-Hib-VIP)  DE 3 AÑOS\n 2a","HEXAVALENTE  (DPTa-HB-Hib-VIP)  DE 3 AÑOS\n 3a","HEXAVALENTE  (DPTa-HB-Hib-VIP)  DE 4 AÑOS\n 1a","HEXAVALENTE  (DPTa-HB-Hib-VIP)  DE 4 AÑOS\n 2a","HEXAVALENTE  (DPTa-HB-Hib-VIP)  DE 4 AÑOS\n 3a","HEXAVALENTE  (DPTa-HB-Hib-VIP)  DE 5 AÑOS 1a","HEXAVALENTE  (DPTa-HB-Hib-VIP)  DE 5 AÑOS 2a","HEXAVALENTE  (DPTa-HB-Hib-VIP)  DE 5 AÑOS 3a","HEXAVALENTE  (DPTa-HB-Hib-VIP) AL AÑO DE LA 3ra DOSIS (De 18 a 23 meses) 1er REF.","HEXAVALENTE  (DPTa-HB-Hib-VIP) DE 2 AÑOS 1er REF.","HEXAVALENTE  (DPTa-HB-Hib-VIP) DE 3 AÑOS 1er REF.","HEXAVALENTE  (DPTa-HB-Hib-VIP) DE 4 AÑOS 1er REF.","HEXAVALENTE  (DPTa-HB-Hib-VIP) DE 5 AÑOS 1er REF.","HEXAVALENTE  (DPTa-HB-Hib-VIP) 3 AÑOS  2° REF.","HEXAVALENTE  (DPTa-HB-Hib-VIP) 4 AÑOS  2° REF.","HEXAVALENTE  (DPTa-HB-Hib-VIP) 5 AÑOS  2° REF.","HEXAVALENTE  (DPTa-HB-Hib-VIP)  DE 6 A 17 AÑOS 1a","HEXAVALENTE  (DPTa-HB-Hib-VIP)  DE 6 A 17 AÑOS 2a","HEXAVALENTE  (DPTa-HB-Hib-VIP)  DE 6 A 17 AÑOS 3a","HEXAVALENTE  (DPTa-HB-Hib-VIP)  DE 6 A 17 AÑOS 1er Ref","HEXAVALENTE  (DPTa-HB-Hib-VIP)  DE 6 A 17 AÑOS 2do Ref","HEXAVALENTE  (DPTa-HB-Hib-VIP)  \nDE 6 A 17 AÑOS \nDOSIS ADICIONAL","HEXAVALENTE  (DPTa-HB-Hib-VIP)  \nDE 18 AÑOS  Y MAS \nDOSIS ADICIONAL","TETRAVALENTE -  (DPTa - VIP) < DE 1 AÑO 1a","TETRAVALENTE -  (DPTa - VIP) < DE 1 AÑO 2a","TETRAVALENTE -  (DPTa - VIP) < DE 1 AÑO 3a","TETRAVALENTE -  (DPTa - VIP) DE 1 AÑO 1a","TETRAVALENTE -  (DPTa - VIP) DE 1 AÑO 2a","TETRAVALENTE -  (DPTa - VIP) DE 1 AÑO 3a","TETRAVALENTE -  (DPTa - VIP) DE 2 AÑOS 1a","TETRAVALENTE -  (DPTa - VIP) DE 2 AÑOS 2a","TETRAVALENTE -  (DPTa - VIP) DE 2 AÑOS 3a","TETRAVALENTE -  (DPTa - VIP) DE 3 AÑOS 1a","TETRAVALENTE -  (DPTa - VIP) DE 3 AÑOS 2a","TETRAVALENTE -  (DPTa - VIP) DE 3 AÑOS 3a","TETRAVALENTE -  (DPTa - VIP) DE 4 AÑOS 1a","TETRAVALENTE -  (DPTa - VIP) DE 4 AÑOS 2a","TETRAVALENTE -  (DPTa - VIP) DE 4 AÑOS 3a","TETRAVALENTE -  (DPTa - VIP) DE 5 AÑOS 1a","TETRAVALENTE -  (DPTa - VIP) DE 5 AÑOS 2a","TETRAVALENTE -  (DPTa - VIP) DE 5 AÑOS 3a","TETRAVALENTE -  (DPTa - VIP) AL AÑO DE LA 3ra DOSIS (De 18 a 23 meses) 1er REF.","TETRAVALENTE -  (DPTa - VIP) \nDE 2 AÑOS \n1er REF.","TETRAVALENTE -  (DPTa - VIP) \nDE 3 AÑOS \n1er REF.","TETRAVALENTE -  (DPTa - VIP) \nDE 4 AÑOS \n1er REF.","TETRAVALENTE -  (DPTa - VIP) DE 5 AÑOS\n 1er REF.","TETRAVALENTE -  (DPTa - VIP) \n3 AÑOS \n2° REF.","TETRAVALENTE -  (DPTa - VIP) \n4 AÑOS \n2° REF.","TETRAVALENTE -  (DPTa - VIP) \n5 AÑOS \n2° REF.","TETRAVALENTE -  (DPTa - VIP) 6 AÑOS Y MAS 1a","TETRAVALENTE -  (DPTa - VIP) 6 AÑOS Y MAS 2a","TETRAVALENTE -  (DPTa - VIP) 6 AÑOS Y MAS 3a","TETRAVALENTE -  (DPTa - VIP) 6 AÑOS Y MAS 1er REF.","TETRAVALENTE -  (DPTa - VIP) 6 AÑOS Y MAS 2° REF.","DTPa Acelular Pediatrica < DE 1 AÑO 1a","DTPa Acelular Pediatrica < DE 1 AÑO 2a","DTPa Acelular Pediatrica < DE 1 AÑO 3a","DTPa Acelular Pediatrica DE 1 AÑO 1a","DTPa Acelular Pediatrica DE 1 AÑO 2a","DTPa Acelular Pediatrica DE 1 AÑO 3a","DTPa Acelular Pediatrica DE 2 AÑOS 1a","DTPa Acelular Pediatrica DE 2 AÑOS 2a","DTPa Acelular Pediatrica DE 2 AÑOS 3a","DTPa Acelular Pediatrica DE 3 AÑOS 1a","DTPa Acelular Pediatrica DE 3 AÑOS 2a","DTPa Acelular Pediatrica DE 3 AÑOS 3a","DTPa Acelular Pediatrica DE 4 AÑOS 1a","DTPa Acelular Pediatrica DE 4 AÑOS 2a","DTPa Acelular Pediatrica DE 4 AÑOS 3a","DTPa Acelular Pediatrica DE 5 AÑOS 1a","DTPa Acelular Pediatrica DE 5 AÑOS 2a","DTPa Acelular Pediatrica DE 5 AÑOS 3a","DTPa Acelular Pediatrica AL AÑO DE LA 3ra DOSIS (De 18 a 23 meses) 1er REF.","DTPa Acelular Pediatrica \nDE 2  AÑOS \n1er REF.","DTPa Acelular Pediatrica \nDE 3  AÑOS \n1er REF.","DTPa Acelular Pediatrica \nDE 4  AÑOS \n1er REF.","DTPa Acelular Pediatrica \nDE 5 AÑOS \n1er REF.","DTPa Acelular Pediatrica \n3 AÑOS \n2° REF.","DTPa Acelular Pediatrica \n4 AÑOS \n2° REF.","DTPa Acelular Pediatrica \n5 AÑOS \n2° REF.","DTPa Acelular Pediatrica DE 6 AÑOS 1a","DTPa Acelular Pediatrica DE 6 AÑOS 2a","DTPa Acelular Pediatrica DE 6 AÑOS 3a","DTPa Acelular Pediatrica DE 6 AÑOS 1er REF.","DTPa Acelular Pediatrica DE 6 AÑOS 2° REF.","TOXOIDE TETANICO-DIFTERICO PEDIATRICO (TD)  < DE 1 AÑO 1a","TOXOIDE TETANICO-DIFTERICO PEDIATRICO (TD)  < DE 1 AÑO 2a","TOXOIDE TETANICO-DIFTERICO PEDIATRICO (TD)  < DE 1 AÑO 3a","TOXOIDE TETANICO-DIFTERICO PEDIATRICO (TD)  DE 1 AÑO 1a","TOXOIDE TETANICO-DIFTERICO PEDIATRICO (TD)  DE 1 AÑO 2a","TOXOIDE TETANICO-DIFTERICO PEDIATRICO (TD)  DE 1 AÑO 3a","TOXOIDE TETANICO-DIFTERICO PEDIATRICO (TD)  DE 2 AÑOS 1a","TOXOIDE TETANICO-DIFTERICO PEDIATRICO (TD)  DE 2 AÑOS 2a","TOXOIDE TETANICO-DIFTERICO PEDIATRICO (TD)  DE 2 AÑOS 3a","TOXOIDE TETANICO-DIFTERICO PEDIATRICO (TD)  DE 3 AÑOS 1a","TOXOIDE TETANICO-DIFTERICO PEDIATRICO (TD)  DE 3 AÑOS 2a","TOXOIDE TETANICO-DIFTERICO PEDIATRICO (TD)  DE 3 AÑOS 3a","TOXOIDE TETANICO-DIFTERICO PEDIATRICO (TD)  DE 4 AÑOS 1a","TOXOIDE TETANICO-DIFTERICO PEDIATRICO (TD)  DE 4 AÑOS 2a","TOXOIDE TETANICO-DIFTERICO PEDIATRICO (TD)  DE 4 AÑOS 3a","TOXOIDE TETANICO-DIFTERICO PEDIATRICO (TD)  DE 5 AÑOS 1a","TOXOIDE TETANICO-DIFTERICO PEDIATRICO (TD)  DE 5 AÑOS 2a","TOXOIDE TETANICO-DIFTERICO PEDIATRICO (TD)  DE 5 AÑOS 3a","TOXOIDE TETANICO-DIFTERICO PEDIATRICO (TD)  AL AÑO DE LA 3ra DOSIS (De 18 a 23 meses) 1er REF.","TOXOIDE TETANICO-DIFTERICO PEDIATRICO (TD)  \nDE 2 AÑOS \n1er REF.","TOXOIDE TETANICO-DIFTERICO PEDIATRICO (TD)  \nDE 3 AÑOS \n1er REF.","TOXOIDE TETANICO-DIFTERICO PEDIATRICO (TD)  \nDE 4 AÑOS \n1er REF.","TOXOIDE TETANICO-DIFTERICO PEDIATRICO (TD)  DE 5 AÑOS \n1er REF.","TOXOIDE TETANICO-DIFTERICO PEDIATRICO (TD)  \n3 AÑOS \n2° REF.","TOXOIDE TETANICO-DIFTERICO PEDIATRICO (TD)  \n4 AÑOS \n2° REF.","TOXOIDE TETANICO-DIFTERICO PEDIATRICO (TD)  \n5 AÑOS \n2° REF.","TOXOIDE TETANICO-DIFTERICO PEDIATRICO (TD)  DE 6 AÑOS  1a","TOXOIDE TETANICO-DIFTERICO PEDIATRICO (TD)  DE 6 AÑOS  2a","TOXOIDE TETANICO-DIFTERICO PEDIATRICO (TD)  DE 6 AÑOS  3a","TOXOIDE TETANICO-DIFTERICO PEDIATRICO (TD)  DE 6 AÑOS  1er REF.","TOXOIDE TETANICO-DIFTERICO PEDIATRICO (TD)  DE 6 AÑOS  2° REF.","ROTAVIRUS \n< DE 1 AÑO \n1a","ROTAVIRUS < DE 1 AÑO \n2a","ROTAVIRUS < DE 1 AÑO \n3a","NEUMOCOCO CONJUGADA DE 2 A 11 MESES 29 DIAS 1a","NEUMOCOCO CONJUGADA DE 2 A 11 MESES 29 DIAS 2a","NEUMOCOCO CONJUGADA DE 2 A 11 MESES 29 DIAS 3a ","NEUMOCOCO CONJUGADA DE 12 A\n23  MESES 1a","NEUMOCOCO CONJUGADA DE 12 A\n23  MESES 2a","NEUMOCOCO CONJUGADA DE 12 A\n23  MESES 3a","NEUMOCOCO CONJUGADA DE 12 A\n23  MESES REF.","NEUMOCOCO CONJUGADA \nDE 12 A\n23  MESES \nADICIONAL","NEUMOCOCO CONJUGADA DE 2 A 5 AÑOS ÚNICA ","NEUMOCOCO CONJUGADA DE 6 A 49 AÑOS ÚNICA ","NEUMOCOCO CONJUGADA DE 50 Y MAS AÑOS ÚNICA ","NEUMOCOCO POLISACARIDO DE 2 A 5 AÑOS ","NEUMOCOCO POLISACARIDO DE 6 A 14 AÑOS ","NEUMOCOCO POLISACARIDO DE 15 A 18 AÑOS ","NEUMOCOCO POLISACARIDO DE 19 A 59 AÑOS ","NEUMOCOCO POLISACARIDO DE 60 Y MAS AÑOS  ","NEUMOCOCO POLISACARIDO A LOS 5 AÑOS DE LA 1ra DOSIS REF.","SRP (TRIPLE VIRAL) PRIMERA DOSIS DE 1 AÑO","SRP (TRIPLE VIRAL) PRIMERA DOSIS DE 2 AÑOS","SRP (TRIPLE VIRAL) PRIMERA DOSIS DE 3 AÑOS","SRP (TRIPLE VIRAL) PRIMERA DOSIS DE 4 AÑOS","SRP (TRIPLE VIRAL) PRIMERA DOSIS DE 5 AÑOS","SRP (TRIPLE VIRAL) PRIMERA DOSIS DE 6 AÑOS","SRP (TRIPLE VIRAL) PRIMERA DOSIS DE 7 AÑOS","SRP (TRIPLE VIRAL) PRIMERA DOSIS DE 8 AÑOS","SRP (TRIPLE VIRAL) PRIMERA DOSIS DE 9 AÑOS","SRP (TRIPLE VIRAL) PRIMERA DOSIS DE 10 AÑOS","SRP (TRIPLE VIRAL) PRIMERA DOSIS 11 a 14 AÑOS","SRP (TRIPLE VIRAL) PRIMERA DOSIS 15 a 17 AÑOS","SRP (TRIPLE VIRAL) PRIMERA DOSIS \nDE 18 A 49 AÑOS","SRP (TRIPLE VIRAL) REFUERZO DE 5 AÑOS","SRP (TRIPLE VIRAL) REFUERZO DE 6 AÑOS","SRP (TRIPLE VIRAL) REFUERZO DE 7 AÑOS","SRP (TRIPLE VIRAL) REFUERZO DE 8 AÑOS","SRP (TRIPLE VIRAL) REFUERZO DE 9 AÑOS","SRP (TRIPLE VIRAL) REFUERZO DE 10 AÑOS","SRP (TRIPLE VIRAL) REFUERZO 11 a 14 AÑOS","SRP (TRIPLE VIRAL) REFUERZO DE 15 AÑOS Y MAS","TRIPLE VIRAL + VARICELA  \nDE 1 AÑO\n1a. DOSIS ","TRIPLE VIRAL + VARICELA  \nDE 2 AÑOS\n1a. DOSIS ","TRIPLE VIRAL + VARICELA  \nDE 3 AÑOS\n1a. DOSIS ","TRIPLE VIRAL + VARICELA  \nDE 4 AÑOS\n1a. DOSIS ","TRIPLE VIRAL + VARICELA  \nDE  5 AÑOS\n1a. DOSIS ","TRIPLE VIRAL + VARICELA  \nDE 6 AÑOS\n1a. DOSIS ","TRIPLE VIRAL + VARICELA  \nDE  7 AÑOS\n1a. DOSIS ","TRIPLE VIRAL + VARICELA  \nDE 8 AÑOS\n1a. DOSIS ","TRIPLE VIRAL + VARICELA  \nDE  9 AÑOS\n1a. DOSIS ","TRIPLE VIRAL + VARICELA  \nDE 10 AÑOS\n1a. DOSIS ","TRIPLE VIRAL + VARICELA \nDE 2 AÑOS\nUNICA ","TRIPLE VIRAL + VARICELA \nDE 3 AÑOS\nUNICA ","TRIPLE VIRAL + VARICELA \nDE 4 AÑOS\nUNICA ","TRIPLE VIRAL + VARICELA \nDE  5 AÑOS\nUNICA ","TRIPLE VIRAL + VARICELA \nDE 6  AÑOS Y MAS\nUNICA ","TRIPLE VIRAL + VARICELA REFUERZO DE 5 AÑOS","TRIPLE VIRAL + VARICELA REFUERZO DE 6 AÑOS","TRIPLE VIRAL + VARICELA REFUERZO DE 7 AÑOS","TRIPLE VIRAL + VARICELA REFUERZO DE 8 AÑOS","TRIPLE VIRAL + VARICELA REFUERZO DE 9 AÑOS","TRIPLE VIRAL + VARICELA REFUERZO DE 10 AÑOS","FIEBRE AMARILLA DOSIS UNICA DE 1 AÑO ","FIEBRE AMARILLA DOSIS UNICA DE 2 AÑOS ","FIEBRE AMARILLA DOSIS UNICA DE 3 AÑOS ","FIEBRE AMARILLA DOSIS UNICA DE 4 AÑOS ","FIEBRE AMARILLA DOSIS UNICA DE 5 AÑOS ","FIEBRE AMARILLA DOSIS UNICA DE 6 AÑOS ","FIEBRE AMARILLA DOSIS UNICA DE 7 AÑOS ","FIEBRE AMARILLA DOSIS UNICA DE 8 AÑOS ","FIEBRE AMARILLA DOSIS UNICA DE 9 AÑOS ","FIEBRE AMARILLA DOSIS UNICA DE 10 AÑOS ","FIEBRE AMARILLA DOSIS UNICA DE 11 AÑOS ","FIEBRE AMARILLA DOSIS UNICA DE 12 AÑOS ","FIEBRE AMARILLA DOSIS UNICA \nDE 13 a 14 AÑOS ","FIEBRE AMARILLA DOSIS UNICA DE 15 a 17 AÑOS ","FIEBRE AMARILLA DOSIS UNICA 18 A 30 AÑOS ","FIEBRE AMARILLA DOSIS UNICA 31 A 40 AÑOS ","FIEBRE AMARILLA DOSIS UNICA 41 A 50 AÑOS ","FIEBRE AMARILLA DOSIS UNICA 51 A 59 AÑOS ","HEPATITIS A \nDE 1 AÑO \n1a","HEPATITIS A \nDE 1 AÑO \n2a","HEPATITIS A \nDE 2 AÑOS \n1a","HEPATITIS A \nDE 2 AÑOS \n2a","HEPATITIS A \nDE 3 AÑOS \n1a","HEPATITIS A \nDE 3 AÑOS \n2a","HEPATITIS A \nDE 4 AÑOS \n1a","HEPATITIS A \nDE 4 AÑOS \n2a","HEPATITIS A\nDE 5 AÑOS \n1a","HEPATITIS A \nDE 5 AÑOS \n2a","HEPATITIS A \n6 AÑOS \n1a","HEPATITIS A \n6 AÑOS \n2a","HEPATITIS A \n7 AÑOS \n1a","HEPATITIS A \n7 AÑOS \n2a","HEPATITIS A \n8 AÑOS \n1a","HEPATITIS A \n8 AÑOS \n2a","HEPATITIS A \n9 AÑOS \n1a","HEPATITIS A \n9 AÑOS \n2a","HEPATITIS A \n10 A 17  AÑOS \n1a","HEPATITIS A \n10 A 17  AÑOS \n2a","HEPATITIS A  \nDE 18 Y MAS AÑOS \n1a","HEPATITIS A DE 18 Y MAS AÑOS \n2a","HEPATITIS A + B\nDE 1 AÑO \n1a","HEPATITIS A + B\nDE 1 AÑO \n2a","HEPATITIS A + B\nDE 1 AÑO \n3a","HEPATITIS A + B\nDE 2 AÑOS \n1a","HEPATITIS A + B\nDE 2 AÑOS \n2a","HEPATITIS A + B\nDE 2 AÑOS \n3a","HEPATITIS A + B\nDE 3 AÑOS \n1a","HEPATITIS A + B\nDE 3 AÑOS \n2a","HEPATITIS A + B\nDE 3 AÑOS \n3a","HEPATITIS A + B\nDE 4 AÑOS \n1a","HEPATITIS A + B\nDE 4 AÑOS \n2a","HEPATITIS A + B\nDE 4 AÑOS \n3a","HEPATITIS A + B\nDE 5 AÑOS \n1a","HEPATITIS A + B\nDE 5 AÑOS \n2a","HEPATITIS A + B\nDE 5 AÑOS \n3a","HEPATITIS A  + B\n6 AÑOS \n1a","HEPATITIS A + B\n6 AÑOS \n2a","HEPATITIS A + B\n6 AÑOS \n3a","HEPATITIS A  + B\n7 AÑOS \n1a","HEPATITIS A  + B\n7 AÑOS \n2a","HEPATITIS A  + B\n7 AÑOS \n3a","HEPATITIS A  + B\n8 AÑOS \n1a","HEPATITIS A  + B\n8 AÑOS \n2a","HEPATITIS A  + B\n8 AÑOS \n3a","HEPATITIS A  + B\n9 AÑOS \n1a","HEPATITIS A + B\n9 AÑOS \n2a","HEPATITIS A + B\n9 AÑOS \n3a","HEPATITIS A + B\n10 A 17  AÑOS \n1a","HEPATITIS A + B \n10 A 17  AÑOS \n2a","HEPATITIS A + B \n10 A 17  AÑOS \n3a","HEPATITIS A + B \nDE 18 Y MAS AÑOS \n1a","HEPATITIS A + B \nDE 18 Y MAS AÑOS \n2a","HEPATITIS A + B \nDE 18 Y MAS AÑOS \n3a","VARICELA DE 1 AÑO 1a","VARICELA DE 1 AÑO REF.","VARICELA DE 2 AÑOS 1a","VARICELA DE 2 AÑOS REF.","VARICELA DE 3 AÑOS 1a","VARICELA DE 3 AÑOS REF.","VARICELA DE 4 AÑOS 1a","VARICELA DE 4 AÑOS REF.","VARICELA DE 5 AÑOS 1a","VARICELA DE 5 AÑOS REF.","VARICELA DE 6 AÑOS Y MAS 1a","VARICELA DE 6 AÑOS Y MAS REF.","VARICELA DE 6 AÑOS Y MAS UNICA                 ","VARICELA \nDE 7 A 17 AÑOS Y MAS\n1a","VARICELA \nDE 7 A 17 AÑOS Y MAS\nREF.","VARICELA \nDE 18 AÑOS Y MAS\nUNICA","TOXOIDE TETANICO-DIFTERICO DE ADULTOS (Td)  NIÑOS Y NIÑAS DE 7 A 9 AÑOS Td1","TOXOIDE TETANICO-DIFTERICO DE ADULTOS (Td)  NIÑOS Y NIÑAS DE 7 A 9 AÑOS Td2","TOXOIDE TETANICO-DIFTERICO DE ADULTOS (Td)  NIÑOS Y NIÑAS DE 7 A 9 AÑOS Td3","TOXOIDE TETANICO-DIFTERICO DE ADULTOS (Td)  NIÑOS Y NIÑAS DE 7 A 9 AÑOS 1er REF.","TOXOIDE TETANICO-DIFTERICO DE ADULTOS (Td)  NIÑOS Y NIÑAS DE 7 A 9 AÑOS 2do REF.","TOXOIDE TETANICO-DIFTERICO DE ADULTOS (Td) GESTANTES DE 9 AÑOS A 17 AÑOS Td1","TOXOIDE TETANICO-DIFTERICO DE ADULTOS (Td) GESTANTES DE 9 AÑOS A 17 AÑOS Td2","TOXOIDE TETANICO-DIFTERICO DE ADULTOS (Td) GESTANTES DE 9 AÑOS A 17 AÑOS Td3","TOXOIDE TETANICO-DIFTERICO DE ADULTOS (Td) GESTANTES DE 9 AÑOS A 17 AÑOS Td4","TOXOIDE TETANICO-DIFTERICO DE ADULTOS (Td) GESTANTES DE 9 AÑOS A 17 AÑOS Td5","TOXOIDE TETANICO-DIFTERICO DE ADULTOS (Td) GESTANTES DE 18 AÑOS Y MAS Td1","TOXOIDE TETANICO-DIFTERICO DE ADULTOS (Td) GESTANTES DE 18 AÑOS Y MAS Td2","TOXOIDE TETANICO-DIFTERICO DE ADULTOS (Td) GESTANTES DE 18 AÑOS Y MAS Td3","TOXOIDE TETANICO-DIFTERICO DE ADULTOS (Td) GESTANTES DE 18 AÑOS Y MAS Td4","TOXOIDE TETANICO-DIFTERICO DE ADULTOS (Td) GESTANTES DE 18 AÑOS Y MAS Td5","TOXOIDE TETANICO-DIFTERICO DE ADULTOS (Td) REFUERZOS GESTANTES\n15 A 49 AÑOS REF.\n1","TOXOIDE TETANICO-DIFTERICO DE ADULTOS (Td) REFUERZOS GESTANTES\n15 A 49 AÑOS REF.\n2","TOXOIDE TETANICO-DIFTERICO DE ADULTOS (Td) REFUERZOS GESTANTES\n15 A 49 AÑOS REF.\n3","TOXOIDE TETANICO-DIFTERICO DE ADULTOS (Td) REFUERZOS GESTANTES\n15 A 49 AÑOS REF.\n4","TOXOIDE TETANICO-DIFTERICO DE ADULTOS (Td) MUJERES EN EDAD FERTIL\n(MEF) DE 10 AÑOS A 17 AÑOS Td1","TOXOIDE TETANICO-DIFTERICO DE ADULTOS (Td) MUJERES EN EDAD FERTIL\n(MEF) DE 10 AÑOS A 17 AÑOS Td2","TOXOIDE TETANICO-DIFTERICO DE ADULTOS (Td) MUJERES EN EDAD FERTIL\n(MEF) DE 10 AÑOS A 17 AÑOS Td3","TOXOIDE TETANICO-DIFTERICO DE ADULTOS (Td) MUJERES EN EDAD FERTIL\n(MEF) DE 10 AÑOS A 17 AÑOS Td4","TOXOIDE TETANICO-DIFTERICO DE ADULTOS (Td) MUJERES EN EDAD FERTIL\n(MEF) DE 10 AÑOS A 17 AÑOS Td5","TOXOIDE TETANICO-DIFTERICO DE ADULTOS (Td) MUJERES EN EDAD FERTIL\n(MEF) DE 18 A 49 AÑOS Td1","TOXOIDE TETANICO-DIFTERICO DE ADULTOS (Td) MUJERES EN EDAD FERTIL\n(MEF) DE 18 A 49 AÑOS Td2","TOXOIDE TETANICO-DIFTERICO DE ADULTOS (Td) MUJERES EN EDAD FERTIL\n(MEF) DE 18 A 49 AÑOS Td3","TOXOIDE TETANICO-DIFTERICO DE ADULTOS (Td) MUJERES EN EDAD FERTIL\n(MEF) DE 18 A 49 AÑOS Td4","TOXOIDE TETANICO-DIFTERICO DE ADULTOS (Td) MUJERES EN EDAD FERTIL\n(MEF) DE 18 A 49 AÑOS Td5","TOXOIDE TETANICO-DIFTERICO DE ADULTOS (Td) REFUERZOS\nMEF DE 15 A 49 AÑOS REF.\n1","TOXOIDE TETANICO-DIFTERICO DE ADULTOS (Td) REFUERZOS\nMEF DE 15 A 49 AÑOS REF.\n2","TOXOIDE TETANICO-DIFTERICO DE ADULTOS (Td) REFUERZOS\nMEF DE 15 A 49 AÑOS REF.\n3","TOXOIDE TETANICO-DIFTERICO DE ADULTOS (Td) REFUERZOS\nMEF DE 15 A 49 AÑOS REF.\n4","TOXOIDE TETANICO-DIFTERICO DE ADULTOS (Td) HOMBRES DE 10 A 17 AÑOS Td1","TOXOIDE TETANICO-DIFTERICO DE ADULTOS (Td) HOMBRES DE 10 A 17 AÑOS Td2","TOXOIDE TETANICO-DIFTERICO DE ADULTOS (Td) HOMBRES DE 10 A 17 AÑOS Td3","TOXOIDE TETANICO-DIFTERICO DE ADULTOS (Td) HOMBRES DE 10 A 17 AÑOS Td4","TOXOIDE TETANICO-DIFTERICO DE ADULTOS (Td) HOMBRES DE 10 A 17 AÑOS Td5","TOXOIDE TETANICO-DIFTERICO DE ADULTOS (Td) HOMBRES DE 18 A 49 AÑOS Td1","TOXOIDE TETANICO-DIFTERICO DE ADULTOS (Td) HOMBRES DE 18 A 49 AÑOS Td2","TOXOIDE TETANICO-DIFTERICO DE ADULTOS (Td) HOMBRES DE 18 A 49 AÑOS Td3","TOXOIDE TETANICO-DIFTERICO DE ADULTOS (Td) HOMBRES DE 18 A 49 AÑOS Td4","TOXOIDE TETANICO-DIFTERICO DE ADULTOS (Td) HOMBRES DE 18 A 49 AÑOS Td5","TOXOIDE TETANICO-DIFTERICO DE ADULTOS (Td) REFUERZOS\nHOMBRES DE 15 A 49 AÑOS REF.\n1","TOXOIDE TETANICO-DIFTERICO DE ADULTOS (Td) REFUERZOS\nHOMBRES DE 15 A 49 AÑOS REF.\n2","TOXOIDE TETANICO-DIFTERICO DE ADULTOS (Td) REFUERZOS\nHOMBRES DE 15 A 49 AÑOS REF.\n3","TOXOIDE TETANICO-DIFTERICO DE ADULTOS (Td) REFUERZOS\nHOMBRES DE 15 A 49 AÑOS REF.\n4","TOXOIDE TETANICO-DIFTERICO DE ADULTOS (Td) OTROS DE 50 A 59 AÑOS Td1","TOXOIDE TETANICO-DIFTERICO DE ADULTOS (Td) OTROS DE 50 A 59 AÑOS Td2","TOXOIDE TETANICO-DIFTERICO DE ADULTOS (Td) OTROS DE 50 A 59 AÑOS Td3","TOXOIDE TETANICO-DIFTERICO DE ADULTOS (Td) OTROS DE 50 A 59 AÑOS Td4","TOXOIDE TETANICO-DIFTERICO DE ADULTOS (Td) OTROS DE 50 A 59 AÑOS Td5","TOXOIDE TETANICO-DIFTERICO DE ADULTOS (Td) OTROS DE 60 AÑOS Y MAS Td1","TOXOIDE TETANICO-DIFTERICO DE ADULTOS (Td) OTROS DE 60 AÑOS Y MAS Td2","TOXOIDE TETANICO-DIFTERICO DE ADULTOS (Td) OTROS DE 60 AÑOS Y MAS Td3","TOXOIDE TETANICO-DIFTERICO DE ADULTOS (Td) OTROS DE 60 AÑOS Y MAS Td4","TOXOIDE TETANICO-DIFTERICO DE ADULTOS (Td) OTROS DE 60 AÑOS Y MAS Td5","Tdap ACELULAR   DE 9 A 17 AÑOS GESTANTES A PARTIR DE LA SEMANA 26 UNICA DOSIS EN CADA EMBARAZO","Tdap ACELULAR   DE 9 A 17 AÑOS GESTANTES A PARTIR DE LA SEMANA 26 Corresponde a Td1","Tdap ACELULAR   DE 9 A 17 AÑOS GESTANTES A PARTIR DE LA SEMANA 26 Corresponde a Td2","Tdap ACELULAR   DE 9 A 17 AÑOS GESTANTES A PARTIR DE LA SEMANA 26 Corresponde a Td3","Tdap ACELULAR   DE 9 A 17 AÑOS GESTANTES A PARTIR DE LA SEMANA 26 Corresponde a Td4","Tdap ACELULAR   DE 9 A 17 AÑOS GESTANTES A PARTIR DE LA SEMANA 26 Corresponde a Td5","Tdap ACELULAR   DE 18 Y MAS AÑOS GESTANTES  A PARTIR DE LA SEMANA 26 UNICA DOSIS EN CADA EMBARAZO","Tdap ACELULAR   DE 18 Y MAS AÑOS GESTANTES  A PARTIR DE LA SEMANA 26 Corresponde a Td1","Tdap ACELULAR   DE 18 Y MAS AÑOS GESTANTES  A PARTIR DE LA SEMANA 26 Corresponde a Td2","Tdap ACELULAR   DE 18 Y MAS AÑOS GESTANTES  A PARTIR DE LA SEMANA 26 Corresponde a Td3","Tdap ACELULAR   DE 18 Y MAS AÑOS GESTANTES  A PARTIR DE LA SEMANA 26 Corresponde a Td4","Tdap ACELULAR   DE 18 Y MAS AÑOS GESTANTES  A PARTIR DE LA SEMANA 26 Corresponde a Td5","Tdap ACELULAR  GESTANTES DE 15 Y MAS AÑOS                                    REFUERZOS A PARTIR DE LA SEMANA 26 Corres\nponde a REF.\n1","Tdap ACELULAR  GESTANTES DE 15 Y MAS AÑOS                                    REFUERZOS A PARTIR DE LA SEMANA 26 Corres\nponde a REF.\n2","Tdap ACELULAR  GESTANTES DE 15 Y MAS AÑOS                                    REFUERZOS A PARTIR DE LA SEMANA 26 Corres\nponde a REF.\n3","Tdap ACELULAR  GESTANTES DE 15 Y MAS AÑOS                                    REFUERZOS A PARTIR DE LA SEMANA 26 Corres\nponde a REF.\n4","Tdap ACELULAR (OTROS)  DE 7 A 9 AÑOS - OTROS Corresponde a Td1","Tdap ACELULAR (OTROS)  DE 7 A 9 AÑOS - OTROS Corresponde a Td2","Tdap ACELULAR (OTROS)  DE 7 A 9 AÑOS - OTROS Corresponde a Td3","Tdap ACELULAR (OTROS)  DE 7 A 9 AÑOS - OTROS Corresponde a Td4","Tdap ACELULAR (OTROS)  DE 7 A 9 AÑOS - OTROS Corresponde a Td5","Tdap ACELULAR (OTROS)  DE 10 A 17 AÑOS - OTROS Corresponde a Td1","Tdap ACELULAR (OTROS)  DE 10 A 17 AÑOS - OTROS Corresponde a Td2","Tdap ACELULAR (OTROS)  DE 10 A 17 AÑOS - OTROS Corresponde a Td3","Tdap ACELULAR (OTROS)  DE 10 A 17 AÑOS - OTROS Corresponde a Td4","Tdap ACELULAR (OTROS)  DE 10 A 17 AÑOS - OTROS Corresponde a Td5","Tdap ACELULAR (OTROS)  DE 18 Y MAS AÑOS  - OTROS Corresponde a Td1","Tdap ACELULAR (OTROS)  DE 18 Y MAS AÑOS  - OTROS Corresponde a Td2","Tdap ACELULAR (OTROS)  DE 18 Y MAS AÑOS  - OTROS Corresponde a Td3","Tdap ACELULAR (OTROS)  DE 18 Y MAS AÑOS  - OTROS Corresponde a Td4","Tdap ACELULAR (OTROS)  DE 18 Y MAS AÑOS  - OTROS Corresponde a Td5","Tdap ACELULAR (OTROS) DE 10 A 49 AÑOS REFUERZOS - OTROS Corres\nponde a REF.\n1","Tdap ACELULAR (OTROS) DE 10 A 49 AÑOS REFUERZOS - OTROS Corres\nponde a REF.\n2","Tdap ACELULAR (OTROS) DE 10 A 49 AÑOS REFUERZOS - OTROS Corres\nponde a REF.\n3","Tdap ACELULAR (OTROS) DE 10 A 49 AÑOS REFUERZOS - OTROS Corres\nponde a REF.\n4","INFLUENZA DE 6 MESES A 11 MESES 1a","INFLUENZA DE 6 MESES A 11 MESES 2a","INFLUENZA DE 12 MESES A 23 MESES 1a","INFLUENZA DE 12 MESES A 23 MESES 2a","INFLUENZA DE 12 MESES A 23 MESES ÚNICA","INFLUENZA 24 A 35 MESES 1a","INFLUENZA 24 A 35 MESES 2a","INFLUENZA 24 A 35 MESES ÚNICA","INFLUENZA DE 60 Y MAS AÑOS  ÚNICA","INFLUENZA GESTANTES A PARTIR DE LA SEMANA 14 ÚNICA","POBLACIÓN CON DIAGNÓSTICO DE RIESGO\nDE 3 A 8 AÑOS\n1a","POBLACIÓN CON DIAGNÓSTICO DE RIESGO\nDE 3 A 8 AÑOS\n2a","POBLACIÓN CON DIAGNÓSTICO DE RIESGO\nDE 3 A 8 AÑOS\n3a","POBLACIÓN CON DIAGNÓSTICO DE RIESGO\nDE 9 A 17 AÑOS\nUnica","POBLACIÓN CON DIAGNÓSTICO DE RIESGO\nDE 18 A 59 AÑOS\nUnica","V.  P.  H. 9 AÑOS 1a","V.  P.  H. 9 AÑOS 2a","V.  P.  H. 9 AÑOS 3a","V.  P.  H. 10 AÑOS 1a","V.  P.  H. 10 AÑOS 2a","V.  P.  H. 10 AÑOS 3a","V.  P.  H. 11 AÑOS 1a","V.  P.  H. 11 AÑOS 2a","V.  P.  H. 11 AÑOS 3a","V.  P.  H. 12 AÑOS 1a","V.  P.  H. 12 AÑOS 2a","V.  P.  H. 12 AÑOS 3a","V.  P.  H. 13 AÑOS 1a","V.  P.  H. 13 AÑOS 2a","V.  P.  H. 13 AÑOS 3a","V.  P.  H. 14 AÑOS 1a","V.  P.  H. 14 AÑOS 2a","V.  P.  H. 14 AÑOS 3a","V.  P.  H. 15 AÑOS 1a","V.  P.  H. 15 AÑOS 2a","V.  P.  H. 15 AÑOS 3a","V.  P.  H. 16 AÑOS 1a","V.  P.  H. 16 AÑOS 2a","V.  P.  H. 16 AÑOS 3a","V.  P.  H. 17 AÑOS 1a","V.  P.  H. 17 AÑOS 2a","V.  P.  H. 17 AÑOS 3a","V.  P.  H. \nDE 18 AÑOS y mas \n1a","V.  P.  H. \nDE 18 AÑOS y mas \n2a","V.  P.  H. \nDE 18 AÑOS y mas \n3a","ANTIRRABICA HUMANA \nPRE/POST-EXPOSICION \nESQUEMA PRE EXPOSICIÓN (I.M.)  \n1a","ANTIRRABICA HUMANA \nPRE/POST-EXPOSICION \nESQUEMA PRE EXPOSICIÓN (I.M.)  \n2a","ANTIRRABICA HUMANA \nPRE/POST-EXPOSICION \nESQUEMA PRE EXPOSICIÓN (I.M.)  \n3a","ANTIRRABICA HUMANA \nPRE/POST-EXPOSICION \nESQUEMA POST EXPOSICION Número de dosis aplicadas\n1a - día 0","ANTIRRABICA HUMANA \nPRE/POST-EXPOSICION \nESQUEMA POST EXPOSICION Número de dosis aplicadas\n2a - día 3","ANTIRRABICA HUMANA \nPRE/POST-EXPOSICION \nESQUEMA POST EXPOSICION Número de dosis aplicadas\n3a - día 7","ANTIRRABICA HUMANA \nPRE/POST-EXPOSICION \nESQUEMA POST EXPOSICION Número de dosis aplicadas\n4a - día 14","ANTIRRABICA HUMANA \nPRE/POST-EXPOSICION ESQUEMA POST EXPOSICION ACORTADO (ZAGREB) \nNúmero de dosis aplicadas 1as. y 2as dosis 0,0","ANTIRRABICA HUMANA \nPRE/POST-EXPOSICION ESQUEMA POST EXPOSICION ACORTADO (ZAGREB) \nNúmero de dosis aplicadas 3a día 7","ANTIRRABICA HUMANA \nPRE/POST-EXPOSICION ESQUEMA POST EXPOSICION ACORTADO (ZAGREB) \nNúmero de dosis aplicadas 4a día 21","ANTIRRABICA HUMANA \nPRE/POST-EXPOSICION \nPOST EXPOSICION (USUARIOS CON  ESQUEMA DE VACUNACION  COMPLETO)\nNúmero de usuarios","ANTIRRABICA HUMANA \nPRE/POST-INMUNOGLOBULINA ANTIRRÁBICA (Número de frascos utilizados)","ANTIRRABICA HUMANA \nPRE/POST-EXPOSICION No. \nDe personas que recibieron inmunoglobulina antirrabica.","INMUNOGLOBULINA\nANTI HEPATITIS B RECIEN NACIDO\n(Hijo de Madre Antigenos + para HB) Número de frascos utilizados","INMUNOGLOBULINA\nANTI HEPATITIS B RECIEN NACIDO\n(Hijo de Madre Antigenos + para HB) N° recién nacidos que recibieron dosis de Ig en las primeras 12 horas","INMUNOGLOBULINA\nANTI HEPATITIS B RECIEN NACIDO\n(Hijo de Madre Antigenos + para HB) N° recién nacidos que recibieron dosis de Ig despues de las primeras 12 horas","INMUNOGLOBULINA\nANTI HEPATITIS B (RESOLUCION\n0459/2012- circular 031/14) Número de frascos utilizados","INMUNOGLOBULINA\nANTI HEPATITIS B (RESOLUCION\n0459/2012- circular 031/14) N° Personas que recibieron dosis de Ig","INMUNOGLOBULINAS/ANTITOXINAS TETÁNICAS INMUNOGLOBULINA\nANTI TETANICA (Suero homólogo) Número de frascos utilizados","INMUNOGLOBULINAS/ANTITOXINAS TETÁNICAS INMUNOGLOBULINA\nANTI TETANICA (Suero homólogo) N° Personas que recibieron dosis de Ig","INMUNOGLOBULINAS/ANTITOXINAS TETÁNICAS ANTI TOXINA TETANICA (Suero heterólogo) Número de frascos utilizados","INMUNOGLOBULINAS/ANTITOXINAS TETÁNICAS ANTI TOXINA TETANICA (Suero heterólogo) N° Personas que recibieron dosis de antitoxina","MENINGOCOCO                                       2 A 23 MESES 1a","MENINGOCOCO                                       2 A 23 MESES 2a","MENINGOCOCO                                       2 A 23 MESES 3a","MENINGOCOCO \n2 A 23 MESES Unica","MENINGOCOCO                                       2 A 23 MESES REF. ","MENINGOCOCO                                       MAYORES DE 2 AÑOS 1a","MENINGOCOCO                                       MAYORES DE 2 AÑOS 2a","MENINGOCOCO                                       MAYORES DE 2 AÑOS ÚNICA","FIEBRE TIFOIDEA A  PARTIR DE LOS 2 AÑOS 1a","FIEBRE TIFOIDEA A  PARTIR DE LOS 2 AÑOS 2a","HERPES ZOSTER  < DE 50 AÑOS UNICA","HERPES ZOSTER  50 AÑOS Y MAS\nUNICA","TOTAL DOSIS"]
[1,{"$f":"'1_PLANTILLA_MENSUAL'!B8","v":0},{"$f":"'1_PLANTILLA_MENSUAL'!C8","v":"Bogotá"},{"$f":"'1_PLANTILLA_MENSUAL'!E16","v":{"v":6531,"d":"6,531"}},{"$f":"'1_PLANTILLA_MENSUAL'!F16","v":161},{"$f":"'1_PLANTILLA_MENSUAL'!G16","v":22},{"$f":"'1_PLANTILLA_MENSUAL'!H16","v":10},{"$f":"'1_PLANTILLA_MENSUAL'!I16","v":{"v":6516,"d":"6,516"}},{"$f":"'1_PLANTILLA_MENSUAL'!J16","v":210},{"$f":"'1_PLANTILLA_MENSUAL'!K16","v":2},{"$f":"'1_PLANTILLA_MENSUAL'!L16","v":1},{"$f":"'1_PLANTILLA_MENSUAL'!M16","v":1},{"$f":"'1_PLANTILLA_MENSUAL'!N16","v":2},{"$f":"'1_PLANTILLA_MENSUAL'!O16","v":44},{"$f":"'1_PLANTILLA_MENSUAL'!P16","v":95},{"$f":"'1_PLANTILLA_MENSUAL'!Q16","v":6},{"$f":"'1_PLANTILLA_MENSUAL'!R16","v":12},{"$f":"'1_PLANTILLA_MENSUAL'!S16","v":36},{"$f":"'1_PLANTILLA_MENSUAL'!T16","v":8},{"$f":"'1_PLANTILLA_MENSUAL'!U16","v":9},{"$f":"'1_PLANTILLA_MENSUAL'!V16","v":19},{"$f":"'1_PLANTILLA_MENSUAL'!W16","v":3},{"$f":"'1_PLANTILLA_MENSUAL'!X16","v":2},{"$f":"'1_PLANTILLA_MENSUAL'!Y16","v":16},{"$f":"'1_PLANTILLA_MENSUAL'!Z16","v":1},{"$f":"'1_PLANTILLA_MENSUAL'!AA16","v":5},{"$f":"'1_PLANTILLA_MENSUAL'!AB16","v":13},{"$f":"'1_PLANTILLA_MENSUAL'!AC16","v":0},{"$f":"'1_PLANTILLA_MENSUAL'!AD16","v":0},{"$f":"'1_PLANTILLA_MENSUAL'!AE16","v":0},{"$f":"'1_PLANTILLA_MENSUAL'!AF16","v":0},{"$f":"'1_PLANTILLA_MENSUAL'!AG16","v":0},{"$f":"'1_PLANTILLA_MENSUAL'!AH16","v":0},{"$f":"'1_PLANTILLA_MENSUAL'!AI16","v":0},{"$f":"'1_PLANTILLA_MENSUAL'!AJ16","v":0},{"$f":"'1_PLANTILLA_MENSUAL'!AK16","v":0},{"$f":"'1_PLANTILLA_MENSUAL'!AL16","v":0},{"$f":"'1_PLANTILLA_MENSUAL'!AM16","v":0},{"$f":"'1_PLANTILLA_MENSUAL'!AN16","v":0},{"$f":"'1_PLANTILLA_MENSUAL'!AO16","v":0},{"$f":"'1_PLANTILLA_MENSUAL'!AP16","v":0},{"$f":"'1_PLANTILLA_MENSUAL'!AQ16","v":0},{"$f":"'1_PLANTILLA_MENSUAL'!AR16","v":0},{"$f":"'1_PLANTILLA_MENSUAL'!AS16","v":0},{"$f":"'1_PLANTILLA_MENSUAL'!AT16","v":0},{"$f":"'1_PLANTILLA_MENSUAL'!AU16","v":0},{"$f":"'1_PLANTILLA_MENSUAL'!AV16","v":0},{"$f":"'1_PLANTILLA_MENSUAL'!AW16","v":0},{"$f":"'1_PLANTILLA_MENSUAL'!AX16","v":0},{"$f":"'1_PLANTILLA_MENSUAL'!AY16","v":0},{"$f":"'1_PLANTILLA_MENSUAL'!AZ16","v":14},{"$f":"'1_PLANTILLA_MENSUAL'!BA16","v":0},{"$f":"'1_PLANTILLA_MENSUAL'!BB16","v":1},{"$f":"'1_PLANTILLA_MENSUAL'!BC16","v":0},{"$f":"'1_PLANTILLA_MENSUAL'!BD16","v":3},{"$f":"'1_PLANTILLA_MENSUAL'!BE16","v":0},{"$f":"'1_PLANTILLA_MENSUAL'!BF16","v":0},{"$f":"'1_PLANTILLA_MENSUAL'!BG16","v":0},{"$f":"'1_PLANTILLA_MENSUAL'!BH16","v":14},{"$f":"'1_PLANTILLA_MENSUAL'!BI16","v":2},{"$f":"'1_PLANTILLA_MENSUAL'!BJ16","v":0},{"$f":"'1_PLANTILLA_MENSUAL'!BK16","v":0},{"$f":"'1_PLANTILLA_MENSUAL'!BL16","v":571},{"$f":"'1_PLANTILLA_MENSUAL'!BM16","v":105},{"$f":"'1_PLANTILLA_MENSUAL'!BN16","v":63},{"$f":"'1_PLANTILLA_MENSUAL'!BO16","v":7},{"$f":"'1_PLANTILLA_MENSUAL'!BP16","v":{"v":4654,"d":"4,654"}},{"$f":"'1_PLANTILLA_MENSUAL'!BQ16","v":{"v":4429,"d":"4,429"}},{"$f":"'1_PLANTILLA_MENSUAL'!BR16","v":{"v":4899,"d":"4,899"}},{"$f":"'1_PLANTILLA_MENSUAL'!BS16","v":12},{"$f":"'1_PLANTILLA_MENSUAL'!BT16","v":44},{"$f":"'1_PLANTILLA_MENSUAL'!BU16","v":102},{"$f":"'1_PLANTILLA_MENSUAL'!BV16","v":7},{"$f":"'1_PLANTILLA_MENSUAL'!BW16","v":12},{"$f":"'1_PLANTILLA_MENSUAL'!BX16","v":33},{"$f":"'1_PLANTILLA_MENSUAL'!BY16","v":7},{"$f":"'1_PLANTILLA_MENSUAL'!BZ16","v":9},{"$f":"'1_PLANTILLA_MENSUAL'!CA16","v":19},{"$f":"'1_PLANTILLA_MENSUAL'!CB16","v":2},{"$f":"'1_PLANTILLA_MENSUAL'!CC16","v":2},{"$f":"'1_PLANTILLA_MENSUAL'!CD16","v":15},{"$f":"'1_PLANTILLA_MENSUAL'!CE16","v":1},{"$f":"'1_PLANTILLA_MENSUAL'!CF16","v":4},{"$f":"'1_PLANTILLA_MENSUAL'!CG16","v":11},{"$f":"'1_PLANTILLA_MENSUAL'!CH16","v":{"v":4451,"d":"4,451"}},{"$f":"'1_PLANTILLA_MENSUAL'!CI16","v":381},{"$f":"'1_PLANTILLA_MENSUAL'!CJ16","v":102},{"$f":"'1_PLANTILLA_MENSUAL'!CK16","v":48},{"$f":"'1_PLANTILLA_MENSUAL'!CL16","v":79},{"$f":"'1_PLANTILLA_MENSUAL'!CM16","v":0},{"$f":"'1_PLANTILLA_MENSUAL'!CN16","v":0},{"$f":"'1_PLANTILLA_MENSUAL'!CO16","v":67},{"$f":"'1_PLANTILLA_MENSUAL'!CP16","v":1},{"$f":"'1_PLANTILLA_MENSUAL'!CQ16","v":0},{"$f":"'1_PLANTILLA_MENSUAL'!CR16","v":50},{"$f":"'1_PLANTILLA_MENSUAL'!CS16","v":0},{"$f":"'1_PLANTILLA_MENSUAL'!CT16","v":0},{"$f":"'1_PLANTILLA_MENSUAL'!CU16","v":8},{"$f":"'1_PLANTILLA_MENSUAL'!CV16","v":0},{"$f":"'1_PLANTILLA_MENSUAL'!CW16","v":0},{"$f":"'1_PLANTILLA_MENSUAL'!CX16","v":54},{"$f":"'1_PLANTILLA_MENSUAL'!CY16","v":10},{"$f":"'1_PLANTILLA_MENSUAL'!CZ16","v":0},{"$f":"'1_PLANTILLA_MENSUAL'!DA16","v":2},{"$f":"'1_PLANTILLA_MENSUAL'!DB16","v":3},{"$f":"'1_PLANTILLA_MENSUAL'!DC16","v":0},{"$f":"'1_PLANTILLA_MENSUAL'!DD16","v":0},{"$f":"'1_PLANTILLA_MENSUAL'!DE16","v":{"v":6920,"d":"6,920"}},{"$f":"'1_PLANTILLA_MENSUAL'!DF16","v":{"v":4646,"d":"4,646"}},{"$f":"'1_PLANTILLA_MENSUAL'!DG16","v":{"v":4427,"d":"4,427"}},{"$f":"'1_PLANTILLA_MENSUAL'!DH16","v":{"v":4895,"d":"4,895"}},{"$f":"'1_PLANTILLA_MENSUAL'!DI16","v":9},{"$f":"'1_PLANTILLA_MENSUAL'!DJ16","v":0},{"$f":"'1_PLANTILLA_MENSUAL'!DK16","v":0},{"$f":"'1_PLANTILLA_MENSUAL'!DL16","v":0},{"$f":"'1_PLANTILLA_MENSUAL'!DM16","v":0},{"$f":"'1_PLANTILLA_MENSUAL'!DN16","v":0},{"$f":"'1_PLANTILLA_MENSUAL'!DO16","v":0},{"$f":"'1_PLANTILLA_MENSUAL'!DP16","v":0},{"$f":"'1_PLANTILLA_MENSUAL'!DQ16","v":0},{"$f":"'1_PLANTILLA_MENSUAL'!DR16","v":0},{"$f":"'1_PLANTILLA_MENSUAL'!DS16","v":0},{"$f":"'1_PLANTILLA_MENSUAL'!DT16","v":0},{"$f":"'1_PLANTILLA_MENSUAL'!DU16","v":0},{"$f":"'1_PLANTILLA_MENSUAL'!DV16","v":0},{"$f":"'1_PLANTILLA_MENSUAL'!DW16","v":0},{"$f":"'1_PLANTILLA_MENSUAL'!DX16","v":6},{"$f":"'1_PLANTILLA_MENSUAL'!DY16","v":45},{"$f":"'1_PLANTILLA_MENSUAL'!DZ16","v":97},{"$f":"'1_PLANTILLA_MENSUAL'!EA16","v":6},{"$f":"'1_PLANTILLA_MENSUAL'!EB16","v":12},{"$f":"'1_PLANTILLA_MENSUAL'!EC16","v":32},{"$f":"'1_PLANTILLA_MENSUAL'!ED16","v":8},{"$f":"'1_PLANTILLA_MENSUAL'!EE16","v":8},{"$f":"'1_PLANTILLA_MENSUAL'!EF16","v":18},{"$f":"'1_PLANTILLA_MENSUAL'!EG16","v":3},{"$f":"'1_PLANTILLA_MENSUAL'!EH16","v":2},{"$f":"'1_PLANTILLA_MENSUAL'!EI16","v":15},{"$f":"'1_PLANTILLA_MENSUAL'!EJ16","v":0},{"$f":"'1_PLANTILLA_MENSUAL'!EK16","v":5},{"$f":"'1_PLANTILLA_MENSUAL'!EL16","v":13},{"$f":"'1_PLANTILLA_MENSUAL'!EM16","v":{"v":4487,"d":"4,487"}},{"$f":"'1_PLANTILLA_MENSUAL'!EN16","v":394},{"$f":"'1_PLANTILLA_MENSUAL'!EO16","v":107},{"$f":"'1_PLANTILLA_MENSUAL'!EP16","v":56},{"$f":"'1_PLANTILLA_MENSUAL'!EQ16","v":69},{"$f":"'1_PLANTILLA_MENSUAL'!ER16","v":0},{"$f":"'1_PLANTILLA_MENSUAL'!ES16","v":0},{"$f":"'1_PLANTILLA_MENSUAL'!ET16","v":{"v":6946,"d":"6,946"}},{"$f":"'1_PLANTILLA_MENSUAL'!EU16","v":2},{"$f":"'1_PLANTILLA_MENSUAL'!EV16","v":1},{"$f":"'1_PLANTILLA_MENSUAL'!EW16","v":4},{"$f":"'1_PLANTILLA_MENSUAL'!EX16","v":0},{"$f":"'1_PLANTILLA_MENSUAL'!EY16","v":0},{"$f":"'1_PLANTILLA_MENSUAL'!EZ16","v":0},{"$f":"'1_PLANTILLA_MENSUAL'!FA16","v":0},{"$f":"'1_PLANTILLA_MENSUAL'!FB16","v":0},{"$f":"'1_PLANTILLA_MENSUAL'!FC16","v":1},{"$f":"'1_PLANTILLA_MENSUAL'!FD16","v":0},{"$f":"'1_PLANTILLA_MENSUAL'!FE16","v":1},{"$f":"'1_PLANTILLA_MENSUAL'!FF16","v":0},{"$f":"'1_PLANTILLA_MENSUAL'!FG16","v":0},{"$f":"'1_PLANTILLA_MENSUAL'!FH16","v":0},{"$f":"'1_PLANTILLA_MENSUAL'!FI16","v":0},{"$f":"'1_PLANTILLA_MENSUAL'!FJ16","v":0},{"$f":"'1_PLANTILLA_MENSUAL'!FK16","v":0},{"$f":"'1_PLANTILLA_MENSUAL'!FL16","v":0},{"$f":"'1_PLANTILLA_MENSUAL'!FM16","v":17},{"$f":"'1_PLANTILLA_MENSUAL'!FN16","v":2},{"$f":"'1_PLANTILLA_MENSUAL'!FO16","v":1},{"$f":"'1_PLANTILLA_MENSUAL'!FP16","v":0},{"$f":"'1_PLANTILLA_MENSUAL'!FQ16","v":0},{"$f":"'1_PLANTILLA_MENSUAL'!FR16","v":0},{"$f":"'1_PLANTILLA_MENSUAL'!FS16","v":0},{"$f":"'1_PLANTILLA_MENSUAL'!FT16","v":27},{"$f":"'1_PLANTILLA_MENSUAL'!FU16","v":0},{"$f":"'1_PLANTILLA_MENSUAL'!FV16","v":0},{"$f":"'1_PLANTILLA_MENSUAL'!FW16","v":0},{"$f":"'1_PLANTILLA_MENSUAL'!FX16","v":1},{"$f":"'1_PLANTILLA_MENSUAL'!FY16","v":11},{"$f":"'1_PLANTILLA_MENSUAL'!FZ16","v":0},{"$f":"'1_PLANTILLA_MENSUAL'!GA16","v":0},{"$f":"'1_PLANTILLA_MENSUAL'!GB16","v":0},{"$f":"'1_PLANTILLA_MENSUAL'!GC16","v":0},{"$f":"'1_PLANTILLA_MENSUAL'!GD16","v":0},{"$f":"'1_PLANTILLA_MENSUAL'!GE16","v":0},{"$f":"'1_PLANTILLA_MENSUAL'!GF16","v":0},{"$f":"'1_PLANTILLA_MENSUAL'!GG16","v":0},{"$f":"'1_PLANTILLA_MENSUAL'!GH16","v":0},{"$f":"'1_PLANTILLA_MENSUAL'!GI16","v":0},{"$f":"'1_PLANTILLA_MENSUAL'!GJ16","v":0},{"$f":"'1_PLANTILLA_MENSUAL'!GK16","v":0},{"$f":"'1_PLANTILLA_MENSUAL'!GL16","v":0},{"$f":"'1_PLANTILLA_MENSUAL'!GM16","v":0},{"$f":"'1_PLANTILLA_MENSUAL'!GN16","v":0},{"$f":"'1_PLANTILLA_MENSUAL'!GO16","v":0},{"$f":"'1_PLANTILLA_MENSUAL'!GP16","v":0},{"$f":"'1_PLANTILLA_MENSUAL'!GQ16","v":0},{"$f":"'1_PLANTILLA_MENSUAL'!GR16","v":0},{"$f":"'1_PLANTILLA_MENSUAL'!GS16","v":0},{"$f":"'1_PLANTILLA_MENSUAL'!GT16","v":0},{"$f":"'1_PLANTILLA_MENSUAL'!GU16","v":0},{"$f":"'1_PLANTILLA_MENSUAL'!GV16","v":0},{"$f":"'1_PLANTILLA_MENSUAL'!GW16","v":0},{"$f":"'1_PLANTILLA_MENSUAL'!GX16","v":0},{"$f":"'1_PLANTILLA_MENSUAL'!GY16","v":0},{"$f":"'1_PLANTILLA_MENSUAL'!GZ16","v":0},{"$f":"'1_PLANTILLA_MENSUAL'!HA16","v":0},{"$f":"'1_PLANTILLA_MENSUAL'!HB16","v":0},{"$f":"'1_PLANTILLA_MENSUAL'!HC16","v":0},{"$f":"'1_PLANTILLA_MENSUAL'!HD16","v":0},{"$f":"'1_PLANTILLA_MENSUAL'!HE16","v":{"v":5134,"d":"5,134"}},{"$f":"'1_PLANTILLA_MENSUAL'!HF16","v":{"v":4927,"d":"4,927"}},{"$f":"'1_PLANTILLA_MENSUAL'!HG16","v":889},{"$f":"'1_PLANTILLA_MENSUAL'!HH16","v":{"v":4949,"d":"4,949"}},{"$f":"'1_PLANTILLA_MENSUAL'!HI16","v":{"v":5257,"d":"5,257"}},{"$f":"'1_PLANTILLA_MENSUAL'!HJ16","v":91},{"$f":"'1_PLANTILLA_MENSUAL'!HK16","v":102},{"$f":"'1_PLANTILLA_MENSUAL'!HL16","v":299},{"$f":"'1_PLANTILLA_MENSUAL'!HM16","v":{"v":4506,"d":"4,506"}},{"$f":"'1_PLANTILLA_MENSUAL'!HN16","v":0},{"$f":"'1_PLANTILLA_MENSUAL'!HO16","v":0},{"$f":"'1_PLANTILLA_MENSUAL'!HP16","v":0},{"$f":"'1_PLANTILLA_MENSUAL'!HQ16","v":0},{"$f":"'1_PLANTILLA_MENSUAL'!HR16","v":0},{"$f":"'1_PLANTILLA_MENSUAL'!HS16","v":{"v":5341,"d":"5,341"}},{"$f":"'1_PLANTILLA_MENSUAL'!HT16","v":54},{"$f":"'1_PLANTILLA_MENSUAL'!HU16","v":34},{"$f":"'1_PLANTILLA_MENSUAL'!HV16","v":18},{"$f":"'1_PLANTILLA_MENSUAL'!HW16","v":12},{"$f":"'1_PLANTILLA_MENSUAL'!HX16","v":6},{"$f":"'1_PLANTILLA_MENSUAL'!HY16","v":4},{"$f":"'1_PLANTILLA_MENSUAL'!HZ16","v":0},{"$f":"'1_PLANTILLA_MENSUAL'!IA16","v":0},{"$f":"'1_PLANTILLA_MENSUAL'!IB16","v":0},{"$f":"'1_PLANTILLA_MENSUAL'!IC16","v":0},{"$f":"'1_PLANTILLA_MENSUAL'!ID16","v":{"v":7300,"d":"7,300"}},{"$f":"'1_PLANTILLA_MENSUAL'!IE16","v":97},{"$f":"'1_PLANTILLA_MENSUAL'!IF16","v":56},{"$f":"'1_PLANTILLA_MENSUAL'!IG16","v":21},{"$f":"'1_PLANTILLA_MENSUAL'!IH16","v":15},{"$f":"'1_PLANTILLA_MENSUAL'!II16","v":12},{"$f":"'1_PLANTILLA_MENSUAL'!IJ16","v":2},{"$f":"'1_PLANTILLA_MENSUAL'!IK16","v":36},{"$f":"'1_PLANTILLA_MENSUAL'!IL16","v":380},{"$f":"'1_PLANTILLA_MENSUAL'!IM16","v":72},{"$f":"'1_PLANTILLA_MENSUAL'!IN16","v":142},{"$f":"'1_PLANTILLA_MENSUAL'!IO16","v":191},{"$f":"'1_PLANTILLA_MENSUAL'!IP16","v":191},{"$f":"'1_PLANTILLA_MENSUAL'!IQ16","v":236},{"$f":"'1_PLANTILLA_MENSUAL'!IR16","v":209},{"$f":"'1_PLANTILLA_MENSUAL'!IS16","v":178},{"$f":"'1_PLANTILLA_MENSUAL'!IT16","v":193},{"$f":"'1_PLANTILLA_MENSUAL'!IU16","v":168},{"$f":"'1_PLANTILLA_MENSUAL'!IV16","v":152},{"$f":"'1_PLANTILLA_MENSUAL'!IW16","v":189},{"$f":"'1_PLANTILLA_MENSUAL'!IX16","v":135},{"$f":"'1_PLANTILLA_MENSUAL'!IY16","v":974},{"$f":"'1_PLANTILLA_MENSUAL'!IZ16","v":520},{"$f":"'1_PLANTILLA_MENSUAL'!JA16","v":341},{"$f":"'1_PLANTILLA_MENSUAL'!JB16","v":{"v":4809,"d":"4,809"}},{"$f":"'1_PLANTILLA_MENSUAL'!JC16","v":366},{"$f":"'1_PLANTILLA_MENSUAL'!JD16","v":100},{"$f":"'1_PLANTILLA_MENSUAL'!JE16","v":51},{"$f":"'1_PLANTILLA_MENSUAL'!JF16","v":71},{"$f":"'1_PLANTILLA_MENSUAL'!JG16","v":18},{"$f":"'1_PLANTILLA_MENSUAL'!JH16","v":11},{"$f":"'1_PLANTILLA_MENSUAL'!JI16","v":10},{"$f":"'1_PLANTILLA_MENSUAL'!JJ16","v":12},{"$f":"'1_PLANTILLA_MENSUAL'!JK16","v":7},{"$f":"'1_PLANTILLA_MENSUAL'!JL16","v":12},{"$f":"'1_PLANTILLA_MENSUAL'!JM16","v":14},{"$f":"'1_PLANTILLA_MENSUAL'!JN16","v":49},{"$f":"'1_PLANTILLA_MENSUAL'!JO16","v":139},{"$f":"'1_PLANTILLA_MENSUAL'!JP16","v":{"v":3267,"d":"3,267"}},{"$f":"'1_PLANTILLA_MENSUAL'!JQ16","v":{"v":1652,"d":"1,652"}},{"$f":"'1_PLANTILLA_MENSUAL'!JR16","v":922},{"$f":"'1_PLANTILLA_MENSUAL'!JS16","v":605},{"$f":"'1_PLANTILLA_MENSUAL'!JT16","v":0},{"$f":"'1_PLANTILLA_MENSUAL'!JU16","v":{"v":5560,"d":"5,560"}},{"$f":"'1_PLANTILLA_MENSUAL'!JV16","v":104},{"$f":"'1_PLANTILLA_MENSUAL'!JW16","v":96},{"$f":"'1_PLANTILLA_MENSUAL'!JX16","v":77},{"$f":"'1_PLANTILLA_MENSUAL'!JY16","v":90},{"$f":"'1_PLANTILLA_MENSUAL'!JZ16","v":61},{"$f":"'1_PLANTILLA_MENSUAL'!KA16","v":36},{"$f":"'1_PLANTILLA_MENSUAL'!KB16","v":17},{"$f":"'1_PLANTILLA_MENSUAL'!KC16","v":12},{"$f":"'1_PLANTILLA_MENSUAL'!KD16","v":3},{"$f":"'1_PLANTILLA_MENSUAL'!KE16","v":{"v":5396,"d":"5,396"}},{"$f":"'1_PLANTILLA_MENSUAL'!KF16","v":98},{"$f":"'1_PLANTILLA_MENSUAL'!KG16","v":95},{"$f":"'1_PLANTILLA_MENSUAL'!KH16","v":73},{"$f":"'1_PLANTILLA_MENSUAL'!KI16","v":97},{"$f":"'1_PLANTILLA_MENSUAL'!KJ16","v":59},{"$f":"'1_PLANTILLA_MENSUAL'!KK16","v":31},{"$f":"'1_PLANTILLA_MENSUAL'!KL16","v":3},{"$f":"'1_PLANTILLA_MENSUAL'!KM16","v":{"v":7224,"d":"7,224"}},{"$f":"'1_PLANTILLA_MENSUAL'!KN16","v":89},{"$f":"'1_PLANTILLA_MENSUAL'!KO16","v":57},{"$f":"'1_PLANTILLA_MENSUAL'!KP16","v":0},{"$f":"'1_PLANTILLA_MENSUAL'!KQ16","v":14},{"$f":"'1_PLANTILLA_MENSUAL'!KR16","v":0},{"$f":"'1_PLANTILLA_MENSUAL'!KS16","v":0},{"$f":"'1_PLANTILLA_MENSUAL'!KT16","v":2},{"$f":"'1_PLANTILLA_MENSUAL'!KU16","v":46},{"$f":"'1_PLANTILLA_MENSUAL'!KV16","v":97},{"$f":"'1_PLANTILLA_MENSUAL'!KW16","v":31},{"$f":"'1_PLANTILLA_MENSUAL'!KX16","v":0},{"$f":"'1_PLANTILLA_MENSUAL'!KY16","v":3},{"$f":"'1_PLANTILLA_MENSUAL'!KZ16","v":1},{"$f":"'1_PLANTILLA_MENSUAL'!LA16","v":{"v":1922,"d":"1,922"}},{"$f":"'1_PLANTILLA_MENSUAL'!LB16","v":879},{"$f":"'1_PLANTILLA_MENSUAL'!LC16","v":373},{"$f":"'1_PLANTILLA_MENSUAL'!LD16","v":257},{"$f":"'1_PLANTILLA_MENSUAL'!LE16","v":138},{"$f":"'1_PLANTILLA_MENSUAL'!LF16","v":17},{"$f":"'1_PLANTILLA_MENSUAL'!LG16","v":0},{"$f":"'1_PLANTILLA_MENSUAL'!LH16","v":0},{"$f":"'1_PLANTILLA_MENSUAL'!LI16","v":0},{"$f":"'1_PLANTILLA_MENSUAL'!LJ16","v":595},{"$f":"'1_PLANTILLA_MENSUAL'!LK16","v":291},{"$f":"'1_PLANTILLA_MENSUAL'!LL16","v":92},{"$f":"'1_PLANTILLA_MENSUAL'!LM16","v":24},{"$f":"'1_PLANTILLA_MENSUAL'!LN16","v":5},{"$f":"'1_PLANTILLA_MENSUAL'!LO16","v":{"v":2240,"d":"2,240"}},{"$f":"'1_PLANTILLA_MENSUAL'!LP16","v":{"v":1513,"d":"1,513"}},{"$f":"'1_PLANTILLA_MENSUAL'!LQ16","v":{"v":1815,"d":"1,815"}},{"$f":"'1_PLANTILLA_MENSUAL'!LR16","v":{"v":1140,"d":"1,140"}},{"$f":"'1_PLANTILLA_MENSUAL'!LS16","v":816},{"$f":"'1_PLANTILLA_MENSUAL'!LT16","v":173},{"$f":"'1_PLANTILLA_MENSUAL'!LU16","v":0},{"$f":"'1_PLANTILLA_MENSUAL'!LV16","v":0},{"$f":"'1_PLANTILLA_MENSUAL'!LW16","v":0},{"$f":"'1_PLANTILLA_MENSUAL'!LX16","v":21},{"$f":"'1_PLANTILLA_MENSUAL'!LY16","v":1},{"$f":"'1_PLANTILLA_MENSUAL'!LZ16","v":0},{"$f":"'1_PLANTILLA_MENSUAL'!MA16","v":0},{"$f":"'1_PLANTILLA_MENSUAL'!MB16","v":1},{"$f":"'1_PLANTILLA_MENSUAL'!MC16","v":269},{"$f":"'1_PLANTILLA_MENSUAL'!MD16","v":52},{"$f":"'1_PLANTILLA_MENSUAL'!ME16","v":23},{"$f":"'1_PLANTILLA_MENSUAL'!MF16","v":4},{"$f":"'1_PLANTILLA_MENSUAL'!MG16","v":0},{"$f":"'1_PLANTILLA_MENSUAL'!MH16","v":1},{"$f":"'1_PLANTILLA_MENSUAL'!MI16","v":0},{"$f":"'1_PLANTILLA_MENSUAL'!MJ16","v":0},{"$f":"'1_PLANTILLA_MENSUAL'!MK16","v":0},{"$f":"'1_PLANTILLA_MENSUAL'!ML16","v":12},{"$f":"'1_PLANTILLA_MENSUAL'!MM16","v":3},{"$f":"'1_PLANTILLA_MENSUAL'!MN16","v":0},{"$f":"'1_PLANTILLA_MENSUAL'!MO16","v":2},{"$f":"'1_PLANTILLA_MENSUAL'!MP16","v":5},{"$f":"'1_PLANTILLA_MENSUAL'!MQ16","v":10},{"$f":"'1_PLANTILLA_MENSUAL'!MR16","v":1},{"$f":"'1_PLANTILLA_MENSUAL'!MS16","v":1},{"$f":"'1_PLANTILLA_MENSUAL'!MT16","v":0},{"$f":"'1_PLANTILLA_MENSUAL'!MU16","v":2},{"$f":"'1_PLANTILLA_MENSUAL'!MV16","v":29},{"$f":"'1_PLANTILLA_MENSUAL'!MW16","v":49},{"$f":"'1_PLANTILLA_MENSUAL'!MX16","v":69},{"$f":"'1_PLANTILLA_MENSUAL'!MY16","v":5},{"$f":"'1_PLANTILLA_MENSUAL'!MZ16","v":1},{"$f":"'1_PLANTILLA_MENSUAL'!NA16","v":0},{"$f":"'1_PLANTILLA_MENSUAL'!NB16","v":{"v":1280,"d":"1,280"}},{"$f":"'1_PLANTILLA_MENSUAL'!NC16","v":838},{"$f":"'1_PLANTILLA_MENSUAL'!ND16","v":{"v":1543,"d":"1,543"}},{"$f":"'1_PLANTILLA_MENSUAL'!NE16","v":508},{"$f":"'1_PLANTILLA_MENSUAL'!NF16","v":382},{"$f":"'1_PLANTILLA_MENSUAL'!NG16","v":237},{"$f":"'1_PLANTILLA_MENSUAL'!NH16","v":{"v":7010,"d":"7,010"}},{"$f":"'1_PLANTILLA_MENSUAL'!NI16","v":{"v":7297,"d":"7,297"}},{"$f":"'1_PLANTILLA_MENSUAL'!NJ16","v":{"v":3763,"d":"3,763"}},{"$f":"'1_PLANTILLA_MENSUAL'!NK16","v":{"v":3177,"d":"3,177"}},{"$f":"'1_PLANTILLA_MENSUAL'!NL16","v":{"v":5702,"d":"5,702"}},{"$f":"'1_PLANTILLA_MENSUAL'!NM16","v":79},{"$f":"'1_PLANTILLA_MENSUAL'!NN16","v":47},{"$f":"'1_PLANTILLA_MENSUAL'!NO16","v":499},{"$f":"'1_PLANTILLA_MENSUAL'!NP16","v":{"v":50472,"d":"50,472"}},{"$f":"'1_PLANTILLA_MENSUAL'!NQ16","v":{"v":6440,"d":"6,440"}},{"$f":"'1_PLANTILLA_MENSUAL'!NR16","v":9},{"$f":"'1_PLANTILLA_MENSUAL'!NS16","v":0},{"$f":"'1_PLANTILLA_MENSUAL'!NT16","v":{"v":2029,"d":"2,029"}},{"$f":"'1_PLANTILLA_MENSUAL'!NU16","v":{"v":1729,"d":"1,729"}},{"$f":"'1_PLANTILLA_MENSUAL'!NV16","v":{"v":22205,"d":"22,205"}},{"$f":"'1_PLANTILLA_MENSUAL'!NW16","v":0},{"$f":"'1_PLANTILLA_MENSUAL'!NX16","v":0},{"$f":"'1_PLANTILLA_MENSUAL'!NY16","v":0},{"$f":"'1_PLANTILLA_MENSUAL'!NZ16","v":0},{"$f":"'1_PLANTILLA_MENSUAL'!OA16","v":0},{"$f":"'1_PLANTILLA_MENSUAL'!OB16","v":2},{"$f":"'1_PLANTILLA_MENSUAL'!OC16","v":{"v":1556,"d":"1,556"}},{"$f":"'1_PLANTILLA_MENSUAL'!OD16","v":343},{"$f":"'1_PLANTILLA_MENSUAL'!OE16","v":0},{"$f":"'1_PLANTILLA_MENSUAL'!OF16","v":650},{"$f":"'1_PLANTILLA_MENSUAL'!OG16","v":554},{"$f":"'1_PLANTILLA_MENSUAL'!OH16","v":0},{"$f":"'1_PLANTILLA_MENSUAL'!OI16","v":604},{"$f":"'1_PLANTILLA_MENSUAL'!OJ16","v":510},{"$f":"'1_PLANTILLA_MENSUAL'!OK16","v":0},{"$f":"'1_PLANTILLA_MENSUAL'!OL16","v":506},{"$f":"'1_PLANTILLA_MENSUAL'!OM16","v":393},{"$f":"'1_PLANTILLA_MENSUAL'!ON16","v":2},{"$f":"'1_PLANTILLA_MENSUAL'!OO16","v":441},{"$f":"'1_PLANTILLA_MENSUAL'!OP16","v":347},{"$f":"'1_PLANTILLA_MENSUAL'!OQ16","v":0},{"$f":"'1_PLANTILLA_MENSUAL'!OR16","v":428},{"$f":"'1_PLANTILLA_MENSUAL'!OS16","v":281},{"$f":"'1_PLANTILLA_MENSUAL'!OT16","v":1},{"$f":"'1_PLANTILLA_MENSUAL'!OU16","v":469},{"$f":"'1_PLANTILLA_MENSUAL'!OV16","v":271},{"$f":"'1_PLANTILLA_MENSUAL'!OW16","v":0},{"$f":"'1_PLANTILLA_MENSUAL'!OX16","v":339},{"$f":"'1_PLANTILLA_MENSUAL'!OY16","v":230},{"$f":"'1_PLANTILLA_MENSUAL'!OZ16","v":0},{"$f":"'1_PLANTILLA_MENSUAL'!PA16","v":179},{"$f":"'1_PLANTILLA_MENSUAL'!PB16","v":202},{"$f":"'1_PLANTILLA_MENSUAL'!PC16","v":1},{"$f":"'1_PLANTILLA_MENSUAL'!PD16","v":47},{"$f":"'1_PLANTILLA_MENSUAL'!PE16","v":0},{"$f":"'1_PLANTILLA_MENSUAL'!PF16","v":0},{"$f":"'1_PLANTILLA_MENSUAL'!PG16","v":0},{"$f":"'1_PLANTILLA_MENSUAL'!PH16","v":0},{"$f":"'1_PLANTILLA_MENSUAL'!PI16","v":0},{"$f":"'1_PLANTILLA_MENSUAL'!PJ16","v":0},{"$f":"'1_PLANTILLA_MENSUAL'!PK16","v":0},{"$f":"'1_PLANTILLA_MENSUAL'!PL16","v":0},{"$f":"'1_PLANTILLA_MENSUAL'!PM16","v":0},{"$f":"'1_PLANTILLA_MENSUAL'!PN16","v":{"v":1147,"d":"1,147"}},{"$f":"'1_PLANTILLA_MENSUAL'!PO16","v":427},{"$f":"'1_PLANTILLA_MENSUAL'!PP16","v":282},{"$f":"'1_PLANTILLA_MENSUAL'!PQ16","v":282},{"$f":"'1_PLANTILLA_MENSUAL'!PR16","v":385},{"$f":"'1_PLANTILLA_MENSUAL'!PS16","v":101},{"$f":"'1_PLANTILLA_MENSUAL'!PT16","v":3},{"$f":"'1_PLANTILLA_MENSUAL'!PU16","v":1},{"$f":"'1_PLANTILLA_MENSUAL'!PV16","v":2},{"$f":"'1_PLANTILLA_MENSUAL'!PW16","v":42},{"$f":"'1_PLANTILLA_MENSUAL'!PX16","v":26},{"$f":"'1_PLANTILLA_MENSUAL'!PY16","v":2},{"$f":"'1_PLANTILLA_MENSUAL'!PZ16","v":1},{"$f":"'1_PLANTILLA_MENSUAL'!QA16","v":8},{"$f":"'1_PLANTILLA_MENSUAL'!QB16","v":1},{"$f":"'2_MERCADO_PRIVADO'!E16","v":1},{"$f":"'2_MERCADO_PRIVADO'!F16","v":0},{"$f":"'2_MERCADO_PRIVADO'!G16","v":1},{"$f":"'2_MERCADO_PRIVADO'!H16","v":0},{"$f":"'2_MERCADO_PRIVADO'!I16","v":0},{"$f":"'2_MERCADO_PRIVADO'!J16","v":0},{"$f":"'2_MERCADO_PRIVADO'!K16","v":0},{"$f":"'2_MERCADO_PRIVADO'!L16","v":0},{"$f":"'2_MERCADO_PRIVADO'!M16","v":0},{"$f":"'2_MERCADO_PRIVADO'!N16","v":0},{"$f":"'2_MERCADO_PRIVADO'!O16","v":0},{"$f":"'2_MERCADO_PRIVADO'!P16","v":0},{"$f":"'2_MERCADO_PRIVADO'!Q16","v":0},{"$f":"'2_MERCADO_PRIVADO'!R16","v":0},{"$f":"'2_MERCADO_PRIVADO'!S16","v":0},{"$f":"'2_MERCADO_PRIVADO'!T16","v":0},{"$f":"'2_MERCADO_PRIVADO'!U16","v":0},{"$f":"'2_MERCADO_PRIVADO'!V16","v":0},{"$f":"'2_MERCADO_PRIVADO'!W16","v":1},{"$f":"'2_MERCADO_PRIVADO'!X16","v":1},{"$f":"'2_MERCADO_PRIVADO'!Y16","v":0},{"$f":"'2_MERCADO_PRIVADO'!Z16","v":0},{"$f":"'2_MERCADO_PRIVADO'!AA16","v":0},{"$f":"'2_MERCADO_PRIVADO'!AB16","v":14},{"$f":"'2_MERCADO_PRIVADO'!AC16","v":12},{"$f":"'2_MERCADO_PRIVADO'!AD16","v":5},{"$f":"'2_MERCADO_PRIVADO'!AE16","v":0},{"$f":"'2_MERCADO_PRIVADO'!AF16","v":287},{"$f":"'2_MERCADO_PRIVADO'!AG16","v":147},{"$f":"'2_MERCADO_PRIVADO'!AH16","v":69},{"$f":"'2_MERCADO_PRIVADO'!AI16","v":6},{"$f":"'2_MERCADO_PRIVADO'!AJ16","v":{"v":5563,"d":"5,563"}},{"$f":"'2_MERCADO_PRIVADO'!AK16","v":{"v":2519,"d":"2,519"}},{"$f":"'2_MERCADO_PRIVADO'!AL16","v":{"v":1810,"d":"1,810"}},{"$f":"'2_MERCADO_PRIVADO'!AM16","v":917},{"$f":"'2_MERCADO_PRIVADO'!AN16","v":2},{"$f":"'2_MERCADO_PRIVADO'!AO16","v":7},{"$f":"'2_MERCADO_PRIVADO'!AP16","v":4},{"$f":"'2_MERCADO_PRIVADO'!AQ16","v":2},{"$f":"'2_MERCADO_PRIVADO'!AR16","v":0},{"$f":"'2_MERCADO_PRIVADO'!AS16","v":1},{"$f":"'2_MERCADO_PRIVADO'!AT16","v":0},{"$f":"'2_MERCADO_PRIVADO'!AU16","v":0},{"$f":"'2_MERCADO_PRIVADO'!AV16","v":0},{"$f":"'2_MERCADO_PRIVADO'!AW16","v":0},{"$f":"'2_MERCADO_PRIVADO'!AX16","v":0},{"$f":"'2_MERCADO_PRIVADO'!AY16","v":0},{"$f":"'2_MERCADO_PRIVADO'!AZ16","v":0},{"$f":"'2_MERCADO_PRIVADO'!BA16","v":0},{"$f":"'2_MERCADO_PRIVADO'!BB16","v":0},{"$f":"'2_MERCADO_PRIVADO'!BC16","v":0},{"$f":"'2_MERCADO_PRIVADO'!BD16","v":0},{"$f":"'2_MERCADO_PRIVADO'!BE16","v":0},{"$f":"'2_MERCADO_PRIVADO'!BF16","v":438},{"$f":"'2_MERCADO_PRIVADO'!BG16","v":16},{"$f":"'2_MERCADO_PRIVADO'!BH16","v":3},{"$f":"'2_MERCADO_PRIVADO'!BI16","v":1},{"$f":"'2_MERCADO_PRIVADO'!BJ16","v":0},{"$f":"'2_MERCADO_PRIVADO'!BK16","v":0},{"$f":"'2_MERCADO_PRIVADO'!BL16","v":1},{"$f":"'2_MERCADO_PRIVADO'!BM16","v":5},{"$f":"'2_MERCADO_PRIVADO'!BN16","v":0},{"$f":"'2_MERCADO_PRIVADO'!BO16","v":0},{"$f":"'2_MERCADO_PRIVADO'!BP16","v":0},{"$f":"'2_MERCADO_PRIVADO'!BQ16","v":0},{"$f":"'2_MERCADO_PRIVADO'!BR16","v":0},{"$f":"'2_MERCADO_PRIVADO'!BS16","v":0},{"$f":"'2_MERCADO_PRIVADO'!BT16","v":12},{"$f":"'2_MERCADO_PRIVADO'!BU16","v":682},{"$f":"'2_MERCADO_PRIVADO'!BV16","v":695},{"$f":"'2_MERCADO_PRIVADO'!BW16","v":617},{"$f":"'2_MERCADO_PRIVADO'!BX16","v":0},{"$f":"'2_MERCADO_PRIVADO'!BY16","v":0},{"$f":"'2_MERCADO_PRIVADO'!BZ16","v":5},{"$f":"'2_MERCADO_PRIVADO'!CA16","v":0},{"$f":"'2_MERCADO_PRIVADO'!CB16","v":1},{"$f":"'2_MERCADO_PRIVADO'!CC16","v":1},{"$f":"'2_MERCADO_PRIVADO'!CD16","v":0},{"$f":"'2_MERCADO_PRIVADO'!CE16","v":0},{"$f":"'2_MERCADO_PRIVADO'!CF16","v":0},{"$f":"'2_MERCADO_PRIVADO'!CG16","v":0},{"$f":"'2_MERCADO_PRIVADO'!CH16","v":0},{"$f":"'2_MERCADO_PRIVADO'!CI16","v":0},{"$f":"'2_MERCADO_PRIVADO'!CJ16","v":0},{"$f":"'2_MERCADO_PRIVADO'!CK16","v":0},{"$f":"'2_MERCADO_PRIVADO'!CL16","v":0},{"$f":"'2_MERCADO_PRIVADO'!CM16","v":19},{"$f":"'2_MERCADO_PRIVADO'!CN16","v":2},{"$f":"'2_MERCADO_PRIVADO'!CO16","v":0},{"$f":"'2_MERCADO_PRIVADO'!CP16","v":1},{"$f":"'2_MERCADO_PRIVADO'!CQ16","v":0},{"$f":"'2_MERCADO_PRIVADO'!CR16","v":0},{"$f":"'2_MERCADO_PRIVADO'!CS16","v":0},{"$f":"'2_MERCADO_PRIVADO'!CT16","v":2},{"$f":"'2_MERCADO_PRIVADO'!CU16","v":1},{"$f":"'2_MERCADO_PRIVADO'!CV16","v":0},{"$f":"'2_MERCADO_PRIVADO'!CW16","v":0},{"$f":"'2_MERCADO_PRIVADO'!CX16","v":0},{"$f":"'2_MERCADO_PRIVADO'!CY16","v":1},{"$f":"'2_MERCADO_PRIVADO'!CZ16","v":8},{"$f":"'2_MERCADO_PRIVADO'!DA16","v":20},{"$f":"'2_MERCADO_PRIVADO'!DB16","v":0},{"$f":"'2_MERCADO_PRIVADO'!DC16","v":0},{"$f":"'2_MERCADO_PRIVADO'!DD16","v":0},{"$f":"'2_MERCADO_PRIVADO'!DE16","v":0},{"$f":"'2_MERCADO_PRIVADO'!DF16","v":0},{"$f":"'2_MERCADO_PRIVADO'!DG16","v":0},{"$f":"'2_MERCADO_PRIVADO'!DH16","v":0},{"$f":"'2_MERCADO_PRIVADO'!DI16","v":0},{"$f":"'2_MERCADO_PRIVADO'!DJ16","v":0},{"$f":"'2_MERCADO_PRIVADO'!DK16","v":0},{"$f":"'2_MERCADO_PRIVADO'!DL16","v":0},{"$f":"'2_MERCADO_PRIVADO'!DM16","v":0},{"$f":"'2_MERCADO_PRIVADO'!DN16","v":0},{"$f":"'2_MERCADO_PRIVADO'!DO16","v":0},{"$f":"'2_MERCADO_PRIVADO'!DP16","v":0},{"$f":"'2_MERCADO_PRIVADO'!DQ16","v":0},{"$f":"'2_MERCADO_PRIVADO'!DR16","v":2},{"$f":"'2_MERCADO_PRIVADO'!DS16","v":0},{"$f":"'2_MERCADO_PRIVADO'!DT16","v":30},{"$f":"'2_MERCADO_PRIVADO'!DU16","v":1},{"$f":"'2_MERCADO_PRIVADO'!DV16","v":1},{"$f":"'2_MERCADO_PRIVADO'!DW16","v":3},{"$f":"'2_MERCADO_PRIVADO'!DX16","v":16},{"$f":"'2_MERCADO_PRIVADO'!DY16","v":0},{"$f":"'2_MERCADO_PRIVADO'!DZ16","v":2},{"$f":"'2_MERCADO_PRIVADO'!EA16","v":501},{"$f":"'2_MERCADO_PRIVADO'!EB16","v":1},{"$f":"'2_MERCADO_PRIVADO'!EC16","v":0},{"$f":"'2_MERCADO_PRIVADO'!ED16","v":0},{"$f":"'2_MERCADO_PRIVADO'!EE16","v":4},{"$f":"'2_MERCADO_PRIVADO'!EF16","v":72},{"$f":"'2_MERCADO_PRIVADO'!EG16","v":0},{"$f":"'2_MERCADO_PRIVADO'!EH16","v":0},{"$f":"'2_MERCADO_PRIVADO'!EI16","v":0},{"$f":"'2_MERCADO_PRIVADO'!EJ16","v":0},{"$f":"'2_MERCADO_PRIVADO'!EK16","v":0},{"$f":"'2_MERCADO_PRIVADO'!EL16","v":0},{"$f":"'2_MERCADO_PRIVADO'!EM16","v":0},{"$f":"'2_MERCADO_PRIVADO'!EN16","v":0},{"$f":"'2_MERCADO_PRIVADO'!EO16","v":0},{"$f":"'2_MERCADO_PRIVADO'!EP16","v":0},{"$f":"'2_MERCADO_PRIVADO'!EQ16","v":0},{"$f":"'2_MERCADO_PRIVADO'!ER16","v":0},{"$f":"'2_MERCADO_PRIVADO'!ES16","v":0},{"$f":"'2_MERCADO_PRIVADO'!ET16","v":0},{"$f":"'2_MERCADO_PRIVADO'!EU16","v":0},{"$f":"'2_MERCADO_PRIVADO'!EV16","v":1},{"$f":"'2_MERCADO_PRIVADO'!EW16","v":0},{"$f":"'2_MERCADO_PRIVADO'!EX16","v":0},{"$f":"'2_MERCADO_PRIVADO'!EY16","v":0},{"$f":"'2_MERCADO_PRIVADO'!EZ16","v":0},{"$f":"'2_MERCADO_PRIVADO'!FA16","v":0},{"$f":"'2_MERCADO_PRIVADO'!FB16","v":0},{"$f":"'2_MERCADO_PRIVADO'!FC16","v":1},{"$f":"'2_MERCADO_PRIVADO'!FD16","v":0},{"$f":"'2_MERCADO_PRIVADO'!FE16","v":0},{"$f":"'2_MERCADO_PRIVADO'!FF16","v":4},{"$f":"'2_MERCADO_PRIVADO'!FG16","v":0},{"$f":"'2_MERCADO_PRIVADO'!FH16","v":0},{"$f":"'2_MERCADO_PRIVADO'!FI16","v":0},{"$f":"'2_MERCADO_PRIVADO'!FJ16","v":8},{"$f":"'2_MERCADO_PRIVADO'!FK16","v":3},{"$f":"'2_MERCADO_PRIVADO'!FL16","v":0},{"$f":"'2_MERCADO_PRIVADO'!FM16","v":0},{"$f":"'2_MERCADO_PRIVADO'!FN16","v":0},{"$f":"'2_MERCADO_PRIVADO'!FO16","v":0},{"$f":"'2_MERCADO_PRIVADO'!FP16","v":0},{"$f":"'2_MERCADO_PRIVADO'!FQ16","v":0},{"$f":"'2_MERCADO_PRIVADO'!FR16","v":0},{"$f":"'2_MERCADO_PRIVADO'!FS16","v":0},{"$f":"'2_MERCADO_PRIVADO'!FT16","v":0},{"$f":"'2_MERCADO_PRIVADO'!FU16","v":0},{"$f":"'2_MERCADO_PRIVADO'!FV16","v":0},{"$f":"'2_MERCADO_PRIVADO'!FW16","v":0},{"$f":"'2_MERCADO_PRIVADO'!FX16","v":0},{"$f":"'2_MERCADO_PRIVADO'!FY16","v":0},{"$f":"'2_MERCADO_PRIVADO'!FZ16","v":0},{"$f":"'2_MERCADO_PRIVADO'!GA16","v":0},{"$f":"'2_MERCADO_PRIVADO'!GB16","v":0},{"$f":"'2_MERCADO_PRIVADO'!GC16","v":0},{"$f":"'2_MERCADO_PRIVADO'!GD16","v":0},{"$f":"'2_MERCADO_PRIVADO'!GE16","v":0},{"$f":"'2_MERCADO_PRIVADO'!GF16","v":0},{"$f":"'2_MERCADO_PRIVADO'!GG16","v":0},{"$f":"'2_MERCADO_PRIVADO'!GH16","v":0},{"$f":"'2_MERCADO_PRIVADO'!GI16","v":0},{"$f":"'2_MERCADO_PRIVADO'!GJ16","v":0},{"$f":"'2_MERCADO_PRIVADO'!GK16","v":0},{"$f":"'2_MERCADO_PRIVADO'!GL16","v":0},{"$f":"'2_MERCADO_PRIVADO'!GM16","v":0},{"$f":"'2_MERCADO_PRIVADO'!GN16","v":0},{"$f":"'2_MERCADO_PRIVADO'!GO16","v":0},{"$f":"'2_MERCADO_PRIVADO'!GP16","v":2},{"$f":"'2_MERCADO_PRIVADO'!GQ16","v":234},{"$f":"'2_MERCADO_PRIVADO'!GR16","v":233},{"$f":"'2_MERCADO_PRIVADO'!GS16","v":205},{"$f":"'2_MERCADO_PRIVADO'!GT16","v":146},{"$f":"'2_MERCADO_PRIVADO'!GU16","v":298},{"$f":"'2_MERCADO_PRIVADO'!GV16","v":311},{"$f":"'2_MERCADO_PRIVADO'!GW16","v":0},{"$f":"'2_MERCADO_PRIVADO'!GX16","v":0},{"$f":"'2_MERCADO_PRIVADO'!GY16","v":7},{"$f":"'2_MERCADO_PRIVADO'!GZ16","v":281},{"$f":"'2_MERCADO_PRIVADO'!HA16","v":2},{"$f":"'2_MERCADO_PRIVADO'!HB16","v":62},{"$f":"'2_MERCADO_PRIVADO'!HC16","v":380},{"$f":"'2_MERCADO_PRIVADO'!HD16","v":206},{"$f":"'2_MERCADO_PRIVADO'!HE16","v":64},{"$f":"'2_MERCADO_PRIVADO'!HF16","v":112},{"$f":"'2_MERCADO_PRIVADO'!HG16","v":34},{"$f":"'2_MERCADO_PRIVADO'!HH16","v":995},{"$f":"'2_MERCADO_PRIVADO'!HI16","v":116},{"$f":"'2_MERCADO_PRIVADO'!HJ16","v":149},{"$f":"'2_MERCADO_PRIVADO'!HK16","v":68},{"$f":"'2_MERCADO_PRIVADO'!HL16","v":6},{"$f":"'2_MERCADO_PRIVADO'!HM16","v":1},{"$f":"'2_MERCADO_PRIVADO'!HN16","v":2},{"$f":"'2_MERCADO_PRIVADO'!HO16","v":2},{"$f":"'2_MERCADO_PRIVADO'!HP16","v":3},{"$f":"'2_MERCADO_PRIVADO'!HQ16","v":1},{"$f":"'2_MERCADO_PRIVADO'!HR16","v":5},{"$f":"'2_MERCADO_PRIVADO'!HS16","v":7},{"$f":"'2_MERCADO_PRIVADO'!HT16","v":6},{"$f":"'2_MERCADO_PRIVADO'!HU16","v":22},{"$f":"'2_MERCADO_PRIVADO'!HV16","v":190},{"$f":"'2_MERCADO_PRIVADO'!HW16","v":{"v":1667,"d":"1,667"}},{"$f":"'2_MERCADO_PRIVADO'!HX16","v":56},{"$f":"'2_MERCADO_PRIVADO'!HY16","v":0},{"$f":"'2_MERCADO_PRIVADO'!HZ16","v":1},{"$f":"'2_MERCADO_PRIVADO'!IA16","v":2},{"$f":"'2_MERCADO_PRIVADO'!IB16","v":5},{"$f":"'2_MERCADO_PRIVADO'!IC16","v":2},{"$f":"'2_MERCADO_PRIVADO'!ID16","v":1},{"$f":"'2_MERCADO_PRIVADO'!IE16","v":193},{"$f":"'2_MERCADO_PRIVADO'!IF16","v":249},{"$f":"'2_MERCADO_PRIVADO'!IG16","v":0},{"$f":"'2_MERCADO_PRIVADO'!IH16","v":0},{"$f":"'2_MERCADO_PRIVADO'!II16","v":3},{"$f":"'2_MERCADO_PRIVADO'!IJ16","v":47},{"$f":"'2_MERCADO_PRIVADO'!IK16","v":0},{"$f":"'2_MERCADO_PRIVADO'!IL16","v":0},{"$f":"'2_MERCADO_PRIVADO'!IM16","v":0},{"$f":"'2_MERCADO_PRIVADO'!IN16","v":0},{"$f":"'2_MERCADO_PRIVADO'!IO16","v":1},{"$f":"'2_MERCADO_PRIVADO'!IP16","v":0},{"$f":"'2_MERCADO_PRIVADO'!IQ16","v":1},{"$f":"'2_MERCADO_PRIVADO'!IR16","v":7},{"$f":"'2_MERCADO_PRIVADO'!IS16","v":2},{"$f":"'2_MERCADO_PRIVADO'!IT16","v":26},{"$f":"'2_MERCADO_PRIVADO'!IU16","v":185},{"$f":"'2_MERCADO_PRIVADO'!IV16","v":8},{"$f":"'2_MERCADO_PRIVADO'!IW16","v":1},{"$f":"'2_MERCADO_PRIVADO'!IX16","v":1},{"$f":"'2_MERCADO_PRIVADO'!IY16","v":0},{"$f":"'2_MERCADO_PRIVADO'!IZ16","v":0},{"$f":"'2_MERCADO_PRIVADO'!JA16","v":110},{"$f":"'2_MERCADO_PRIVADO'!JB16","v":16},{"$f":"'2_MERCADO_PRIVADO'!JC16","v":7},{"$f":"'2_MERCADO_PRIVADO'!JD16","v":3},{"$f":"'2_MERCADO_PRIVADO'!JE16","v":5},{"$f":"'2_MERCADO_PRIVADO'!JF16","v":8},{"$f":"'2_MERCADO_PRIVADO'!JG16","v":4},{"$f":"'2_MERCADO_PRIVADO'!JH16","v":2},{"$f":"'2_MERCADO_PRIVADO'!JI16","v":10},{"$f":"'2_MERCADO_PRIVADO'!JJ16","v":6},{"$f":"'2_MERCADO_PRIVADO'!JK16","v":6},{"$f":"'2_MERCADO_PRIVADO'!JL16","v":2},{"$f":"'2_MERCADO_PRIVADO'!JM16","v":6},{"$f":"'2_MERCADO_PRIVADO'!JN16","v":79},{"$f":"'2_MERCADO_PRIVADO'!JO16","v":529},{"$f":"'2_MERCADO_PRIVADO'!JP16","v":205},{"$f":"'2_MERCADO_PRIVADO'!JQ16","v":135},{"$f":"'2_MERCADO_PRIVADO'!JR16","v":62},{"$f":"'2_MERCADO_PRIVADO'!JS16","v":138},{"$f":"'2_MERCADO_PRIVADO'!JT16","v":371},{"$f":"'2_MERCADO_PRIVADO'!JU16","v":4},{"$f":"'2_MERCADO_PRIVADO'!JV16","v":115},{"$f":"'2_MERCADO_PRIVADO'!JW16","v":7},{"$f":"'2_MERCADO_PRIVADO'!JX16","v":43},{"$f":"'2_MERCADO_PRIVADO'!JY16","v":5},{"$f":"'2_MERCADO_PRIVADO'!JZ16","v":23},{"$f":"'2_MERCADO_PRIVADO'!KA16","v":10},{"$f":"'2_MERCADO_PRIVADO'!KB16","v":29},{"$f":"'2_MERCADO_PRIVADO'!KC16","v":9},{"$f":"'2_MERCADO_PRIVADO'!KD16","v":23},{"$f":"'2_MERCADO_PRIVADO'!KE16","v":7},{"$f":"'2_MERCADO_PRIVADO'!KF16","v":19},{"$f":"'2_MERCADO_PRIVADO'!KG16","v":5},{"$f":"'2_MERCADO_PRIVADO'!KH16","v":17},{"$f":"'2_MERCADO_PRIVADO'!KI16","v":6},{"$f":"'2_MERCADO_PRIVADO'!KJ16","v":6},{"$f":"'2_MERCADO_PRIVADO'!KK16","v":49},{"$f":"'2_MERCADO_PRIVADO'!KL16","v":42},{"$f":"'2_MERCADO_PRIVADO'!KM16","v":553},{"$f":"'2_MERCADO_PRIVADO'!KN16","v":143},{"$f":"'2_MERCADO_PRIVADO'!KO16","v":0},{"$f":"'2_MERCADO_PRIVADO'!KP16","v":0},{"$f":"'2_MERCADO_PRIVADO'!KQ16","v":0},{"$f":"'2_MERCADO_PRIVADO'!KR16","v":0},{"$f":"'2_MERCADO_PRIVADO'!KS16","v":0},{"$f":"'2_MERCADO_PRIVADO'!KT16","v":0},{"$f":"'2_MERCADO_PRIVADO'!KU16","v":0},{"$f":"'2_MERCADO_PRIVADO'!KV16","v":0},{"$f":"'2_MERCADO_PRIVADO'!KW16","v":0},{"$f":"'2_MERCADO_PRIVADO'!KX16","v":0},{"$f":"'2_MERCADO_PRIVADO'!KY16","v":1},{"$f":"'2_MERCADO_PRIVADO'!KZ16","v":0},{"$f":"'2_MERCADO_PRIVADO'!LA16","v":0},{"$f":"'2_MERCADO_PRIVADO'!LB16","v":1},{"$f":"'2_MERCADO_PRIVADO'!LC16","v":0},{"$f":"'2_MERCADO_PRIVADO'!LD16","v":0},{"$f":"'2_MERCADO_PRIVADO'!LE16","v":0},{"$f":"'2_MERCADO_PRIVADO'!LF16","v":0},{"$f":"'2_MERCADO_PRIVADO'!LG16","v":0},{"$f":"'2_MERCADO_PRIVADO'!LH16","v":0},{"$f":"'2_MERCADO_PRIVADO'!LI16","v":0},{"$f":"'2_MERCADO_PRIVADO'!LJ16","v":1},{"$f":"'2_MERCADO_PRIVADO'!LK16","v":0},{"$f":"'2_MERCADO_PRIVADO'!LL16","v":0},{"$f":"'2_MERCADO_PRIVADO'!LM16","v":1},{"$f":"'2_MERCADO_PRIVADO'!LN16","v":0},{"$f":"'2_MERCADO_PRIVADO'!LO16","v":0},{"$f":"'2_MERCADO_PRIVADO'!LP16","v":66},{"$f":"'2_MERCADO_PRIVADO'!LQ16","v":7},{"$f":"'2_MERCADO_PRIVADO'!LR16","v":5},{"$f":"'2_MERCADO_PRIVADO'!LS16","v":427},{"$f":"'2_MERCADO_PRIVADO'!LT16","v":245},{"$f":"'2_MERCADO_PRIVADO'!LU16","v":99},{"$f":"'2_MERCADO_PRIVADO'!LV16","v":57},{"$f":"'2_MERCADO_PRIVADO'!LW16","v":3},{"$f":"'2_MERCADO_PRIVADO'!LX16","v":9},{"$f":"'2_MERCADO_PRIVADO'!LY16","v":1},{"$f":"'2_MERCADO_PRIVADO'!LZ16","v":7},{"$f":"'2_MERCADO_PRIVADO'!MA16","v":2},{"$f":"'2_MERCADO_PRIVADO'!MB16","v":4},{"$f":"'2_MERCADO_PRIVADO'!MC16","v":2},{"$f":"'2_MERCADO_PRIVADO'!MD16","v":4},{"$f":"'2_MERCADO_PRIVADO'!ME16","v":25},{"$f":"'2_MERCADO_PRIVADO'!MF16","v":5},{"$f":"'2_MERCADO_PRIVADO'!MG16","v":1},{"$f":"'2_MERCADO_PRIVADO'!MH16","v":0},{"$f":"'2_MERCADO_PRIVADO'!MI16","v":215},{"$f":"'2_MERCADO_PRIVADO'!MJ16","v":91},{"$f":"'2_MERCADO_PRIVADO'!MK16","v":{"v":1448,"d":"1,448"}},{"$f":"'2_MERCADO_PRIVADO'!ML16","v":0},{"$f":"'2_MERCADO_PRIVADO'!MM16","v":0},{"$f":"'2_MERCADO_PRIVADO'!MN16","v":0},{"$f":"'2_MERCADO_PRIVADO'!MO16","v":0},{"$f":"'2_MERCADO_PRIVADO'!MP16","v":0},{"$f":"'2_MERCADO_PRIVADO'!MQ16","v":0},{"$f":"'2_MERCADO_PRIVADO'!MR16","v":0},{"$f":"'2_MERCADO_PRIVADO'!MS16","v":0},{"$f":"'2_MERCADO_PRIVADO'!MT16","v":0},{"$f":"'2_MERCADO_PRIVADO'!MU16","v":0},{"$f":"'2_MERCADO_PRIVADO'!MV16","v":3},{"$f":"'2_MERCADO_PRIVADO'!MW16","v":1},{"$f":"'2_MERCADO_PRIVADO'!MX16","v":2},{"$f":"'2_MERCADO_PRIVADO'!MY16","v":1},{"$f":"'2_MERCADO_PRIVADO'!MZ16","v":1},{"$f":"'2_MERCADO_PRIVADO'!NA16","v":1},{"$f":"'2_MERCADO_PRIVADO'!NB16","v":0},{"$f":"'2_MERCADO_PRIVADO'!NC16","v":0},{"$f":"'2_MERCADO_PRIVADO'!ND16","v":0},{"$f":"'2_MERCADO_PRIVADO'!NE16","v":49},{"$f":"'2_MERCADO_PRIVADO'!NF16","v":34},{"$f":"'2_MERCADO_PRIVADO'!NG16","v":9},{"$f":"'2_MERCADO_PRIVADO'!NH16","v":3},{"$f":"'2_MERCADO_PRIVADO'!NI16","v":0},{"$f":"'2_MERCADO_PRIVADO'!NJ16","v":{"v":1414,"d":"1,414"}},{"$f":"'2_MERCADO_PRIVADO'!NK16","v":646},{"$f":"'2_MERCADO_PRIVADO'!NL16","v":411},{"$f":"'2_MERCADO_PRIVADO'!NM16","v":269},{"$f":"'2_MERCADO_PRIVADO'!NN16","v":199},{"$f":"'2_MERCADO_PRIVADO'!NO16","v":36},{"$f":"'2_MERCADO_PRIVADO'!NP16","v":0},{"$f":"'2_MERCADO_PRIVADO'!NQ16","v":0},{"$f":"'2_MERCADO_PRIVADO'!NR16","v":0},{"$f":"'2_MERCADO_PRIVADO'!NS16","v":149},{"$f":"'2_MERCADO_PRIVADO'!NT16","v":33},{"$f":"'2_MERCADO_PRIVADO'!NU16","v":7},{"$f":"'2_MERCADO_PRIVADO'!NV16","v":0},{"$f":"'2_MERCADO_PRIVADO'!NW16","v":0},{"$f":"'2_MERCADO_PRIVADO'!NX16","v":{"v":4179,"d":"4,179"}},{"$f":"'2_MERCADO_PRIVADO'!NY16","v":{"v":1457,"d":"1,457"}},{"$f":"'2_MERCADO_PRIVADO'!NZ16","v":645},{"$f":"'2_MERCADO_PRIVADO'!OA16","v":202},{"$f":"'2_MERCADO_PRIVADO'!OB16","v":56},{"$f":"'2_MERCADO_PRIVADO'!OC16","v":13},{"$f":"'2_MERCADO_PRIVADO'!OD16","v":0},{"$f":"'2_MERCADO_PRIVADO'!OE16","v":0},{"$f":"'2_MERCADO_PRIVADO'!OF16","v":0},{"$f":"'2_MERCADO_PRIVADO'!OG16","v":369},{"$f":"'2_MERCADO_PRIVADO'!OH16","v":188},{"$f":"'2_MERCADO_PRIVADO'!OI16","v":106},{"$f":"'2_MERCADO_PRIVADO'!OJ16","v":41},{"$f":"'2_MERCADO_PRIVADO'!OK16","v":32},{"$f":"'2_MERCADO_PRIVADO'!OL16","v":110},{"$f":"'2_MERCADO_PRIVADO'!OM16","v":51},{"$f":"'2_MERCADO_PRIVADO'!ON16","v":30},{"$f":"'2_MERCADO_PRIVADO'!OO16","v":17},{"$f":"'2_MERCADO_PRIVADO'!OP16","v":4},{"$f":"'2_MERCADO_PRIVADO'!OQ16","v":0},{"$f":"'2_MERCADO_PRIVADO'!OR16","v":0},{"$f":"'2_MERCADO_PRIVADO'!OS16","v":0},{"$f":"'2_MERCADO_PRIVADO'!OT16","v":0},{"$f":"'2_MERCADO_PRIVADO'!OU16","v":0},{"$f":"'2_MERCADO_PRIVADO'!OV16","v":0},{"$f":"'2_MERCADO_PRIVADO'!OW16","v":9},{"$f":"'2_MERCADO_PRIVADO'!OX16","v":0},{"$f":"'2_MERCADO_PRIVADO'!OY16","v":0},{"$f":"'2_MERCADO_PRIVADO'!OZ16","v":0},{"$f":"'2_MERCADO_PRIVADO'!PA16","v":0},{"$f":"'2_MERCADO_PRIVADO'!PB16","v":0},{"$f":"'2_MERCADO_PRIVADO'!PC16","v":0},{"$f":"'2_MERCADO_PRIVADO'!PD16","v":0},{"$f":"'2_MERCADO_PRIVADO'!PE16","v":0},{"$f":"'2_MERCADO_PRIVADO'!PF16","v":0},{"$f":"'2_MERCADO_PRIVADO'!PG16","v":11},{"$f":"'2_MERCADO_PRIVADO'!PH16","v":0},{"$f":"'2_MERCADO_PRIVADO'!PI16","v":0},{"$f":"'2_MERCADO_PRIVADO'!PJ16","v":0},{"$f":"'2_MERCADO_PRIVADO'!PK16","v":2},{"$f":"'2_MERCADO_PRIVADO'!PL16","v":324},{"$f":"'2_MERCADO_PRIVADO'!PM16","v":0},{"$f":"'2_MERCADO_PRIVADO'!PN16","v":0},{"$f":"'2_MERCADO_PRIVADO'!PO16","v":0},{"$f":"'2_MERCADO_PRIVADO'!PP16","v":0},{"$f":"'2_MERCADO_PRIVADO'!PQ16","v":{"v":3851,"d":"3,851"}},{"$f":"'2_MERCADO_PRIVADO'!PR16","v":5},{"$f":"'2_MERCADO_PRIVADO'!PS16","v":1},{"$f":"'2_MERCADO_PRIVADO'!PT16","v":1},{"$f":"'2_MERCADO_PRIVADO'!PU16","v":0},{"$f":"'2_MERCADO_PRIVADO'!PV16","v":0},{"$f":"'2_MERCADO_PRIVADO'!PW16","v":0},{"$f":"'2_MERCADO_PRIVADO'!PX16","v":0},{"$f":"'2_MERCADO_PRIVADO'!PY16","v":0},{"$f":"'2_MERCADO_PRIVADO'!PZ16","v":412},{"$f":"'2_MERCADO_PRIVADO'!QA16","v":474},{"$f":"'2_MERCADO_PRIVADO'!QB16","v":165},{"$f":"'2_MERCADO_PRIVADO'!QC16","v":155},{"$f":"'2_MERCADO_PRIVADO'!QD16","v":290},{"$f":"'2_MERCADO_PRIVADO'!QE16","v":9},{"$f":"'2_MERCADO_PRIVADO'!QF16","v":10},{"$f":"'2_MERCADO_PRIVADO'!QG16","v":671},{"$f":"'2_MERCADO_PRIVADO'!QH16","v":{"v":1464,"d":"1,464"}},{"$f":"'2_MERCADO_PRIVADO'!QI16","v":52},{"$f":"'2_MERCADO_PRIVADO'!QJ16","v":22},{"$f":"'2_MERCADO_PRIVADO'!QK16","v":6},{"$f":"'2_MERCADO_PRIVADO'!QL16","v":{"v":2713,"d":"2,713"}},{"$f":"'2_MERCADO_PRIVADO'!QM16","v":{"v":1606,"d":"1,606"}},{"$f":"'2_MERCADO_PRIVADO'!QN16","v":{"v":13320,"d":"13,320"}},{"$f":"'2_MERCADO_PRIVADO'!RE16","v":10},{"$f":"'2_MERCADO_PRIVADO'!RF16","v":12},{"$f":"'2_MERCADO_PRIVADO'!RG16","v":13},{"$f":"'2_MERCADO_PRIVADO'!RH16","v":12},{"$f":"'2_MERCADO_PRIVADO'!RI16","v":18},{"$f":"'2_MERCADO_PRIVADO'!RJ16","v":18},{"$f":"'2_MERCADO_PRIVADO'!RK16","v":9},{"$f":"'2_MERCADO_PRIVADO'!RL16","v":18},{"$f":"'2_MERCADO_PRIVADO'!RM16","v":7},{"$f":"'2_MERCADO_PRIVADO'!RN16","v":7},{"$f":"'2_MERCADO_PRIVADO'!RO16","v":13},{"$f":"'2_MERCADO_PRIVADO'!RP16","v":603},{"$f":"'2_MERCADO_PRIVADO'!RQ16","v":493},{"$f":"'2_MERCADO_PRIVADO'!RR16","v":289},{"$f":"'2_MERCADO_PRIVADO'!RS16","v":94},{"$f":"'2_MERCADO_PRIVADO'!RT16","v":84},{"$f":"'2_MERCADO_PRIVADO'!RU16","v":59},{"$f":"'2_MERCADO_PRIVADO'!RV16","v":0},{"$f":"'2_MERCADO_PRIVADO'!RW16","v":0},{"$f":"'2_MERCADO_PRIVADO'!RX16","v":0},{"$f":"'2_MERCADO_PRIVADO'!RY16","v":0},{"$f":"'2_MERCADO_PRIVADO'!RZ16","v":0},{"$f":"'2_MERCADO_PRIVADO'!SA16","v":0},{"$f":"'2_MERCADO_PRIVADO'!SB16","v":0},{"$f":"'2_MERCADO_PRIVADO'!SC16","v":0},{"$f":"'2_MERCADO_PRIVADO'!SD16","v":0},{"$f":"'2_MERCADO_PRIVADO'!SE16","v":0},{"$f":"'2_MERCADO_PRIVADO'!SF16","v":0},{"$f":"'2_MERCADO_PRIVADO'!SG16","v":0},{"$f":"'2_MERCADO_PRIVADO'!SH16","v":0},{"$f":"'2_MERCADO_PRIVADO'!SI16","v":0},{"$f":"'2_MERCADO_PRIVADO'!SJ16","v":0},{"$f":"'2_MERCADO_PRIVADO'!SK16","v":0},{"$f":"'2_MERCADO_PRIVADO'!SL16","v":0},{"$f":"'2_MERCADO_PRIVADO'!SM16","v":0},{"$f":"'2_MERCADO_PRIVADO'!SN16","v":0},{"$f":"'2_MERCADO_PRIVADO'!SO16","v":662},{"$f":"'2_MERCADO_PRIVADO'!SP16","v":430},{"$f":"'2_MERCADO_PRIVADO'!SQ16","v":67},{"$f":"'2_MERCADO_PRIVADO'!SR16","v":123},{"$f":"'2_MERCADO_PRIVADO'!SS16","v":117},{"$f":"'2_MERCADO_PRIVADO'!ST16","v":5},{"$f":"'2_MERCADO_PRIVADO'!SU16","v":34},{"$f":"'2_MERCADO_PRIVADO'!SV16","v":804},{"$f":"'2_MERCADO_PRIVADO'!SW16","v":242},{"$f":"'2_MERCADO_PRIVADO'!SX16","v":73},{"$f":"'2_MERCADO_PRIVADO'!SY16","v":13},{"$f":"'2_MERCADO_PRIVADO'!SZ16","v":218},{"$f":"'2_MERCADO_PRIVADO'!TA16","v":{"v":42003,"d":"42,003"}},{"$f":"'2_MERCADO_PRIVADO'!TB16","v":0},{"$f":"'2_MERCADO_PRIVADO'!TC16","v":{"v":11353,"d":"11,353"}},{"$f":"'2_MERCADO_PRIVADO'!TD16","v":492},{"$f":"'2_MERCADO_PRIVADO'!TE16","v":{"v":2055,"d":"2,055"}},{"$f":"'2_MERCADO_PRIVADO'!TF16","v":633},{"$f":"'2_MERCADO_PRIVADO'!TG16","v":17},{"$f":"'2_MERCADO_PRIVADO'!TH16","v":2},{"$f":"'2_MERCADO_PRIVADO'!TI16","v":672},{"$f":"'2_MERCADO_PRIVADO'!TJ16","v":{"v":1693,"d":"1,693"}},{"$f":"'2_MERCADO_PRIVADO'!TK16","v":{"v":1470,"d":"1,470"}},{"$f":"'2_MERCADO_PRIVADO'!TL16","v":{"v":2240,"d":"2,240"}},{"$f":"'2_MERCADO_PRIVADO'!TM16","v":531},{"$f":"'2_MERCADO_PRIVADO'!TN16","v":{"v":1195,"d":"1,195"}},{"$f":"'2_MERCADO_PRIVADO'!TO16","v":{"v":1624,"d":"1,624"}},{"$f":"'2_MERCADO_PRIVADO'!TP16","v":853},{"$f":"SUM(D3:AJW3)-SUM(PP3:PS3)-SUM(PV3:QA3)-SUM(AIZ3:AJC3)-SUM(AJF3:AJK3)","v":{"v":360035,"d":"360,035"}},{"$f":"CONCATENATE('1_PLANTILLA_MENSUAL'!$G$2,'3_CONSOLIDADO REGIMEN'!B3)","v":"110"}]
[2,{"$f":"'1_PLANTILLA_MENSUAL'!B28","v":0},{"$f":"'1_PLANTILLA_MENSUAL'!C28","v":0},{"$f":"'1_PLANTILLA_MENSUAL'!E36","v":0},{"$f":"'1_PLANTILLA_MENSUAL'!F36","v":0},{"$f":"'1_PLANTILLA_MENSUAL'!G36","v":0},{"$f":"'1_PLANTILLA_MENSUAL'!H36","v":0},{"$f":"'1_PLANTILLA_MENSUAL'!I36","v":0},{"$f":"'1_PLANTILLA_MENSUAL'!J36","v":0},{"$f":"'1_PLANTILLA_MENSUAL'!K36","v":0},{"$f":"'1_PLANTILLA_MENSUAL'!L36","v":0},{"$f":"'1_PLANTILLA_MENSUAL'!M36","v":0},{"$f":"'1_PLANTILLA_MENSUAL'!N36","v":0},{"$f":"'1_PLANTILLA_MENSUAL'!O36","v":0},{"$f":"'1_PLANTILLA_MENSUAL'!P36","v":0},{"$f":"'1_PLANTILLA_MENSUAL'!Q36","v":0},{"$f":"'1_PLANTILLA_MENSUAL'!R36","v":0},{"$f":"'1_PLANTILLA_MENSUAL'!S36","v":0},{"$f":"'1_PLANTILLA_MENSUAL'!T36","v":0},{"$f":"'1_PLANTILLA_MENSUAL'!U36","v":0},{"$f":"'1_PLANTILLA_MENSUAL'!V36","v":0},{"$f":"'1_PLANTILLA_MENSUAL'!W36","v":0},{"$f":"'1_PLANTILLA_MENSUAL'!X36","v":0},{"$f":"'1_PLANTILLA_MENSUAL'!Y36","v":0},{"$f":"'1_PLANTILLA_MENSUAL'!Z36","v":0},{"$f":"'1_PLANTILLA_MENSUAL'!AA36","v":0},{"$f":"'1_PLANTILLA_MENSUAL'!AB36","v":0},{"$f":"'1_PLANTILLA_MENSUAL'!AC36","v":0},{"$f":"'1_PLANTILLA_MENSUAL'!AD36","v":0},{"$f":"'1_PLANTILLA_MENSUAL'!AE36","v":0},{"$f":"'1_PLANTILLA_MENSUAL'!AF36","v":0},{"$f":"'1_PLANTILLA_MENSUAL'!AG36","v":0},{"$f":"'1_PLANTILLA_MENSUAL'!AH36","v":0},{"$f":"'1_PLANTILLA_MENSUAL'!AI36","v":0},{"$f":"'1_PLANTILLA_MENSUAL'!AJ36","v":0},{"$f":"'1_PLANTILLA_MENSUAL'!AK36","v":0},{"$f":"'1_PLANTILLA_MENSUAL'!AL36","v":0},{"$f":"'1_PLANTILLA_MENSUAL'!AM36","v":0},{"$f":"'1_PLANTILLA_MENSUAL'!AN36","v":0},{"$f":"'1_PLANTILLA_MENSUAL'!AO36","v":0},{"$f":"'1_PLANTILLA_MENSUAL'!AP36","v":0},{"$f":"'1_PLANTILLA_MENSUAL'!AQ36","v":0},{"$f":"'1_PLANTILLA_MENSUAL'!AR36","v":0},{"$f":"'1_PLANTILLA_MENSUAL'!AS36","v":0},{"$f":"'1_PLANTILLA_MENSUAL'!AT36","v":0},{"$f":"'1_PLANTILLA_MENSUAL'!AU36","v":0},{"$f":"'1_PLANTILLA_MENSUAL'!AV36","v":0},{"$f":"'1_PLANTILLA_MENSUAL'!AW36","v":0},{"$f":"'1_PLANTILLA_MENSUAL'!AX36","v":0},{"$f":"'1_PLANTILLA_MENSUAL'!AY36","v":0},{"$f":"'1_PLANTILLA_MENSUAL'!AZ36","v":0},{"$f":"'1_PLANTILLA_MENSUAL'!BA36","v":0},{"$f":"'1_PLANTILLA_MENSUAL'!BB36","v":0},{"$f":"'1_PLANTILLA_MENSUAL'!BC36","v":0},{"$f":"'1_PLANTILLA_MENSUAL'!BD36","v":0},{"$f":"'1_PLANTILLA_MENSUAL'!BE36","v":0},{"$f":"'1_PLANTILLA_MENSUAL'!BF36","v":0},{"$f":"'1_PLANTILLA_MENSUAL'!BG36","v":0},{"$f":"'1_PLANTILLA_MENSUAL'!BH36","v":0},{"$f":"'1_PLANTILLA_MENSUAL'!BI36","v":0},{"$f":"'1_PLANTILLA_MENSUAL'!BJ36","v":0},{"$f":"'1_PLANTILLA_MENSUAL'!BK36","v":0},{"$f":"'1_PLANTILLA_MENSUAL'!BL36","v":0},{"$f":"'1_PLANTILLA_MENSUAL'!BM36","v":0},{"$f":"'1_PLANTILLA_MENSUAL'!BN36","v":0},{"$f":"'1_PLANTILLA_MENSUAL'!BO36","v":0},{"$f":"'1_PLANTILLA_MENSUAL'!BP36","v":0},{"$f":"'1_PLANTILLA_MENSUAL'!BQ36","v":0},{"$f":"'1_PLANTILLA_MENSUAL'!BR36","v":0},{"$f":"'1_PLANTILLA_MENSUAL'!BS36","v":0},{"$f":"'1_PLANTILLA_MENSUAL'!BT36","v":0},{"$f":"'1_PLANTILLA_MENSUAL'!BU36","v":0},{"$f":"'1_PLANTILLA_MENSUAL'!BV36","v":0},{"$f":"'1_PLANTILLA_MENSUAL'!BW36","v":0},{"$f":"'1_PLANTILLA_MENSUAL'!BX36","v":0},{"$f":"'1_PLANTILLA_MENSUAL'!BY36","v":0},{"$f":"'1_PLANTILLA_MENSUAL'!BZ36","v":0},{"$f":"'1_PLANTILLA_MENSUAL'!CA36","v":0},{"$f":"'1_PLANTILLA_MENSUAL'!CB36","v":0},{"$f":"'1_PLANTILLA_MENSUAL'!CC36","v":0},{"$f":"'1_PLANTILLA_MENSUAL'!CD36","v":0},{"$f":"'1_PLANTILLA_MENSUAL'!CE36","v":0},{"$f":"'1_PLANTILLA_MENSUAL'!CF36","v":0},{"$f":"'1_PLANTILLA_MENSUAL'!CG36","v":0},{"$f":"'1_PLANTILLA_MENSUAL'!CH36","v":0},{"$f":"'1_PLANTILLA_MENSUAL'!CI36","v":0},{"$f":"'1_PLANTILLA_MENSUAL'!CJ36","v":0},{"$f":"'1_PLANTILLA_MENSUAL'!CK36","v":0},{"$f":"'1_PLANTILLA_MENSUAL'!CL36","v":0},{"$f":"'1_PLANTILLA_MENSUAL'!CM36","v":0},{"$f":"'1_PLANTILLA_MENSUAL'!CN36","v":0},{"$f":"'1_PLANTILLA_MENSUAL'!CO36","v":0},{"$f":"'1_PLANTILLA_MENSUAL'!CP36","v":0},{"$f":"'1_PLANTILLA_MENSUAL'!CQ36","v":0},{"$f":"'1_PLANTILLA_MENSUAL'!CR36","v":0},{"$f":"'1_PLANTILLA_MENSUAL'!CS36","v":0},{"$f":"'1_PLANTILLA_MENSUAL'!CT36","v":0},{"$f":"'1_PLANTILLA_MENSUAL'!CU36","v":0},{"$f":"'1_PLANTILLA_MENSUAL'!CV36","v":0},{"$f":"'1_PLANTILLA_MENSUAL'!CW36","v":0},{"$f":"'1_PLANTILLA_MENSUAL'!CX36","v":0},{"$f":"'1_PLANTILLA_MENSUAL'!CY36","v":0},{"$f":"'1_PLANTILLA_MENSUAL'!CZ36","v":0},{"$f":"'1_PLANTILLA_MENSUAL'!DA36","v":0},{"$f":"'1_PLANTILLA_MENSUAL'!DB36","v":0},{"$f":"'1_PLANTILLA_MENSUAL'!DC36","v":0},{"$f":"'1_PLANTILLA_MENSUAL'!DD36","v":0},{"$f":"'1_PLANTILLA_MENSUAL'!DE36","v":0},{"$f":"'1_PLANTILLA_MENSUAL'!DF36","v":0},{"$f":"'1_PLANTILLA_MENSUAL'!DG36","v":0},{"$f":"'1_PLANTILLA_MENSUAL'!DH36","v":0},{"$f":"'1_PLANTILLA_MENSUAL'!DI36","v":0},{"$f":"'1_PLANTILLA_MENSUAL'!DJ36","v":0},{"$f":"'1_PLANTILLA_MENSUAL'!DK36","v":0},{"$f":"'1_PLANTILLA_MENSUAL'!DL36","v":0},{"$f":"'1_PLANTILLA_MENSUAL'!DM36","v":0},{"$f":"'1_PLANTILLA_MENSUAL'!DN36","v":0},{"$f":"'1_PLANTILLA_MENSUAL'!DO36","v":0},{"$f":"'1_PLANTILLA_MENSUAL'!DP36","v":0},{"$f":"'1_PLANTILLA_MENSUAL'!DQ36","v":0},{"$f":"'1_PLANTILLA_MENSUAL'!DR36","v":0},{"$f":"'1_PLANTILLA_MENSUAL'!DS36","v":0},{"$f":"'1_PLANTILLA_MENSUAL'!DT36","v":0},{"$f":"'1_PLANTILLA_MENSUAL'!DU36","v":0},{"$f":"'1_PLANTILLA_MENSUAL'!DV36","v":0},{"$f":"'1_PLANTILLA_MENSUAL'!DW36","v":0},{"$f":"'1_PLANTILLA_MENSUAL'!DX36","v":0},{"$f":"'1_PLANTILLA_MENSUAL'!DY36","v":0},{"$f":"'1_PLANTILLA_MENSUAL'!DZ36","v":0},{"$f":"'1_PLANTILLA_MENSUAL'!EA36","v":0},{"$f":"'1_PLANTILLA_MENSUAL'!EB36","v":0},{"$f":"'1_PLANTILLA_MENSUAL'!EC36","v":0},{"$f":"'1_PLANTILLA_MENSUAL'!ED36","v":0},{"$f":"'1_PLANTILLA_MENSUAL'!EE36","v":0},{"$f":"'1_PLANTILLA_MENSUAL'!EF36","v":0},{"$f":"'1_PLANTILLA_MENSUAL'!EG36","v":0},{"$f":"'1_PLANTILLA_MENSUAL'!EH36","v":0},{"$f":"'1_PLANTILLA_MENSUAL'!EI36","v":0},{"$f":"'1_PLANTILLA_MENSUAL'!EJ36","v":0},{"$f":"'1_PLANTILLA_MENSUAL'!EK36","v":0},{"$f":"'1_PLANTILLA_MENSUAL'!EL36","v":0},{"$f":"'1_PLANTILLA_MENSUAL'!EM36","v":0},{"$f":"'1_PLANTILLA_MENSUAL'!EN36","v":0},{"$f":"'1_PLANTILLA_MENSUAL'!EO36","v":0},{"$f":"'1_PLANTILLA_MENSUAL'!EP36","v":0},{"$f":"'1_PLANTILLA_MENSUAL'!EQ36","v":0},{"$f":"'1_PLANTILLA_MENSUAL'!ER36","v":0},{"$f":"'1_PLANTILLA_MENSUAL'!ES36","v":0},{"$f":"'1_PLANTILLA_MENSUAL'!ET36","v":0},{"$f":"'1_PLANTILLA_MENSUAL'!EU36","v":0},{"$f":"'1_PLANTILLA_MENSUAL'!EV36","v":0},{"$f":"'1_PLANTILLA_MENSUAL'!EW36","v":0},{"$f":"'1_PLANTILLA_MENSUAL'!EX36","v":0},{"$f":"'1_PLANTILLA_MENSUAL'!EY36","v":0},{"$f":"'1_PLANTILLA_MENSUAL'!EZ36","v":0},{"$f":"'1_PLANTILLA_MENSUAL'!FA36","v":0},{"$f":"'1_PLANTILLA_MENSUAL'!FB36","v":0},{"$f":"'1_PLANTILLA_MENSUAL'!FC36","v":0},{"$f":"'1_PLANTILLA_MENSUAL'!FD36","v":0},{"$f":"'1_PLANTILLA_MENSUAL'!FE36","v":0},{"$f":"'1_PLANTILLA_MENSUAL'!FF36","v":0},{"$f":"'1_PLANTILLA_MENSUAL'!FG36","v":0},{"$f":"'1_PLANTILLA_MENSUAL'!FH36","v":0},{"$f":"'1_PLANTILLA_MENSUAL'!FI36","v":0},{"$f":"'1_PLANTILLA_MENSUAL'!FJ36","v":0},{"$f":"'1_PLANTILLA_MENSUAL'!FK36","v":0},{"$f":"'1_PLANTILLA_MENSUAL'!FL36","v":0},{"$f":"'1_PLANTILLA_MENSUAL'!FM36","v":0},{"$f":"'1_PLANTILLA_MENSUAL'!FN36","v":0},{"$f":"'1_PLANTILLA_MENSUAL'!FO36","v":0},{"$f":"'1_PLANTILLA_MENSUAL'!FP36","v":0},{"$f":"'1_PLANTILLA_MENSUAL'!FQ36","v":0},{"$f":"'1_PLANTILLA_MENSUAL'!FR36","v":0},{"$f":"'1_PLANTILLA_MENSUAL'!FS36","v":0},{"$f":"'1_PLANTILLA_MENSUAL'!FT36","v":0},{"$f":"'1_PLANTILLA_MENSUAL'!FU36","v":0},{"$f":"'1_PLANTILLA_MENSUAL'!FV36","v":0},{"$f":"'1_PLANTILLA_MENSUAL'!FW36","v":0},{"$f":"'1_PLANTILLA_MENSUAL'!FX36","v":0},{"$f":"'1_PLANTILLA_MENSUAL'!FY36","v":0},{"$f":"'1_PLANTILLA_MENSUAL'!FZ36","v":0},{"$f":"'1_PLANTILLA_MENSUAL'!GA36","v":0},{"$f":"'1_PLANTILLA_MENSUAL'!GB36","v":0},{"$f":"'1_PLANTILLA_MENSUAL'!GC36","v":0},{"$f":"'1_PLANTILLA_MENSUAL'!GD36","v":0},{"$f":"'1_PLANTILLA_MENSUAL'!GE36","v":0},{"$f":"'1_PLANTILLA_MENSUAL'!GF36","v":0},{"$f":"'1_PLANTILLA_MENSUAL'!GG36","v":0},{"$f":"'1_PLANTILLA_MENSUAL'!GH36","v":0},{"$f":"'1_PLANTILLA_MENSUAL'!GI36","v":0},{"$f":"'1_PLANTILLA_MENSUAL'!GJ36","v":0},{"$f":"'1_PLANTILLA_MENSUAL'!GK36","v":0},{"$f":"'1_PLANTILLA_MENSUAL'!GL36","v":0},{"$f":"'1_PLANTILLA_MENSUAL'!GM36","v":0},{"$f":"'1_PLANTILLA_MENSUAL'!GN36","v":0},{"$f":"'1_PLANTILLA_MENSUAL'!GO36","v":0},{"$f":"'1_PLANTILLA_MENSUAL'!GP36","v":0},{"$f":"'1_PLANTILLA_MENSUAL'!GQ36","v":0},{"$f":"'1_PLANTILLA_MENSUAL'!GR36","v":0},{"$f":"'1_PLANTILLA_MENSUAL'!GS36","v":0},{"$f":"'1_PLANTILLA_MENSUAL'!GT36","v":0},{"$f":"'1_PLANTILLA_MENSUAL'!GU36","v":0},{"$f":"'1_PLANTILLA_MENSUAL'!GV36","v":0},{"$f":"'1_PLANTILLA_MENSUAL'!GW36","v":0},{"$f":"'1_PLANTILLA_MENSUAL'!GX36","v":0},{"$f":"'1_PLANTILLA_MENSUAL'!GY36","v":0},{"$f":"'1_PLANTILLA_MENSUAL'!GZ36","v":0},{"$f":"'1_PLANTILLA_MENSUAL'!HA36","v":0},{"$f":"'1_PLANTILLA_MENSUAL'!HB36","v":0},{"$f":"'1_PLANTILLA_MENSUAL'!HC36","v":0},{"$f":"'1_PLANTILLA_MENSUAL'!HD36","v":0},{"$f":"'1_PLANTILLA_MENSUAL'!HE36","v":0},{"$f":"'1_PLANTILLA_MENSUAL'!HF36","v":0},{"$f":"'1_PLANTILLA_MENSUAL'!HG36","v":0},{"$f":"'1_PLANTILLA_MENSUAL'!HH36","v":0},{"$f":"'1_PLANTILLA_MENSUAL'!HI36","v":0},{"$f":"'1_PLANTILLA_MENSUAL'!HJ36","v":0},{"$f":"'1_PLANTILLA_MENSUAL'!HK36","v":0},{"$f":"'1_PLANTILLA_MENSUAL'!HL36","v":0},{"$f":"'1_PLANTILLA_MENSUAL'!HM36","v":0},{"$f":"'1_PLANTILLA_MENSUAL'!HN36","v":0},{"$f":"'1_PLANTILLA_MENSUAL'!HO36","v":0},{"$f":"'1_PLANTILLA_MENSUAL'!HP36","v":0},{"$f":"'1_PLANTILLA_MENSUAL'!HQ36","v":0},{"$f":"'1_PLANTILLA_MENSUAL'!HR36","v":0},{"$f":"'1_PLANTILLA_MENSUAL'!HS36","v":0},{"$f":"'1_PLANTILLA_MENSUAL'!HT36","v":0},{"$f":"'1_PLANTILLA_MENSUAL'!HU36","v":0},{"$f":"'1_PLANTILLA_MENSUAL'!HV36","v":0},{"$f":"'1_PLANTILLA_MENSUAL'!HW36","v":0},{"$f":"'1_PLANTILLA_MENSUAL'!HX36","v":0},{"$f":"'1_PLANTILLA_MENSUAL'!HY36","v":0},{"$f":"'1_PLANTILLA_MENSUAL'!HZ36","v":0},{"$f":"'1_PLANTILLA_MENSUAL'!IA36","v":0},{"$f":"'1_PLANTILLA_MENSUAL'!IB36","v":0},{"$f":"'1_PLANTILLA_MENSUAL'!IC36","v":0},{"$f":"'1_PLANTILLA_MENSUAL'!ID36","v":0},{"$f":"'1_PLANTILLA_MENSUAL'!IE36","v":0},{"$f":"'1_PLANTILLA_MENSUAL'!IF36","v":0},{"$f":"'1_PLANTILLA_MENSUAL'!IG36","v":0},{"$f":"'1_PLANTILLA_MENSUAL'!IH36","v":0},{"$f":"'1_PLANTILLA_MENSUAL'!II36","v":0},{"$f":"'1_PLANTILLA_MENSUAL'!IJ36","v":0},{"$f":"'1_PLANTILLA_MENSUAL'!IK36","v":0},{"$f":"'1_PLANTILLA_MENSUAL'!IL36","v":0},{"$f":"'1_PLANTILLA_MENSUAL'!IM36","v":0},{"$f":"'1_PLANTILLA_MENSUAL'!IN36","v":0},{"$f":"'1_PLANTILLA_MENSUAL'!IO36","v":0},{"$f":"'1_PLANTILLA_MENSUAL'!IP36","v":0},{"$f":"'1_PLANTILLA_MENSUAL'!IQ36","v":0},{"$f":"'1_PLANTILLA_MENSUAL'!IR36","v":0},{"$f":"'1_PLANTILLA_MENSUAL'!IS36","v":0},{"$f":"'1_PLANTILLA_MENSUAL'!IT36","v":0},{"$f":"'1_PLANTILLA_MENSUAL'!IU36","v":0},{"$f":"'1_PLANTILLA_MENSUAL'!IV36","v":0},{"$f":"'1_PLANTILLA_MENSUAL'!IW36","v":0},{"$f":"'1_PLANTILLA_MENSUAL'!IX36","v":0},{"$f":"'1_PLANTILLA_MENSUAL'!IY36","v":0},{"$f":"'1_PLANTILLA_MENSUAL'!IZ36","v":0},{"$f":"'1_PLANTILLA_MENSUAL'!JA36","v":0},{"$f":"'1_PLANTILLA_MENSUAL'!JB36","v":0},{"$f":"'1_PLANTILLA_MENSUAL'!JC36","v":0},{"$f":"'1_PLANTILLA_MENSUAL'!JD36","v":0},{"$f":"'1_PLANTILLA_MENSUAL'!JE36","v":0},{"$f":"'1_PLANTILLA_MENSUAL'!JF36","v":0},{"$f":"'1_PLANTILLA_MENSUAL'!JG36","v":0},{"$f":"'1_PLANTILLA_MENSUAL'!JH36","v":0},{"$f":"'1_PLANTILLA_MENSUAL'!JI36","v":0},{"$f":"'1_PLANTILLA_MENSUAL'!JJ36","v":0},{"$f":"'1_PLANTILLA_MENSUAL'!JK36","v":0},{"$f":"'1_PLANTILLA_MENSUAL'!JL36","v":0},{"$f":"'1_PLANTILLA_MENSUAL'!JM36","v":0},{"$f":"'1_PLANTILLA_MENSUAL'!JN36","v":0},{"$f":"'1_PLANTILLA_MENSUAL'!JO36","v":0},{"$f":"'1_PLANTILLA_MENSUAL'!JP36","v":0},{"$f":"'1_PLANTILLA_MENSUAL'!JQ36","v":0},{"$f":"'1_PLANTILLA_MENSUAL'!JR36","v":0},{"$f":"'1_PLANTILLA_MENSUAL'!JS36","v":0},{"$f":"'1_PLANTILLA_MENSUAL'!JT36","v":0},{"$f":"'1_PLANTILLA_MENSUAL'!JU36","v":0},{"$f":"'1_PLANTILLA_MENSUAL'!JV36","v":0},{"$f":"'1_PLANTILLA_MENSUAL'!JW36","v":0},{"$f":"'1_PLANTILLA_MENSUAL'!JX36","v":0},{"$f":"'1_PLANTILLA_MENSUAL'!JY36","v":0},{"$f":"'1_PLANTILLA_MENSUAL'!JZ36","v":0},{"$f":"'1_PLANTILLA_MENSUAL'!KA36","v":0},{"$f":"'1_PLANTILLA_MENSUAL'!KB36","v":0},{"$f":"'1_PLANTILLA_MENSUAL'!KC36","v":0},{"$f":"'1_PLANTILLA_MENSUAL'!KD36","v":0},{"$f":"'1_PLANTILLA_MENSUAL'!KE36","v":0},{"$f":"'1_PLANTILLA_MENSUAL'!KF36","v":0},{"$f":"'1_PLANTILLA_MENSUAL'!KG36","v":0},{"$f":"'1_PLANTILLA_MENSUAL'!KH36","v":0},{"$f":"'1_PLANTILLA_MENSUAL'!KI36","v":0},{"$f":"'1_PLANTILLA_MENSUAL'!KJ36","v":0},{"$f":"'1_PLANTILLA_MENSUAL'!KK36","v":0},{"$f":"'1_PLANTILLA_MENSUAL'!KL36","v":0},{"$f":"'1_PLANTILLA_MENSUAL'!KM36","v":0},{"$f":"'1_PLANTILLA_MENSUAL'!KN36","v":0},{"$f":"'1_PLANTILLA_MENSUAL'!KO36","v":0},{"$f":"'1_PLANTILLA_MENSUAL'!KP36","v":0},{"$f":"'1_PLANTILLA_MENSUAL'!KQ36","v":0},{"$f":"'1_PLANTILLA_MENSUAL'!KR36","v":0},{"$f":"'1_PLANTILLA_MENSUAL'!KS36","v":0},{"$f":"'1_PLANTILLA_MENSUAL'!KT36","v":0},{"$f":"'1_PLANTILLA_MENSUAL'!KU36","v":0},{"$f":"'1_PLANTILLA_MENSUAL'!KV36","v":0},{"$f":"'1_PLANTILLA_MENSUAL'!KW36","v":0},{"$f":"'1_PLANTILLA_MENSUAL'!KX36","v":0},{"$f":"'1_PLANTILLA_MENSUAL'!KY36","v":0},{"$f":"'1_PLANTILLA_MENSUAL'!KZ36","v":0},{"$f":"'1_PLANTILLA_MENSUAL'!LA36","v":0},{"$f":"'1_PLANTILLA_MENSUAL'!LB36","v":0},{"$f":"'1_PLANTILLA_MENSUAL'!LC36","v":0},{"$f":"'1_PLANTILLA_MENSUAL'!LD36","v":0},{"$f":"'1_PLANTILLA_MENSUAL'!LE36","v":0},{"$f":"'1_PLANTILLA_MENSUAL'!LF36","v":0},{"$f":"'1_PLANTILLA_MENSUAL'!LG36","v":0},{"$f":"'1_PLANTILLA_MENSUAL'!LH36","v":0},{"$f":"'1_PLANTILLA_MENSUAL'!LI36","v":0},{"$f":"'1_PLANTILLA_MENSUAL'!LJ36","v":0},{"$f":"'1_PLANTILLA_MENSUAL'!LK36","v":0},{"$f":"'1_PLANTILLA_MENSUAL'!LL36","v":0},{"$f":"'1_PLANTILLA_MENSUAL'!LM36","v":0},{"$f":"'1_PLANTILLA_MENSUAL'!LN36","v":0},{"$f":"'1_PLANTILLA_MENSUAL'!LO36","v":0},{"$f":"'1_PLANTILLA_MENSUAL'!LP36","v":0},{"$f":"'1_PLANTILLA_MENSUAL'!LQ36","v":0},{"$f":"'1_PLANTILLA_MENSUAL'!LR36","v":0},{"$f":"'1_PLANTILLA_MENSUAL'!LS36","v":0},{"$f":"'1_PLANTILLA_MENSUAL'!LT36","v":0},{"$f":"'1_PLANTILLA_MENSUAL'!LU36","v":0},{"$f":"'1_PLANTILLA_MENSUAL'!LV36","v":0},{"$f":"'1_PLANTILLA_MENSUAL'!LW36","v":0},{"$f":"'1_PLANTILLA_MENSUAL'!LX36","v":0},{"$f":"'1_PLANTILLA_MENSUAL'!LY36","v":0},{"$f":"'1_PLANTILLA_MENSUAL'!LZ36","v":0},{"$f":"'1_PLANTILLA_MENSUAL'!MA36","v":0},{"$f":"'1_PLANTILLA_MENSUAL'!MB36","v":0},{"$f":"'1_PLANTILLA_MENSUAL'!MC36","v":0},{"$f":"'1_PLANTILLA_MENSUAL'!MD36","v":0},{"$f":"'1_PLANTILLA_MENSUAL'!ME36","v":0},{"$f":"'1_PLANTILLA_MENSUAL'!MF36","v":0},{"$f":"'1_PLANTILLA_MENSUAL'!MG36","v":0},{"$f":"'1_PLANTILLA_MENSUAL'!MH36","v":0},{"$f":"'1_PLANTILLA_MENSUAL'!MI36","v":0},{"$f":"'1_PLANTILLA_MENSUAL'!MJ36","v":0},{"$f":"'1_PLANTILLA_MENSUAL'!MK36","v":0},{"$f":"'1_PLANTILLA_MENSUAL'!ML36","v":0},{"$f":"'1_PLANTILLA_MENSUAL'!MM36","v":0},{"$f":"'1_PLANTILLA_MENSUAL'!MN36","v":0},{"$f":"'1_PLANTILLA_MENSUAL'!MO36","v":0},{"$f":"'1_PLANTILLA_MENSUAL'!MP36","v":0},{"$f":"'1_PLANTILLA_MENSUAL'!MQ36","v":0},{"$f":"'1_PLANTILLA_MENSUAL'!MR36","v":0},{"$f":"'1_PLANTILLA_MENSUAL'!MS36","v":0},{"$f":"'1_PLANTILLA_MENSUAL'!MT36","v":0},{"$f":"'1_PLANTILLA_MENSUAL'!MU36","v":0},{"$f":"'1_PLANTILLA_MENSUAL'!MV36","v":0},{"$f":"'1_PLANTILLA_MENSUAL'!MW36","v":0},{"$f":"'1_PLANTILLA_MENSUAL'!MX36","v":0},{"$f":"'1_PLANTILLA_MENSUAL'!MY36","v":0},{"$f":"'1_PLANTILLA_MENSUAL'!MZ36","v":0},{"$f":"'1_PLANTILLA_MENSUAL'!NA36","v":0},{"$f":"'1_PLANTILLA_MENSUAL'!NB36","v":0},{"$f":"'1_PLANTILLA_MENSUAL'!NC36","v":0},{"$f":"'1_PLANTILLA_MENSUAL'!ND36","v":0},{"$f":"'1_PLANTILLA_MENSUAL'!NE36","v":0},{"$f":"'1_PLANTILLA_MENSUAL'!NF36","v":0},{"$f":"'1_PLANTILLA_MENSUAL'!NG36","v":0},{"$f":"'1_PLANTILLA_MENSUAL'!NH36","v":0},{"$f":"'1_PLANTILLA_MENSUAL'!NI36","v":0},{"$f":"'1_PLANTILLA_MENSUAL'!NJ36","v":0},{"$f":"'1_PLANTILLA_MENSUAL'!NK36","v":0},{"$f":"'1_PLANTILLA_MENSUAL'!NL36","v":0},{"$f":"'1_PLANTILLA_MENSUAL'!NM36","v":0},{"$f":"'1_PLANTILLA_MENSUAL'!NN36","v":0},{"$f":"'1_PLANTILLA_MENSUAL'!NO36","v":0},{"$f":"'1_PLANTILLA_MENSUAL'!NP36","v":0},{"$f":"'1_PLANTILLA_MENSUAL'!NQ36","v":0},{"$f":"'1_PLANTILLA_MENSUAL'!NR36","v":0},{"$f":"'1_PLANTILLA_MENSUAL'!NS36","v":0},{"$f":"'1_PLANTILLA_MENSUAL'!NT36","v":0},{"$f":"'1_PLANTILLA_MENSUAL'!NU36","v":0},{"$f":"'1_PLANTILLA_MENSUAL'!NV36","v":0},{"$f":"'1_PLANTILLA_MENSUAL'!NW36","v":0},{"$f":"'1_PLANTILLA_MENSUAL'!NX36","v":0},{"$f":"'1_PLANTILLA_MENSUAL'!NY36","v":0},{"$f":"'1_PLANTILLA_MENSUAL'!NZ36","v":0},{"$f":"'1_PLANTILLA_MENSUAL'!OA36","v":0},{"$f":"'1_PLANTILLA_MENSUAL'!OB36","v":0},{"$f":"'1_PLANTILLA_MENSUAL'!OC36","v":0},{"$f":"'1_PLANTILLA_MENSUAL'!OD36","v":0},{"$f":"'1_PLANTILLA_MENSUAL'!OE36","v":0},{"$f":"'1_PLANTILLA_MENSUAL'!OF36","v":0},{"$f":"'1_PLANTILLA_MENSUAL'!OG36","v":0},{"$f":"'1_PLANTILLA_MENSUAL'!OH36","v":0},{"$f":"'1_PLANTILLA_MENSUAL'!OI36","v":0},{"$f":"'1_PLANTILLA_MENSUAL'!OJ36","v":0},{"$f":"'1_PLANTILLA_MENSUAL'!OK36","v":0},{"$f":"'1_PLANTILLA_MENSUAL'!OL36","v":0},{"$f":"'1_PLANTILLA_MENSUAL'!OM36","v":0},{"$f":"'1_PLANTILLA_MENSUAL'!ON36","v":0},{"$f":"'1_PLANTILLA_MENSUAL'!OO36","v":0},{"$f":"'1_PLANTILLA_MENSUAL'!OP36","v":0},{"$f":"'1_PLANTILLA_MENSUAL'!OQ36","v":0},{"$f":"'1_PLANTILLA_MENSUAL'!OR36","v":0},{"$f":"'1_PLANTILLA_MENSUAL'!OS36","v":0},{"$f":"'1_PLANTILLA_MENSUAL'!OT36","v":0},{"$f":"'1_PLANTILLA_MENSUAL'!OU36","v":0},{"$f":"'1_PLANTILLA_MENSUAL'!OV36","v":0},{"$f":"'1_PLANTILLA_MENSUAL'!OW36","v":0},{"$f":"'1_PLANTILLA_MENSUAL'!OX36","v":0},{"$f":"'1_PLANTILLA_MENSUAL'!OY36","v":0},{"$f":"'1_PLANTILLA_MENSUAL'!OZ36","v":0},{"$f":"'1_PLANTILLA_MENSUAL'!PA36","v":0},{"$f":"'1_PLANTILLA_MENSUAL'!PB36","v":0},{"$f":"'1_PLANTILLA_MENSUAL'!PC36","v":0},{"$f":"'1_PLANTILLA_MENSUAL'!PD36","v":0},{"$f":"'1_PLANTILLA_MENSUAL'!PE36","v":0},{"$f":"'1_PLANTILLA_MENSUAL'!PF36","v":0},{"$f":"'1_PLANTILLA_MENSUAL'!PG36","v":0},{"$f":"'1_PLANTILLA_MENSUAL'!PH36","v":0},{"$f":"'1_PLANTILLA_MENSUAL'!PI36","v":0},{"$f":"'1_PLANTILLA_MENSUAL'!PJ36","v":0},{"$f":"'1_PLANTILLA_MENSUAL'!PK36","v":0},{"$f":"'1_PLANTILLA_MENSUAL'!PL36","v":0},{"$f":"'1_PLANTILLA_MENSUAL'!PM36","v":0},{"$f":"'1_PLANTILLA_MENSUAL'!PN36","v":0},{"$f":"'1_PLANTILLA_MENSUAL'!PO36","v":0},{"$f":"'1_PLANTILLA_MENSUAL'!PP36","v":0},{"$f":"'1_PLANTILLA_MENSUAL'!PQ36","v":0},{"$f":"'1_PLANTILLA_MENSUAL'!PR36","v":0},{"$f":"'1_PLANTILLA_MENSUAL'!PS36","v":0},{"$f":"'1_PLANTILLA_MENSUAL'!PT36","v":0},{"$f":"'1_PLANTILLA_MENSUAL'!PU36","v":0},{"$f":"'1_PLANTILLA_MENSUAL'!PV36","v":0},{"$f":"'1_PLANTILLA_MENSUAL'!PW36","v":0},{"$f":"'1_PLANTILLA_MENSUAL'!PX36","v":0},{"$f":"'1_PLANTILLA_MENSUAL'!PY36","v":0},{"$f":"'1_PLANTILLA_MENSUAL'!PZ36","v":0},{"$f":"'1_PLANTILLA_MENSUAL'!QA36","v":0},{"$f":"'1_PLANTILLA_MENSUAL'!QB36","v":0},{"$f":"'2_MERCADO_PRIVADO'!E36","v":0},{"$f":"'2_MERCADO_PRIVADO'!F36","v":0},{"$f":"'2_MERCADO_PRIVADO'!G36","v":0},{"$f":"'2_MERCADO_PRIVADO'!H36","v":0},{"$f":"'2_MERCADO_PRIVADO'!I36","v":0},{"$f":"'2_MERCADO_PRIVADO'!J36","v":0},{"$f":"'2_MERCADO_PRIVADO'!K36","v":0},{"$f":"'2_MERCADO_PRIVADO'!L36","v":0},{"$f":"'2_MERCADO_PRIVADO'!M36","v":0},{"$f":"'2_MERCADO_PRIVADO'!N36","v":0},{"$f":"'2_MERCADO_PRIVADO'!O36","v":0},{"$f":"'2_MERCADO_PRIVADO'!P36","v":0},{"$f":"'2_MERCADO_PRIVADO'!Q36","v":0},{"$f":"'2_MERCADO_PRIVADO'!R36","v":0},{"$f":"'2_MERCADO_PRIVADO'!S36","v":0},{"$f":"'2_MERCADO_PRIVADO'!T36","v":0},{"$f":"'2_MERCADO_PRIVADO'!U36","v":0},{"$f":"'2_MERCADO_PRIVADO'!V36","v":0},{"$f":"'2_MERCADO_PRIVADO'!W36","v":0},{"$f":"'2_MERCADO_PRIVADO'!X36","v":0},{"$f":"'2_MERCADO_PRIVADO'!Y36","v":0},{"$f":"'2_MERCADO_PRIVADO'!Z36","v":0},{"$f":"'2_MERCADO_PRIVADO'!AA36","v":0},{"$f":"'2_MERCADO_PRIVADO'!AB36","v":0},{"$f":"'2_MERCADO_PRIVADO'!AC36","v":0},{"$f":"'2_MERCADO_PRIVADO'!AD36","v":0},{"$f":"'2_MERCADO_PRIVADO'!AE36","v":0},{"$f":"'2_MERCADO_PRIVADO'!AF36","v":0},{"$f":"'2_MERCADO_PRIVADO'!AG36","v":0},{"$f":"'2_MERCADO_PRIVADO'!AH36","v":0},{"$f":"'2_MERCADO_PRIVADO'!AI36","v":0},{"$f":"'2_MERCADO_PRIVADO'!AJ36","v":0},{"$f":"'2_MERCADO_PRIVADO'!AK36","v":0},{"$f":"'2_MERCADO_PRIVADO'!AL36","v":0},{"$f":"'2_MERCADO_PRIVADO'!AM36","v":0},{"$f":"'2_MERCADO_PRIVADO'!AN36","v":0},{"$f":"'2_MERCADO_PRIVADO'!AO36","v":0},{"$f":"'2_MERCADO_PRIVADO'!AP36","v":0},{"$f":"'2_MERCADO_PRIVADO'!AQ36","v":0},{"$f":"'2_MERCADO_PRIVADO'!AR36","v":0},{"$f":"'2_MERCADO_PRIVADO'!AS36","v":0},{"$f":"'2_MERCADO_PRIVADO'!AT36","v":0},{"$f":"'2_MERCADO_PRIVADO'!AU36","v":0},{"$f":"'2_MERCADO_PRIVADO'!AV36","v":0},{"$f":"'2_MERCADO_PRIVADO'!AW36","v":0},{"$f":"'2_MERCADO_PRIVADO'!AX36","v":0},{"$f":"'2_MERCADO_PRIVADO'!AY36","v":0},{"$f":"'2_MERCADO_PRIVADO'!AZ36","v":0},{"$f":"'2_MERCADO_PRIVADO'!BA36","v":0},{"$f":"'2_MERCADO_PRIVADO'!BB36","v":0},{"$f":"'2_MERCADO_PRIVADO'!BC36","v":0},{"$f":"'2_MERCADO_PRIVADO'!BD36","v":0},{"$f":"'2_MERCADO_PRIVADO'!BE36","v":0},{"$f":"'2_MERCADO_PRIVADO'!BF36","v":0},{"$f":"'2_MERCADO_PRIVADO'!BG36","v":0},{"$f":"'2_MERCADO_PRIVADO'!BH36","v":0},{"$f":"'2_MERCADO_PRIVADO'!BI36","v":0},{"$f":"'2_MERCADO_PRIVADO'!BJ36","v":0},{"$f":"'2_MERCADO_PRIVADO'!BK36","v":0},{"$f":"'2_MERCADO_PRIVADO'!BL36","v":0},{"$f":"'2_MERCADO_PRIVADO'!BM36","v":0},{"$f":"'2_MERCADO_PRIVADO'!BN36","v":0},{"$f":"'2_MERCADO_PRIVADO'!BO36","v":0},{"$f":"'2_MERCADO_PRIVADO'!BP36","v":0},{"$f":"'2_MERCADO_PRIVADO'!BQ36","v":0},{"$f":"'2_MERCADO_PRIVADO'!BR36","v":0},{"$f":"'2_MERCADO_PRIVADO'!BS36","v":0},{"$f":"'2_MERCADO_PRIVADO'!BT36","v":0},{"$f":"'2_MERCADO_PRIVADO'!BU36","v":0},{"$f":"'2_MERCADO_PRIVADO'!BV36","v":0},{"$f":"'2_MERCADO_PRIVADO'!BW36","v":0},{"$f":"'2_MERCADO_PRIVADO'!BX36","v":0},{"$f":"'2_MERCADO_PRIVADO'!BY36","v":0},{"$f":"'2_MERCADO_PRIVADO'!BZ36","v":0},{"$f":"'2_MERCADO_PRIVADO'!CA36","v":0},{"$f":"'2_MERCADO_PRIVADO'!CB36","v":0},{"$f":"'2_MERCADO_PRIVADO'!CC36","v":0},{"$f":"'2_MERCADO_PRIVADO'!CD36","v":0},{"$f":"'2_MERCADO_PRIVADO'!CE36","v":0},{"$f":"'2_MERCADO_PRIVADO'!CF36","v":0},{"$f":"'2_MERCADO_PRIVADO'!CG36","v":0},{"$f":"'2_MERCADO_PRIVADO'!CH36","v":0},{"$f":"'2_MERCADO_PRIVADO'!CI36","v":0},{"$f":"'2_MERCADO_PRIVADO'!CJ36","v":0},{"$f":"'2_MERCADO_PRIVADO'!CK36","v":0},{"$f":"'2_MERCADO_PRIVADO'!CL36","v":0},{"$f":"'2_MERCADO_PRIVADO'!CM36","v":0},{"$f":"'2_MERCADO_PRIVADO'!CN36","v":0},{"$f":"'2_MERCADO_PRIVADO'!CO36","v":0},{"$f":"'2_MERCADO_PRIVADO'!CP36","v":0},{"$f":"'2_MERCADO_PRIVADO'!CQ36","v":0},{"$f":"'2_MERCADO_PRIVADO'!CR36","v":0},{"$f":"'2_MERCADO_PRIVADO'!CS36","v":0},{"$f":"'2_MERCADO_PRIVADO'!CT36","v":0},{"$f":"'2_MERCADO_PRIVADO'!CU36","v":0},{"$f":"'2_MERCADO_PRIVADO'!CV36","v":0},{"$f":"'2_MERCADO_PRIVADO'!CW36","v":0},{"$f":"'2_MERCADO_PRIVADO'!CX36","v":0},{"$f":"'2_MERCADO_PRIVADO'!CY36","v":0},{"$f":"'2_MERCADO_PRIVADO'!CZ36","v":0},{"$f":"'2_MERCADO_PRIVADO'!DA36","v":0},{"$f":"'2_MERCADO_PRIVADO'!DB36","v":0},{"$f":"'2_MERCADO_PRIVADO'!DC36","v":0},{"$f":"'2_MERCADO_PRIVADO'!DD36","v":0},{"$f":"'2_MERCADO_PRIVADO'!DE36","v":0},{"$f":"'2_MERCADO_PRIVADO'!DF36","v":0},{"$f":"'2_MERCADO_PRIVADO'!DG36","v":0},{"$f":"'2_MERCADO_PRIVADO'!DH36","v":0},{"$f":"'2_MERCADO_PRIVADO'!DI36","v":0},{"$f":"'2_MERCADO_PRIVADO'!DJ36","v":0},{"$f":"'2_MERCADO_PRIVADO'!DK36","v":0},{"$f":"'2_MERCADO_PRIVADO'!DL36","v":0},{"$f":"'2_MERCADO_PRIVADO'!DM36","v":0},{"$f":"'2_MERCADO_PRIVADO'!DN36","v":0},{"$f":"'2_MERCADO_PRIVADO'!DO36","v":0},{"$f":"'2_MERCADO_PRIVADO'!DP36","v":0},{"$f":"'2_MERCADO_PRIVADO'!DQ36","v":0},{"$f":"'2_MERCADO_PRIVADO'!DR36","v":0},{"$f":"'2_MERCADO_PRIVADO'!DS36","v":0},{"$f":"'2_MERCADO_PRIVADO'!DT36","v":0},{"$f":"'2_MERCADO_PRIVADO'!DU36","v":0},{"$f":"'2_MERCADO_PRIVADO'!DV36","v":0},{"$f":"'2_MERCADO_PRIVADO'!DW36","v":0},{"$f":"'2_MERCADO_PRIVADO'!DX36","v":0},{"$f":"'2_MERCADO_PRIVADO'!DY36","v":0},{"$f":"'2_MERCADO_PRIVADO'!DZ36","v":0},{"$f":"'2_MERCADO_PRIVADO'!EA36","v":0},{"$f":"'2_MERCADO_PRIVADO'!EB36","v":0},{"$f":"'2_MERCADO_PRIVADO'!EC36","v":0},{"$f":"'2_MERCADO_PRIVADO'!ED36","v":0},{"$f":"'2_MERCADO_PRIVADO'!EE36","v":0},{"$f":"'2_MERCADO_PRIVADO'!EF36","v":0},{"$f":"'2_MERCADO_PRIVADO'!EG36","v":0},{"$f":"'2_MERCADO_PRIVADO'!EH36","v":0},{"$f":"'2_MERCADO_PRIVADO'!EI36","v":0},{"$f":"'2_MERCADO_PRIVADO'!EJ36","v":0},{"$f":"'2_MERCADO_PRIVADO'!EK36","v":0},{"$f":"'2_MERCADO_PRIVADO'!EL36","v":0},{"$f":"'2_MERCADO_PRIVADO'!EM36","v":0},{"$f":"'2_MERCADO_PRIVADO'!EN36","v":0},{"$f":"'2_MERCADO_PRIVADO'!EO36","v":0},{"$f":"'2_MERCADO_PRIVADO'!EP36","v":0},{"$f":"'2_MERCADO_PRIVADO'!EQ36","v":0},{"$f":"'2_MERCADO_PRIVADO'!ER36","v":0},{"$f":"'2_MERCADO_PRIVADO'!ES36","v":0},{"$f":"'2_MERCADO_PRIVADO'!ET36","v":0},{"$f":"'2_MERCADO_PRIVADO'!EU36","v":0},{"$f":"'2_MERCADO_PRIVADO'!EV36","v":0},{"$f":"'2_MERCADO_PRIVADO'!EW36","v":0},{"$f":"'2_MERCADO_PRIVADO'!EX36","v":0},{"$f":"'2_MERCADO_PRIVADO'!EY36","v":0},{"$f":"'2_MERCADO_PRIVADO'!EZ36","v":0},{"$f":"'2_MERCADO_PRIVADO'!FA36","v":0},{"$f":"'2_MERCADO_PRIVADO'!FB36","v":0},{"$f":"'2_MERCADO_PRIVADO'!FC36","v":0},{"$f":"'2_MERCADO_PRIVADO'!FD36","v":0},{"$f":"'2_MERCADO_PRIVADO'!FE36","v":0},{"$f":"'2_MERCADO_PRIVADO'!FF36","v":0},{"$f":"'2_MERCADO_PRIVADO'!FG36","v":0},{"$f":"'2_MERCADO_PRIVADO'!FH36","v":0},{"$f":"'2_MERCADO_PRIVADO'!FI36","v":0},{"$f":"'2_MERCADO_PRIVADO'!FJ36","v":0},{"$f":"'2_MERCADO_PRIVADO'!FK36","v":0},{"$f":"'2_MERCADO_PRIVADO'!FL36","v":0},{"$f":"'2_MERCADO_PRIVADO'!FM36","v":0},{"$f":"'2_MERCADO_PRIVADO'!FN36","v":0},{"$f":"'2_MERCADO_PRIVADO'!FO36","v":0},{"$f":"'2_MERCADO_PRIVADO'!FP36","v":0},{"$f":"'2_MERCADO_PRIVADO'!FQ36","v":0},{"$f":"'2_MERCADO_PRIVADO'!FR36","v":0},{"$f":"'2_MERCADO_PRIVADO'!FS36","v":0},{"$f":"'2_MERCADO_PRIVADO'!FT36","v":0},{"$f":"'2_MERCADO_PRIVADO'!FU36","v":0},{"$f":"'2_MERCADO_PRIVADO'!FV36","v":0},{"$f":"'2_MERCADO_PRIVADO'!FW36","v":0},{"$f":"'2_MERCADO_PRIVADO'!FX36","v":0},{"$f":"'2_MERCADO_PRIVADO'!FY36","v":0},{"$f":"'2_MERCADO_PRIVADO'!FZ36","v":0},{"$f":"'2_MERCADO_PRIVADO'!GA36","v":0},{"$f":"'2_MERCADO_PRIVADO'!GB36","v":0},{"$f":"'2_MERCADO_PRIVADO'!GC36","v":0},{"$f":"'2_MERCADO_PRIVADO'!GD36","v":0},{"$f":"'2_MERCADO_PRIVADO'!GE36","v":0},{"$f":"'2_MERCADO_PRIVADO'!GF36","v":0},{"$f":"'2_MERCADO_PRIVADO'!GG36","v":0},{"$f":"'2_MERCADO_PRIVADO'!GH36","v":0},{"$f":"'2_MERCADO_PRIVADO'!GI36","v":0},{"$f":"'2_MERCADO_PRIVADO'!GJ36","v":0},{"$f":"'2_MERCADO_PRIVADO'!GK36","v":0},{"$f":"'2_MERCADO_PRIVADO'!GL36","v":0},{"$f":"'2_MERCADO_PRIVADO'!GM36","v":0},{"$f":"'2_MERCADO_PRIVADO'!GN36","v":0},{"$f":"'2_MERCADO_PRIVADO'!GO36","v":0},{"$f":"'2_MERCADO_PRIVADO'!GP36","v":0},{"$f":"'2_MERCADO_PRIVADO'!GQ36","v":0},{"$f":"'2_MERCADO_PRIVADO'!GR36","v":0},{"$f":"'2_MERCADO_PRIVADO'!GS36","v":0},{"$f":"'2_MERCADO_PRIVADO'!GT36","v":0},{"$f":"'2_MERCADO_PRIVADO'!GU36","v":0},{"$f":"'2_MERCADO_PRIVADO'!GV36","v":0},{"$f":"'2_MERCADO_PRIVADO'!GW36","v":0},{"$f":"'2_MERCADO_PRIVADO'!GX36","v":0},{"$f":"'2_MERCADO_PRIVADO'!GY36","v":0},{"$f":"'2_MERCADO_PRIVADO'!GZ36","v":0},{"$f":"'2_MERCADO_PRIVADO'!HA36","v":0},{"$f":"'2_MERCADO_PRIVADO'!HB36","v":0},{"$f":"'2_MERCADO_PRIVADO'!HC36","v":0},{"$f":"'2_MERCADO_PRIVADO'!HD36","v":0},{"$f":"'2_MERCADO_PRIVADO'!HE36","v":0},{"$f":"'2_MERCADO_PRIVADO'!HF36","v":0},{"$f":"'2_MERCADO_PRIVADO'!HG36","v":0},{"$f":"'2_MERCADO_PRIVADO'!HH36","v":0},{"$f":"'2_MERCADO_PRIVADO'!HI36","v":0},{"$f":"'2_MERCADO_PRIVADO'!HJ36","v":0},{"$f":"'2_MERCADO_PRIVADO'!HK36","v":0},{"$f":"'2_MERCADO_PRIVADO'!HL36","v":0},{"$f":"'2_MERCADO_PRIVADO'!HM36","v":0},{"$f":"'2_MERCADO_PRIVADO'!HN36","v":0},{"$f":"'2_MERCADO_PRIVADO'!HO36","v":0},{"$f":"'2_MERCADO_PRIVADO'!HP36","v":0},{"$f":"'2_MERCADO_PRIVADO'!HQ36","v":0},{"$f":"'2_MERCADO_PRIVADO'!HR36","v":0},{"$f":"'2_MERCADO_PRIVADO'!HS36","v":0},{"$f":"'2_MERCADO_PRIVADO'!HT36","v":0},{"$f":"'2_MERCADO_PRIVADO'!HU36","v":0},{"$f":"'2_MERCADO_PRIVADO'!HV36","v":0},{"$f":"'2_MERCADO_PRIVADO'!HW36","v":0},{"$f":"'2_MERCADO_PRIVADO'!HX36","v":0},{"$f":"'2_MERCADO_PRIVADO'!HY36","v":0},{"$f":"'2_MERCADO_PRIVADO'!HZ36","v":0},{"$f":"'2_MERCADO_PRIVADO'!IA36","v":0},{"$f":"'2_MERCADO_PRIVADO'!IB36","v":0},{"$f":"'2_MERCADO_PRIVADO'!IC36","v":0},{"$f":"'2_MERCADO_PRIVADO'!ID36","v":0},{"$f":"'2_MERCADO_PRIVADO'!IE36","v":0},{"$f":"'2_MERCADO_PRIVADO'!IF36","v":0},{"$f":"'2_MERCADO_PRIVADO'!IG36","v":0},{"$f":"'2_MERCADO_PRIVADO'!IH36","v":0},{"$f":"'2_MERCADO_PRIVADO'!II36","v":0},{"$f":"'2_MERCADO_PRIVADO'!IJ36","v":0},{"$f":"'2_MERCADO_PRIVADO'!IK36","v":0},{"$f":"'2_MERCADO_PRIVADO'!IL36","v":0},{"$f":"'2_MERCADO_PRIVADO'!IM36","v":0},{"$f":"'2_MERCADO_PRIVADO'!IN36","v":0},{"$f":"'2_MERCADO_PRIVADO'!IO36","v":0},{"$f":"'2_MERCADO_PRIVADO'!IP36","v":0},{"$f":"'2_MERCADO_PRIVADO'!IQ36","v":0},{"$f":"'2_MERCADO_PRIVADO'!IR36","v":0},{"$f":"'2_MERCADO_PRIVADO'!IS36","v":0},{"$f":"'2_MERCADO_PRIVADO'!IT36","v":0},{"$f":"'2_MERCADO_PRIVADO'!IU36","v":0},{"$f":"'2_MERCADO_PRIVADO'!IV36","v":0},{"$f":"'2_MERCADO_PRIVADO'!IW36","v":0},{"$f":"'2_MERCADO_PRIVADO'!IX36","v":0},{"$f":"'2_MERCADO_PRIVADO'!IY36","v":0},{"$f":"'2_MERCADO_PRIVADO'!IZ36","v":0},{"$f":"'2_MERCADO_PRIVADO'!JA36","v":0},{"$f":"'2_MERCADO_PRIVADO'!JB36","v":0},{"$f":"'2_MERCADO_PRIVADO'!JC36","v":0},{"$f":"'2_MERCADO_PRIVADO'!JD36","v":0},{"$f":"'2_MERCADO_PRIVADO'!JE36","v":0},{"$f":"'2_MERCADO_PRIVADO'!JF36","v":0},{"$f":"'2_MERCADO_PRIVADO'!JG36","v":0},{"$f":"'2_MERCADO_PRIVADO'!JH36","v":0},{"$f":"'2_MERCADO_PRIVADO'!JI36","v":0},{"$f":"'2_MERCADO_PRIVADO'!JJ36","v":0},{"$f":"'2_MERCADO_PRIVADO'!JK36","v":0},{"$f":"'2_MERCADO_PRIVADO'!JL36","v":0},{"$f":"'2_MERCADO_PRIVADO'!JM36","v":0},{"$f":"'2_MERCADO_PRIVADO'!JN36","v":0},{"$f":"'2_MERCADO_PRIVADO'!JO36","v":0},{"$f":"'2_MERCADO_PRIVADO'!JP36","v":0},{"$f":"'2_MERCADO_PRIVADO'!JQ36","v":0},{"$f":"'2_MERCADO_PRIVADO'!JR36","v":0},{"$f":"'2_MERCADO_PRIVADO'!JS36","v":0},{"$f":"'2_MERCADO_PRIVADO'!JT36","v":0},{"$f":"'2_MERCADO_PRIVADO'!JU36","v":0},{"$f":"'2_MERCADO_PRIVADO'!JV36","v":0},{"$f":"'2_MERCADO_PRIVADO'!JW36","v":0},{"$f":"'2_MERCADO_PRIVADO'!JX36","v":0},{"$f":"'2_MERCADO_PRIVADO'!JY36","v":0},{"$f":"'2_MERCADO_PRIVADO'!JZ36","v":0},{"$f":"'2_MERCADO_PRIVADO'!KA36","v":0},{"$f":"'2_MERCADO_PRIVADO'!KB36","v":0},{"$f":"'2_MERCADO_PRIVADO'!KC36","v":0},{"$f":"'2_MERCADO_PRIVADO'!KD36","v":0},{"$f":"'2_MERCADO_PRIVADO'!KE36","v":0},{"$f":"'2_MERCADO_PRIVADO'!KF36","v":0},{"$f":"'2_MERCADO_PRIVADO'!KG36","v":0},{"$f":"'2_MERCADO_PRIVADO'!KH36","v":0},{"$f":"'2_MERCADO_PRIVADO'!KI36","v":0},{"$f":"'2_MERCADO_PRIVADO'!KJ36","v":0},{"$f":"'2_MERCADO_PRIVADO'!KK36","v":0},{"$f":"'2_MERCADO_PRIVADO'!KL36","v":0},{"$f":"'2_MERCADO_PRIVADO'!KM36","v":0},{"$f":"'2_MERCADO_PRIVADO'!KN36","v":0},{"$f":"'2_MERCADO_PRIVADO'!KO36","v":0},{"$f":"'2_MERCADO_PRIVADO'!KP36","v":0},{"$f":"'2_MERCADO_PRIVADO'!KQ36","v":0},{"$f":"'2_MERCADO_PRIVADO'!KR36","v":0},{"$f":"'2_MERCADO_PRIVADO'!KS36","v":0},{"$f":"'2_MERCADO_PRIVADO'!KT36","v":0},{"$f":"'2_MERCADO_PRIVADO'!KU36","v":0},{"$f":"'2_MERCADO_PRIVADO'!KV36","v":0},{"$f":"'2_MERCADO_PRIVADO'!KW36","v":0},{"$f":"'2_MERCADO_PRIVADO'!KX36","v":0},{"$f":"'2_MERCADO_PRIVADO'!KY36","v":0},{"$f":"'2_MERCADO_PRIVADO'!KZ36","v":0},{"$f":"'2_MERCADO_PRIVADO'!LA36","v":0},{"$f":"'2_MERCADO_PRIVADO'!LB36","v":0},{"$f":"'2_MERCADO_PRIVADO'!LC36","v":0},{"$f":"'2_MERCADO_PRIVADO'!LD36","v":0},{"$f":"'2_MERCADO_PRIVADO'!LE36","v":0},{"$f":"'2_MERCADO_PRIVADO'!LF36","v":0},{"$f":"'2_MERCADO_PRIVADO'!LG36","v":0},{"$f":"'2_MERCADO_PRIVADO'!LH36","v":0},{"$f":"'2_MERCADO_PRIVADO'!LI36","v":0},{"$f":"'2_MERCADO_PRIVADO'!LJ36","v":0},{"$f":"'2_MERCADO_PRIVADO'!LK36","v":0},{"$f":"'2_MERCADO_PRIVADO'!LL36","v":0},{"$f":"'2_MERCADO_PRIVADO'!LM36","v":0},{"$f":"'2_MERCADO_PRIVADO'!LN36","v":0},{"$f":"'2_MERCADO_PRIVADO'!LO36","v":0},{"$f":"'2_MERCADO_PRIVADO'!LP36","v":0},{"$f":"'2_MERCADO_PRIVADO'!LQ36","v":0},{"$f":"'2_MERCADO_PRIVADO'!LR36","v":0},{"$f":"'2_MERCADO_PRIVADO'!LS36","v":0},{"$f":"'2_MERCADO_PRIVADO'!LT36","v":0},{"$f":"'2_MERCADO_PRIVADO'!LU36","v":0},{"$f":"'2_MERCADO_PRIVADO'!LV36","v":0},{"$f":"'2_MERCADO_PRIVADO'!LW36","v":0},{"$f":"'2_MERCADO_PRIVADO'!LX36","v":0},{"$f":"'2_MERCADO_PRIVADO'!LY36","v":0},{"$f":"'2_MERCADO_PRIVADO'!LZ36","v":0},{"$f":"'2_MERCADO_PRIVADO'!MA36","v":0},{"$f":"'2_MERCADO_PRIVADO'!MB36","v":0},{"$f":"'2_MERCADO_PRIVADO'!MC36","v":0},{"$f":"'2_MERCADO_PRIVADO'!MD36","v":0},{"$f":"'2_MERCADO_PRIVADO'!ME36","v":0},{"$f":"'2_MERCADO_PRIVADO'!MF36","v":0},{"$f":"'2_MERCADO_PRIVADO'!MG36","v":0},{"$f":"'2_MERCADO_PRIVADO'!MH36","v":0},{"$f":"'2_MERCADO_PRIVADO'!MI36","v":0},{"$f":"'2_MERCADO_PRIVADO'!MJ36","v":0},{"$f":"'2_MERCADO_PRIVADO'!MK36","v":0},{"$f":"'2_MERCADO_PRIVADO'!ML36","v":0},{"$f":"'2_MERCADO_PRIVADO'!MM36","v":0},{"$f":"'2_MERCADO_PRIVADO'!MN36","v":0},{"$f":"'2_MERCADO_PRIVADO'!MO36","v":0},{"$f":"'2_MERCADO_PRIVADO'!MP36","v":0},{"$f":"'2_MERCADO_PRIVADO'!MQ36","v":0},{"$f":"'2_MERCADO_PRIVADO'!MR36","v":0},{"$f":"'2_MERCADO_PRIVADO'!MS36","v":0},{"$f":"'2_MERCADO_PRIVADO'!MT36","v":0},{"$f":"'2_MERCADO_PRIVADO'!MU36","v":0},{"$f":"'2_MERCADO_PRIVADO'!MV36","v":0},{"$f":"'2_MERCADO_PRIVADO'!MW36","v":0},{"$f":"'2_MERCADO_PRIVADO'!MX36","v":0},{"$f":"'2_MERCADO_PRIVADO'!MY36","v":0},{"$f":"'2_MERCADO_PRIVADO'!MZ36","v":0},{"$f":"'2_MERCADO_PRIVADO'!NA36","v":0},{"$f":"'2_MERCADO_PRIVADO'!NB36","v":0},{"$f":"'2_MERCADO_PRIVADO'!NC36","v":0},{"$f":"'2_MERCADO_PRIVADO'!ND36","v":0},{"$f":"'2_MERCADO_PRIVADO'!NE36","v":0},{"$f":"'2_MERCADO_PRIVADO'!NF36","v":0},{"$f":"'2_MERCADO_PRIVADO'!NG36","v":0},{"$f":"'2_MERCADO_PRIVADO'!NH36","v":0},{"$f":"'2_MERCADO_PRIVADO'!NI36","v":0},{"$f":"'2_MERCADO_PRIVADO'!NJ36","v":0},{"$f":"'2_MERCADO_PRIVADO'!NK36","v":0},{"$f":"'2_MERCADO_PRIVADO'!NL36","v":0},{"$f":"'2_MERCADO_PRIVADO'!NM36","v":0},{"$f":"'2_MERCADO_PRIVADO'!NN36","v":0},{"$f":"'2_MERCADO_PRIVADO'!NO36","v":0},{"$f":"'2_MERCADO_PRIVADO'!NP36","v":0},{"$f":"'2_MERCADO_PRIVADO'!NQ36","v":0},{"$f":"'2_MERCADO_PRIVADO'!NR36","v":0},{"$f":"'2_MERCADO_PRIVADO'!NS36","v":0},{"$f":"'2_MERCADO_PRIVADO'!NT36","v":0},{"$f":"'2_MERCADO_PRIVADO'!NU36","v":0},{"$f":"'2_MERCADO_PRIVADO'!NV36","v":0},{"$f":"'2_MERCADO_PRIVADO'!NW36","v":0},{"$f":"'2_MERCADO_PRIVADO'!NX36","v":0},{"$f":"'2_MERCADO_PRIVADO'!NY36","v":0},{"$f":"'2_MERCADO_PRIVADO'!NZ36","v":0},{"$f":"'2_MERCADO_PRIVADO'!OA36","v":0},{"$f":"'2_MERCADO_PRIVADO'!OB36","v":0},{"$f":"'2_MERCADO_PRIVADO'!OC36","v":0},{"$f":"'2_MERCADO_PRIVADO'!OD36","v":0},{"$f":"'2_MERCADO_PRIVADO'!OE36","v":0},{"$f":"'2_MERCADO_PRIVADO'!OF36","v":0},{"$f":"'2_MERCADO_PRIVADO'!OG36","v":0},{"$f":"'2_MERCADO_PRIVADO'!OH36","v":0},{"$f":"'2_MERCADO_PRIVADO'!OI36","v":0},{"$f":"'2_MERCADO_PRIVADO'!OJ36","v":0},{"$f":"'2_MERCADO_PRIVADO'!OK36","v":0},{"$f":"'2_MERCADO_PRIVADO'!OL36","v":0},{"$f":"'2_MERCADO_PRIVADO'!OM36","v":0},{"$f":"'2_MERCADO_PRIVADO'!ON36","v":0},{"$f":"'2_MERCADO_PRIVADO'!OO36","v":0},{"$f":"'2_MERCADO_PRIVADO'!OP36","v":0},{"$f":"'2_MERCADO_PRIVADO'!OQ36","v":0},{"$f":"'2_MERCADO_PRIVADO'!OR36","v":0},{"$f":"'2_MERCADO_PRIVADO'!OS36","v":0},{"$f":"'2_MERCADO_PRIVADO'!OT36","v":0},{"$f":"'2_MERCADO_PRIVADO'!OU36","v":0},{"$f":"'2_MERCADO_PRIVADO'!OV36","v":0},{"$f":"'2_MERCADO_PRIVADO'!OW36","v":0},{"$f":"'2_MERCADO_PRIVADO'!OX36","v":0},{"$f":"'2_MERCADO_PRIVADO'!OY36","v":0},{"$f":"'2_MERCADO_PRIVADO'!OZ36","v":0},{"$f":"'2_MERCADO_PRIVADO'!PA36","v":0},{"$f":"'2_MERCADO_PRIVADO'!PB36","v":0},{"$f":"'2_MERCADO_PRIVADO'!PC36","v":0},{"$f":"'2_MERCADO_PRIVADO'!PD36","v":0},{"$f":"'2_MERCADO_PRIVADO'!PE36","v":0},{"$f":"'2_MERCADO_PRIVADO'!PF36","v":0},{"$f":"'2_MERCADO_PRIVADO'!PG36","v":0},{"$f":"'2_MERCADO_PRIVADO'!PH36","v":0},{"$f":"'2_MERCADO_PRIVADO'!PI36","v":0},{"$f":"'2_MERCADO_PRIVADO'!PJ36","v":0},{"$f":"'2_MERCADO_PRIVADO'!PK36","v":0},{"$f":"'2_MERCADO_PRIVADO'!PL36","v":0},{"$f":"'2_MERCADO_PRIVADO'!PM36","v":0},{"$f":"'2_MERCADO_PRIVADO'!PN36","v":0},{"$f":"'2_MERCADO_PRIVADO'!PO36","v":0},{"$f":"'2_MERCADO_PRIVADO'!PP36","v":0},{"$f":"'2_MERCADO_PRIVADO'!PQ36","v":0},{"$f":"'2_MERCADO_PRIVADO'!PR36","v":0},{"$f":"'2_MERCADO_PRIVADO'!PS36","v":0},{"$f":"'2_MERCADO_PRIVADO'!PT36","v":0},{"$f":"'2_MERCADO_PRIVADO'!PU36","v":0},{"$f":"'2_MERCADO_PRIVADO'!PV36","v":0},{"$f":"'2_MERCADO_PRIVADO'!PW36","v":0},{"$f":"'2_MERCADO_PRIVADO'!PX36","v":0},{"$f":"'2_MERCADO_PRIVADO'!PY36","v":0},{"$f":"'2_MERCADO_PRIVADO'!PZ36","v":0},{"$f":"'2_MERCADO_PRIVADO'!QA36","v":0},{"$f":"'2_MERCADO_PRIVADO'!QB36","v":0},{"$f":"'2_MERCADO_PRIVADO'!QC36","v":0},{"$f":"'2_MERCADO_PRIVADO'!QD36","v":0},{"$f":"'2_MERCADO_PRIVADO'!QE36","v":0},{"$f":"'2_MERCADO_PRIVADO'!QF36","v":0},{"$f":"'2_MERCADO_PRIVADO'!QG36","v":0},{"$f":"'2_MERCADO_PRIVADO'!QH36","v":0},{"$f":"'2_MERCADO_PRIVADO'!QI36","v":0},{"$f":"'2_MERCADO_PRIVADO'!QJ36","v":0},{"$f":"'2_MERCADO_PRIVADO'!QK36","v":0},{"$f":"'2_MERCADO_PRIVADO'!QL36","v":0},{"$f":"'2_MERCADO_PRIVADO'!QM36","v":0},{"$f":"'2_MERCADO_PRIVADO'!QN36","v":0},{"$f":"'2_MERCADO_PRIVADO'!RE36","v":0},{"$f":"'2_MERCADO_PRIVADO'!RF36","v":0},{"$f":"'2_MERCADO_PRIVADO'!RG36","v":0},{"$f":"'2_MERCADO_PRIVADO'!RH36","v":0},{"$f":"'2_MERCADO_PRIVADO'!RI36","v":0},{"$f":"'2_MERCADO_PRIVADO'!RJ36","v":0},{"$f":"'2_MERCADO_PRIVADO'!RK36","v":0},{"$f":"'2_MERCADO_PRIVADO'!RL36","v":0},{"$f":"'2_MERCADO_PRIVADO'!RM36","v":0},{"$f":"'2_MERCADO_PRIVADO'!RN36","v":0},{"$f":"'2_MERCADO_PRIVADO'!RO36","v":0},{"$f":"'2_MERCADO_PRIVADO'!RP36","v":0},{"$f":"'2_MERCADO_PRIVADO'!RQ36","v":0},{"$f":"'2_MERCADO_PRIVADO'!RR36","v":0},{"$f":"'2_MERCADO_PRIVADO'!RS36","v":0},{"$f":"'2_MERCADO_PRIVADO'!RT36","v":0},{"$f":"'2_MERCADO_PRIVADO'!RU36","v":0},{"$f":"'2_MERCADO_PRIVADO'!RV36","v":0},{"$f":"'2_MERCADO_PRIVADO'!RW36","v":0},{"$f":"'2_MERCADO_PRIVADO'!RX36","v":0},{"$f":"'2_MERCADO_PRIVADO'!RY36","v":0},{"$f":"'2_MERCADO_PRIVADO'!RZ36","v":0},{"$f":"'2_MERCADO_PRIVADO'!SA36","v":0},{"$f":"'2_MERCADO_PRIVADO'!SB36","v":0},{"$f":"'2_MERCADO_PRIVADO'!SC36","v":0},{"$f":"'2_MERCADO_PRIVADO'!SD36","v":0},{"$f":"'2_MERCADO_PRIVADO'!SE36","v":0},{"$f":"'2_MERCADO_PRIVADO'!SF36","v":0},{"$f":"'2_MERCADO_PRIVADO'!SG36","v":0},{"$f":"'2_MERCADO_PRIVADO'!SH36","v":0},{"$f":"'2_MERCADO_PRIVADO'!SI36","v":0},{"$f":"'2_MERCADO_PRIVADO'!SJ36","v":0},{"$f":"'2_MERCADO_PRIVADO'!SK36","v":0},{"$f":"'2_MERCADO_PRIVADO'!SL36","v":0},{"$f":"'2_MERCADO_PRIVADO'!SM36","v":0},{"$f":"'2_MERCADO_PRIVADO'!SN36","v":0},{"$f":"'2_MERCADO_PRIVADO'!SO36","v":0},{"$f":"'2_MERCADO_PRIVADO'!SP36","v":0},{"$f":"'2_MERCADO_PRIVADO'!SQ36","v":0},{"$f":"'2_MERCADO_PRIVADO'!SR36","v":0},{"$f":"'2_MERCADO_PRIVADO'!SS36","v":0},{"$f":"'2_MERCADO_PRIVADO'!ST36","v":0},{"$f":"'2_MERCADO_PRIVADO'!SU36","v":0},{"$f":"'2_MERCADO_PRIVADO'!SV36","v":0},{"$f":"'2_MERCADO_PRIVADO'!SW36","v":0},{"$f":"'2_MERCADO_PRIVADO'!SX36","v":0},{"$f":"'2_MERCADO_PRIVADO'!SY36","v":0},{"$f":"'2_MERCADO_PRIVADO'!SZ36","v":0},{"$f":"'2_MERCADO_PRIVADO'!TA36","v":0},{"$f":"'2_MERCADO_PRIVADO'!TB36","v":0},{"$f":"'2_MERCADO_PRIVADO'!TC36","v":0},{"$f":"'2_MERCADO_PRIVADO'!TD36","v":0},{"$f":"'2_MERCADO_PRIVADO'!TE36","v":0},{"$f":"'2_MERCADO_PRIVADO'!TF36","v":0},{"$f":"'2_MERCADO_PRIVADO'!TG36","v":0},{"$f":"'2_MERCADO_PRIVADO'!TH36","v":0},{"$f":"'2_MERCADO_PRIVADO'!TI36","v":0},{"$f":"'2_MERCADO_PRIVADO'!TJ36","v":0},{"$f":"'2_MERCADO_PRIVADO'!TK36","v":0},{"$f":"'2_MERCADO_PRIVADO'!TL36","v":0},{"$f":"'2_MERCADO_PRIVADO'!TM36","v":0},{"$f":"'2_MERCADO_PRIVADO'!TN36","v":0},{"$f":"'2_MERCADO_PRIVADO'!TO36","v":0},{"$f":"'2_MERCADO_PRIVADO'!TP36","v":0},{"$f":"SUM(D4:AJW4)-SUM(PP4:PS4)-SUM(PV4:QA4)-SUM(AIZ4:AJC4)-SUM(AJF4:AJK4)","v":0},{"$f":"CONCATENATE('1_PLANTILLA_MENSUAL'!$G$2,'3_CONSOLIDADO REGIMEN'!B4)","v":"110"}]
[124.827819548873,{"$f":"'1_PLANTILLA_MENSUAL'!B48","v":0},{"$f":"'1_PLANTILLA_MENSUAL'!C48","v":0},{"$f":"'1_PLANTILLA_MENSUAL'!E56","v":0},{"$f":"'1_PLANTILLA_MENSUAL'!F56","v":0},{"$f":"'1_PLANTILLA_MENSUAL'!G56","v":0},{"$f":"'1_PLANTILLA_MENSUAL'!H56","v":0},{"$f":"'1_PLANTILLA_MENSUAL'!I56","v":0},{"$f":"'1_PLANTILLA_MENSUAL'!J56","v":0},{"$f":"'1_PLANTILLA_MENSUAL'!K56","v":0},{"$f":"'1_PLANTILLA_MENSUAL'!L56","v":0},{"$f":"'1_PLANTILLA_MENSUAL'!M56","v":0},{"$f":"'1_PLANTILLA_MENSUAL'!N56","v":0},{"$f":"'1_PLANTILLA_MENSUAL'!O56","v":0},{"$f":"'1_PLANTILLA_MENSUAL'!P56","v":0},{"$f":"'1_PLANTILLA_MENSUAL'!Q56","v":0},{"$f":"'1_PLANTILLA_MENSUAL'!R56","v":0},{"$f":"'1_PLANTILLA_MENSUAL'!S56","v":0},{"$f":"'1_PLANTILLA_MENSUAL'!T56","v":0},{"$f":"'1_PLANTILLA_MENSUAL'!U56","v":0},{"$f":"'1_PLANTILLA_MENSUAL'!V56","v":0},{"$f":"'1_PLANTILLA_MENSUAL'!W56","v":0},{"$f":"'1_PLANTILLA_MENSUAL'!X56","v":0},{"$f":"'1_PLANTILLA_MENSUAL'!Y56","v":0},{"$f":"'1_PLANTILLA_MENSUAL'!Z56","v":0},{"$f":"'1_PLANTILLA_MENSUAL'!AA56","v":0},{"$f":"'1_PLANTILLA_MENSUAL'!AB56","v":0},{"$f":"'1_PLANTILLA_MENSUAL'!AC56","v":0},{"$f":"'1_PLANTILLA_MENSUAL'!AD56","v":0},{"$f":"'1_PLANTILLA_MENSUAL'!AE56","v":0},{"$f":"'1_PLANTILLA_MENSUAL'!AF56","v":0},{"$f":"'1_PLANTILLA_MENSUAL'!AG56","v":0},{"$f":"'1_PLANTILLA_MENSUAL'!AH56","v":0},{"$f":"'1_PLANTILLA_MENSUAL'!AI56","v":0},{"$f":"'1_PLANTILLA_MENSUAL'!AJ56","v":0},{"$f":"'1_PLANTILLA_MENSUAL'!AK56","v":0},{"$f":"'1_PLANTILLA_MENSUAL'!AL56","v":0},{"$f":"'1_PLANTILLA_MENSUAL'!AM56","v":0},{"$f":"'1_PLANTILLA_MENSUAL'!AN56","v":0},{"$f":"'1_PLANTILLA_MENSUAL'!AO56","v":0},{"$f":"'1_PLANTILLA_MENSUAL'!AP56","v":0},{"$f":"'1_PLANTILLA_MENSUAL'!AQ56","v":0},{"$f":"'1_PLANTILLA_MENSUAL'!AR56","v":0},{"$f":"'1_PLANTILLA_MENSUAL'!AS56","v":0},{"$f":"'1_PLANTILLA_MENSUAL'!AT56","v":0},{"$f":"'1_PLANTILLA_MENSUAL'!AU56","v":0},{"$f":"'1_PLANTILLA_MENSUAL'!AV56","v":0},{"$f":"'1_PLANTILLA_MENSUAL'!AW56","v":0},{"$f":"'1_PLANTILLA_MENSUAL'!AX56","v":0},{"$f":"'1_PLANTILLA_MENSUAL'!AY56","v":0},{"$f":"'1_PLANTILLA_MENSUAL'!AZ56","v":0},{"$f":"'1_PLANTILLA_MENSUAL'!BA56","v":0},{"$f":"'1_PLANTILLA_MENSUAL'!BB56","v":0},{"$f":"'1_PLANTILLA_MENSUAL'!BC56","v":0},{"$f":"'1_PLANTILLA_MENSUAL'!BD56","v":0},{"$f":"'1_PLANTILLA_MENSUAL'!BE56","v":0},{"$f":"'1_PLANTILLA_MENSUAL'!BF56","v":0},{"$f":"'1_PLANTILLA_MENSUAL'!BG56","v":0},{"$f":"'1_PLANTILLA_MENSUAL'!BH56","v":0},{"$f":"'1_PLANTILLA_MENSUAL'!BI56","v":0},{"$f":"'1_PLANTILLA_MENSUAL'!BJ56","v":0},{"$f":"'1_PLANTILLA_MENSUAL'!BK56","v":0},{"$f":"'1_PLANTILLA_MENSUAL'!BL56","v":0},{"$f":"'1_PLANTILLA_MENSUAL'!BM56","v":0},{"$f":"'1_PLANTILLA_MENSUAL'!BN56","v":0},{"$f":"'1_PLANTILLA_MENSUAL'!BO56","v":0},{"$f":"'1_PLANTILLA_MENSUAL'!BP56","v":0},{"$f":"'1_PLANTILLA_MENSUAL'!BQ56","v":0},{"$f":"'1_PLANTILLA_MENSUAL'!BR56","v":0},{"$f":"'1_PLANTILLA_MENSUAL'!BS56","v":0},{"$f":"'1_PLANTILLA_MENSUAL'!BT56","v":0},{"$f":"'1_PLANTILLA_MENSUAL'!BU56","v":0},{"$f":"'1_PLANTILLA_MENSUAL'!BV56","v":0},{"$f":"'1_PLANTILLA_MENSUAL'!BW56","v":0},{"$f":"'1_PLANTILLA_MENSUAL'!BX56","v":0},{"$f":"'1_PLANTILLA_MENSUAL'!BY56","v":0},{"$f":"'1_PLANTILLA_MENSUAL'!BZ56","v":0},{"$f":"'1_PLANTILLA_MENSUAL'!CA56","v":0},{"$f":"'1_PLANTILLA_MENSUAL'!CB56","v":0},{"$f":"'1_PLANTILLA_MENSUAL'!CC56","v":0},{"$f":"'1_PLANTILLA_MENSUAL'!CD56","v":0},{"$f":"'1_PLANTILLA_MENSUAL'!CE56","v":0},{"$f":"'1_PLANTILLA_MENSUAL'!CF56","v":0},{"$f":"'1_PLANTILLA_MENSUAL'!CG56","v":0},{"$f":"'1_PLANTILLA_MENSUAL'!CH56","v":0},{"$f":"'1_PLANTILLA_MENSUAL'!CI56","v":0},{"$f":"'1_PLANTILLA_MENSUAL'!CJ56","v":0},{"$f":"'1_PLANTILLA_MENSUAL'!CK56","v":0},{"$f":"'1_PLANTILLA_MENSUAL'!CL56","v":0},{"$f":"'1_PLANTILLA_MENSUAL'!CM56","v":0},{"$f":"'1_PLANTILLA_MENSUAL'!CN56","v":0},{"$f":"'1_PLANTILLA_MENSUAL'!CO56","v":0},{"$f":"'1_PLANTILLA_MENSUAL'!CP56","v":0},{"$f":"'1_PLANTILLA_MENSUAL'!CQ56","v":0},{"$f":"'1_PLANTILLA_MENSUAL'!CR56","v":0},{"$f":"'1_PLANTILLA_MENSUAL'!CS56","v":0},{"$f":"'1_PLANTILLA_MENSUAL'!CT56","v":0},{"$f":"'1_PLANTILLA_MENSUAL'!CU56","v":0},{"$f":"'1_PLANTILLA_MENSUAL'!CV56","v":0},{"$f":"'1_PLANTILLA_MENSUAL'!CW56","v":0},{"$f":"'1_PLANTILLA_MENSUAL'!CX56","v":0},{"$f":"'1_PLANTILLA_MENSUAL'!CY56","v":0},{"$f":"'1_PLANTILLA_MENSUAL'!CZ56","v":0},{"$f":"'1_PLANTILLA_MENSUAL'!DA56","v":0},{"$f":"'1_PLANTILLA_MENSUAL'!DB56","v":0},{"$f":"'1_PLANTILLA_MENSUAL'!DC56","v":0},{"$f":"'1_PLANTILLA_MENSUAL'!DD56","v":0},{"$f":"'1_PLANTILLA_MENSUAL'!DE56","v":0},{"$f":"'1_PLANTILLA_MENSUAL'!DF56","v":0},{"$f":"'1_PLANTILLA_MENSUAL'!DG56","v":0},{"$f":"'1_PLANTILLA_MENSUAL'!DH56","v":0},{"$f":"'1_PLANTILLA_MENSUAL'!DI56","v":0},{"$f":"'1_PLANTILLA_MENSUAL'!DJ56","v":0},{"$f":"'1_PLANTILLA_MENSUAL'!DK56","v":0},{"$f":"'1_PLANTILLA_MENSUAL'!DL56","v":0},{"$f":"'1_PLANTILLA_MENSUAL'!DM56","v":0},{"$f":"'1_PLANTILLA_MENSUAL'!DN56","v":0},{"$f":"'1_PLANTILLA_MENSUAL'!DO56","v":0},{"$f":"'1_PLANTILLA_MENSUAL'!DP56","v":0},{"$f":"'1_PLANTILLA_MENSUAL'!DQ56","v":0},{"$f":"'1_PLANTILLA_MENSUAL'!DR56","v":0},{"$f":"'1_PLANTILLA_MENSUAL'!DS56","v":0},{"$f":"'1_PLANTILLA_MENSUAL'!DT56","v":0},{"$f":"'1_PLANTILLA_MENSUAL'!DU56","v":0},{"$f":"'1_PLANTILLA_MENSUAL'!DV56","v":0},{"$f":"'1_PLANTILLA_MENSUAL'!DW56","v":0},{"$f":"'1_PLANTILLA_MENSUAL'!DX56","v":0},{"$f":"'1_PLANTILLA_MENSUAL'!DY56","v":0},{"$f":"'1_PLANTILLA_MENSUAL'!DZ56","v":0},{"$f":"'1_PLANTILLA_MENSUAL'!EA56","v":0},{"$f":"'1_PLANTILLA_MENSUAL'!EB56","v":0},{"$f":"'1_PLANTILLA_MENSUAL'!EC56","v":0},{"$f":"'1_PLANTILLA_MENSUAL'!ED56","v":0},{"$f":"'1_PLANTILLA_MENSUAL'!EE56","v":0},{"$f":"'1_PLANTILLA_MENSUAL'!EF56","v":0},{"$f":"'1_PLANTILLA_MENSUAL'!EG56","v":0},{"$f":"'1_PLANTILLA_MENSUAL'!EH56","v":0},{"$f":"'1_PLANTILLA_MENSUAL'!EI56","v":0},{"$f":"'1_PLANTILLA_MENSUAL'!EJ56","v":0},{"$f":"'1_PLANTILLA_MENSUAL'!EK56","v":0},{"$f":"'1_PLANTILLA_MENSUAL'!EL56","v":0},{"$f":"'1_PLANTILLA_MENSUAL'!EM56","v":0},{"$f":"'1_PLANTILLA_MENSUAL'!EN56","v":0},{"$f":"'1_PLANTILLA_MENSUAL'!EO56","v":0},{"$f":"'1_PLANTILLA_MENSUAL'!EP56","v":0},{"$f":"'1_PLANTILLA_MENSUAL'!EQ56","v":0},{"$f":"'1_PLANTILLA_MENSUAL'!ER56","v":0},{"$f":"'1_PLANTILLA_MENSUAL'!ES56","v":0},{"$f":"'1_PLANTILLA_MENSUAL'!ET56","v":0},{"$f":"'1_PLANTILLA_MENSUAL'!EU56","v":0},{"$f":"'1_PLANTILLA_MENSUAL'!EV56","v":0},{"$f":"'1_PLANTILLA_MENSUAL'!EW56","v":0},{"$f":"'1_PLANTILLA_MENSUAL'!EX56","v":0},{"$f":"'1_PLANTILLA_MENSUAL'!EY56","v":0},{"$f":"'1_PLANTILLA_MENSUAL'!EZ56","v":0},{"$f":"'1_PLANTILLA_MENSUAL'!FA56","v":0},{"$f":"'1_PLANTILLA_MENSUAL'!FB56","v":0},{"$f":"'1_PLANTILLA_MENSUAL'!FC56","v":0},{"$f":"'1_PLANTILLA_MENSUAL'!FD56","v":0},{"$f":"'1_PLANTILLA_MENSUAL'!FE56","v":0},{"$f":"'1_PLANTILLA_MENSUAL'!FF56","v":0},{"$f":"'1_PLANTILLA_MENSUAL'!FG56","v":0},{"$f":"'1_PLANTILLA_MENSUAL'!FH56","v":0},{"$f":"'1_PLANTILLA_MENSUAL'!FI56","v":0},{"$f":"'1_PLANTILLA_MENSUAL'!FJ56","v":0},{"$f":"'1_PLANTILLA_MENSUAL'!FK56","v":0},{"$f":"'1_PLANTILLA_MENSUAL'!FL56","v":0},{"$f":"'1_PLANTILLA_MENSUAL'!FM56","v":0},{"$f":"'1_PLANTILLA_MENSUAL'!FN56","v":0},{"$f":"'1_PLANTILLA_MENSUAL'!FO56","v":0},{"$f":"'1_PLANTILLA_MENSUAL'!FP56","v":0},{"$f":"'1_PLANTILLA_MENSUAL'!FQ56","v":0},{"$f":"'1_PLANTILLA_MENSUAL'!FR56","v":0},{"$f":"'1_PLANTILLA_MENSUAL'!FS56","v":0},{"$f":"'1_PLANTILLA_MENSUAL'!FT56","v":0},{"$f":"'1_PLANTILLA_MENSUAL'!FU56","v":0},{"$f":"'1_PLANTILLA_MENSUAL'!FV56","v":0},{"$f":"'1_PLANTILLA_MENSUAL'!FW56","v":0},{"$f":"'1_PLANTILLA_MENSUAL'!FX56","v":0},{"$f":"'1_PLANTILLA_MENSUAL'!FY56","v":0},{"$f":"'1_PLANTILLA_MENSUAL'!FZ56","v":0},{"$f":"'1_PLANTILLA_MENSUAL'!GA56","v":0},{"$f":"'1_PLANTILLA_MENSUAL'!GB56","v":0},{"$f":"'1_PLANTILLA_MENSUAL'!GC56","v":0},{"$f":"'1_PLANTILLA_MENSUAL'!GD56","v":0},{"$f":"'1_PLANTILLA_MENSUAL'!GE56","v":0},{"$f":"'1_PLANTILLA_MENSUAL'!GF56","v":0},{"$f":"'1_PLANTILLA_MENSUAL'!GG56","v":0},{"$f":"'1_PLANTILLA_MENSUAL'!GH56","v":0},{"$f":"'1_PLANTILLA_MENSUAL'!GI56","v":0},{"$f":"'1_PLANTILLA_MENSUAL'!GJ56","v":0},{"$f":"'1_PLANTILLA_MENSUAL'!GK56","v":0},{"$f":"'1_PLANTILLA_MENSUAL'!GL56","v":0},{"$f":"'1_PLANTILLA_MENSUAL'!GM56","v":0},{"$f":"'1_PLANTILLA_MENSUAL'!GN56","v":0},{"$f":"'1_PLANTILLA_MENSUAL'!GO56","v":0},{"$f":"'1_PLANTILLA_MENSUAL'!GP56","v":0},{"$f":"'1_PLANTILLA_MENSUAL'!GQ56","v":0},{"$f":"'1_PLANTILLA_MENSUAL'!GR56","v":0},{"$f":"'1_PLANTILLA_MENSUAL'!GS56","v":0},{"$f":"'1_PLANTILLA_MENSUAL'!GT56","v":0},{"$f":"'1_PLANTILLA_MENSUAL'!GU56","v":0},{"$f":"'1_PLANTILLA_MENSUAL'!GV56","v":0},{"$f":"'1_PLANTILLA_MENSUAL'!GW56","v":0},{"$f":"'1_PLANTILLA_MENSUAL'!GX56","v":0},{"$f":"'1_PLANTILLA_MENSUAL'!GY56","v":0},{"$f":"'1_PLANTILLA_MENSUAL'!GZ56","v":0},{"$f":"'1_PLANTILLA_MENSUAL'!HA56","v":0},{"$f":"'1_PLANTILLA_MENSUAL'!HB56","v":0},{"$f":"'1_PLANTILLA_MENSUAL'!HC56","v":0},{"$f":"'1_PLANTILLA_MENSUAL'!HD56","v":0},{"$f":"'1_PLANTILLA_MENSUAL'!HE56","v":0},{"$f":"'1_PLANTILLA_MENSUAL'!HF56","v":0},{"$f":"'1_PLANTILLA_MENSUAL'!HG56","v":0},{"$f":"'1_PLANTILLA_MENSUAL'!HH56","v":0},{"$f":"'1_PLANTILLA_MENSUAL'!HI56","v":0},{"$f":"'1_PLANTILLA_MENSUAL'!HJ56","v":0},{"$f":"'1_PLANTILLA_MENSUAL'!HK56","v":0},{"$f":"'1_PLANTILLA_MENSUAL'!HL56","v":0},{"$f":"'1_PLANTILLA_MENSUAL'!HM56","v":0},{"$f":"'1_PLANTILLA_MENSUAL'!HN56","v":0},{"$f":"'1_PLANTILLA_MENSUAL'!HO56","v":0},{"$f":"'1_PLANTILLA_MENSUAL'!HP56","v":0},{"$f":"'1_PLANTILLA_MENSUAL'!HQ56","v":0},{"$f":"'1_PLANTILLA_MENSUAL'!HR56","v":0},{"$f":"'1_PLANTILLA_MENSUAL'!HS56","v":0},{"$f":"'1_PLANTILLA_MENSUAL'!HT56","v":0},{"$f":"'1_PLANTILLA_MENSUAL'!HU56","v":0},{"$f":"'1_PLANTILLA_MENSUAL'!HV56","v":0},{"$f":"'1_PLANTILLA_MENSUAL'!HW56","v":0},{"$f":"'1_PLANTILLA_MENSUAL'!HX56","v":0},{"$f":"'1_PLANTILLA_MENSUAL'!HY56","v":0},{"$f":"'1_PLANTILLA_MENSUAL'!HZ56","v":0},{"$f":"'1_PLANTILLA_MENSUAL'!IA56","v":0},{"$f":"'1_PLANTILLA_MENSUAL'!IB56","v":0},{"$f":"'1_PLANTILLA_MENSUAL'!IC56","v":0},{"$f":"'1_PLANTILLA_MENSUAL'!ID56","v":0},{"$f":"'1_PLANTILLA_MENSUAL'!IE56","v":0},{"$f":"'1_PLANTILLA_MENSUAL'!IF56","v":0},{"$f":"'1_PLANTILLA_MENSUAL'!IG56","v":0},{"$f":"'1_PLANTILLA_MENSUAL'!IH56","v":0},{"$f":"'1_PLANTILLA_MENSUAL'!II56","v":0},{"$f":"'1_PLANTILLA_MENSUAL'!IJ56","v":0},{"$f":"'1_PLANTILLA_MENSUAL'!IK56","v":0},{"$f":"'1_PLANTILLA_MENSUAL'!IL56","v":0},{"$f":"'1_PLANTILLA_MENSUAL'!IM56","v":0},{"$f":"'1_PLANTILLA_MENSUAL'!IN56","v":0},{"$f":"'1_PLANTILLA_MENSUAL'!IO56","v":0},{"$f":"'1_PLANTILLA_MENSUAL'!IP56","v":0},{"$f":"'1_PLANTILLA_MENSUAL'!IQ56","v":0},{"$f":"'1_PLANTILLA_MENSUAL'!IR56","v":0},{"$f":"'1_PLANTILLA_MENSUAL'!IS56","v":0},{"$f":"'1_PLANTILLA_MENSUAL'!IT56","v":0},{"$f":"'1_PLANTILLA_MENSUAL'!IU56","v":0},{"$f":"'1_PLANTILLA_MENSUAL'!IV56","v":0},{"$f":"'1_PLANTILLA_MENSUAL'!IW56","v":0},{"$f":"'1_PLANTILLA_MENSUAL'!IX56","v":0},{"$f":"'1_PLANTILLA_MENSUAL'!IY56","v":0},{"$f":"'1_PLANTILLA_MENSUAL'!IZ56","v":0},{"$f":"'1_PLANTILLA_MENSUAL'!JA56","v":0},{"$f":"'1_PLANTILLA_MENSUAL'!JB56","v":0},{"$f":"'1_PLANTILLA_MENSUAL'!JC56","v":0},{"$f":"'1_PLANTILLA_MENSUAL'!JD56","v":0},{"$f":"'1_PLANTILLA_MENSUAL'!JE56","v":0},{"$f":"'1_PLANTILLA_MENSUAL'!JF56","v":0},{"$f":"'1_PLANTILLA_MENSUAL'!JG56","v":0},{"$f":"'1_PLANTILLA_MENSUAL'!JH56","v":0},{"$f":"'1_PLANTILLA_MENSUAL'!JI56","v":0},{"$f":"'1_PLANTILLA_MENSUAL'!JJ56","v":0},{"$f":"'1_PLANTILLA_MENSUAL'!JK56","v":0},{"$f":"'1_PLANTILLA_MENSUAL'!JL56","v":0},{"$f":"'1_PLANTILLA_MENSUAL'!JM56","v":0},{"$f":"'1_PLANTILLA_MENSUAL'!JN56","v":0},{"$f":"'1_PLANTILLA_MENSUAL'!JO56","v":0},{"$f":"'1_PLANTILLA_MENSUAL'!JP56","v":0},{"$f":"'1_PLANTILLA_MENSUAL'!JQ56","v":0},{"$f":"'1_PLANTILLA_MENSUAL'!JR56","v":0},{"$f":"'1_PLANTILLA_MENSUAL'!JS56","v":0},{"$f":"'1_PLANTILLA_MENSUAL'!JT56","v":0},{"$f":"'1_PLANTILLA_MENSUAL'!JU56","v":0},{"$f":"'1_PLANTILLA_MENSUAL'!JV56","v":0},{"$f":"'1_PLANTILLA_MENSUAL'!JW56","v":0},{"$f":"'1_PLANTILLA_MENSUAL'!JX56","v":0},{"$f":"'1_PLANTILLA_MENSUAL'!JY56","v":0},{"$f":"'1_PLANTILLA_MENSUAL'!JZ56","v":0},{"$f":"'1_PLANTILLA_MENSUAL'!KA56","v":0},{"$f":"'1_PLANTILLA_MENSUAL'!KB56","v":0},{"$f":"'1_PLANTILLA_MENSUAL'!KC56","v":0},{"$f":"'1_PLANTILLA_MENSUAL'!KD56","v":0},{"$f":"'1_PLANTILLA_MENSUAL'!KE56","v":0},{"$f":"'1_PLANTILLA_MENSUAL'!KF56","v":0},{"$f":"'1_PLANTILLA_MENSUAL'!KG56","v":0},{"$f":"'1_PLANTILLA_MENSUAL'!KH56","v":0},{"$f":"'1_PLANTILLA_MENSUAL'!KI56","v":0},{"$f":"'1_PLANTILLA_MENSUAL'!KJ56","v":0},{"$f":"'1_PLANTILLA_MENSUAL'!KK56","v":0},{"$f":"'1_PLANTILLA_MENSUAL'!KL56","v":0},{"$f":"'1_PLANTILLA_MENSUAL'!KM56","v":0},{"$f":"'1_PLANTILLA_MENSUAL'!KN56","v":0},{"$f":"'1_PLANTILLA_MENSUAL'!KO56","v":0},{"$f":"'1_PLANTILLA_MENSUAL'!KP56","v":0},{"$f":"'1_PLANTILLA_MENSUAL'!KQ56","v":0},{"$f":"'1_PLANTILLA_MENSUAL'!KR56","v":0},{"$f":"'1_PLANTILLA_MENSUAL'!KS56","v":0},{"$f":"'1_PLANTILLA_MENSUAL'!KT56","v":0},{"$f":"'1_PLANTILLA_MENSUAL'!KU56","v":0},{"$f":"'1_PLANTILLA_MENSUAL'!KV56","v":0},{"$f":"'1_PLANTILLA_MENSUAL'!KW56","v":0},{"$f":"'1_PLANTILLA_MENSUAL'!KX56","v":0},{"$f":"'1_PLANTILLA_MENSUAL'!KY56","v":0},{"$f":"'1_PLANTILLA_MENSUAL'!KZ56","v":0},{"$f":"'1_PLANTILLA_MENSUAL'!LA56","v":0},{"$f":"'1_PLANTILLA_MENSUAL'!LB56","v":0},{"$f":"'1_PLANTILLA_MENSUAL'!LC56","v":0},{"$f":"'1_PLANTILLA_MENSUAL'!LD56","v":0},{"$f":"'1_PLANTILLA_MENSUAL'!LE56","v":0},{"$f":"'1_PLANTILLA_MENSUAL'!LF56","v":0},{"$f":"'1_PLANTILLA_MENSUAL'!LG56","v":0},{"$f":"'1_PLANTILLA_MENSUAL'!LH56","v":0},{"$f":"'1_PLANTILLA_MENSUAL'!LI56","v":0},{"$f":"'1_PLANTILLA_MENSUAL'!LJ56","v":0},{"$f":"'1_PLANTILLA_MENSUAL'!LK56","v":0},{"$f":"'1_PLANTILLA_MENSUAL'!LL56","v":0},{"$f":"'1_PLANTILLA_MENSUAL'!LM56","v":0},{"$f":"'1_PLANTILLA_MENSUAL'!LN56","v":0},{"$f":"'1_PLANTILLA_MENSUAL'!LO56","v":0},{"$f":"'1_PLANTILLA_MENSUAL'!LP56","v":0},{"$f":"'1_PLANTILLA_MENSUAL'!LQ56","v":0},{"$f":"'1_PLANTILLA_MENSUAL'!LR56","v":0},{"$f":"'1_PLANTILLA_MENSUAL'!LS56","v":0},{"$f":"'1_PLANTILLA_MENSUAL'!LT56","v":0},{"$f":"'1_PLANTILLA_MENSUAL'!LU56","v":0},{"$f":"'1_PLANTILLA_MENSUAL'!LV56","v":0},{"$f":"'1_PLANTILLA_MENSUAL'!LW56","v":0},{"$f":"'1_PLANTILLA_MENSUAL'!LX56","v":0},{"$f":"'1_PLANTILLA_MENSUAL'!LY56","v":0},{"$f":"'1_PLANTILLA_MENSUAL'!LZ56","v":0},{"$f":"'1_PLANTILLA_MENSUAL'!MA56","v":0},{"$f":"'1_PLANTILLA_MENSUAL'!MB56","v":0},{"$f":"'1_PLANTILLA_MENSUAL'!MC56","v":0},{"$f":"'1_PLANTILLA_MENSUAL'!MD56","v":0},{"$f":"'1_PLANTILLA_MENSUAL'!ME56","v":0},{"$f":"'1_PLANTILLA_MENSUAL'!MF56","v":0},{"$f":"'1_PLANTILLA_MENSUAL'!MG56","v":0},{"$f":"'1_PLANTILLA_MENSUAL'!MH56","v":0},{"$f":"'1_PLANTILLA_MENSUAL'!MI56","v":0},{"$f":"'1_PLANTILLA_MENSUAL'!MJ56","v":0},{"$f":"'1_PLANTILLA_MENSUAL'!MK56","v":0},{"$f":"'1_PLANTILLA_MENSUAL'!ML56","v":0},{"$f":"'1_PLANTILLA_MENSUAL'!MM56","v":0},{"$f":"'1_PLANTILLA_MENSUAL'!MN56","v":0},{"$f":"'1_PLANTILLA_MENSUAL'!MO56","v":0},{"$f":"'1_PLANTILLA_MENSUAL'!MP56","v":0},{"$f":"'1_PLANTILLA_MENSUAL'!MQ56","v":0},{"$f":"'1_PLANTILLA_MENSUAL'!MR56","v":0},{"$f":"'1_PLANTILLA_MENSUAL'!MS56","v":0},{"$f":"'1_PLANTILLA_MENSUAL'!MT56","v":0},{"$f":"'1_PLANTILLA_MENSUAL'!MU56","v":0},{"$f":"'1_PLANTILLA_MENSUAL'!MV56","v":0},{"$f":"'1_PLANTILLA_MENSUAL'!MW56","v":0},{"$f":"'1_PLANTILLA_MENSUAL'!MX56","v":0},{"$f":"'1_PLANTILLA_MENSUAL'!MY56","v":0},{"$f":"'1_PLANTILLA_MENSUAL'!MZ56","v":0},{"$f":"'1_PLANTILLA_MENSUAL'!NA56","v":0},{"$f":"'1_PLANTILLA_MENSUAL'!NB56","v":0},{"$f":"'1_PLANTILLA_MENSUAL'!NC56","v":0},{"$f":"'1_PLANTILLA_MENSUAL'!ND56","v":0},{"$f":"'1_PLANTILLA_MENSUAL'!NE56","v":0},{"$f":"'1_PLANTILLA_MENSUAL'!NF56","v":0},{"$f":"'1_PLANTILLA_MENSUAL'!NG56","v":0},{"$f":"'1_PLANTILLA_MENSUAL'!NH56","v":0},{"$f":"'1_PLANTILLA_MENSUAL'!NI56","v":0},{"$f":"'1_PLANTILLA_MENSUAL'!NJ56","v":0},{"$f":"'1_PLANTILLA_MENSUAL'!NK56","v":0},{"$f":"'1_PLANTILLA_MENSUAL'!NL56","v":0},{"$f":"'1_PLANTILLA_MENSUAL'!NM56","v":0},{"$f":"'1_PLANTILLA_MENSUAL'!NN56","v":0},{"$f":"'1_PLANTILLA_MENSUAL'!NO56","v":0},{"$f":"'1_PLANTILLA_MENSUAL'!NP56","v":0},{"$f":"'1_PLANTILLA_MENSUAL'!NQ56","v":0},{"$f":"'1_PLANTILLA_MENSUAL'!NR56","v":0},{"$f":"'1_PLANTILLA_MENSUAL'!NS56","v":0},{"$f":"'1_PLANTILLA_MENSUAL'!NT56","v":0},{"$f":"'1_PLANTILLA_MENSUAL'!NU56","v":0},{"$f":"'1_PLANTILLA_MENSUAL'!NV56","v":0},{"$f":"'1_PLANTILLA_MENSUAL'!NW56","v":0},{"$f":"'1_PLANTILLA_MENSUAL'!NX56","v":0},{"$f":"'1_PLANTILLA_MENSUAL'!NY56","v":0},{"$f":"'1_PLANTILLA_MENSUAL'!NZ56","v":0},{"$f":"'1_PLANTILLA_MENSUAL'!OA56","v":0},{"$f":"'1_PLANTILLA_MENSUAL'!OB56","v":0},{"$f":"'1_PLANTILLA_MENSUAL'!OC56","v":0},{"$f":"'1_PLANTILLA_MENSUAL'!OD56","v":0},{"$f":"'1_PLANTILLA_MENSUAL'!OE56","v":0},{"$f":"'1_PLANTILLA_MENSUAL'!OF56","v":0},{"$f":"'1_PLANTILLA_MENSUAL'!OG56","v":0},{"$f":"'1_PLANTILLA_MENSUAL'!OH56","v":0},{"$f":"'1_PLANTILLA_MENSUAL'!OI56","v":0},{"$f":"'1_PLANTILLA_MENSUAL'!OJ56","v":0},{"$f":"'1_PLANTILLA_MENSUAL'!OK56","v":0},{"$f":"'1_PLANTILLA_MENSUAL'!OL56","v":0},{"$f":"'1_PLANTILLA_MENSUAL'!OM56","v":0},{"$f":"'1_PLANTILLA_MENSUAL'!ON56","v":0},{"$f":"'1_PLANTILLA_MENSUAL'!OO56","v":0},{"$f":"'1_PLANTILLA_MENSUAL'!OP56","v":0},{"$f":"'1_PLANTILLA_MENSUAL'!OQ56","v":0},{"$f":"'1_PLANTILLA_MENSUAL'!OR56","v":0},{"$f":"'1_PLANTILLA_MENSUAL'!OS56","v":0},{"$f":"'1_PLANTILLA_MENSUAL'!OT56","v":0},{"$f":"'1_PLANTILLA_MENSUAL'!OU56","v":0},{"$f":"'1_PLANTILLA_MENSUAL'!OV56","v":0},{"$f":"'1_PLANTILLA_MENSUAL'!OW56","v":0},{"$f":"'1_PLANTILLA_MENSUAL'!OX56","v":0},{"$f":"'1_PLANTILLA_MENSUAL'!OY56","v":0},{"$f":"'1_PLANTILLA_MENSUAL'!OZ56","v":0},{"$f":"'1_PLANTILLA_MENSUAL'!PA56","v":0},{"$f":"'1_PLANTILLA_MENSUAL'!PB56","v":0},{"$f":"'1_PLANTILLA_MENSUAL'!PC56","v":0},{"$f":"'1_PLANTILLA_MENSUAL'!PD56","v":0},{"$f":"'1_PLANTILLA_MENSUAL'!PE56","v":0},{"$f":"'1_PLANTILLA_MENSUAL'!PF56","v":0},{"$f":"'1_PLANTILLA_MENSUAL'!PG56","v":0},{"$f":"'1_PLANTILLA_MENSUAL'!PH56","v":0},{"$f":"'1_PLANTILLA_MENSUAL'!PI56","v":0},{"$f":"'1_PLANTILLA_MENSUAL'!PJ56","v":0},{"$f":"'1_PLANTILLA_MENSUAL'!PK56","v":0},{"$f":"'1_PLANTILLA_MENSUAL'!PL56","v":0},{"$f":"'1_PLANTILLA_MENSUAL'!PM56","v":0},{"$f":"'1_PLANTILLA_MENSUAL'!PN56","v":0},{"$f":"'1_PLANTILLA_MENSUAL'!PO56","v":0},{"$f":"'1_PLANTILLA_MENSUAL'!PP56","v":0},{"$f":"'1_PLANTILLA_MENSUAL'!PQ56","v":0},{"$f":"'1_PLANTILLA_MENSUAL'!PR56","v":0},{"$f":"'1_PLANTILLA_MENSUAL'!PS56","v":0},{"$f":"'1_PLANTILLA_MENSUAL'!PT56","v":0},{"$f":"'1_PLANTILLA_MENSUAL'!PU56","v":0},{"$f":"'1_PLANTILLA_MENSUAL'!PV56","v":0},{"$f":"'1_PLANTILLA_MENSUAL'!PW56","v":0},{"$f":"'1_PLANTILLA_MENSUAL'!PX56","v":0},{"$f":"'1_PLANTILLA_MENSUAL'!PY56","v":0},{"$f":"'1_PLANTILLA_MENSUAL'!PZ56","v":0},{"$f":"'1_PLANTILLA_MENSUAL'!QA56","v":0},{"$f":"'1_PLANTILLA_MENSUAL'!QB56","v":0},{"$f":"'2_MERCADO_PRIVADO'!E76","v":0},{"$f":"'2_MERCADO_PRIVADO'!F76","v":0},{"$f":"'2_MERCADO_PRIVADO'!G76","v":0},{"$f":"'2_MERCADO_PRIVADO'!H76","v":0},{"$f":"'2_MERCADO_PRIVADO'!I76","v":0},{"$f":"'2_MERCADO_PRIVADO'!J76","v":0},{"$f":"'2_MERCADO_PRIVADO'!K76","v":0},{"$f":"'2_MERCADO_PRIVADO'!L76","v":0},{"$f":"'2_MERCADO_PRIVADO'!M76","v":0},{"$f":"'2_MERCADO_PRIVADO'!N76","v":0},{"$f":"'2_MERCADO_PRIVADO'!O76","v":0},{"$f":"'2_MERCADO_PRIVADO'!P76","v":0},{"$f":"'2_MERCADO_PRIVADO'!Q76","v":0},{"$f":"'2_MERCADO_PRIVADO'!R76","v":0},{"$f":"'2_MERCADO_PRIVADO'!S76","v":0},{"$f":"'2_MERCADO_PRIVADO'!T76","v":0},{"$f":"'2_MERCADO_PRIVADO'!U76","v":0},{"$f":"'2_MERCADO_PRIVADO'!V76","v":0},{"$f":"'2_MERCADO_PRIVADO'!W76","v":0},{"$f":"'2_MERCADO_PRIVADO'!X76","v":0},{"$f":"'2_MERCADO_PRIVADO'!Y76","v":0},{"$f":"'2_MERCADO_PRIVADO'!Z76","v":0},{"$f":"'2_MERCADO_PRIVADO'!AA76","v":0},{"$f":"'2_MERCADO_PRIVADO'!AB76","v":0},{"$f":"'2_MERCADO_PRIVADO'!AC76","v":0},{"$f":"'2_MERCADO_PRIVADO'!AD76","v":0},{"$f":"'2_MERCADO_PRIVADO'!AE76","v":0},{"$f":"'2_MERCADO_PRIVADO'!AF76","v":0},{"$f":"'2_MERCADO_PRIVADO'!AG76","v":0},{"$f":"'2_MERCADO_PRIVADO'!AH76","v":0},{"$f":"'2_MERCADO_PRIVADO'!AI76","v":0},{"$f":"'2_MERCADO_PRIVADO'!AJ76","v":0},{"$f":"'2_MERCADO_PRIVADO'!AK76","v":0},{"$f":"'2_MERCADO_PRIVADO'!AL76","v":0},{"$f":"'2_MERCADO_PRIVADO'!AM76","v":0},{"$f":"'2_MERCADO_PRIVADO'!AN76","v":0},{"$f":"'2_MERCADO_PRIVADO'!AO76","v":0},{"$f":"'2_MERCADO_PRIVADO'!AP76","v":0},{"$f":"'2_MERCADO_PRIVADO'!AQ76","v":0},{"$f":"'2_MERCADO_PRIVADO'!AR76","v":0},{"$f":"'2_MERCADO_PRIVADO'!AS76","v":0},{"$f":"'2_MERCADO_PRIVADO'!AT76","v":0},{"$f":"'2_MERCADO_PRIVADO'!AU76","v":0},{"$f":"'2_MERCADO_PRIVADO'!AV76","v":0},{"$f":"'2_MERCADO_PRIVADO'!AW76","v":0},{"$f":"'2_MERCADO_PRIVADO'!AX76","v":0},{"$f":"'2_MERCADO_PRIVADO'!AY76","v":0},{"$f":"'2_MERCADO_PRIVADO'!AZ76","v":0},{"$f":"'2_MERCADO_PRIVADO'!BA76","v":0},{"$f":"'2_MERCADO_PRIVADO'!BB76","v":0},{"$f":"'2_MERCADO_PRIVADO'!BC76","v":0},{"$f":"'2_MERCADO_PRIVADO'!BD76","v":0},{"$f":"'2_MERCADO_PRIVADO'!BE76","v":0},{"$f":"'2_MERCADO_PRIVADO'!BF76","v":0},{"$f":"'2_MERCADO_PRIVADO'!BG76","v":0},{"$f":"'2_MERCADO_PRIVADO'!BH76","v":0},{"$f":"'2_MERCADO_PRIVADO'!BI76","v":0},{"$f":"'2_MERCADO_PRIVADO'!BJ76","v":0},{"$f":"'2_MERCADO_PRIVADO'!BK76","v":0},{"$f":"'2_MERCADO_PRIVADO'!BL76","v":0},{"$f":"'2_MERCADO_PRIVADO'!BM76","v":0},{"$f":"'2_MERCADO_PRIVADO'!BN76","v":0},{"$f":"'2_MERCADO_PRIVADO'!BO76","v":0},{"$f":"'2_MERCADO_PRIVADO'!BP76","v":0},{"$f":"'2_MERCADO_PRIVADO'!BQ76","v":0},{"$f":"'2_MERCADO_PRIVADO'!BR76","v":0},{"$f":"'2_MERCADO_PRIVADO'!BS76","v":0},{"$f":"'2_MERCADO_PRIVADO'!BT76","v":0},{"$f":"'2_MERCADO_PRIVADO'!BU76","v":0},{"$f":"'2_MERCADO_PRIVADO'!BV76","v":0},{"$f":"'2_MERCADO_PRIVADO'!BW76","v":0},{"$f":"'2_MERCADO_PRIVADO'!BX76","v":0},{"$f":"'2_MERCADO_PRIVADO'!BY76","v":0},{"$f":"'2_MERCADO_PRIVADO'!BZ76","v":0},{"$f":"'2_MERCADO_PRIVADO'!CA76","v":0},{"$f":"'2_MERCADO_PRIVADO'!CB76","v":0},{"$f":"'2_MERCADO_PRIVADO'!CC76","v":0},{"$f":"'2_MERCADO_PRIVADO'!CD76","v":0},{"$f":"'2_MERCADO_PRIVADO'!CE76","v":0},{"$f":"'2_MERCADO_PRIVADO'!CF76","v":0},{"$f":"'2_MERCADO_PRIVADO'!CG76","v":0},{"$f":"'2_MERCADO_PRIVADO'!CH76","v":0},{"$f":"'2_MERCADO_PRIVADO'!CI76","v":0},{"$f":"'2_MERCADO_PRIVADO'!CJ76","v":0},{"$f":"'2_MERCADO_PRIVADO'!CK76","v":0},{"$f":"'2_MERCADO_PRIVADO'!CL76","v":0},{"$f":"'2_MERCADO_PRIVADO'!CM76","v":0},{"$f":"'2_MERCADO_PRIVADO'!CN76","v":0},{"$f":"'2_MERCADO_PRIVADO'!CO76","v":0},{"$f":"'2_MERCADO_PRIVADO'!CP76","v":0},{"$f":"'2_MERCADO_PRIVADO'!CQ76","v":0},{"$f":"'2_MERCADO_PRIVADO'!CR76","v":0},{"$f":"'2_MERCADO_PRIVADO'!CS76","v":0},{"$f":"'2_MERCADO_PRIVADO'!CT76","v":0},{"$f":"'2_MERCADO_PRIVADO'!CU76","v":0},{"$f":"'2_MERCADO_PRIVADO'!CV76","v":0},{"$f":"'2_MERCADO_PRIVADO'!CW76","v":0},{"$f":"'2_MERCADO_PRIVADO'!CX76","v":0},{"$f":"'2_MERCADO_PRIVADO'!CY76","v":0},{"$f":"'2_MERCADO_PRIVADO'!CZ76","v":0},{"$f":"'2_MERCADO_PRIVADO'!DA76","v":0},{"$f":"'2_MERCADO_PRIVADO'!DB76","v":0},{"$f":"'2_MERCADO_PRIVADO'!DC76","v":0},{"$f":"'2_MERCADO_PRIVADO'!DD76","v":0},{"$f":"'2_MERCADO_PRIVADO'!DE76","v":0},{"$f":"'2_MERCADO_PRIVADO'!DF76","v":0},{"$f":"'2_MERCADO_PRIVADO'!DG76","v":0},{"$f":"'2_MERCADO_PRIVADO'!DH76","v":0},{"$f":"'2_MERCADO_PRIVADO'!DI76","v":0},{"$f":"'2_MERCADO_PRIVADO'!DJ76","v":0},{"$f":"'2_MERCADO_PRIVADO'!DK76","v":0},{"$f":"'2_MERCADO_PRIVADO'!DL76","v":0},{"$f":"'2_MERCADO_PRIVADO'!DM76","v":0},{"$f":"'2_MERCADO_PRIVADO'!DN76","v":0},{"$f":"'2_MERCADO_PRIVADO'!DO76","v":0},{"$f":"'2_MERCADO_PRIVADO'!DP76","v":0},{"$f":"'2_MERCADO_PRIVADO'!DQ76","v":0},{"$f":"'2_MERCADO_PRIVADO'!DR76","v":0},{"$f":"'2_MERCADO_PRIVADO'!DS76","v":0},{"$f":"'2_MERCADO_PRIVADO'!DT76","v":0},{"$f":"'2_MERCADO_PRIVADO'!DU76","v":0},{"$f":"'2_MERCADO_PRIVADO'!DV76","v":0},{"$f":"'2_MERCADO_PRIVADO'!DW76","v":0},{"$f":"'2_MERCADO_PRIVADO'!DX76","v":0},{"$f":"'2_MERCADO_PRIVADO'!DY76","v":0},{"$f":"'2_MERCADO_PRIVADO'!DZ76","v":0},{"$f":"'2_MERCADO_PRIVADO'!EA76","v":0},{"$f":"'2_MERCADO_PRIVADO'!EB76","v":0},{"$f":"'2_MERCADO_PRIVADO'!EC76","v":0},{"$f":"'2_MERCADO_PRIVADO'!ED76","v":0},{"$f":"'2_MERCADO_PRIVADO'!EE76","v":0},{"$f":"'2_MERCADO_PRIVADO'!EF76","v":0},{"$f":"'2_MERCADO_PRIVADO'!EG76","v":0},{"$f":"'2_MERCADO_PRIVADO'!EH76","v":0},{"$f":"'2_MERCADO_PRIVADO'!EI76","v":0},{"$f":"'2_MERCADO_PRIVADO'!EJ76","v":0},{"$f":"'2_MERCADO_PRIVADO'!EK76","v":0},{"$f":"'2_MERCADO_PRIVADO'!EL76","v":0},{"$f":"'2_MERCADO_PRIVADO'!EM76","v":0},{"$f":"'2_MERCADO_PRIVADO'!EN76","v":0},{"$f":"'2_MERCADO_PRIVADO'!EO76","v":0},{"$f":"'2_MERCADO_PRIVADO'!EP76","v":0},{"$f":"'2_MERCADO_PRIVADO'!EQ76","v":0},{"$f":"'2_MERCADO_PRIVADO'!ER76","v":0},{"$f":"'2_MERCADO_PRIVADO'!ES76","v":0},{"$f":"'2_MERCADO_PRIVADO'!ET76","v":0},{"$f":"'2_MERCADO_PRIVADO'!EU76","v":0},{"$f":"'2_MERCADO_PRIVADO'!EV76","v":0},{"$f":"'2_MERCADO_PRIVADO'!EW76","v":0},{"$f":"'2_MERCADO_PRIVADO'!EX76","v":0},{"$f":"'2_MERCADO_PRIVADO'!EY76","v":0},{"$f":"'2_MERCADO_PRIVADO'!EZ76","v":0},{"$f":"'2_MERCADO_PRIVADO'!FA76","v":0},{"$f":"'2_MERCADO_PRIVADO'!FB76","v":0},{"$f":"'2_MERCADO_PRIVADO'!FC76","v":0},{"$f":"'2_MERCADO_PRIVADO'!FD76","v":0},{"$f":"'2_MERCADO_PRIVADO'!FE76","v":0},{"$f":"'2_MERCADO_PRIVADO'!FF76","v":0},{"$f":"'2_MERCADO_PRIVADO'!FG76","v":0},{"$f":"'2_MERCADO_PRIVADO'!FH76","v":0},{"$f":"'2_MERCADO_PRIVADO'!FI76","v":0},{"$f":"'2_MERCADO_PRIVADO'!FJ76","v":0},{"$f":"'2_MERCADO_PRIVADO'!FK76","v":0},{"$f":"'2_MERCADO_PRIVADO'!FL76","v":0},{"$f":"'2_MERCADO_PRIVADO'!FM76","v":0},{"$f":"'2_MERCADO_PRIVADO'!FN76","v":0},{"$f":"'2_MERCADO_PRIVADO'!FO76","v":0},{"$f":"'2_MERCADO_PRIVADO'!FP76","v":0},{"$f":"'2_MERCADO_PRIVADO'!FQ76","v":0},{"$f":"'2_MERCADO_PRIVADO'!FR76","v":0},{"$f":"'2_MERCADO_PRIVADO'!FS76","v":0},{"$f":"'2_MERCADO_PRIVADO'!FT76","v":0},{"$f":"'2_MERCADO_PRIVADO'!FU76","v":0},{"$f":"'2_MERCADO_PRIVADO'!FV76","v":0},{"$f":"'2_MERCADO_PRIVADO'!FW76","v":0},{"$f":"'2_MERCADO_PRIVADO'!FX76","v":0},{"$f":"'2_MERCADO_PRIVADO'!FY76","v":0},{"$f":"'2_MERCADO_PRIVADO'!FZ76","v":0},{"$f":"'2_MERCADO_PRIVADO'!GA76","v":0},{"$f":"'2_MERCADO_PRIVADO'!GB76","v":0},{"$f":"'2_MERCADO_PRIVADO'!GC76","v":0},{"$f":"'2_MERCADO_PRIVADO'!GD76","v":0},{"$f":"'2_MERCADO_PRIVADO'!GE76","v":0},{"$f":"'2_MERCADO_PRIVADO'!GF76","v":0},{"$f":"'2_MERCADO_PRIVADO'!GG76","v":0},{"$f":"'2_MERCADO_PRIVADO'!GH76","v":0},{"$f":"'2_MERCADO_PRIVADO'!GI76","v":0},{"$f":"'2_MERCADO_PRIVADO'!GJ76","v":0},{"$f":"'2_MERCADO_PRIVADO'!GK76","v":0},{"$f":"'2_MERCADO_PRIVADO'!GL76","v":0},{"$f":"'2_MERCADO_PRIVADO'!GM76","v":0},{"$f":"'2_MERCADO_PRIVADO'!GN76","v":0},{"$f":"'2_MERCADO_PRIVADO'!GO76","v":0},{"$f":"'2_MERCADO_PRIVADO'!GP76","v":0},{"$f":"'2_MERCADO_PRIVADO'!GQ76","v":0},{"$f":"'2_MERCADO_PRIVADO'!GR76","v":0},{"$f":"'2_MERCADO_PRIVADO'!GS76","v":0},{"$f":"'2_MERCADO_PRIVADO'!GT76","v":0},{"$f":"'2_MERCADO_PRIVADO'!GU76","v":0},{"$f":"'2_MERCADO_PRIVADO'!GV76","v":0},{"$f":"'2_MERCADO_PRIVADO'!GW76","v":0},{"$f":"'2_MERCADO_PRIVADO'!GX76","v":0},{"$f":"'2_MERCADO_PRIVADO'!GY76","v":0},{"$f":"'2_MERCADO_PRIVADO'!GZ76","v":0},{"$f":"'2_MERCADO_PRIVADO'!HA76","v":0},{"$f":"'2_MERCADO_PRIVADO'!HB76","v":0},{"$f":"'2_MERCADO_PRIVADO'!HC76","v":0},{"$f":"'2_MERCADO_PRIVADO'!HD76","v":0},{"$f":"'2_MERCADO_PRIVADO'!HE76","v":0},{"$f":"'2_MERCADO_PRIVADO'!HF76","v":0},{"$f":"'2_MERCADO_PRIVADO'!HG76","v":0},{"$f":"'2_MERCADO_PRIVADO'!HH76","v":0},{"$f":"'2_MERCADO_PRIVADO'!HI76","v":0},{"$f":"'2_MERCADO_PRIVADO'!HJ76","v":0},{"$f":"'2_MERCADO_PRIVADO'!HK76","v":0},{"$f":"'2_MERCADO_PRIVADO'!HL76","v":0},{"$f":"'2_MERCADO_PRIVADO'!HM76","v":0},{"$f":"'2_MERCADO_PRIVADO'!HN76","v":0},{"$f":"'2_MERCADO_PRIVADO'!HO76","v":0},{"$f":"'2_MERCADO_PRIVADO'!HP76","v":0},{"$f":"'2_MERCADO_PRIVADO'!HQ76","v":0},{"$f":"'2_MERCADO_PRIVADO'!HR76","v":0},{"$f":"'2_MERCADO_PRIVADO'!HS76","v":0},{"$f":"'2_MERCADO_PRIVADO'!HT76","v":0},{"$f":"'2_MERCADO_PRIVADO'!HU76","v":0},{"$f":"'2_MERCADO_PRIVADO'!HV76","v":0},{"$f":"'2_MERCADO_PRIVADO'!HW76","v":0},{"$f":"'2_MERCADO_PRIVADO'!HX76","v":0},{"$f":"'2_MERCADO_PRIVADO'!HY76","v":0},{"$f":"'2_MERCADO_PRIVADO'!HZ76","v":0},{"$f":"'2_MERCADO_PRIVADO'!IA76","v":0},{"$f":"'2_MERCADO_PRIVADO'!IB76","v":0},{"$f":"'2_MERCADO_PRIVADO'!IC76","v":0},{"$f":"'2_MERCADO_PRIVADO'!ID76","v":0},{"$f":"'2_MERCADO_PRIVADO'!IE76","v":0},{"$f":"'2_MERCADO_PRIVADO'!IF76","v":0},{"$f":"'2_MERCADO_PRIVADO'!IG76","v":0},{"$f":"'2_MERCADO_PRIVADO'!IH76","v":0},{"$f":"'2_MERCADO_PRIVADO'!II76","v":0},{"$f":"'2_MERCADO_PRIVADO'!IJ76","v":0},{"$f":"'2_MERCADO_PRIVADO'!IK76","v":0},{"$f":"'2_MERCADO_PRIVADO'!IL76","v":0},{"$f":"'2_MERCADO_PRIVADO'!IM76","v":0},{"$f":"'2_MERCADO_PRIVADO'!IN76","v":0},{"$f":"'2_MERCADO_PRIVADO'!IO76","v":0},{"$f":"'2_MERCADO_PRIVADO'!IP76","v":0},{"$f":"'2_MERCADO_PRIVADO'!IQ76","v":0},{"$f":"'2_MERCADO_PRIVADO'!IR76","v":0},{"$f":"'2_MERCADO_PRIVADO'!IS76","v":0},{"$f":"'2_MERCADO_PRIVADO'!IT76","v":0},{"$f":"'2_MERCADO_PRIVADO'!IU76","v":0},{"$f":"'2_MERCADO_PRIVADO'!IV76","v":0},{"$f":"'2_MERCADO_PRIVADO'!IW76","v":0},{"$f":"'2_MERCADO_PRIVADO'!IX76","v":0},{"$f":"'2_MERCADO_PRIVADO'!IY76","v":0},{"$f":"'2_MERCADO_PRIVADO'!IZ76","v":0},{"$f":"'2_MERCADO_PRIVADO'!JA76","v":0},{"$f":"'2_MERCADO_PRIVADO'!JB76","v":0},{"$f":"'2_MERCADO_PRIVADO'!JC76","v":0},{"$f":"'2_MERCADO_PRIVADO'!JD76","v":0},{"$f":"'2_MERCADO_PRIVADO'!JE76","v":0},{"$f":"'2_MERCADO_PRIVADO'!JF76","v":0},{"$f":"'2_MERCADO_PRIVADO'!JG76","v":0},{"$f":"'2_MERCADO_PRIVADO'!JH76","v":0},{"$f":"'2_MERCADO_PRIVADO'!JI76","v":0},{"$f":"'2_MERCADO_PRIVADO'!JJ76","v":0},{"$f":"'2_MERCADO_PRIVADO'!JK76","v":0},{"$f":"'2_MERCADO_PRIVADO'!JL76","v":0},{"$f":"'2_MERCADO_PRIVADO'!JM76","v":0},{"$f":"'2_MERCADO_PRIVADO'!JN76","v":0},{"$f":"'2_MERCADO_PRIVADO'!JO76","v":0},{"$f":"'2_MERCADO_PRIVADO'!JP76","v":0},{"$f":"'2_MERCADO_PRIVADO'!JQ76","v":0},{"$f":"'2_MERCADO_PRIVADO'!JR76","v":0},{"$f":"'2_MERCADO_PRIVADO'!JS76","v":0},{"$f":"'2_MERCADO_PRIVADO'!JT76","v":0},{"$f":"'2_MERCADO_PRIVADO'!JU76","v":0},{"$f":"'2_MERCADO_PRIVADO'!JV76","v":0},{"$f":"'2_MERCADO_PRIVADO'!JW76","v":0},{"$f":"'2_MERCADO_PRIVADO'!JX76","v":0},{"$f":"'2_MERCADO_PRIVADO'!JY76","v":0},{"$f":"'2_MERCADO_PRIVADO'!JZ76","v":0},{"$f":"'2_MERCADO_PRIVADO'!KA76","v":0},{"$f":"'2_MERCADO_PRIVADO'!KB76","v":0},{"$f":"'2_MERCADO_PRIVADO'!KC76","v":0},{"$f":"'2_MERCADO_PRIVADO'!KD76","v":0},{"$f":"'2_MERCADO_PRIVADO'!KE76","v":0},{"$f":"'2_MERCADO_PRIVADO'!KF76","v":0},{"$f":"'2_MERCADO_PRIVADO'!KG76","v":0},{"$f":"'2_MERCADO_PRIVADO'!KH76","v":0},{"$f":"'2_MERCADO_PRIVADO'!KI76","v":0},{"$f":"'2_MERCADO_PRIVADO'!KJ76","v":0},{"$f":"'2_MERCADO_PRIVADO'!KK76","v":0},{"$f":"'2_MERCADO_PRIVADO'!KL76","v":0},{"$f":"'2_MERCADO_PRIVADO'!KM76","v":0},{"$f":"'2_MERCADO_PRIVADO'!KN76","v":0},{"$f":"'2_MERCADO_PRIVADO'!KO76","v":0},{"$f":"'2_MERCADO_PRIVADO'!KP76","v":0},{"$f":"'2_MERCADO_PRIVADO'!KQ76","v":0},{"$f":"'2_MERCADO_PRIVADO'!KR76","v":0},{"$f":"'2_MERCADO_PRIVADO'!KS76","v":0},{"$f":"'2_MERCADO_PRIVADO'!KT76","v":0},{"$f":"'2_MERCADO_PRIVADO'!KU76","v":0},{"$f":"'2_MERCADO_PRIVADO'!KV76","v":0},{"$f":"'2_MERCADO_PRIVADO'!KW76","v":0},{"$f":"'2_MERCADO_PRIVADO'!KX76","v":0},{"$f":"'2_MERCADO_PRIVADO'!KY76","v":0},{"$f":"'2_MERCADO_PRIVADO'!KZ76","v":0},{"$f":"'2_MERCADO_PRIVADO'!LA76","v":0},{"$f":"'2_MERCADO_PRIVADO'!LB76","v":0},{"$f":"'2_MERCADO_PRIVADO'!LC76","v":0},{"$f":"'2_MERCADO_PRIVADO'!LD76","v":0},{"$f":"'2_MERCADO_PRIVADO'!LE76","v":0},{"$f":"'2_MERCADO_PRIVADO'!LF76","v":0},{"$f":"'2_MERCADO_PRIVADO'!LG76","v":0},{"$f":"'2_MERCADO_PRIVADO'!LH76","v":0},{"$f":"'2_MERCADO_PRIVADO'!LI76","v":0},{"$f":"'2_MERCADO_PRIVADO'!LJ76","v":0},{"$f":"'2_MERCADO_PRIVADO'!LK76","v":0},{"$f":"'2_MERCADO_PRIVADO'!LL76","v":0},{"$f":"'2_MERCADO_PRIVADO'!LM76","v":0},{"$f":"'2_MERCADO_PRIVADO'!LN76","v":0},{"$f":"'2_MERCADO_PRIVADO'!LO76","v":0},{"$f":"'2_MERCADO_PRIVADO'!LP76","v":0},{"$f":"'2_MERCADO_PRIVADO'!LQ76","v":0},{"$f":"'2_MERCADO_PRIVADO'!LR76","v":0},{"$f":"'2_MERCADO_PRIVADO'!LS76","v":0},{"$f":"'2_MERCADO_PRIVADO'!LT76","v":0},{"$f":"'2_MERCADO_PRIVADO'!LU76","v":0},{"$f":"'2_MERCADO_PRIVADO'!LV76","v":0},{"$f":"'2_MERCADO_PRIVADO'!LW76","v":0},{"$f":"'2_MERCADO_PRIVADO'!LX76","v":0},{"$f":"'2_MERCADO_PRIVADO'!LY76","v":0},{"$f":"'2_MERCADO_PRIVADO'!LZ76","v":0},{"$f":"'2_MERCADO_PRIVADO'!MA76","v":0},{"$f":"'2_MERCADO_PRIVADO'!MB76","v":0},{"$f":"'2_MERCADO_PRIVADO'!MC76","v":0},{"$f":"'2_MERCADO_PRIVADO'!MD76","v":0},{"$f":"'2_MERCADO_PRIVADO'!ME76","v":0},{"$f":"'2_MERCADO_PRIVADO'!MF76","v":0},{"$f":"'2_MERCADO_PRIVADO'!MG76","v":0},{"$f":"'2_MERCADO_PRIVADO'!MH76","v":0},{"$f":"'2_MERCADO_PRIVADO'!MI76","v":0},{"$f":"'2_MERCADO_PRIVADO'!MJ76","v":0},{"$f":"'2_MERCADO_PRIVADO'!MK76","v":0},{"$f":"'2_MERCADO_PRIVADO'!ML76","v":0},{"$f":"'2_MERCADO_PRIVADO'!MM76","v":0},{"$f":"'2_MERCADO_PRIVADO'!MN76","v":0},{"$f":"'2_MERCADO_PRIVADO'!MO76","v":0},{"$f":"'2_MERCADO_PRIVADO'!MP76","v":0},{"$f":"'2_MERCADO_PRIVADO'!MQ76","v":0},{"$f":"'2_MERCADO_PRIVADO'!MR76","v":0},{"$f":"'2_MERCADO_PRIVADO'!MS76","v":0},{"$f":"'2_MERCADO_PRIVADO'!MT76","v":0},{"$f":"'2_MERCADO_PRIVADO'!MU76","v":0},{"$f":"'2_MERCADO_PRIVADO'!MV76","v":0},{"$f":"'2_MERCADO_PRIVADO'!MW76","v":0},{"$f":"'2_MERCADO_PRIVADO'!MX76","v":0},{"$f":"'2_MERCADO_PRIVADO'!MY76","v":0},{"$f":"'2_MERCADO_PRIVADO'!MZ76","v":0},{"$f":"'2_MERCADO_PRIVADO'!NA76","v":0},{"$f":"'2_MERCADO_PRIVADO'!NB76","v":0},{"$f":"'2_MERCADO_PRIVADO'!NC76","v":0},{"$f":"'2_MERCADO_PRIVADO'!ND76","v":0},{"$f":"'2_MERCADO_PRIVADO'!NE76","v":0},{"$f":"'2_MERCADO_PRIVADO'!NF76","v":0},{"$f":"'2_MERCADO_PRIVADO'!NG76","v":0},{"$f":"'2_MERCADO_PRIVADO'!NH76","v":0},{"$f":"'2_MERCADO_PRIVADO'!NI76","v":0},{"$f":"'2_MERCADO_PRIVADO'!NJ76","v":0},{"$f":"'2_MERCADO_PRIVADO'!NK76","v":0},{"$f":"'2_MERCADO_PRIVADO'!NL76","v":0},{"$f":"'2_MERCADO_PRIVADO'!NM76","v":0},{"$f":"'2_MERCADO_PRIVADO'!NN76","v":0},{"$f":"'2_MERCADO_PRIVADO'!NO76","v":0},{"$f":"'2_MERCADO_PRIVADO'!NP76","v":0},{"$f":"'2_MERCADO_PRIVADO'!NQ76","v":0},{"$f":"'2_MERCADO_PRIVADO'!NR76","v":0},{"$f":"'2_MERCADO_PRIVADO'!NS76","v":0},{"$f":"'2_MERCADO_PRIVADO'!NT76","v":0},{"$f":"'2_MERCADO_PRIVADO'!NU76","v":0},{"$f":"'2_MERCADO_PRIVADO'!NV76","v":0},{"$f":"'2_MERCADO_PRIVADO'!NW76","v":0},{"$f":"'2_MERCADO_PRIVADO'!NX76","v":0},{"$f":"'2_MERCADO_PRIVADO'!NY76","v":0},{"$f":"'2_MERCADO_PRIVADO'!NZ76","v":0},{"$f":"'2_MERCADO_PRIVADO'!OA76","v":0},{"$f":"'2_MERCADO_PRIVADO'!OB76","v":0},{"$f":"'2_MERCADO_PRIVADO'!OC76","v":0},{"$f":"'2_MERCADO_PRIVADO'!OD76","v":0},{"$f":"'2_MERCADO_PRIVADO'!OE76","v":0},{"$f":"'2_MERCADO_PRIVADO'!OF76","v":0},{"$f":"'2_MERCADO_PRIVADO'!OG76","v":0},{"$f":"'2_MERCADO_PRIVADO'!OH76","v":0},{"$f":"'2_MERCADO_PRIVADO'!OI76","v":0},{"$f":"'2_MERCADO_PRIVADO'!OJ76","v":0},{"$f":"'2_MERCADO_PRIVADO'!OK76","v":0},{"$f":"'2_MERCADO_PRIVADO'!OL76","v":0},{"$f":"'2_MERCADO_PRIVADO'!OM76","v":0},{"$f":"'2_MERCADO_PRIVADO'!ON76","v":0},{"$f":"'2_MERCADO_PRIVADO'!OO76","v":0},{"$f":"'2_MERCADO_PRIVADO'!OP76","v":0},{"$f":"'2_MERCADO_PRIVADO'!OQ76","v":0},{"$f":"'2_MERCADO_PRIVADO'!OR76","v":0},{"$f":"'2_MERCADO_PRIVADO'!OS76","v":0},{"$f":"'2_MERCADO_PRIVADO'!OT76","v":0},{"$f":"'2_MERCADO_PRIVADO'!OU76","v":0},{"$f":"'2_MERCADO_PRIVADO'!OV76","v":0},{"$f":"'2_MERCADO_PRIVADO'!OW76","v":0},{"$f":"'2_MERCADO_PRIVADO'!OX76","v":0},{"$f":"'2_MERCADO_PRIVADO'!OY76","v":0},{"$f":"'2_MERCADO_PRIVADO'!OZ76","v":0},{"$f":"'2_MERCADO_PRIVADO'!PA76","v":0},{"$f":"'2_MERCADO_PRIVADO'!PB76","v":0},{"$f":"'2_MERCADO_PRIVADO'!PC76","v":0},{"$f":"'2_MERCADO_PRIVADO'!PD76","v":0},{"$f":"'2_MERCADO_PRIVADO'!PE76","v":0},{"$f":"'2_MERCADO_PRIVADO'!PF76","v":0},{"$f":"'2_MERCADO_PRIVADO'!PG76","v":0},{"$f":"'2_MERCADO_PRIVADO'!PH76","v":0},{"$f":"'2_MERCADO_PRIVADO'!PI76","v":0},{"$f":"'2_MERCADO_PRIVADO'!PJ76","v":0},{"$f":"'2_MERCADO_PRIVADO'!PK76","v":0},{"$f":"'2_MERCADO_PRIVADO'!PL76","v":0},{"$f":"'2_MERCADO_PRIVADO'!PM76","v":0},{"$f":"'2_MERCADO_PRIVADO'!PN76","v":0},{"$f":"'2_MERCADO_PRIVADO'!PO76","v":0},{"$f":"'2_MERCADO_PRIVADO'!PP76","v":0},{"$f":"'2_MERCADO_PRIVADO'!PQ76","v":0},{"$f":"'2_MERCADO_PRIVADO'!PR76","v":0},{"$f":"'2_MERCADO_PRIVADO'!PS76","v":0},{"$f":"'2_MERCADO_PRIVADO'!PT76","v":0},{"$f":"'2_MERCADO_PRIVADO'!PU76","v":0},{"$f":"'2_MERCADO_PRIVADO'!PV76","v":0},{"$f":"'2_MERCADO_PRIVADO'!PW76","v":0},{"$f":"'2_MERCADO_PRIVADO'!PX76","v":0},{"$f":"'2_MERCADO_PRIVADO'!PY76","v":0},{"$f":"'2_MERCADO_PRIVADO'!PZ76","v":0},{"$f":"'2_MERCADO_PRIVADO'!QA76","v":0},{"$f":"'2_MERCADO_PRIVADO'!QB76","v":0},{"$f":"'2_MERCADO_PRIVADO'!QC76","v":0},{"$f":"'2_MERCADO_PRIVADO'!QD76","v":0},{"$f":"'2_MERCADO_PRIVADO'!QE76","v":0},{"$f":"'2_MERCADO_PRIVADO'!QF76","v":0},{"$f":"'2_MERCADO_PRIVADO'!QG76","v":0},{"$f":"'2_MERCADO_PRIVADO'!QH76","v":0},{"$f":"'2_MERCADO_PRIVADO'!QI76","v":0},{"$f":"'2_MERCADO_PRIVADO'!QJ76","v":0},{"$f":"'2_MERCADO_PRIVADO'!QK76","v":0},{"$f":"'2_MERCADO_PRIVADO'!QL76","v":0},{"$f":"'2_MERCADO_PRIVADO'!QM76","v":0},{"$f":"'2_MERCADO_PRIVADO'!QN76","v":0},{"$f":"'2_MERCADO_PRIVADO'!RE76","v":0},{"$f":"'2_MERCADO_PRIVADO'!RF76","v":0},{"$f":"'2_MERCADO_PRIVADO'!RG76","v":0},{"$f":"'2_MERCADO_PRIVADO'!RH76","v":0},{"$f":"'2_MERCADO_PRIVADO'!RI76","v":0},{"$f":"'2_MERCADO_PRIVADO'!RJ76","v":0},{"$f":"'2_MERCADO_PRIVADO'!RK76","v":0},{"$f":"'2_MERCADO_PRIVADO'!RL76","v":0},{"$f":"'2_MERCADO_PRIVADO'!RM76","v":0},{"$f":"'2_MERCADO_PRIVADO'!RN76","v":0},{"$f":"'2_MERCADO_PRIVADO'!RO76","v":0},{"$f":"'2_MERCADO_PRIVADO'!RP76","v":0},{"$f":"'2_MERCADO_PRIVADO'!RQ76","v":0},{"$f":"'2_MERCADO_PRIVADO'!RR76","v":0},{"$f":"'2_MERCADO_PRIVADO'!RS76","v":0},{"$f":"'2_MERCADO_PRIVADO'!RT76","v":0},{"$f":"'2_MERCADO_PRIVADO'!RU76","v":0},{"$f":"'2_MERCADO_PRIVADO'!RV76","v":0},{"$f":"'2_MERCADO_PRIVADO'!RW76","v":0},{"$f":"'2_MERCADO_PRIVADO'!RX76","v":0},{"$f":"'2_MERCADO_PRIVADO'!RY76","v":0},{"$f":"'2_MERCADO_PRIVADO'!RZ76","v":0},{"$f":"'2_MERCADO_PRIVADO'!SA76","v":0},{"$f":"'2_MERCADO_PRIVADO'!SB76","v":0},{"$f":"'2_MERCADO_PRIVADO'!SC76","v":0},{"$f":"'2_MERCADO_PRIVADO'!SD76","v":0},{"$f":"'2_MERCADO_PRIVADO'!SE76","v":0},{"$f":"'2_MERCADO_PRIVADO'!SF76","v":0},{"$f":"'2_MERCADO_PRIVADO'!SG76","v":0},{"$f":"'2_MERCADO_PRIVADO'!SH76","v":0},{"$f":"'2_MERCADO_PRIVADO'!SI76","v":0},{"$f":"'2_MERCADO_PRIVADO'!SJ76","v":0},{"$f":"'2_MERCADO_PRIVADO'!SK76","v":0},{"$f":"'2_MERCADO_PRIVADO'!SL76","v":0},{"$f":"'2_MERCADO_PRIVADO'!SM76","v":0},{"$f":"'2_MERCADO_PRIVADO'!SN76","v":0},{"$f":"'2_MERCADO_PRIVADO'!SO76","v":0},{"$f":"'2_MERCADO_PRIVADO'!SP76","v":0},{"$f":"'2_MERCADO_PRIVADO'!SQ76","v":0},{"$f":"'2_MERCADO_PRIVADO'!SR76","v":0},{"$f":"'2_MERCADO_PRIVADO'!SS76","v":0},{"$f":"'2_MERCADO_PRIVADO'!ST76","v":0},{"$f":"'2_MERCADO_PRIVADO'!SU76","v":0},{"$f":"'2_MERCADO_PRIVADO'!SV76","v":0},{"$f":"'2_MERCADO_PRIVADO'!SW76","v":0},{"$f":"'2_MERCADO_PRIVADO'!SX76","v":0},{"$f":"'2_MERCADO_PRIVADO'!SY76","v":0},{"$f":"'2_MERCADO_PRIVADO'!SZ76","v":0},{"$f":"'2_MERCADO_PRIVADO'!TA76","v":0},{"$f":"'2_MERCADO_PRIVADO'!TB76","v":0},{"$f":"'2_MERCADO_PRIVADO'!TC76","v":0},{"$f":"'2_MERCADO_PRIVADO'!TD76","v":0},{"$f":"'2_MERCADO_PRIVADO'!TE76","v":0},{"$f":"'2_MERCADO_PRIVADO'!TF76","v":0},{"$f":"'2_MERCADO_PRIVADO'!TG76","v":0},{"$f":"'2_MERCADO_PRIVADO'!TH76","v":0},{"$f":"'2_MERCADO_PRIVADO'!TI76","v":0},{"$f":"'2_MERCADO_PRIVADO'!TJ76","v":0},{"$f":"'2_MERCADO_PRIVADO'!TK76","v":0},{"$f":"'2_MERCADO_PRIVADO'!TL76","v":0},{"$f":"'2_MERCADO_PRIVADO'!TM76","v":0},{"$f":"'2_MERCADO_PRIVADO'!TN76","v":0},{"$f":"'2_MERCADO_PRIVADO'!TO76","v":0},{"$f":"'2_MERCADO_PRIVADO'!TP76","v":0},{"$f":"SUM(D5:AJW5)-SUM(PP5:PS5)-SUM(PV5:QA5)-SUM(AIZ5:AJC5)-SUM(AJF5:AJK5)","v":0},{"$f":"CONCATENATE('1_PLANTILLA_MENSUAL'!$G$2,'3_CONSOLIDADO REGIMEN'!B5)","v":"110"}]
[null,null,"TOTALES",{"$f":"SUM(D3:D5)","v":{"v":6531,"d":"6,531"}},161,22,10,{"v":6516,"d":"6,516"},210,2,1,1,2,44,95,6,12,36,8,9,19,3,2,16,1,5,13,0,0,0,0,0,0,0,0,0,0,0,0,0,0,0,0,0,0,0,0,0,0,0,14,0,1,0,3,0,0,0,14,2,0,0,571,105,63,7,{"v":4654,"d":"4,654"},{"$f":"SUM(BP3:BP5)","v":{"v":4429,"d":"4,429"}},{"v":4899,"d":"4,899"},12,44,102,7,12,33,7,9,19,2,2,15,1,4,11,{"v":4451,"d":"4,451"},381,102,48,79,0,0,67,1,0,50,0,0,8,0,0,54,10,0,2,3,0,0,{"v":6920,"d":"6,920"},{"v":4646,"d":"4,646"},{"v":4427,"d":"4,427"},{"v":4895,"d":"4,895"},9,0,0,0,0,0,0,0,0,0,0,0,0,0,0,6,45,97,6,12,{"$f":"SUM(EB3:EB5)","v":32},8,8,18,3,2,15,0,5,13,{"v":4487,"d":"4,487"},394,107,56,69,0,0,{"v":6946,"d":"6,946"},2,1,4,0,0,0,0,0,1,0,1,0,0,0,0,0,0,0,17,2,1,0,0,0,0,27,0,0,0,1,11,0,0,0,0,0,0,0,0,0,0,0,0,0,0,0,{"$f":"SUM(GN3:GN5)","v":0},0,0,0,0,0,0,0,0,0,0,0,0,0,0,0,{"v":5134,"d":"5,134"},{"v":4927,"d":"4,927"},889,{"v":4949,"d":"4,949"},{"v":5257,"d":"5,257"},91,102,299,{"v":4506,"d":"4,506"},0,0,0,0,0,{"v":5341,"d":"5,341"},54,34,18,12,6,4,0,0,0,0,{"v":7300,"d":"7,300"},97,56,21,15,12,2,36,380,72,142,191,191,236,209,178,193,168,152,189,135,974,520,{"$f":"SUM(IZ3:IZ5)","v":341},{"v":4809,"d":"4,809"},366,100,51,71,18,11,10,12,7,12,14,49,139,{"v":3267,"d":"3,267"},{"v":1652,"d":"1,652"},922,605,0,{"v":5560,"d":"5,560"},104,96,77,90,61,36,17,12,3,{"v":5396,"d":"5,396"},98,95,73,97,59,31,3,{"v":7224,"d":"7,224"},89,57,0,14,0,0,2,46,97,31,0,3,1,{"v":1922,"d":"1,922"},879,373,257,138,17,0,0,0,595,291,92,{"$f":"SUM(LL3:LL5)","v":24},5,{"v":2240,"d":"2,240"},{"v":1513,"d":"1,513"},{"v":1815,"d":"1,815"},{"v":1140,"d":"1,140"},816,173,0,0,0,21,1,0,0,1,269,52,23,4,0,1,0,0,0,12,3,0,2,5,10,1,1,0,2,29,49,69,5,1,0,{"v":1280,"d":"1,280"},838,{"v":1543,"d":"1,543"},508,382,237,{"v":7010,"d":"7,010"},{"v":7297,"d":"7,297"},{"v":3763,"d":"3,763"},{"v":3177,"d":"3,177"},{"v":5702,"d":"5,702"},79,47,499,{"v":50472,"d":"50,472"},{"v":6440,"d":"6,440"},9,0,{"v":2029,"d":"2,029"},{"v":1729,"d":"1,729"},{"v":22205,"d":"22,205"},0,0,{"$f":"SUM(NX3:NX5)","v":0},0,0,2,{"v":1556,"d":"1,556"},343,0,650,554,0,604,510,0,506,393,2,441,347,0,428,281,1,469,271,0,339,230,0,179,202,1,47,0,0,0,0,0,0,0,0,0,{"v":1147,"d":"1,147"},427,282,282,385,101,3,1,2,42,26,2,1,8,1,1,0,1,0,0,0,0,0,{"$f":"SUM(QJ3:QJ5)","v":0},0,0,0,0,0,0,0,0,0,1,1,0,0,0,14,12,5,0,287,147,69,6,{"v":5563,"d":"5,563"},{"v":2519,"d":"2,519"},{"v":1810,"d":"1,810"},917,2,7,4,2,0,1,0,0,0,0,0,0,0,0,0,0,0,0,438,16,3,1,0,0,1,5,0,0,0,0,0,0,12,682,695,617,0,{"$f":"SUM(SV3:SV5)","v":0},5,0,1,1,0,0,0,0,0,0,0,0,0,19,2,0,1,0,0,0,2,1,0,0,0,1,8,20,0,0,0,0,0,0,0,0,0,0,0,0,0,0,0,0,2,0,30,1,1,3,16,0,2,501,1,0,0,4,72,0,0,0,0,{"$f":"SUM(VH3:VH5)","v":0},0,0,0,0,0,0,0,0,0,0,1,0,0,0,0,0,0,1,0,0,4,0,0,0,8,3,0,0,0,0,0,0,0,0,0,0,0,0,0,0,0,0,0,0,0,0,0,0,0,0,0,0,0,0,0,0,2,234,233,205,146,298,311,{"$f":"SUM(XT3:XT5)","v":0},0,7,281,2,62,380,206,64,112,34,995,116,149,68,6,1,2,2,3,1,5,7,6,22,190,{"v":1667,"d":"1,667"},56,0,1,2,5,2,1,193,249,0,0,3,47,0,0,0,0,1,0,1,7,2,26,185,8,1,1,0,0,110,16,7,3,5,8,4,2,{"$f":"SUM(AAF3:AAF5)","v":10},6,6,2,6,79,529,205,135,62,138,371,4,115,7,43,5,23,10,29,9,23,7,19,5,17,6,6,49,42,553,143,0,0,0,0,0,0,0,0,0,0,1,0,0,1,0,0,0,0,0,0,0,1,0,0,1,0,0,66,7,5,427,245,{"$f":"SUM(ACR3:ACR5)","v":99},57,3,9,1,7,2,4,2,4,25,5,1,0,215,91,{"v":1448,"d":"1,448"},0,0,0,0,0,0,0,0,0,0,3,1,2,1,1,1,0,0,0,49,34,9,3,0,{"v":1414,"d":"1,414"},646,411,269,199,36,0,0,0,149,33,7,0,0,{"v":4179,"d":"4,179"},{"v":1457,"d":"1,457"},645,202,56,13,0,0,0,{"$f":"SUM(AFD3:AFD5)","v":369},188,106,41,32,110,51,30,17,4,0,0,0,0,0,0,9,0,0,0,0,0,0,0,0,0,11,0,0,0,2,324,0,0,0,0,{"v":3851,"d":"3,851"},5,1,1,0,0,0,0,0,412,474,165,155,290,9,10,671,{"v":1464,"d":"1,464"},52,22,6,{"v":2713,"d":"2,713"},{"v":1606,"d":"1,606"},{"v":13320,"d":"13,320"},10,12,13,12,{"$f":"SUM(AHP3:AHP5)","v":18},18,9,18,7,7,13,603,493,289,94,84,59,0,0,0,0,0,0,0,0,0,0,0,0,0,0,0,0,0,0,0,662,430,67,123,117,5,34,804,242,73,13,218,{"v":42003,"d":"42,003"},0,{"v":11353,"d":"11,353"},492,{"v":2055,"d":"2,055"},633,17,2,672,{"v":1693,"d":"1,693"},{"v":1470,"d":"1,470"},{"v":2240,"d":"2,240"},531,{"v":1195,"d":"1,195"},{"v":1624,"d":"1,624"},853,{"v":360035,"d":"360,035"}]
[null,null,{"$f":"COUNTIF(#REF!,\"=0\")","v":{"$error":"#REF!"}},{"$f":"D6='1_PLANTILLA_MENSUAL'!E76","v":true},{"$f":"E6='1_PLANTILLA_MENSUAL'!F76","v":true},{"$f":"F6='1_PLANTILLA_MENSUAL'!G76","v":true},{"$f":"G6='1_PLANTILLA_MENSUAL'!H76","v":true},{"$f":"H6='1_PLANTILLA_MENSUAL'!I76","v":true},{"$f":"I6='1_PLANTILLA_MENSUAL'!J76","v":true},{"$f":"J6='1_PLANTILLA_MENSUAL'!K76","v":true},{"$f":"K6='1_PLANTILLA_MENSUAL'!L76","v":true},{"$f":"L6='1_PLANTILLA_MENSUAL'!M76","v":true},{"$f":"M6='1_PLANTILLA_MENSUAL'!N76","v":true},{"$f":"N6='1_PLANTILLA_MENSUAL'!O76","v":true},{"$f":"O6='1_PLANTILLA_MENSUAL'!P76","v":true},{"$f":"P6='1_PLANTILLA_MENSUAL'!Q76","v":true},{"$f":"Q6='1_PLANTILLA_MENSUAL'!R76","v":true},{"$f":"R6='1_PLANTILLA_MENSUAL'!S76","v":true},{"$f":"S6='1_PLANTILLA_MENSUAL'!T76","v":true},{"$f":"T6='1_PLANTILLA_MENSUAL'!U76","v":true},{"$f":"U6='1_PLANTILLA_MENSUAL'!V76","v":true},{"$f":"V6='1_PLANTILLA_MENSUAL'!W76","v":true},{"$f":"W6='1_PLANTILLA_MENSUAL'!X76","v":true},{"$f":"X6='1_PLANTILLA_MENSUAL'!Y76","v":true},{"$f":"Y6='1_PLANTILLA_MENSUAL'!Z76","v":true},{"$f":"Z6='1_PLANTILLA_MENSUAL'!AA76","v":true},{"$f":"AA6='1_PLANTILLA_MENSUAL'!AB76","v":true},{"$f":"AB6='1_PLANTILLA_MENSUAL'!AC76","v":true},{"$f":"AC6='1_PLANTILLA_MENSUAL'!AD76","v":true},{"$f":"AD6='1_PLANTILLA_MENSUAL'!AE76","v":true},{"$f":"AE6='1_PLANTILLA_MENSUAL'!AF76","v":true},{"$f":"AF6='1_PLANTILLA_MENSUAL'!AG76","v":true},{"$f":"AG6='1_PLANTILLA_MENSUAL'!AH76","v":true},{"$f":"AH6='1_PLANTILLA_MENSUAL'!AI76","v":true},{"$f":"AI6='1_PLANTILLA_MENSUAL'!AJ76","v":true},{"$f":"AJ6='1_PLANTILLA_MENSUAL'!AK76","v":true},{"$f":"AK6='1_PLANTILLA_MENSUAL'!AL76","v":true},{"$f":"AL6='1_PLANTILLA_MENSUAL'!AM76","v":true},{"$f":"AM6='1_PLANTILLA_MENSUAL'!AN76","v":true},{"$f":"AN6='1_PLANTILLA_MENSUAL'!AO76","v":true},{"$f":"AO6='1_PLANTILLA_MENSUAL'!AP76","v":true},{"$f":"AP6='1_PLANTILLA_MENSUAL'!AQ76","v":true},{"$f":"AQ6='1_PLANTILLA_MENSUAL'!AR76","v":true},{"$f":"AR6='1_PLANTILLA_MENSUAL'!AS76","v":true},{"$f":"AS6='1_PLANTILLA_MENSUAL'!AT76","v":true},{"$f":"AT6='1_PLANTILLA_MENSUAL'!AU76","v":true},{"$f":"AU6='1_PLANTILLA_MENSUAL'!AV76","v":true},{"$f":"AV6='1_PLANTILLA_MENSUAL'!AW76","v":true},{"$f":"AW6='1_PLANTILLA_MENSUAL'!AX76","v":true},{"$f":"AX6='1_PLANTILLA_MENSUAL'!AY76","v":true},{"$f":"AY6='1_PLANTILLA_MENSUAL'!AZ76","v":true},{"$f":"AZ6='1_PLANTILLA_MENSUAL'!BA76","v":true},{"$f":"BA6='1_PLANTILLA_MENSUAL'!BB76","v":true},{"$f":"BB6='1_PLANTILLA_MENSUAL'!BC76","v":true},{"$f":"BC6='1_PLANTILLA_MENSUAL'!BD76","v":true},{"$f":"BD6='1_PLANTILLA_MENSUAL'!BE76","v":true},{"$f":"BE6='1_PLANTILLA_MENSUAL'!BF76","v":true},{"$f":"BF6='1_PLANTILLA_MENSUAL'!BG76","v":true},{"$f":"BG6='1_PLANTILLA_MENSUAL'!BH76","v":true},{"$f":"BH6='1_PLANTILLA_MENSUAL'!BI76","v":true},{"$f":"BI6='1_PLANTILLA_MENSUAL'!BJ76","v":true},{"$f":"BJ6='1_PLANTILLA_MENSUAL'!BK76","v":true},{"$f":"BK6='1_PLANTILLA_MENSUAL'!BL76","v":true},{"$f":"BL6='1_PLANTILLA_MENSUAL'!BM76","v":true},{"$f":"BM6='1_PLANTILLA_MENSUAL'!BN76","v":true},{"$f":"BN6='1_PLANTILLA_MENSUAL'!BO76","v":true},{"$f":"BO6='1_PLANTILLA_MENSUAL'!BP76","v":true},{"$f":"BP6='1_PLANTILLA_MENSUAL'!BQ76","v":true},{"$f":"BQ6='1_PLANTILLA_MENSUAL'!BR76","v":true},{"$f":"BR6='1_PLANTILLA_MENSUAL'!BS76","v":true},{"$f":"BS6='1_PLANTILLA_MENSUAL'!BT76","v":true},{"$f":"BT6='1_PLANTILLA_MENSUAL'!BU76","v":true},{"$f":"BU6='1_PLANTILLA_MENSUAL'!BV76","v":true},{"$f":"BV6='1_PLANTILLA_MENSUAL'!BW76","v":true},{"$f":"BW6='1_PLANTILLA_MENSUAL'!BX76","v":true},{"$f":"BX6='1_PLANTILLA_MENSUAL'!BY76","v":true},{"$f":"BY6='1_PLANTILLA_MENSUAL'!BZ76","v":true},{"$f":"BZ6='1_PLANTILLA_MENSUAL'!CA76","v":true},{"$f":"CA6='1_PLANTILLA_MENSUAL'!CB76","v":true},{"$f":"CB6='1_PLANTILLA_MENSUAL'!CC76","v":true},{"$f":"CC6='1_PLANTILLA_MENSUAL'!CD76","v":true},{"$f":"CD6='1_PLANTILLA_MENSUAL'!CE76","v":true},{"$f":"CE6='1_PLANTILLA_MENSUAL'!CF76","v":true},{"$f":"CF6='1_PLANTILLA_MENSUAL'!CG76","v":true},{"$f":"CG6='1_PLANTILLA_MENSUAL'!CH76","v":true},{"$f":"CH6='1_PLANTILLA_MENSUAL'!CI76","v":true},{"$f":"CI6='1_PLANTILLA_MENSUAL'!CJ76","v":true},{"$f":"CJ6='1_PLANTILLA_MENSUAL'!CK76","v":true},{"$f":"CK6='1_PLANTILLA_MENSUAL'!CL76","v":true},{"$f":"CL6='1_PLANTILLA_MENSUAL'!CM76","v":true},{"$f":"CM6='1_PLANTILLA_MENSUAL'!CN76","v":true},{"$f":"CN6='1_PLANTILLA_MENSUAL'!CO76","v":true},{"$f":"CO6='1_PLANTILLA_MENSUAL'!CP76","v":true},{"$f":"CP6='1_PLANTILLA_MENSUAL'!CQ76","v":true},{"$f":"CQ6='1_PLANTILLA_MENSUAL'!CR76","v":true},{"$f":"CR6='1_PLANTILLA_MENSUAL'!CS76","v":true},{"$f":"CS6='1_PLANTILLA_MENSUAL'!CT76","v":true},{"$f":"CT6='1_PLANTILLA_MENSUAL'!CU76","v":true},{"$f":"CU6='1_PLANTILLA_MENSUAL'!CV76","v":true},{"$f":"CV6='1_PLANTILLA_MENSUAL'!CW76","v":true},{"$f":"CW6='1_PLANTILLA_MENSUAL'!CX76","v":true},{"$f":"CX6='1_PLANTILLA_MENSUAL'!CY76","v":true},{"$f":"CY6='1_PLANTILLA_MENSUAL'!CZ76","v":true},{"$f":"CZ6='1_PLANTILLA_MENSUAL'!DA76","v":true},{"$f":"DA6='1_PLANTILLA_MENSUAL'!DB76","v":true},{"$f":"DB6='1_PLANTILLA_MENSUAL'!DC76","v":true},{"$f":"DC6='1_PLANTILLA_MENSUAL'!DD76","v":true},{"$f":"DD6='1_PLANTILLA_MENSUAL'!DE76","v":true},{"$f":"DE6='1_PLANTILLA_MENSUAL'!DF76","v":true},{"$f":"DF6='1_PLANTILLA_MENSUAL'!DG76","v":true},{"$f":"DG6='1_PLANTILLA_MENSUAL'!DH76","v":true},{"$f":"DH6='1_PLANTILLA_MENSUAL'!DI76","v":true},{"$f":"DI6='1_PLANTILLA_MENSUAL'!DJ76","v":true},{"$f":"DJ6='1_PLANTILLA_MENSUAL'!DK76","v":true},{"$f":"DK6='1_PLANTILLA_MENSUAL'!DL76","v":true},{"$f":"DL6='1_PLANTILLA_MENSUAL'!DM76","v":true},{"$f":"DM6='1_PLANTILLA_MENSUAL'!DN76","v":true},{"$f":"DN6='1_PLANTILLA_MENSUAL'!DO76","v":true},{"$f":"DO6='1_PLANTILLA_MENSUAL'!DP76","v":true},{"$f":"DP6='1_PLANTILLA_MENSUAL'!DQ76","v":true},{"$f":"DQ6='1_PLANTILLA_MENSUAL'!DR76","v":true},{"$f":"DR6='1_PLANTILLA_MENSUAL'!DS76","v":true},{"$f":"DS6='1_PLANTILLA_MENSUAL'!DT76","v":true},{"$f":"DT6='1_PLANTILLA_MENSUAL'!DU76","v":true},{"$f":"DU6='1_PLANTILLA_MENSUAL'!DV76","v":true},{"$f":"DV6='1_PLANTILLA_MENSUAL'!DW76","v":true},{"$f":"DW6='1_PLANTILLA_MENSUAL'!DX76","v":true},{"$f":"DX6='1_PLANTILLA_MENSUAL'!DY76","v":true},{"$f":"DY6='1_PLANTILLA_MENSUAL'!DZ76","v":true},{"$f":"DZ6='1_PLANTILLA_MENSUAL'!EA76","v":true},{"$f":"EA6='1_PLANTILLA_MENSUAL'!EB76","v":true},{"$f":"EB6='1_PLANTILLA_MENSUAL'!EC76","v":true},{"$f":"EC6='1_PLANTILLA_MENSUAL'!ED76","v":true},{"$f":"ED6='1_PLANTILLA_MENSUAL'!EE76","v":true},{"$f":"EE6='1_PLANTILLA_MENSUAL'!EF76","v":true},{"$f":"EF6='1_PLANTILLA_MENSUAL'!EG76","v":true},{"$f":"EG6='1_PLANTILLA_MENSUAL'!EH76","v":true},{"$f":"EH6='1_PLANTILLA_MENSUAL'!EI76","v":true},{"$f":"EI6='1_PLANTILLA_MENSUAL'!EJ76","v":true},{"$f":"EJ6='1_PLANTILLA_MENSUAL'!EK76","v":true},{"$f":"EK6='1_PLANTILLA_MENSUAL'!EL76","v":true},{"$f":"EL6='1_PLANTILLA_MENSUAL'!EM76","v":true},{"$f":"EM6='1_PLANTILLA_MENSUAL'!EN76","v":true},{"$f":"EN6='1_PLANTILLA_MENSUAL'!EO76","v":true},{"$f":"EO6='1_PLANTILLA_MENSUAL'!EP76","v":true},{"$f":"EP6='1_PLANTILLA_MENSUAL'!EQ76","v":true},{"$f":"EQ6='1_PLANTILLA_MENSUAL'!ER76","v":true},{"$f":"ER6='1_PLANTILLA_MENSUAL'!ES76","v":true},{"$f":"ES6='1_PLANTILLA_MENSUAL'!ET76","v":true},{"$f":"ET6='1_PLANTILLA_MENSUAL'!EU76","v":true},{"$f":"EU6='1_PLANTILLA_MENSUAL'!EV76","v":true},{"$f":"EV6='1_PLANTILLA_MENSUAL'!EW76","v":true},{"$f":"EW6='1_PLANTILLA_MENSUAL'!EX76","v":true},{"$f":"EX6='1_PLANTILLA_MENSUAL'!EY76","v":true},{"$f":"EY6='1_PLANTILLA_MENSUAL'!EZ76","v":true},{"$f":"EZ6='1_PLANTILLA_MENSUAL'!FA76","v":true},{"$f":"FA6='1_PLANTILLA_MENSUAL'!FB76","v":true},{"$f":"FB6='1_PLANTILLA_MENSUAL'!FC76","v":true},{"$f":"FC6='1_PLANTILLA_MENSUAL'!FD76","v":true},{"$f":"FD6='1_PLANTILLA_MENSUAL'!FE76","v":true},{"$f":"FE6='1_PLANTILLA_MENSUAL'!FF76","v":true},{"$f":"FF6='1_PLANTILLA_MENSUAL'!FG76","v":true},{"$f":"FG6='1_PLANTILLA_MENSUAL'!FH76","v":true},{"$f":"FH6='1_PLANTILLA_MENSUAL'!FI76","v":true},{"$f":"FI6='1_PLANTILLA_MENSUAL'!FJ76","v":true},{"$f":"FJ6='1_PLANTILLA_MENSUAL'!FK76","v":true},{"$f":"FK6='1_PLANTILLA_MENSUAL'!FL76","v":true},{"$f":"FL6='1_PLANTILLA_MENSUAL'!FM76","v":true},{"$f":"FM6='1_PLANTILLA_MENSUAL'!FN76","v":true},{"$f":"FN6='1_PLANTILLA_MENSUAL'!FO76","v":true},{"$f":"FO6='1_PLANTILLA_MENSUAL'!FP76","v":true},{"$f":"FP6='1_PLANTILLA_MENSUAL'!FQ76","v":true},{"$f":"FQ6='1_PLANTILLA_MENSUAL'!FR76","v":true},{"$f":"FR6='1_PLANTILLA_MENSUAL'!FS76","v":true},{"$f":"FS6='1_PLANTILLA_MENSUAL'!FT76","v":true},{"$f":"FT6='1_PLANTILLA_MENSUAL'!FU76","v":true},{"$f":"FU6='1_PLANTILLA_MENSUAL'!FV76","v":true},{"$f":"FV6='1_PLANTILLA_MENSUAL'!FW76","v":true},{"$f":"FW6='1_PLANTILLA_MENSUAL'!FX76","v":true},{"$f":"FX6='1_PLANTILLA_MENSUAL'!FY76","v":true},{"$f":"FY6='1_PLANTILLA_MENSUAL'!FZ76","v":true},{"$f":"FZ6='1_PLANTILLA_MENSUAL'!GA76","v":true},{"$f":"GA6='1_PLANTILLA_MENSUAL'!GB76","v":true},{"$f":"GB6='1_PLANTILLA_MENSUAL'!GC76","v":true},{"$f":"GC6='1_PLANTILLA_MENSUAL'!GD76","v":true},{"$f":"GD6='1_PLANTILLA_MENSUAL'!GE76","v":true},{"$f":"GE6='1_PLANTILLA_MENSUAL'!GF76","v":true},{"$f":"GF6='1_PLANTILLA_MENSUAL'!GG76","v":true},{"$f":"GG6='1_PLANTILLA_MENSUAL'!GH76","v":true},{"$f":"GH6='1_PLANTILLA_MENSUAL'!GI76","v":true},{"$f":"GI6='1_PLANTILLA_MENSUAL'!GJ76","v":true},{"$f":"GJ6='1_PLANTILLA_MENSUAL'!GK76","v":true},{"$f":"GK6='1_PLANTILLA_MENSUAL'!GL76","v":true},{"$f":"GL6='1_PLANTILLA_MENSUAL'!GM76","v":true},{"$f":"GM6='1_PLANTILLA_MENSUAL'!GN76","v":true},{"$f":"GN6='1_PLANTILLA_MENSUAL'!GO76","v":true},{"$f":"GO6='1_PLANTILLA_MENSUAL'!GP76","v":true},{"$f":"GP6='1_PLANTILLA_MENSUAL'!GQ76","v":true},{"$f":"GQ6='1_PLANTILLA_MENSUAL'!GR76","v":true},{"$f":"GR6='1_PLANTILLA_MENSUAL'!GS76","v":true},{"$f":"GS6='1_PLANTILLA_MENSUAL'!GT76","v":true},{"$f":"GT6='1_PLANTILLA_MENSUAL'!GU76","v":true},{"$f":"GU6='1_PLANTILLA_MENSUAL'!GV76","v":true},{"$f":"GV6='1_PLANTILLA_MENSUAL'!GW76","v":true},{"$f":"GW6='1_PLANTILLA_MENSUAL'!GX76","v":true},{"$f":"GX6='1_PLANTILLA_MENSUAL'!GY76","v":true},{"$f":"GY6='1_PLANTILLA_MENSUAL'!GZ76","v":true},{"$f":"GZ6='1_PLANTILLA_MENSUAL'!HA76","v":true},{"$f":"HA6='1_PLANTILLA_MENSUAL'!HB76","v":true},{"$f":"HB6='1_PLANTILLA_MENSUAL'!HC76","v":true},{"$f":"HC6='1_PLANTILLA_MENSUAL'!HD76","v":true},{"$f":"HD6='1_PLANTILLA_MENSUAL'!HE76","v":true},{"$f":"HE6='1_PLANTILLA_MENSUAL'!HF76","v":true},{"$f":"HF6='1_PLANTILLA_MENSUAL'!HG76","v":true},{"$f":"HG6='1_PLANTILLA_MENSUAL'!HH76","v":true},{"$f":"HH6='1_PLANTILLA_MENSUAL'!HI76","v":true},{"$f":"HI6='1_PLANTILLA_MENSUAL'!HJ76","v":true},{"$f":"HJ6='1_PLANTILLA_MENSUAL'!HK76","v":true},{"$f":"HK6='1_PLANTILLA_MENSUAL'!HL76","v":true},{"$f":"HL6='1_PLANTILLA_MENSUAL'!HM76","v":true},{"$f":"HM6='1_PLANTILLA_MENSUAL'!HN76","v":true},{"$f":"HN6='1_PLANTILLA_MENSUAL'!HO76","v":true},{"$f":"HO6='1_PLANTILLA_MENSUAL'!HP76","v":true},{"$f":"HP6='1_PLANTILLA_MENSUAL'!HQ76","v":true},{"$f":"HQ6='1_PLANTILLA_MENSUAL'!HR76","v":true},{"$f":"HR6='1_PLANTILLA_MENSUAL'!HS76","v":true},{"$f":"HS6='1_PLANTILLA_MENSUAL'!HT76","v":true},{"$f":"HT6='1_PLANTILLA_MENSUAL'!HU76","v":true},{"$f":"HU6='1_PLANTILLA_MENSUAL'!HV76","v":true},{"$f":"HV6='1_PLANTILLA_MENSUAL'!HW76","v":true},{"$f":"HW6='1_PLANTILLA_MENSUAL'!HX76","v":true},{"$f":"HX6='1_PLANTILLA_MENSUAL'!HY76","v":true},{"$f":"HY6='1_PLANTILLA_MENSUAL'!HZ76","v":true},{"$f":"HZ6='1_PLANTILLA_MENSUAL'!IA76","v":true},{"$f":"IA6='1_PLANTILLA_MENSUAL'!IB76","v":true},{"$f":"IB6='1_PLANTILLA_MENSUAL'!IC76","v":true},{"$f":"IC6='1_PLANTILLA_MENSUAL'!ID76","v":true},{"$f":"ID6='1_PLANTILLA_MENSUAL'!IE76","v":true},{"$f":"IE6='1_PLANTILLA_MENSUAL'!IF76","v":true},{"$f":"IF6='1_PLANTILLA_MENSUAL'!IG76","v":true},{"$f":"IG6='1_PLANTILLA_MENSUAL'!IH76","v":true},{"$f":"IH6='1_PLANTILLA_MENSUAL'!II76","v":true},{"$f":"II6='1_PLANTILLA_MENSUAL'!IJ76","v":true},{"$f":"IJ6='1_PLANTILLA_MENSUAL'!IK76","v":true},{"$f":"IK6='1_PLANTILLA_MENSUAL'!IL76","v":true},{"$f":"IL6='1_PLANTILLA_MENSUAL'!IM76","v":true},{"$f":"IM6='1_PLANTILLA_MENSUAL'!IN76","v":true},{"$f":"IN6='1_PLANTILLA_MENSUAL'!IO76","v":true},{"$f":"IO6='1_PLANTILLA_MENSUAL'!IP76","v":true},{"$f":"IP6='1_PLANTILLA_MENSUAL'!IQ76","v":true},{"$f":"IQ6='1_PLANTILLA_MENSUAL'!IR76","v":true},{"$f":"IR6='1_PLANTILLA_MENSUAL'!IS76","v":true},{"$f":"IS6='1_PLANTILLA_MENSUAL'!IT76","v":true},{"$f":"IT6='1_PLANTILLA_MENSUAL'!IU76","v":true},{"$f":"IU6='1_PLANTILLA_MENSUAL'!IV76","v":true},{"$f":"IV6='1_PLANTILLA_MENSUAL'!IW76","v":true},{"$f":"IW6='1_PLANTILLA_MENSUAL'!IX76","v":true},{"$f":"IX6='1_PLANTILLA_MENSUAL'!IY76","v":true},{"$f":"IY6='1_PLANTILLA_MENSUAL'!IZ76","v":true},{"$f":"IZ6='1_PLANTILLA_MENSUAL'!JA76","v":true},{"$f":"JA6='1_PLANTILLA_MENSUAL'!JB76","v":true},{"$f":"JB6='1_PLANTILLA_MENSUAL'!JC76","v":true},{"$f":"JC6='1_PLANTILLA_MENSUAL'!JD76","v":true},{"$f":"JD6='1_PLANTILLA_MENSUAL'!JE76","v":true},{"$f":"JE6='1_PLANTILLA_MENSUAL'!JF76","v":true},{"$f":"JF6='1_PLANTILLA_MENSUAL'!JG76","v":true},{"$f":"JG6='1_PLANTILLA_MENSUAL'!JH76","v":true},{"$f":"JH6='1_PLANTILLA_MENSUAL'!JI76","v":true},{"$f":"JI6='1_PLANTILLA_MENSUAL'!JJ76","v":true},{"$f":"JJ6='1_PLANTILLA_MENSUAL'!JK76","v":true},{"$f":"JK6='1_PLANTILLA_MENSUAL'!JL76","v":true},{"$f":"JL6='1_PLANTILLA_MENSUAL'!JM76","v":true},{"$f":"JM6='1_PLANTILLA_MENSUAL'!JN76","v":true},{"$f":"JN6='1_PLANTILLA_MENSUAL'!JO76","v":true},{"$f":"JO6='1_PLANTILLA_MENSUAL'!JP76","v":true},{"$f":"JP6='1_PLANTILLA_MENSUAL'!JQ76","v":true},{"$f":"JQ6='1_PLANTILLA_MENSUAL'!JR76","v":true},{"$f":"JR6='1_PLANTILLA_MENSUAL'!JS76","v":true},{"$f":"JS6='1_PLANTILLA_MENSUAL'!JT76","v":true},{"$f":"JT6='1_PLANTILLA_MENSUAL'!JU76","v":true},{"$f":"JU6='1_PLANTILLA_MENSUAL'!JV76","v":true},{"$f":"JV6='1_PLANTILLA_MENSUAL'!JW76","v":true},{"$f":"JW6='1_PLANTILLA_MENSUAL'!JX76","v":true},{"$f":"JX6='1_PLANTILLA_MENSUAL'!JY76","v":true},{"$f":"JY6='1_PLANTILLA_MENSUAL'!JZ76","v":true},{"$f":"JZ6='1_PLANTILLA_MENSUAL'!KA76","v":true},{"$f":"KA6='1_PLANTILLA_MENSUAL'!KB76","v":true},{"$f":"KB6='1_PLANTILLA_MENSUAL'!KC76","v":true},{"$f":"KC6='1_PLANTILLA_MENSUAL'!KD76","v":true},{"$f":"KD6='1_PLANTILLA_MENSUAL'!KE76","v":true},{"$f":"KE6='1_PLANTILLA_MENSUAL'!KF76","v":true},{"$f":"KF6='1_PLANTILLA_MENSUAL'!KG76","v":true},{"$f":"KG6='1_PLANTILLA_MENSUAL'!KH76","v":true},{"$f":"KH6='1_PLANTILLA_MENSUAL'!KI76","v":true},{"$f":"KI6='1_PLANTILLA_MENSUAL'!KJ76","v":true},{"$f":"KJ6='1_PLANTILLA_MENSUAL'!KK76","v":true},{"$f":"KK6='1_PLANTILLA_MENSUAL'!KL76","v":true},{"$f":"KL6='1_PLANTILLA_MENSUAL'!KM76","v":true},{"$f":"KM6='1_PLANTILLA_MENSUAL'!KN76","v":true},{"$f":"KN6='1_PLANTILLA_MENSUAL'!KO76","v":true},{"$f":"KO6='1_PLANTILLA_MENSUAL'!KP76","v":true},{"$f":"KP6='1_PLANTILLA_MENSUAL'!KQ76","v":true},{"$f":"KQ6='1_PLANTILLA_MENSUAL'!KR76","v":true},{"$f":"KR6='1_PLANTILLA_MENSUAL'!KS76","v":true},{"$f":"KS6='1_PLANTILLA_MENSUAL'!KT76","v":true},{"$f":"KT6='1_PLANTILLA_MENSUAL'!KU76","v":true},{"$f":"KU6='1_PLANTILLA_MENSUAL'!KV76","v":true},{"$f":"KV6='1_PLANTILLA_MENSUAL'!KW76","v":true},{"$f":"KW6='1_PLANTILLA_MENSUAL'!KX76","v":true},{"$f":"KX6='1_PLANTILLA_MENSUAL'!KY76","v":true},{"$f":"KY6='1_PLANTILLA_MENSUAL'!KZ76","v":true},{"$f":"KZ6='1_PLANTILLA_MENSUAL'!LA76","v":true},{"$f":"LA6='1_PLANTILLA_MENSUAL'!LB76","v":true},{"$f":"LB6='1_PLANTILLA_MENSUAL'!LC76","v":true},{"$f":"LC6='1_PLANTILLA_MENSUAL'!LD76","v":true},{"$f":"LD6='1_PLANTILLA_MENSUAL'!LE76","v":true},{"$f":"LE6='1_PLANTILLA_MENSUAL'!LF76","v":true},{"$f":"LF6='1_PLANTILLA_MENSUAL'!LG76","v":true},{"$f":"LG6='1_PLANTILLA_MENSUAL'!LH76","v":true},{"$f":"LH6='1_PLANTILLA_MENSUAL'!LI76","v":true},{"$f":"LI6='1_PLANTILLA_MENSUAL'!LJ76","v":true},{"$f":"LJ6='1_PLANTILLA_MENSUAL'!LK76","v":true},{"$f":"LK6='1_PLANTILLA_MENSUAL'!LL76","v":true},{"$f":"LL6='1_PLANTILLA_MENSUAL'!LM76","v":true},{"$f":"LM6='1_PLANTILLA_MENSUAL'!LN76","v":true},{"$f":"LN6='1_PLANTILLA_MENSUAL'!LO76","v":true},{"$f":"LO6='1_PLANTILLA_MENSUAL'!LP76","v":true},{"$f":"LP6='1_PLANTILLA_MENSUAL'!LQ76","v":true},{"$f":"LQ6='1_PLANTILLA_MENSUAL'!LR76","v":true},{"$f":"LR6='1_PLANTILLA_MENSUAL'!LS76","v":true},{"$f":"LS6='1_PLANTILLA_MENSUAL'!LT76","v":true},{"$f":"LT6='1_PLANTILLA_MENSUAL'!LU76","v":true},{"$f":"LU6='1_PLANTILLA_MENSUAL'!LV76","v":true},{"$f":"LV6='1_PLANTILLA_MENSUAL'!LW76","v":true},{"$f":"LW6='1_PLANTILLA_MENSUAL'!LX76","v":true},{"$f":"LX6='1_PLANTILLA_MENSUAL'!LY76","v":true},{"$f":"LY6='1_PLANTILLA_MENSUAL'!LZ76","v":true},{"$f":"LZ6='1_PLANTILLA_MENSUAL'!MA76","v":true},{"$f":"MA6='1_PLANTILLA_MENSUAL'!MB76","v":true},{"$f":"MB6='1_PLANTILLA_MENSUAL'!MC76","v":true},{"$f":"MC6='1_PLANTILLA_MENSUAL'!MD76","v":true},{"$f":"MD6='1_PLANTILLA_MENSUAL'!ME76","v":true},{"$f":"ME6='1_PLANTILLA_MENSUAL'!MF76","v":true},{"$f":"MF6='1_PLANTILLA_MENSUAL'!MG76","v":true},{"$f":"MG6='1_PLANTILLA_MENSUAL'!MH76","v":true},{"$f":"MH6='1_PLANTILLA_MENSUAL'!MI76","v":true},{"$f":"MI6='1_PLANTILLA_MENSUAL'!MJ76","v":true},{"$f":"MJ6='1_PLANTILLA_MENSUAL'!MK76","v":true},{"$f":"MK6='1_PLANTILLA_MENSUAL'!ML76","v":true},{"$f":"ML6='1_PLANTILLA_MENSUAL'!MM76","v":true},{"$f":"MM6='1_PLANTILLA_MENSUAL'!MN76","v":true},{"$f":"MN6='1_PLANTILLA_MENSUAL'!MO76","v":true},{"$f":"MO6='1_PLANTILLA_MENSUAL'!MP76","v":true},{"$f":"MP6='1_PLANTILLA_MENSUAL'!MQ76","v":true},{"$f":"MQ6='1_PLANTILLA_MENSUAL'!MR76","v":true},{"$f":"MR6='1_PLANTILLA_MENSUAL'!MS76","v":true},{"$f":"MS6='1_PLANTILLA_MENSUAL'!MT76","v":true},{"$f":"MT6='1_PLANTILLA_MENSUAL'!MU76","v":true},{"$f":"MU6='1_PLANTILLA_MENSUAL'!MV76","v":true},{"$f":"MV6='1_PLANTILLA_MENSUAL'!MW76","v":true},{"$f":"MW6='1_PLANTILLA_MENSUAL'!MX76","v":true},{"$f":"MX6='1_PLANTILLA_MENSUAL'!MY76","v":true},{"$f":"MY6='1_PLANTILLA_MENSUAL'!MZ76","v":true},{"$f":"MZ6='1_PLANTILLA_MENSUAL'!NA76","v":true},{"$f":"NA6='1_PLANTILLA_MENSUAL'!NB76","v":true},{"$f":"NB6='1_PLANTILLA_MENSUAL'!NC76","v":true},{"$f":"NC6='1_PLANTILLA_MENSUAL'!ND76","v":true},{"$f":"ND6='1_PLANTILLA_MENSUAL'!NE76","v":true},{"$f":"NE6='1_PLANTILLA_MENSUAL'!NF76","v":true},{"$f":"NF6='1_PLANTILLA_MENSUAL'!NG76","v":true},{"$f":"NG6='1_PLANTILLA_MENSUAL'!NH76","v":true},{"$f":"NH6='1_PLANTILLA_MENSUAL'!NI76","v":true},{"$f":"NI6='1_PLANTILLA_MENSUAL'!NJ76","v":true},{"$f":"NJ6='1_PLANTILLA_MENSUAL'!NK76","v":true},{"$f":"NK6='1_PLANTILLA_MENSUAL'!NL76","v":true},{"$f":"NL6='1_PLANTILLA_MENSUAL'!NM76","v":true},{"$f":"NM6='1_PLANTILLA_MENSUAL'!NN76","v":true},{"$f":"NN6='1_PLANTILLA_MENSUAL'!NO76","v":true},{"$f":"NO6='1_PLANTILLA_MENSUAL'!NP76","v":true},{"$f":"NP6='1_PLANTILLA_MENSUAL'!NQ76","v":true},{"$f":"NQ6='1_PLANTILLA_MENSUAL'!NR76","v":true},{"$f":"NR6='1_PLANTILLA_MENSUAL'!NS76","v":true},{"$f":"NS6='1_PLANTILLA_MENSUAL'!NT76","v":true},{"$f":"NT6='1_PLANTILLA_MENSUAL'!NU76","v":true},{"$f":"NU6='1_PLANTILLA_MENSUAL'!NV76","v":true},{"$f":"NV6='1_PLANTILLA_MENSUAL'!NW76","v":true},{"$f":"NW6='1_PLANTILLA_MENSUAL'!NX76","v":true},{"$f":"NX6='1_PLANTILLA_MENSUAL'!NY76","v":true},{"$f":"NY6='1_PLANTILLA_MENSUAL'!NZ76","v":true},{"$f":"NZ6='1_PLANTILLA_MENSUAL'!OA76","v":true},{"$f":"OA6='1_PLANTILLA_MENSUAL'!OB76","v":true},{"$f":"OB6='1_PLANTILLA_MENSUAL'!OC76","v":true},{"$f":"OC6='1_PLANTILLA_MENSUAL'!OD76","v":true},{"$f":"OD6='1_PLANTILLA_MENSUAL'!OE76","v":true},{"$f":"OE6='1_PLANTILLA_MENSUAL'!OF76","v":true},{"$f":"OF6='1_PLANTILLA_MENSUAL'!OG76","v":true},{"$f":"OG6='1_PLANTILLA_MENSUAL'!OH76","v":true},{"$f":"OH6='1_PLANTILLA_MENSUAL'!OI76","v":true},{"$f":"OI6='1_PLANTILLA_MENSUAL'!OJ76","v":true},{"$f":"OJ6='1_PLANTILLA_MENSUAL'!OK76","v":true},{"$f":"OK6='1_PLANTILLA_MENSUAL'!OL76","v":true},{"$f":"OL6='1_PLANTILLA_MENSUAL'!OM76","v":true},{"$f":"OM6='1_PLANTILLA_MENSUAL'!ON76","v":true},{"$f":"ON6='1_PLANTILLA_MENSUAL'!OO76","v":true},{"$f":"OO6='1_PLANTILLA_MENSUAL'!OP76","v":true},{"$f":"OP6='1_PLANTILLA_MENSUAL'!OQ76","v":true},{"$f":"OQ6='1_PLANTILLA_MENSUAL'!OR76","v":true},{"$f":"OR6='1_PLANTILLA_MENSUAL'!OS76","v":true},{"$f":"OS6='1_PLANTILLA_MENSUAL'!OT76","v":true},{"$f":"OT6='1_PLANTILLA_MENSUAL'!OU76","v":true},{"$f":"OU6='1_PLANTILLA_MENSUAL'!OV76","v":true},{"$f":"OV6='1_PLANTILLA_MENSUAL'!OW76","v":true},{"$f":"OW6='1_PLANTILLA_MENSUAL'!OX76","v":true},{"$f":"OX6='1_PLANTILLA_MENSUAL'!OY76","v":true},{"$f":"OY6='1_PLANTILLA_MENSUAL'!OZ76","v":true},{"$f":"OZ6='1_PLANTILLA_MENSUAL'!PA76","v":true},{"$f":"PA6='1_PLANTILLA_MENSUAL'!PB76","v":true},{"$f":"PB6='1_PLANTILLA_MENSUAL'!PC76","v":true},{"$f":"PC6='1_PLANTILLA_MENSUAL'!PD76","v":true},{"$f":"PD6='1_PLANTILLA_MENSUAL'!PE76","v":true},{"$f":"PE6='1_PLANTILLA_MENSUAL'!PF76","v":true},{"$f":"PF6='1_PLANTILLA_MENSUAL'!PG76","v":true},{"$f":"PG6='1_PLANTILLA_MENSUAL'!PH76","v":true},{"$f":"PH6='1_PLANTILLA_MENSUAL'!PI76","v":true},{"$f":"PI6='1_PLANTILLA_MENSUAL'!PJ76","v":true},{"$f":"PJ6='1_PLANTILLA_MENSUAL'!PK76","v":true},{"$f":"PK6='1_PLANTILLA_MENSUAL'!PL76","v":true},{"$f":"PL6='1_PLANTILLA_MENSUAL'!PM76","v":true},{"$f":"PM6='1_PLANTILLA_MENSUAL'!PN76","v":true},{"$f":"PN6='1_PLANTILLA_MENSUAL'!PO76","v":true},{"$f":"PO6='1_PLANTILLA_MENSUAL'!PP76","v":true},{"$f":"PP6='1_PLANTILLA_MENSUAL'!PQ76","v":true},{"$f":"PQ6='1_PLANTILLA_MENSUAL'!PR76","v":true},{"$f":"PR6='1_PLANTILLA_MENSUAL'!PS76","v":true},{"$f":"PS6='1_PLANTILLA_MENSUAL'!PT76","v":true},{"$f":"PT6='1_PLANTILLA_MENSUAL'!PU76","v":true},{"$f":"PU6='1_PLANTILLA_MENSUAL'!PV76","v":true},{"$f":"PV6='1_PLANTILLA_MENSUAL'!PW76","v":true},{"$f":"PW6='1_PLANTILLA_MENSUAL'!PX76","v":true},{"$f":"PX6='1_PLANTILLA_MENSUAL'!PY76","v":true},{"$f":"PY6='1_PLANTILLA_MENSUAL'!PZ76","v":true},{"$f":"PZ6='1_PLANTILLA_MENSUAL'!QA76","v":true},{"$f":"QA6='1_PLANTILLA_MENSUAL'!QB76","v":true},{"$f":"QB6='1_PLANTILLA_MENSUAL'!QC76","v":false},{"$f":"QC6='1_PLANTILLA_MENSUAL'!QD76","v":true},{"$f":"QD6='1_PLANTILLA_MENSUAL'!QE76","v":false},{"$f":"QE6='1_PLANTILLA_MENSUAL'!QF76","v":false},{"$f":"QF6='1_PLANTILLA_MENSUAL'!QG76","v":false},{"$f":"QG6='1_PLANTILLA_MENSUAL'!QH76","v":false},{"$f":"QH6='1_PLANTILLA_MENSUAL'!QI76","v":false},{"$f":"QI6='1_PLANTILLA_MENSUAL'!QJ76","v":false},{"$f":"QJ6='1_PLANTILLA_MENSUAL'!QK76","v":false},{"$f":"QK6='1_PLANTILLA_MENSUAL'!QL76","v":true},{"$f":"QL6='1_PLANTILLA_MENSUAL'!QM76","v":false},{"$f":"QM6='1_PLANTILLA_MENSUAL'!QN76","v":false},{"$f":"QN6='1_PLANTILLA_MENSUAL'!QO76","v":false},{"$f":"QO6='1_PLANTILLA_MENSUAL'!QP76","v":false},{"$f":"QP6='1_PLANTILLA_MENSUAL'!QQ76","v":false},{"$f":"QQ6='1_PLANTILLA_MENSUAL'!QR76","v":false},{"$f":"QR6='1_PLANTILLA_MENSUAL'!QS76","v":false},{"$f":"QS6='1_PLANTILLA_MENSUAL'!QT76","v":false},{"$f":"QT6='1_PLANTILLA_MENSUAL'!QU76","v":false},{"$f":"QU6='1_PLANTILLA_MENSUAL'!QV76","v":false},{"$f":"QV6='1_PLANTILLA_MENSUAL'!QW76","v":false},{"$f":"QW6='1_PLANTILLA_MENSUAL'!QX76","v":false},{"$f":"QX6='1_PLANTILLA_MENSUAL'!QY76","v":false},{"$f":"QY6='1_PLANTILLA_MENSUAL'!QZ76","v":false},{"$f":"QZ6='1_PLANTILLA_MENSUAL'!RA76","v":false},{"$f":"RA6='1_PLANTILLA_MENSUAL'!RB76","v":false},{"$f":"RB6='1_PLANTILLA_MENSUAL'!RC76","v":false},{"$f":"RC6='1_PLANTILLA_MENSUAL'!RD76","v":false},{"$f":"RD6='1_PLANTILLA_MENSUAL'!RE76","v":false},{"$f":"RE6='1_PLANTILLA_MENSUAL'!RF76","v":false},{"$f":"RF6='1_PLANTILLA_MENSUAL'!RG76","v":false},{"$f":"RG6='1_PLANTILLA_MENSUAL'!RH76","v":false},{"$f":"RH6='1_PLANTILLA_MENSUAL'!RI76","v":false},{"$f":"RI6='1_PLANTILLA_MENSUAL'!RJ76","v":false},{"$f":"RJ6='1_PLANTILLA_MENSUAL'!RK76","v":false},{"$f":"RK6='1_PLANTILLA_MENSUAL'!RL76","v":false},{"$f":"RL6='1_PLANTILLA_MENSUAL'!RM76","v":false},{"$f":"RM6='1_PLANTILLA_MENSUAL'!RN76","v":false},{"$f":"RN6='1_PLANTILLA_MENSUAL'!RO76","v":true},{"$f":"RO6='1_PLANTILLA_MENSUAL'!RP76","v":false},{"$f":"RP6='1_PLANTILLA_MENSUAL'!RQ76","v":false},{"$f":"RQ6='1_PLANTILLA_MENSUAL'!RR76","v":false},{"$f":"RR6='1_PLANTILLA_MENSUAL'!RS76","v":false},{"$f":"RS6='1_PLANTILLA_MENSUAL'!RT76","v":false},{"$f":"RT6='1_PLANTILLA_MENSUAL'!RU76","v":false},{"$f":"RU6='1_PLANTILLA_MENSUAL'!RV76","v":false},{"$f":"RV6='1_PLANTILLA_MENSUAL'!RW76","v":false},{"$f":"RW6='1_PLANTILLA_MENSUAL'!RX76","v":true},{"$f":"RX6='1_PLANTILLA_MENSUAL'!RY76","v":true},{"$f":"RY6='1_PLANTILLA_MENSUAL'!RZ76","v":true},{"$f":"RZ6='1_PLANTILLA_MENSUAL'!SA76","v":true},{"$f":"SA6='1_PLANTILLA_MENSUAL'!SB76","v":true},{"$f":"SB6='1_PLANTILLA_MENSUAL'!SC76","v":true},{"$f":"SC6='1_PLANTILLA_MENSUAL'!SD76","v":false},{"$f":"SD6='1_PLANTILLA_MENSUAL'!SE76","v":false},{"$f":"SE6='1_PLANTILLA_MENSUAL'!SF76","v":false},{"$f":"SF6='1_PLANTILLA_MENSUAL'!SG76","v":false},{"$f":"SG6='1_PLANTILLA_MENSUAL'!SH76","v":true},{"$f":"SH6='1_PLANTILLA_MENSUAL'!SI76","v":true},{"$f":"SI6='1_PLANTILLA_MENSUAL'!SJ76","v":false},{"$f":"SJ6='1_PLANTILLA_MENSUAL'!SK76","v":false},{"$f":"SK6='1_PLANTILLA_MENSUAL'!SL76","v":true},{"$f":"SL6='1_PLANTILLA_MENSUAL'!SM76","v":true},{"$f":"SM6='1_PLANTILLA_MENSUAL'!SN76","v":true},{"$f":"SN6='1_PLANTILLA_MENSUAL'!SO76","v":true},{"$f":"SO6='1_PLANTILLA_MENSUAL'!SP76","v":true},{"$f":"SP6='1_PLANTILLA_MENSUAL'!SQ76","v":true},{"$f":"SQ6='1_PLANTILLA_MENSUAL'!SR76","v":false},{"$f":"SR6='1_PLANTILLA_MENSUAL'!SS76","v":false},{"$f":"SS6='1_PLANTILLA_MENSUAL'!ST76","v":false},{"$f":"ST6='1_PLANTILLA_MENSUAL'!SU76","v":false},{"$f":"SU6='1_PLANTILLA_MENSUAL'!SV76","v":true},{"$f":"SV6='1_PLANTILLA_MENSUAL'!SW76","v":true},{"$f":"SW6='1_PLANTILLA_MENSUAL'!SX76","v":false},{"$f":"SX6='1_PLANTILLA_MENSUAL'!SY76","v":true},{"$f":"SY6='1_PLANTILLA_MENSUAL'!SZ76","v":false},{"$f":"SZ6='1_PLANTILLA_MENSUAL'!TA76","v":false},{"$f":"TA6='1_PLANTILLA_MENSUAL'!TB76","v":true},{"$f":"TB6='1_PLANTILLA_MENSUAL'!TC76","v":true},{"$f":"TC6='1_PLANTILLA_MENSUAL'!TD76","v":true},{"$f":"TD6='1_PLANTILLA_MENSUAL'!TE76","v":true},{"$f":"TE6='1_PLANTILLA_MENSUAL'!TF76","v":true},{"$f":"TF6='1_PLANTILLA_MENSUAL'!TG76","v":true},{"$f":"TG6='1_PLANTILLA_MENSUAL'!TH76","v":true},{"$f":"TH6='1_PLANTILLA_MENSUAL'!TI76","v":true},{"$f":"TI6='1_PLANTILLA_MENSUAL'!TJ76","v":true},{"$f":"TJ6='1_PLANTILLA_MENSUAL'!TK76","v":false},{"$f":"TK6='1_PLANTILLA_MENSUAL'!TL76","v":false},{"$f":"TL6='1_PLANTILLA_MENSUAL'!TM76","v":true},{"$f":"TM6='1_PLANTILLA_MENSUAL'!TN76","v":false},{"$f":"TN6='1_PLANTILLA_MENSUAL'!TO76","v":true},{"$f":"TO6='1_PLANTILLA_MENSUAL'!TP76","v":true},{"$f":"TP6='1_PLANTILLA_MENSUAL'!TQ76","v":true},{"$f":"TQ6='1_PLANTILLA_MENSUAL'!TR76","v":false},{"$f":"TR6='1_PLANTILLA_MENSUAL'!TS76","v":false},{"$f":"TS6='1_PLANTILLA_MENSUAL'!TT76","v":true},{"$f":"TT6='1_PLANTILLA_MENSUAL'!TU76","v":true},{"$f":"TU6='1_PLANTILLA_MENSUAL'!TV76","v":true},{"$f":"TV6='1_PLANTILLA_MENSUAL'!TW76","v":false},{"$f":"TW6='1_PLANTILLA_MENSUAL'!TX76","v":false},{"$f":"TX6='1_PLANTILLA_MENSUAL'!TY76","v":false},{"$f":"TY6='1_PLANTILLA_MENSUAL'!TZ76","v":true},{"$f":"TZ6='1_PLANTILLA_MENSUAL'!UA76","v":true},{"$f":"UA6='1_PLANTILLA_MENSUAL'!UB76","v":true},{"$f":"UB6='1_PLANTILLA_MENSUAL'!UC76","v":true},{"$f":"UC6='1_PLANTILLA_MENSUAL'!UD76","v":true},{"$f":"UD6='1_PLANTILLA_MENSUAL'!UE76","v":true},{"$f":"UE6='1_PLANTILLA_MENSUAL'!UF76","v":true},{"$f":"UF6='1_PLANTILLA_MENSUAL'!UG76","v":true},{"$f":"UG6='1_PLANTILLA_MENSUAL'!UH76","v":true},{"$f":"UH6='1_PLANTILLA_MENSUAL'!UI76","v":true},{"$f":"UI6='1_PLANTILLA_MENSUAL'!UJ76","v":true},{"$f":"UJ6='1_PLANTILLA_MENSUAL'!UK76","v":true},{"$f":"UK6='1_PLANTILLA_MENSUAL'!UL76","v":true},{"$f":"UL6='1_PLANTILLA_MENSUAL'!UM76","v":true},{"$f":"UM6='1_PLANTILLA_MENSUAL'!UN76","v":true},{"$f":"UN6='1_PLANTILLA_MENSUAL'!UO76","v":true},{"$f":"UO6='1_PLANTILLA_MENSUAL'!UP76","v":false},{"$f":"UP6='1_PLANTILLA_MENSUAL'!UQ76","v":true},{"$f":"UQ6='1_PLANTILLA_MENSUAL'!UR76","v":false},{"$f":"UR6='1_PLANTILLA_MENSUAL'!US76","v":false},{"$f":"US6='1_PLANTILLA_MENSUAL'!UT76","v":false},{"$f":"UT6='1_PLANTILLA_MENSUAL'!UU76","v":false},{"$f":"UU6='1_PLANTILLA_MENSUAL'!UV76","v":false},{"$f":"UV6='1_PLANTILLA_MENSUAL'!UW76","v":true},{"$f":"UW6='1_PLANTILLA_MENSUAL'!UX76","v":false},{"$f":"UX6='1_PLANTILLA_MENSUAL'!UY76","v":false},{"$f":"UY6='1_PLANTILLA_MENSUAL'!UZ76","v":false},{"$f":"UZ6='1_PLANTILLA_MENSUAL'!VA76","v":true},{"$f":"VA6='1_PLANTILLA_MENSUAL'!VB76","v":true},{"$f":"VB6='1_PLANTILLA_MENSUAL'!VC76","v":false},{"$f":"VC6='1_PLANTILLA_MENSUAL'!VD76","v":false},{"$f":"VD6='1_PLANTILLA_MENSUAL'!VE76","v":true},{"$f":"VE6='1_PLANTILLA_MENSUAL'!VF76","v":true},{"$f":"VF6='1_PLANTILLA_MENSUAL'!VG76","v":true},{"$f":"VG6='1_PLANTILLA_MENSUAL'!VH76","v":true},{"$f":"VH6='1_PLANTILLA_MENSUAL'!VI76","v":true},{"$f":"VI6='1_PLANTILLA_MENSUAL'!VJ76","v":true},{"$f":"VJ6='1_PLANTILLA_MENSUAL'!VK76","v":true},{"$f":"VK6='1_PLANTILLA_MENSUAL'!VL76","v":true},{"$f":"VL6='1_PLANTILLA_MENSUAL'!VM76","v":true},{"$f":"VM6='1_PLANTILLA_MENSUAL'!VN76","v":true},{"$f":"VN6='1_PLANTILLA_MENSUAL'!VO76","v":true},{"$f":"VO6='1_PLANTILLA_MENSUAL'!VP76","v":true},{"$f":"VP6='1_PLANTILLA_MENSUAL'!VQ76","v":true},{"$f":"VQ6='1_PLANTILLA_MENSUAL'!VR76","v":true},{"$f":"VR6='1_PLANTILLA_MENSUAL'!VS76","v":true},{"$f":"VS6='1_PLANTILLA_MENSUAL'!VT76","v":false},{"$f":"VT6='1_PLANTILLA_MENSUAL'!VU76","v":true},{"$f":"VU6='1_PLANTILLA_MENSUAL'!VV76","v":true},{"$f":"VV6='1_PLANTILLA_MENSUAL'!VW76","v":true},{"$f":"VW6='1_PLANTILLA_MENSUAL'!VX76","v":true},{"$f":"VX6='1_PLANTILLA_MENSUAL'!VY76","v":true},{"$f":"VY6='1_PLANTILLA_MENSUAL'!VZ76","v":true},{"$f":"VZ6='1_PLANTILLA_MENSUAL'!WA76","v":false},{"$f":"WA6='1_PLANTILLA_MENSUAL'!WB76","v":true},{"$f":"WB6='1_PLANTILLA_MENSUAL'!WC76","v":true},{"$f":"WC6='1_PLANTILLA_MENSUAL'!WD76","v":false},{"$f":"WD6='1_PLANTILLA_MENSUAL'!WE76","v":true},{"$f":"WE6='1_PLANTILLA_MENSUAL'!WF76","v":true},{"$f":"WF6='1_PLANTILLA_MENSUAL'!WG76","v":true},{"$f":"WG6='1_PLANTILLA_MENSUAL'!WH76","v":false},{"$f":"WH6='1_PLANTILLA_MENSUAL'!WI76","v":false},{"$f":"WI6='1_PLANTILLA_MENSUAL'!WJ76","v":true},{"$f":"WJ6='1_PLANTILLA_MENSUAL'!WK76","v":true},{"$f":"WK6='1_PLANTILLA_MENSUAL'!WL76","v":true},{"$f":"WL6='1_PLANTILLA_MENSUAL'!WM76","v":true},{"$f":"WM6='1_PLANTILLA_MENSUAL'!WN76","v":true},{"$f":"WN6='1_PLANTILLA_MENSUAL'!WO76","v":true},{"$f":"WO6='1_PLANTILLA_MENSUAL'!WP76","v":true},{"$f":"WP6='1_PLANTILLA_MENSUAL'!WQ76","v":true},{"$f":"WQ6='1_PLANTILLA_MENSUAL'!WR76","v":true},{"$f":"WR6='1_PLANTILLA_MENSUAL'!WS76","v":true},{"$f":"WS6='1_PLANTILLA_MENSUAL'!WT76","v":true},{"$f":"WT6='1_PLANTILLA_MENSUAL'!WU76","v":true},{"$f":"WU6='1_PLANTILLA_MENSUAL'!WV76","v":true},{"$f":"WV6='1_PLANTILLA_MENSUAL'!WW76","v":true},{"$f":"WW6='1_PLANTILLA_MENSUAL'!WX76","v":true},{"$f":"WX6='1_PLANTILLA_MENSUAL'!WY76","v":true},{"$f":"WY6='1_PLANTILLA_MENSUAL'!WZ76","v":true},{"$f":"WZ6='1_PLANTILLA_MENSUAL'!XA76","v":true},{"$f":"XA6='1_PLANTILLA_MENSUAL'!XB76","v":true},{"$f":"XB6='1_PLANTILLA_MENSUAL'!XC76","v":true},{"$f":"XC6='1_PLANTILLA_MENSUAL'!XD76","v":true},{"$f":"XD6='1_PLANTILLA_MENSUAL'!XE76","v":true},{"$f":"XE6='1_PLANTILLA_MENSUAL'!XF76","v":true},{"$f":"XF6='1_PLANTILLA_MENSUAL'!XG76","v":true},{"$f":"XG6='1_PLANTILLA_MENSUAL'!XH76","v":true},{"$f":"XH6='1_PLANTILLA_MENSUAL'!XI76","v":true},{"$f":"XI6='1_PLANTILLA_MENSUAL'!XJ76","v":true},{"$f":"XJ6='1_PLANTILLA_MENSUAL'!XK76","v":true},{"$f":"XK6='1_PLANTILLA_MENSUAL'!XL76","v":true},{"$f":"XL6='1_PLANTILLA_MENSUAL'!XM76","v":true},{"$f":"XM6='1_PLANTILLA_MENSUAL'!XN76","v":false},{"$f":"XN6='1_PLANTILLA_MENSUAL'!XO76","v":false},{"$f":"XO6='1_PLANTILLA_MENSUAL'!XP76","v":false},{"$f":"XP6='1_PLANTILLA_MENSUAL'!XQ76","v":false},{"$f":"XQ6='1_PLANTILLA_MENSUAL'!XR76","v":false},{"$f":"XR6='1_PLANTILLA_MENSUAL'!XS76","v":false},{"$f":"XS6='1_PLANTILLA_MENSUAL'!XT76","v":false},{"$f":"XT6='1_PLANTILLA_MENSUAL'!XU76","v":true},{"$f":"XU6='1_PLANTILLA_MENSUAL'!XV76","v":true},{"$f":"XV6='1_PLANTILLA_MENSUAL'!XW76","v":false},{"$f":"XW6='1_PLANTILLA_MENSUAL'!XX76","v":false},{"$f":"XX6='1_PLANTILLA_MENSUAL'!XY76","v":false},{"$f":"XY6='1_PLANTILLA_MENSUAL'!XZ76","v":false},{"$f":"XZ6='1_PLANTILLA_MENSUAL'!YA76","v":false},{"$f":"YA6='1_PLANTILLA_MENSUAL'!YB76","v":false},{"$f":"YB6='1_PLANTILLA_MENSUAL'!YC76","v":false},{"$f":"YC6='1_PLANTILLA_MENSUAL'!YD76","v":false},{"$f":"YD6='1_PLANTILLA_MENSUAL'!YE76","v":false},{"$f":"YE6='1_PLANTILLA_MENSUAL'!YF76","v":false},{"$f":"YF6='1_PLANTILLA_MENSUAL'!YG76","v":false},{"$f":"YG6='1_PLANTILLA_MENSUAL'!YH76","v":false},{"$f":"YH6='1_PLANTILLA_MENSUAL'!YI76","v":false},{"$f":"YI6='1_PLANTILLA_MENSUAL'!YJ76","v":false},{"$f":"YJ6='1_PLANTILLA_MENSUAL'!YK76","v":false},{"$f":"YK6='1_PLANTILLA_MENSUAL'!YL76","v":false},{"$f":"YL6='1_PLANTILLA_MENSUAL'!YM76","v":false},{"$f":"YM6='1_PLANTILLA_MENSUAL'!YN76","v":false},{"$f":"YN6='1_PLANTILLA_MENSUAL'!YO76","v":false},{"$f":"YO6='1_PLANTILLA_MENSUAL'!YP76","v":false},{"$f":"YP6='1_PLANTILLA_MENSUAL'!YQ76","v":false},{"$f":"YQ6='1_PLANTILLA_MENSUAL'!YR76","v":false},{"$f":"YR6='1_PLANTILLA_MENSUAL'!YS76","v":false},{"$f":"YS6='1_PLANTILLA_MENSUAL'!YT76","v":false},{"$f":"YT6='1_PLANTILLA_MENSUAL'!YU76","v":false},{"$f":"YU6='1_PLANTILLA_MENSUAL'!YV76","v":false},{"$f":"YV6='1_PLANTILLA_MENSUAL'!YW76","v":true},{"$f":"YW6='1_PLANTILLA_MENSUAL'!YX76","v":false},{"$f":"YX6='1_PLANTILLA_MENSUAL'!YY76","v":false},{"$f":"YY6='1_PLANTILLA_MENSUAL'!YZ76","v":false},{"$f":"YZ6='1_PLANTILLA_MENSUAL'!ZA76","v":false},{"$f":"ZA6='1_PLANTILLA_MENSUAL'!ZB76","v":false},{"$f":"ZB6='1_PLANTILLA_MENSUAL'!ZC76","v":false},{"$f":"ZC6='1_PLANTILLA_MENSUAL'!ZD76","v":false},{"$f":"ZD6='1_PLANTILLA_MENSUAL'!ZE76","v":true},{"$f":"ZE6='1_PLANTILLA_MENSUAL'!ZF76","v":true},{"$f":"ZF6='1_PLANTILLA_MENSUAL'!ZG76","v":false},{"$f":"ZG6='1_PLANTILLA_MENSUAL'!ZH76","v":false},{"$f":"ZH6='1_PLANTILLA_MENSUAL'!ZI76","v":true},{"$f":"ZI6='1_PLANTILLA_MENSUAL'!ZJ76","v":true},{"$f":"ZJ6='1_PLANTILLA_MENSUAL'!ZK76","v":true},{"$f":"ZK6='1_PLANTILLA_MENSUAL'!ZL76","v":true},{"$f":"ZL6='1_PLANTILLA_MENSUAL'!ZM76","v":false},{"$f":"ZM6='1_PLANTILLA_MENSUAL'!ZN76","v":true},{"$f":"ZN6='1_PLANTILLA_MENSUAL'!ZO76","v":false},{"$f":"ZO6='1_PLANTILLA_MENSUAL'!ZP76","v":false},{"$f":"ZP6='1_PLANTILLA_MENSUAL'!ZQ76","v":false},{"$f":"ZQ6='1_PLANTILLA_MENSUAL'!ZR76","v":false},{"$f":"ZR6='1_PLANTILLA_MENSUAL'!ZS76","v":false},{"$f":"ZS6='1_PLANTILLA_MENSUAL'!ZT76","v":false},{"$f":"ZT6='1_PLANTILLA_MENSUAL'!ZU76","v":false},{"$f":"ZU6='1_PLANTILLA_MENSUAL'!ZV76","v":false},{"$f":"ZV6='1_PLANTILLA_MENSUAL'!ZW76","v":true},{"$f":"ZW6='1_PLANTILLA_MENSUAL'!ZX76","v":true},{"$f":"ZX6='1_PLANTILLA_MENSUAL'!ZY76","v":false},{"$f":"ZY6='1_PLANTILLA_MENSUAL'!ZZ76","v":false},{"$f":"ZZ6='1_PLANTILLA_MENSUAL'!AAA76","v":false},{"$f":"AAA6='1_PLANTILLA_MENSUAL'!AAB76","v":false},{"$f":"AAB6='1_PLANTILLA_MENSUAL'!AAC76","v":false},{"$f":"AAC6='1_PLANTILLA_MENSUAL'!AAD76","v":false},{"$f":"AAD6='1_PLANTILLA_MENSUAL'!AAE76","v":false},{"$f":"AAE6='1_PLANTILLA_MENSUAL'!AAF76","v":false},{"$f":"AAF6='1_PLANTILLA_MENSUAL'!AAG76","v":false},{"$f":"AAG6='1_PLANTILLA_MENSUAL'!AAH76","v":false},{"$f":"AAH6='1_PLANTILLA_MENSUAL'!AAI76","v":false},{"$f":"AAI6='1_PLANTILLA_MENSUAL'!AAJ76","v":false},{"$f":"AAJ6='1_PLANTILLA_MENSUAL'!AAK76","v":false},{"$f":"AAK6='1_PLANTILLA_MENSUAL'!AAL76","v":false},{"$f":"AAL6='1_PLANTILLA_MENSUAL'!AAM76","v":false},{"$f":"AAM6='1_PLANTILLA_MENSUAL'!AAN76","v":false},{"$f":"AAN6='1_PLANTILLA_MENSUAL'!AAO76","v":false},{"$f":"AAO6='1_PLANTILLA_MENSUAL'!AAP76","v":false},{"$f":"AAP6='1_PLANTILLA_MENSUAL'!AAQ76","v":false},{"$f":"AAQ6='1_PLANTILLA_MENSUAL'!AAR76","v":false},{"$f":"AAR6='1_PLANTILLA_MENSUAL'!AAS76","v":false},{"$f":"AAS6='1_PLANTILLA_MENSUAL'!AAT76","v":false},{"$f":"AAT6='1_PLANTILLA_MENSUAL'!AAU76","v":false},{"$f":"AAU6='1_PLANTILLA_MENSUAL'!AAV76","v":false},{"$f":"AAV6='1_PLANTILLA_MENSUAL'!AAW76","v":false},{"$f":"AAW6='1_PLANTILLA_MENSUAL'!AAX76","v":false},{"$f":"AAX6='1_PLANTILLA_MENSUAL'!AAY76","v":false},{"$f":"AAY6='1_PLANTILLA_MENSUAL'!AAZ76","v":false},{"$f":"AAZ6='1_PLANTILLA_MENSUAL'!ABA76","v":false},{"$f":"ABA6='1_PLANTILLA_MENSUAL'!ABB76","v":false},{"$f":"ABB6='1_PLANTILLA_MENSUAL'!ABC76","v":false},{"$f":"ABC6='1_PLANTILLA_MENSUAL'!ABD76","v":false},{"$f":"ABD6='1_PLANTILLA_MENSUAL'!ABE76","v":false},{"$f":"ABE6='1_PLANTILLA_MENSUAL'!ABF76","v":false},{"$f":"ABF6='1_PLANTILLA_MENSUAL'!ABG76","v":false},{"$f":"ABG6='1_PLANTILLA_MENSUAL'!ABH76","v":false},{"$f":"ABH6='1_PLANTILLA_MENSUAL'!ABI76","v":false},{"$f":"ABI6='1_PLANTILLA_MENSUAL'!ABJ76","v":false},{"$f":"ABJ6='1_PLANTILLA_MENSUAL'!ABK76","v":false},{"$f":"ABK6='1_PLANTILLA_MENSUAL'!ABL76","v":false},{"$f":"ABL6='1_PLANTILLA_MENSUAL'!ABM76","v":true},{"$f":"ABM6='1_PLANTILLA_MENSUAL'!ABN76","v":true},{"$f":"ABN6='1_PLANTILLA_MENSUAL'!ABO76","v":true},{"$f":"ABO6='1_PLANTILLA_MENSUAL'!ABP76","v":true},{"$f":"ABP6='1_PLANTILLA_MENSUAL'!ABQ76","v":true},{"$f":"ABQ6='1_PLANTILLA_MENSUAL'!ABR76","v":true},{"$f":"ABR6='1_PLANTILLA_MENSUAL'!ABS76","v":true},{"$f":"ABS6='1_PLANTILLA_MENSUAL'!ABT76","v":true},{"$f":"ABT6='1_PLANTILLA_MENSUAL'!ABU76","v":true},{"$f":"ABU6='1_PLANTILLA_MENSUAL'!ABV76","v":true},{"$f":"ABV6='1_PLANTILLA_MENSUAL'!ABW76","v":false},{"$f":"ABW6='1_PLANTILLA_MENSUAL'!ABX76","v":true},{"$f":"ABX6='1_PLANTILLA_MENSUAL'!ABY76","v":true},{"$f":"ABY6='1_PLANTILLA_MENSUAL'!ABZ76","v":false},{"$f":"ABZ6='1_PLANTILLA_MENSUAL'!ACA76","v":true},{"$f":"ACA6='1_PLANTILLA_MENSUAL'!ACB76","v":true},{"$f":"ACB6='1_PLANTILLA_MENSUAL'!ACC76","v":true},{"$f":"ACC6='1_PLANTILLA_MENSUAL'!ACD76","v":true},{"$f":"ACD6='1_PLANTILLA_MENSUAL'!ACE76","v":true},{"$f":"ACE6='1_PLANTILLA_MENSUAL'!ACF76","v":true},{"$f":"ACF6='1_PLANTILLA_MENSUAL'!ACG76","v":true},{"$f":"ACG6='1_PLANTILLA_MENSUAL'!ACH76","v":false},{"$f":"ACH6='1_PLANTILLA_MENSUAL'!ACI76","v":true},{"$f":"ACI6='1_PLANTILLA_MENSUAL'!ACJ76","v":true},{"$f":"ACJ6='1_PLANTILLA_MENSUAL'!ACK76","v":false},{"$f":"ACK6='1_PLANTILLA_MENSUAL'!ACL76","v":true},{"$f":"ACL6='1_PLANTILLA_MENSUAL'!ACM76","v":true},{"$f":"ACM6='1_PLANTILLA_MENSUAL'!ACN76","v":false},{"$f":"ACN6='1_PLANTILLA_MENSUAL'!ACO76","v":false},{"$f":"ACO6='1_PLANTILLA_MENSUAL'!ACP76","v":false},{"$f":"ACP6='1_PLANTILLA_MENSUAL'!ACQ76","v":false},{"$f":"ACQ6='1_PLANTILLA_MENSUAL'!ACR76","v":false},{"$f":"ACR6='1_PLANTILLA_MENSUAL'!ACS76","v":false},{"$f":"ACS6='1_PLANTILLA_MENSUAL'!ACT76","v":false},{"$f":"ACT6='1_PLANTILLA_MENSUAL'!ACU76","v":false},{"$f":"ACU6='1_PLANTILLA_MENSUAL'!ACV76","v":false},{"$f":"ACV6='1_PLANTILLA_MENSUAL'!ACW76","v":false},{"$f":"ACW6='1_PLANTILLA_MENSUAL'!ACX76","v":false},{"$f":"ACX6='1_PLANTILLA_MENSUAL'!ACY76","v":false},{"$f":"ACY6='1_PLANTILLA_MENSUAL'!ACZ76","v":false},{"$f":"ACZ6='1_PLANTILLA_MENSUAL'!ADA76","v":false},{"$f":"ADA6='1_PLANTILLA_MENSUAL'!ADB76","v":false},{"$f":"ADB6='1_PLANTILLA_MENSUAL'!ADC76","v":false},{"$f":"ADC6='1_PLANTILLA_MENSUAL'!ADD76","v":false},{"$f":"ADD6='1_PLANTILLA_MENSUAL'!ADE76","v":false},{"$f":"ADE6='1_PLANTILLA_MENSUAL'!ADF76","v":true},{"$f":"ADF6='1_PLANTILLA_MENSUAL'!ADG76","v":false},{"$f":"ADG6='1_PLANTILLA_MENSUAL'!ADH76","v":false},{"$f":"ADH6='1_PLANTILLA_MENSUAL'!ADI76","v":false},{"$f":"ADI6='1_PLANTILLA_MENSUAL'!ADJ76","v":true},{"$f":"ADJ6='1_PLANTILLA_MENSUAL'!ADK76","v":true},{"$f":"ADK6='1_PLANTILLA_MENSUAL'!ADL76","v":true},{"$f":"ADL6='1_PLANTILLA_MENSUAL'!ADM76","v":true},{"$f":"ADM6='1_PLANTILLA_MENSUAL'!ADN76","v":true},{"$f":"ADN6='1_PLANTILLA_MENSUAL'!ADO76","v":true},{"$f":"ADO6='1_PLANTILLA_MENSUAL'!ADP76","v":true},{"$f":"ADP6='1_PLANTILLA_MENSUAL'!ADQ76","v":true},{"$f":"ADQ6='1_PLANTILLA_MENSUAL'!ADR76","v":true},{"$f":"ADR6='1_PLANTILLA_MENSUAL'!ADS76","v":true},{"$f":"ADS6='1_PLANTILLA_MENSUAL'!ADT76","v":false},{"$f":"ADT6='1_PLANTILLA_MENSUAL'!ADU76","v":false},{"$f":"ADU6='1_PLANTILLA_MENSUAL'!ADV76","v":false},{"$f":"ADV6='1_PLANTILLA_MENSUAL'!ADW76","v":false},{"$f":"ADW6='1_PLANTILLA_MENSUAL'!ADX76","v":false},{"$f":"ADX6='1_PLANTILLA_MENSUAL'!ADY76","v":false},{"$f":"ADY6='1_PLANTILLA_MENSUAL'!ADZ76","v":true},{"$f":"ADZ6='1_PLANTILLA_MENSUAL'!AEA76","v":true},{"$f":"AEA6='1_PLANTILLA_MENSUAL'!AEB76","v":true},{"$f":"AEB6='1_PLANTILLA_MENSUAL'!AEC76","v":false},{"$f":"AEC6='1_PLANTILLA_MENSUAL'!AED76","v":false},{"$f":"AED6='1_PLANTILLA_MENSUAL'!AEE76","v":false},{"$f":"AEE6='1_PLANTILLA_MENSUAL'!AEF76","v":false},{"$f":"AEF6='1_PLANTILLA_MENSUAL'!AEG76","v":true},{"$f":"AEG6='1_PLANTILLA_MENSUAL'!AEH76","v":false},{"$f":"AEH6='1_PLANTILLA_MENSUAL'!AEI76","v":false},{"$f":"AEI6='1_PLANTILLA_MENSUAL'!AEJ76","v":false},{"$f":"AEJ6='1_PLANTILLA_MENSUAL'!AEK76","v":false},{"$f":"AEK6='1_PLANTILLA_MENSUAL'!AEL76","v":false},{"$f":"AEL6='1_PLANTILLA_MENSUAL'!AEM76","v":false},{"$f":"AEM6='1_PLANTILLA_MENSUAL'!AEN76","v":true},{"$f":"AEN6='1_PLANTILLA_MENSUAL'!AEO76","v":true},{"$f":"AEO6='1_PLANTILLA_MENSUAL'!AEP76","v":true},{"$f":"AEP6='1_PLANTILLA_MENSUAL'!AEQ76","v":false},{"$f":"AEQ6='1_PLANTILLA_MENSUAL'!AER76","v":false},{"$f":"AER6='1_PLANTILLA_MENSUAL'!AES76","v":false},{"$f":"AES6='1_PLANTILLA_MENSUAL'!AET76","v":true},{"$f":"AET6='1_PLANTILLA_MENSUAL'!AEU76","v":true},{"$f":"AEU6='1_PLANTILLA_MENSUAL'!AEV76","v":false},{"$f":"AEV6='1_PLANTILLA_MENSUAL'!AEW76","v":false},{"$f":"AEW6='1_PLANTILLA_MENSUAL'!AEX76","v":false},{"$f":"AEX6='1_PLANTILLA_MENSUAL'!AEY76","v":false},{"$f":"AEY6='1_PLANTILLA_MENSUAL'!AEZ76","v":false},{"$f":"AEZ6='1_PLANTILLA_MENSUAL'!AFA76","v":false},{"$f":"AFA6='1_PLANTILLA_MENSUAL'!AFB76","v":true},{"$f":"AFB6='1_PLANTILLA_MENSUAL'!AFC76","v":true},{"$f":"AFC6='1_PLANTILLA_MENSUAL'!AFD76","v":true},{"$f":"AFD6='1_PLANTILLA_MENSUAL'!AFE76","v":false},{"$f":"AFE6='1_PLANTILLA_MENSUAL'!AFF76","v":false},{"$f":"AFF6='1_PLANTILLA_MENSUAL'!AFG76","v":false},{"$f":"AFG6='1_PLANTILLA_MENSUAL'!AFH76","v":false},{"$f":"AFH6='1_PLANTILLA_MENSUAL'!AFI76","v":false},{"$f":"AFI6='1_PLANTILLA_MENSUAL'!AFJ76","v":false},{"$f":"AFJ6='1_PLANTILLA_MENSUAL'!AFK76","v":false},{"$f":"AFK6='1_PLANTILLA_MENSUAL'!AFL76","v":false},{"$f":"AFL6='1_PLANTILLA_MENSUAL'!AFM76","v":false},{"$f":"AFM6='1_PLANTILLA_MENSUAL'!AFN76","v":false},{"$f":"AFN6='1_PLANTILLA_MENSUAL'!AFO76","v":true},{"$f":"AFO6='1_PLANTILLA_MENSUAL'!AFP76","v":true},{"$f":"AFP6='1_PLANTILLA_MENSUAL'!AFQ76","v":true},{"$f":"AFQ6='1_PLANTILLA_MENSUAL'!AFR76","v":true},{"$f":"AFR6='1_PLANTILLA_MENSUAL'!AFS76","v":true},{"$f":"AFS6='1_PLANTILLA_MENSUAL'!AFT76","v":true},{"$f":"AFT6='1_PLANTILLA_MENSUAL'!AFU76","v":false},{"$f":"AFU6='1_PLANTILLA_MENSUAL'!AFV76","v":true},{"$f":"AFV6='1_PLANTILLA_MENSUAL'!AFW76","v":true},{"$f":"AFW6='1_PLANTILLA_MENSUAL'!AFX76","v":true},{"$f":"AFX6='1_PLANTILLA_MENSUAL'!AFY76","v":true},{"$f":"AFY6='1_PLANTILLA_MENSUAL'!AFZ76","v":true},{"$f":"AFZ6='1_PLANTILLA_MENSUAL'!AGA76","v":true},{"$f":"AGA6='1_PLANTILLA_MENSUAL'!AGB76","v":true},{"$f":"AGB6='1_PLANTILLA_MENSUAL'!AGC76","v":true},{"$f":"AGC6='1_PLANTILLA_MENSUAL'!AGD76","v":true},{"$f":"AGD6='1_PLANTILLA_MENSUAL'!AGE76","v":false},{"$f":"AGE6='1_PLANTILLA_MENSUAL'!AGF76","v":true},{"$f":"AGF6='1_PLANTILLA_MENSUAL'!AGG76","v":true},{"$f":"AGG6='1_PLANTILLA_MENSUAL'!AGH76","v":true},{"$f":"AGH6='1_PLANTILLA_MENSUAL'!AGI76","v":false},{"$f":"AGI6='1_PLANTILLA_MENSUAL'!AGJ76","v":false},{"$f":"AGJ6='1_PLANTILLA_MENSUAL'!AGK76","v":true},{"$f":"AGK6='1_PLANTILLA_MENSUAL'!AGL76","v":true},{"$f":"AGL6='1_PLANTILLA_MENSUAL'!AGM76","v":true},{"$f":"AGM6='1_PLANTILLA_MENSUAL'!AGN76","v":true},{"$f":"AGN6='1_PLANTILLA_MENSUAL'!AGO76","v":false},{"$f":"AGO6='1_PLANTILLA_MENSUAL'!AGP76","v":false},{"$f":"AGP6='1_PLANTILLA_MENSUAL'!AGQ76","v":false},{"$f":"AGQ6='1_PLANTILLA_MENSUAL'!AGR76","v":false},{"$f":"AGR6='1_PLANTILLA_MENSUAL'!AGS76","v":true},{"$f":"AGS6='1_PLANTILLA_MENSUAL'!AGT76","v":true},{"$f":"AGT6='1_PLANTILLA_MENSUAL'!AGU76","v":true},{"$f":"AGU6='1_PLANTILLA_MENSUAL'!AGV76","v":true},{"$f":"AGV6='1_PLANTILLA_MENSUAL'!AGW76","v":true},{"$f":"AGW6='1_PLANTILLA_MENSUAL'!AGX76","v":false},{"$f":"AGX6='1_PLANTILLA_MENSUAL'!AGY76","v":false},{"$f":"AGY6='1_PLANTILLA_MENSUAL'!AGZ76","v":false},{"$f":"AGZ6='1_PLANTILLA_MENSUAL'!AHA76","v":false},{"$f":"AHA6='1_PLANTILLA_MENSUAL'!AHB76","v":false},{"$f":"AHB6='1_PLANTILLA_MENSUAL'!AHC76","v":false},{"$f":"AHC6='1_PLANTILLA_MENSUAL'!AHD76","v":false},{"$f":"AHD6='1_PLANTILLA_MENSUAL'!AHE76","v":false},{"$f":"AHE6='1_PLANTILLA_MENSUAL'!AHF76","v":false},{"$f":"AHF6='1_PLANTILLA_MENSUAL'!AHG76","v":false},{"$f":"AHG6='1_PLANTILLA_MENSUAL'!AHH76","v":false},{"$f":"AHH6='1_PLANTILLA_MENSUAL'!AHI76","v":false},{"$f":"AHI6='1_PLANTILLA_MENSUAL'!AHJ76","v":false},{"$f":"AHJ6='1_PLANTILLA_MENSUAL'!AHK76","v":false},{"$f":"AHK6='1_PLANTILLA_MENSUAL'!AHL76","v":false},{"$f":"AHL6='1_PLANTILLA_MENSUAL'!AIC76","v":false},{"$f":"AHM6='1_PLANTILLA_MENSUAL'!AID76","v":false},{"$f":"AHN6='1_PLANTILLA_MENSUAL'!AIE76","v":false},{"$f":"AHO6='1_PLANTILLA_MENSUAL'!AIF76","v":false},{"$f":"AHP6='1_PLANTILLA_MENSUAL'!AIG76","v":false},{"$f":"AHQ6='1_PLANTILLA_MENSUAL'!AIH76","v":false},{"$f":"AHR6='1_PLANTILLA_MENSUAL'!AII76","v":false},{"$f":"AHS6='1_PLANTILLA_MENSUAL'!AIJ76","v":false},{"$f":"AHT6='1_PLANTILLA_MENSUAL'!AIK76","v":false},{"$f":"AHU6='1_PLANTILLA_MENSUAL'!AIL76","v":false},{"$f":"AHV6='1_PLANTILLA_MENSUAL'!AIM76","v":false},{"$f":"AHW6='1_PLANTILLA_MENSUAL'!AIN76","v":false},{"$f":"AHX6='1_PLANTILLA_MENSUAL'!AIO76","v":false},{"$f":"AHY6='1_PLANTILLA_MENSUAL'!AIP76","v":false},{"$f":"AHZ6='1_PLANTILLA_MENSUAL'!AIQ76","v":false},{"$f":"AIA6='1_PLANTILLA_MENSUAL'!AIR76","v":false},{"$f":"AIB6='1_PLANTILLA_MENSUAL'!AIS76","v":false},{"$f":"AIC6='1_PLANTILLA_MENSUAL'!AIT76","v":true},{"$f":"AID6='1_PLANTILLA_MENSUAL'!AIU76","v":true},{"$f":"AIE6='1_PLANTILLA_MENSUAL'!AIV76","v":true},{"$f":"AIF6='1_PLANTILLA_MENSUAL'!AIW76","v":true},{"$f":"AIG6='1_PLANTILLA_MENSUAL'!AIX76","v":true},{"$f":"AIH6='1_PLANTILLA_MENSUAL'!AIY76","v":true},{"$f":"AII6='1_PLANTILLA_MENSUAL'!AIZ76","v":true},{"$f":"AIJ6='1_PLANTILLA_MENSUAL'!AJA76","v":true},{"$f":"AIK6='1_PLANTILLA_MENSUAL'!AJB76","v":true},{"$f":"AIL6='1_PLANTILLA_MENSUAL'!AJC76","v":true},{"$f":"AIM6='1_PLANTILLA_MENSUAL'!AJD76","v":true},{"$f":"AIN6='1_PLANTILLA_MENSUAL'!AJE76","v":true},{"$f":"AIO6='1_PLANTILLA_MENSUAL'!AJF76","v":true},{"$f":"AIP6='1_PLANTILLA_MENSUAL'!AJG76","v":true},{"$f":"AIQ6='1_PLANTILLA_MENSUAL'!AJH76","v":true},{"$f":"AIR6='1_PLANTILLA_MENSUAL'!AJI76","v":true},{"$f":"AIS6='1_PLANTILLA_MENSUAL'!AJJ76","v":true},{"$f":"AIT6='1_PLANTILLA_MENSUAL'!AJK76","v":true},{"$f":"AIU6='1_PLANTILLA_MENSUAL'!AJL76","v":true},{"$f":"AIV6='1_PLANTILLA_MENSUAL'!AJM76","v":false},{"$f":"AIW6='1_PLANTILLA_MENSUAL'!AJN76","v":false},{"$f":"AIX6='1_PLANTILLA_MENSUAL'!AJO76","v":false},{"$f":"AIY6='1_PLANTILLA_MENSUAL'!AJP76","v":false},{"$f":"AIZ6='1_PLANTILLA_MENSUAL'!AJQ76","v":false},{"$f":"AJA6='1_PLANTILLA_MENSUAL'!AJR76","v":false},{"$f":"AJB6='1_PLANTILLA_MENSUAL'!AJS76","v":false},{"$f":"AJC6='1_PLANTILLA_MENSUAL'!AJT76","v":false},{"$f":"AJD6='1_PLANTILLA_MENSUAL'!AJU76","v":false},{"$f":"AJE6='1_PLANTILLA_MENSUAL'!AJV76","v":false},{"$f":"AJF6='1_PLANTILLA_MENSUAL'!AJW76","v":false},{"$f":"AJG6='1_PLANTILLA_MENSUAL'!AJX76","v":false},{"$f":"AJH6='1_PLANTILLA_MENSUAL'!AJY76","v":false},{"$f":"AJI6='1_PLANTILLA_MENSUAL'!AJZ76","v":true},{"$f":"AJJ6='1_PLANTILLA_MENSUAL'!AKA76","v":false},{"$f":"AJK6='1_PLANTILLA_MENSUAL'!AKB76","v":false},{"$f":"AJL6='1_PLANTILLA_MENSUAL'!AKC76","v":false},{"$f":"AJM6='1_PLANTILLA_MENSUAL'!AKD76","v":false},{"$f":"AJN6='1_PLANTILLA_MENSUAL'!AKE76","v":false},{"$f":"AJO6='1_PLANTILLA_MENSUAL'!AKF76","v":false},{"$f":"AJP6='1_PLANTILLA_MENSUAL'!AKG76","v":false},{"$f":"AJQ6='1_PLANTILLA_MENSUAL'!AKH76","v":false},{"$f":"AJR6='1_PLANTILLA_MENSUAL'!AKI76","v":false},{"$f":"AJS6='1_PLANTILLA_MENSUAL'!AKJ76","v":false},{"$f":"AJT6='1_PLANTILLA_MENSUAL'!AKK76","v":false},{"$f":"AJU6='1_PLANTILLA_MENSUAL'!AKL76","v":false},{"$f":"AJV6='1_PLANTILLA_MENSUAL'!AKM76","v":false},{"$f":"AJW6='1_PLANTILLA_MENSUAL'!AKN76","v":false},{"$f":"IF(AJX6=('1_PLANTILLA_MENSUAL'!QC76+'2_MERCADO_PRIVADO'!TA96),TRUE,\"PILAR!!! ERROR\")","v":"PILAR!!! ERROR"}]
[{"$nulls":443},{"$f":"SUM(D6:QB6)-SUM(PQ6:PT6)-SUM(PW6:QB6)","v":{"v":280972,"d":"280,972"}}]
[{"$nulls":3},1,{"$f":"1+D9","v":2},{"$f":"1+E9","v":3},4,5,6,7,8,9,10,11,12,13,14,15,16,17,18,19,20,21,22,23,24,25,26,27,28,29,30,31,32,33,34,35,36,37,38,39,40,41,42,43,44,45,46,47,48,49,50,51,52,53,54,55,56,57,58,59,60,61,62,63,64,65,66,{"$f":"1+BQ9","v":67},68,69,70,71,72,73,74,75,76,77,78,79,80,81,82,83,84,85,86,87,88,89,90,91,92,93,94,95,96,97,98,99,100,101,102,103,104,105,106,107,108,109,110,111,112,113,114,115,116,117,118,119,120,121,122,123,124,125,126,127,128,129,130,{"$f":"1+EC9","v":131},132,133,134,135,136,137,138,139,140,141,142,143,144,145,146,147,148,149,150,151,152,153,154,155,156,157,158,159,160,161,162,163,164,165,166,167,168,169,170,171,172,173,174,175,176,177,178,179,180,181,182,183,184,185,186,187,188,189,190,191,192,193,194,{"$f":"1+GO9","v":195},196,197,198,199,200,201,202,203,204,205,206,207,208,209,210,211,212,213,214,215,216,217,218,219,220,221,222,223,224,225,226,227,228,229,230,231,232,233,234,235,236,237,238,239,240,241,242,243,244,245,246,247,248,249,250,251,252,253,254,255,256,257,258,{"$f":"1+JA9","v":259},260,261,262,263,264,265,266,267,268,269,270,271,272,273,274,275,276,277,278,279,280,281,282,283,284,285,286,287,288,289,290,291,292,293,294,295,296,297,298,299,300,301,302,303,304,305,306,307,308,309,310,311,312,313,314,315,316,317,318,319,320,321,322,{"$f":"1+LM9","v":323},324,325,326,327,328,329,330,331,332,333,334,335,336,337,338,339,340,341,342,343,344,345,346,347,348,349,350,351,352,353,354,355,356,357,358,359,360,361,362,363,364,365,366,367,368,369,370,371,372,373,374,375,376,377,378,379,380,381,382,383,384,385,386,{"$f":"1+NY9","v":387},388,389,390,391,392,393,394,395,396,397,398,399,400,401,402,403,404,405,406,407,408,409,410,411,412,413,414,415,416,417,418,419,420,421,422,423,424,425,426,427,428,429,430,431,432,433,434,435,436,437,438,439,440,441,442,443,444,445,446,447,448,449,450,{"$f":"1+QK9","v":451},452,453,454,455,456,457,458,459,460,461,462,463,464,465,466,467,468,469,470,471,472,473,474,475,476,477,478,479,480,481,482,483,484,485,486,487,488,489,490,491,492,493,494,495,496,497,498,499,500,501,502,503,504,505,506,507,508,509,510,511,512,513,514,{"$f":"1+SW9","v":515},516,517,518,519,520,521,522,523,524,525,526,527,528,529,530,531,532,533,534,535,536,537,538,539,540,541,542,543,544,545,546,547,548,549,550,551,552,553,554,555,556,557,558,559,560,561,562,563,564,565,566,567,568,569,570,571,572,573,574,575,576,577,578,{"$f":"1+VI9","v":579},580,581,582,583,584,585,586,587,588,589,590,591,592,593,594,595,596,597,598,599,600,601,602,603,604,605,606,607,608,609,610,611,612,613,614,615,616,617,618,619,620,621,622,623,624,625,626,627,628,629,630,631,632,633,634,635,636,637,638,639,640,641,642,{"$f":"1+XU9","v":643},644,645,646,647,648,649,650,651,652,653,654,655,656,657,658,659,660,661,662,663,664,665,666,667,668,669,670,671,672,673,674,675,676,677,678,679,680,681,682,683,684,685,686,687,688,689,690,691,692,693,694,695,696,697,698,699,700,701,702,703,704,705,706,{"$f":"1+AAG9","v":707},708,709,710,711,712,713,714,715,716,717,718,719,720,721,722,723,724,725,726,727,728,729,730,731,732,733,734,735,736,737,738,739,740,741,742,743,744,745,746,747,748,749,750,751,752,753,754,755,756,757,758,759,760,761,762,763,764,765,766,767,768,769,770,{"$f":"1+ACS9","v":771},772,773,774,775,776,777,778,779,780,781,782,783,784,785,786,787,788,789,790,791,792,793,794,795,796,797,798,799,800,801,802,803,804,805,806,807,808,809,810,811,812,813,814,815,816,817,818,819,820,821,822,823,824,825,826,827,828,829,830,831,832,833,834,{"$f":"1+AFE9","v":835},836,837,838,839,840,841,842,843,844,845,846,847,848,849,850,851,852,853,854,855,856,857,858,859,860,861,862,863,864,865,866,867,868,869,870,871,872,873,874,875,876,877,878,879,880,881,882,883,884,885,886,887,888,889,890,891,892,{"$f":"1+AHK9","v":893},{"$f":"1+AHL9","v":894},{"$f":"1+AHM9","v":895},{"$f":"1+AHN9","v":896},{"$f":"1+AHO9","v":897},{"$f":"1+AHP9","v":898},{"$f":"1+AHQ9","v":899},{"$f":"1+AHR9","v":900},{"$f":"1+AHS9","v":901},{"$f":"1+AHT9","v":902},{"$f":"1+AHU9","v":903},{"$f":"1+AHV9","v":904},{"$f":"1+AHW9","v":905},{"$f":"1+AHX9","v":906},{"$f":"1+AHY9","v":907},{"$f":"1+AHZ9","v":908},{"$f":"1+AIA9","v":909},{"$f":"1+AIB9","v":910},{"$f":"1+AIC9","v":911},{"$f":"1+AID9","v":912},{"$f":"1+AIE9","v":913},{"$f":"1+AIF9","v":914},{"$f":"1+AIG9","v":915},{"$f":"1+AIH9","v":916},{"$f":"1+AII9","v":917},{"$f":"1+AIJ9","v":918},{"$f":"1+AIK9","v":919},{"$f":"1+AIL9","v":920},{"$f":"1+AIM9","v":921},{"$f":"1+AIN9","v":922},{"$f":"1+AIO9","v":923},{"$f":"1+AIP9","v":924},{"$f":"1+AIQ9","v":925},{"$f":"1+AIR9","v":926},{"$f":"1+AIS9","v":927},{"$f":"1+AIT9","v":928},{"$f":"1+AIU9","v":929},{"$f":"1+AIV9","v":930},{"$f":"1+AIW9","v":931},{"$f":"1+AIX9","v":932},{"$f":"1+AIY9","v":933},{"$f":"1+AIZ9","v":934},{"$f":"1+AJA9","v":935},{"$f":"1+AJB9","v":936},{"$f":"1+AJC9","v":937},{"$f":"1+AJD9","v":938},{"$f":"1+AJE9","v":939},{"$f":"1+AJF9","v":940},{"$f":"1+AJG9","v":941},{"$f":"1+AJH9","v":942},{"$f":"1+AJI9","v":943},{"$f":"1+AJJ9","v":944},{"$f":"1+AJK9","v":945},{"$f":"1+AJL9","v":946},{"$f":"1+AJM9","v":947},{"$f":"1+AJN9","v":948},{"$f":"1+AJO9","v":949},{"$f":"1+AJP9","v":950},{"$f":"1+AJQ9","v":951},{"$f":"1+AJR9","v":952},{"$f":"1+AJS9","v":953},{"$f":"1+AJT9","v":954},{"$f":"1+AJU9","v":955},{"$f":"1+AJV9","v":956}]

{"sheet":"4_COBERTURAxMPIOS","index":4,"n_rows":5,"n_cols":72,"rows_kept":5}
["Nº","COD\nMPIO","NOMBRE MUNICIPIO","Poblaciòn Menor de 1 año (Meta Programática)","BCG RECIEN NACIDO (HASTA 28 DÍAS) + MENOR UN AÑO (29 DÍAS A 11 MESES 29 DIAS) Unica","% BCG","HB RECIEN NACIDO (HASTA 29 DÍAS)","% HB","(VIP) PARENTERAL\n< 1 AÑO\n1a","% (VIP) \n< 1 AÑO\n1a","VIP < 1 AÑO 2a","% VIP 2as","VIP < 1 AÑO 3ras ","% VIP 3ras","PENTA < UN AÑO 1a","% PENTA 1ras","PENTA < UN AÑO 2a","% PENTA 2das","PENTA < UN AÑO 3a","% PENTA 3ras","ROTAVIRUS DE 2 A 3 MESES 29 DIAS 1a","% Rota 1a Dosis","ROTAVIRUS DE 4 A 11 MESES 29 DIAS 2a","% Rota 2da Dosis","FLU DE 6 A 11 MESES 1a","% FLU de 6 a 11 Meses 1da","FLU DE 6 A 11 MESES 2a","% FLU de 6 a 11 Meses 2da","Neumo (2 a 11 Meses 29 Dias)  1ra Dosis","% Neumo\n1ra dosis","Neumo (2 a 11 Meses 29 Dias)  2da Dosis","% Neumo\n2ra dosis","Poblaciòn de 1 año (Meta Programática)","SRP (T.V.) DE UN AÑO - Única","%Triple Viral UN AÑO","HA\n1 AÑO UNICA","% HA\n1 AÑO UNICA","VARICELA DE 1 AÑO\n1a","% VARICELA","Neumo de (12 a 23 meses)\nREF.","% Neumo\n3ra dosis","Neumo (12-23 meses) 1ra ","Neumo (12-23 meses) 2da","Neumo (24- 60 Meses) U.","F.A. UN AÑO  (18 Meses de Edad)\nDosis Unica","%F.A.","VOP + VIP  1er REF. al año de la 3ra Dosis","% VOP\n1er Ref.","DPT 1er REF. al año de la 3ra Dosis","% DPT\n1er Ref.","FLU DE 12 A 23 MESES 2a + UNICA","% FLU DE 12 A 23 MESES 2a + UNICA","Pob. 5 años  (Meta Programatica)","VOP + VIP 2do. Ref. 5 AÑOS","% VOP\n2do Ref. 5 Años","DPT 2do. Ref. 5 AÑOS","% DPT\n2do Ref. \n3 a 5 Años","T. V.\nRef. 5 AÑOS","% TV\n2do Ref. 5 Años","VARICELA REF. \nDE 5 AÑOS","% VARICELA REF.","FLU DE 60 Y MAS AÑOS \nU.","Gestantes a partir de la semana 14 ÚNICA","TdaP ACELULAR DE 9 AÑOS Y MAS * GESTANTES UNICA DOSIS EN CADA EMBARAZO","%","POBLACION DANE NIÑAS DE 9 AÑOS","VPH 9 Años \n1a Dosis","% VPH \n1 Dosis ","VPH 9 Años \n2a Dosis","% VPH \n2 Dosis ","TOTAL DOSIS","25"]
[1,{"$f":"'3_CONSOLIDADO REGIMEN'!B3","v":0},{"$f":"'3_CONSOLIDADO REGIMEN'!C3","v":"Bogotá"},{"$f":"'1-MetaPro_2022'!E168","v":{"v":90967,"d":"90,967"}},{"$f":"'3_CONSOLIDADO REGIMEN'!D3+'3_CONSOLIDADO REGIMEN'!E3","v":{"v":6692,"d":"6,692"}},{"$f":"E2/$D2*100","v":{"v":7.3565139006452895,"d":"7.4"}},{"$f":"'3_CONSOLIDADO REGIMEN'!H3+'3_CONSOLIDADO REGIMEN'!L3","v":{"v":6517,"d":"6,517"}},{"$f":"G2/$D2*100","v":{"v":7.16413644508448,"d":"7.2"}},{"$f":"'3_CONSOLIDADO REGIMEN'!BO3+'3_CONSOLIDADO REGIMEN'!RK3+'3_CONSOLIDADO REGIMEN'!SR3+'3_CONSOLIDADO REGIMEN'!TY3","v":{"v":5338,"d":"5,338"}},{"$f":"I2/$D2*100","v":{"v":5.868062044477668,"d":"5.9"}},{"$f":"'3_CONSOLIDADO REGIMEN'!BP3+'3_CONSOLIDADO REGIMEN'!RL3+'3_CONSOLIDADO REGIMEN'!SS3+'3_CONSOLIDADO REGIMEN'!TZ3","v":{"v":5131,"d":"5,131"}},{"$f":"K2/$D2*100","v":{"v":5.640506997042884,"d":"5.6"}},{"$f":"'3_CONSOLIDADO REGIMEN'!BQ3+'3_CONSOLIDADO REGIMEN'!RM3+'3_CONSOLIDADO REGIMEN'!ST3+'3_CONSOLIDADO REGIMEN'!UA3","v":{"v":5520,"d":"5,520"}},{"$f":"M2/$D2*100","v":{"v":6.068134598260907,"d":"6.1"}},{"$f":"'3_CONSOLIDADO REGIMEN'!DE3+'3_CONSOLIDADO REGIMEN'!DT3+'3_CONSOLIDADO REGIMEN'!ET3+'3_CONSOLIDADO REGIMEN'!FY3+'3_CONSOLIDADO REGIMEN'!RK3+'3_CONSOLIDADO REGIMEN'!SR3+'3_CONSOLIDADO REGIMEN'!TY3+'3_CONSOLIDADO REGIMEN'!VD3+'3_CONSOLIDADO REGIMEN'!WI3","v":{"v":5332,"d":"5,332"}},{"$f":"O2/$D2*100","v":{"v":5.861466246001297,"d":"5.9"}},{"$f":"'3_CONSOLIDADO REGIMEN'!DF3+'3_CONSOLIDADO REGIMEN'!DU3+'3_CONSOLIDADO REGIMEN'!EU3+'3_CONSOLIDADO REGIMEN'!FZ3+'3_CONSOLIDADO REGIMEN'!RL3+'3_CONSOLIDADO REGIMEN'!SS3+'3_CONSOLIDADO REGIMEN'!TZ3+'3_CONSOLIDADO REGIMEN'!VE3+'3_CONSOLIDADO REGIMEN'!WJ3","v":{"v":5130,"d":"5,130"}},{"$f":"Q2/$D2*100","v":{"v":5.639407697296822,"d":"5.6"}},{"$f":"'3_CONSOLIDADO REGIMEN'!DG3+'3_CONSOLIDADO REGIMEN'!DV3+'3_CONSOLIDADO REGIMEN'!EV3+'3_CONSOLIDADO REGIMEN'!GA3+'3_CONSOLIDADO REGIMEN'!RM3+'3_CONSOLIDADO REGIMEN'!ST3+'3_CONSOLIDADO REGIMEN'!UA3+'3_CONSOLIDADO REGIMEN'!VF3+'3_CONSOLIDADO REGIMEN'!WK3","v":{"v":5520,"d":"5,520"}},{"$f":"S2/$D2*100","v":{"v":6.068134598260907,"d":"6.1"}},{"$f":"'3_CONSOLIDADO REGIMEN'!HD3+'3_CONSOLIDADO REGIMEN'!XN3","v":{"v":5368,"d":"5,368"}},{"$f":"U2/$D2*100","v":{"v":5.90104103685952,"d":"5.9"}},{"$f":"'3_CONSOLIDADO REGIMEN'!HE3+'3_CONSOLIDADO REGIMEN'!XO3","v":{"v":5160,"d":"5,160"}},{"$f":"W2/$D2*100","v":{"v":5.6723866896786745,"d":"5.7"}},{"$f":"'3_CONSOLIDADO REGIMEN'!NG3+'3_CONSOLIDADO REGIMEN'!AGW3","v":{"v":7422,"d":"7,422"}},{"$f":"Y2/D2*100","v":{"v":8.159002715270374,"d":"8.2"}},{"$f":"'3_CONSOLIDADO REGIMEN'!NH3+'3_CONSOLIDADO REGIMEN'!AGX3","v":{"v":7771,"d":"7,771"}},{"$f":"AA2/$D2*100","v":{"v":8.542658326645928,"d":"8.5"}},{"$f":"'3_CONSOLIDADO REGIMEN'!HF3+'3_CONSOLIDADO REGIMEN'!XQ3","v":{"v":1035,"d":"1,035"}},{"$f":"AC2/$D2*100","v":{"v":1.1377752371739203,"d":"1.1"}},{"$f":"'3_CONSOLIDADO REGIMEN'!HG3+'3_CONSOLIDADO REGIMEN'!XR3","v":{"v":5247,"d":"5,247"}},{"$f":"AE2/$D2*100","v":{"v":5.768025767586048,"d":"5.8"}},{"$f":"'1-MetaPro_2022'!F168","v":{"v":93996,"d":"93,996"}},{"$f":"'3_CONSOLIDADO REGIMEN'!HR3+'3_CONSOLIDADO REGIMEN'!YH3+'3_CONSOLIDADO REGIMEN'!ZC3","v":{"v":5658,"d":"5,658"}},{"$f":"AH2/$AG2*100","v":{"v":6.019405081067279,"d":"6.0"}},{"$f":"'3_CONSOLIDADO REGIMEN'!JT3+'3_CONSOLIDADO REGIMEN'!AAP3+'3_CONSOLIDADO REGIMEN'!ABL3","v":{"v":5698,"d":"5,698"}},{"$f":"AJ2/$AG2*100","v":{"v":6.061960083407804,"d":"6.1"}},{"$f":"'3_CONSOLIDADO REGIMEN'!KD3+'3_CONSOLIDADO REGIMEN'!ACS3+'3_CONSOLIDADO REGIMEN'!ZC3","v":{"v":5702,"d":"5,702"}},{"$f":"AL2/$AG2*100","v":{"v":6.066215583641857,"d":"6.1"}},{"$f":"'3_CONSOLIDADO REGIMEN'!HH3+'3_CONSOLIDADO REGIMEN'!XW3","v":{"v":5538,"d":"5,538"}},{"$f":"AN2/$AG2*100","v":{"v":5.891740074045703,"d":"5.9"}},{"$f":"'3_CONSOLIDADO REGIMEN'!HI3+'3_CONSOLIDADO REGIMEN'!XT3","v":91},{"$f":"'3_CONSOLIDADO REGIMEN'!HJ3+'3_CONSOLIDADO REGIMEN'!XU3","v":102},{"$f":"'3_CONSOLIDADO REGIMEN'!HK3+'3_CONSOLIDADO REGIMEN'!XY3","v":361},{"$f":"'3_CONSOLIDADO REGIMEN'!JA3+'3_CONSOLIDADO REGIMEN'!ZX3","v":{"v":4919,"d":"4,919"}},{"$f":"AS2/$AG2*100","v":{"v":5.233201412826078,"d":"5.2"}},{"$f":"'3_CONSOLIDADO REGIMEN'!CG3+'3_CONSOLIDADO REGIMEN'!CW3+'3_CONSOLIDADO REGIMEN'!SR3+'3_CONSOLIDADO REGIMEN'!TY3+'3_CONSOLIDADO REGIMEN'!UQ3","v":{"v":5217,"d":"5,217"}},{"$f":"AU2/$AG2*100","v":{"v":5.55023618026299,"d":"5.6"}},{"$f":"'3_CONSOLIDADO REGIMEN'!DK3+'3_CONSOLIDADO REGIMEN'!EL3+'3_CONSOLIDADO REGIMEN'!FL3+'3_CONSOLIDADO REGIMEN'!GQ3+'3_CONSOLIDADO REGIMEN'!SC3+'3_CONSOLIDADO REGIMEN'!TJ3+'3_CONSOLIDADO REGIMEN'!UQ3+'3_CONSOLIDADO REGIMEN'!VV3+'3_CONSOLIDADO REGIMEN'!XA3","v":{"v":4991,"d":"4,991"}},{"$f":"AW2/$AG2*100","v":{"v":5.309800417039023,"d":"5.3"}},{"$f":"'3_CONSOLIDADO REGIMEN'!NJ3+'3_CONSOLIDADO REGIMEN'!NK3+'3_CONSOLIDADO REGIMEN'!AGZ3+'3_CONSOLIDADO REGIMEN'!AHA3","v":{"v":9324,"d":"9,324"}},{"$f":"AY2/$AG2*100","v":{"v":9.919571045576408,"d":"9.9"}},{"$f":"'1-MetaPro_2022'!G168","v":{"v":96930,"d":"96,930"}},{"$f":"'3_CONSOLIDADO REGIMEN'!CN3+'3_CONSOLIDADO REGIMEN'!DD3+'3_CONSOLIDADO REGIMEN'!SJ3+'3_CONSOLIDADO REGIMEN'!TQ3+'3_CONSOLIDADO REGIMEN'!UX3","v":{"v":7495,"d":"7,495"}},{"$f":"BB2/$BA2*100","v":{"v":7.732384194779737,"d":"7.7"}},{"$f":"+'3_CONSOLIDADO REGIMEN'!ES3+'3_CONSOLIDADO REGIMEN'!FQ3+'3_CONSOLIDADO REGIMEN'!GX3+'3_CONSOLIDADO REGIMEN'!SJ3+'3_CONSOLIDADO REGIMEN'!TQ3+'3_CONSOLIDADO REGIMEN'!UX3+'3_CONSOLIDADO REGIMEN'!WC3+'3_CONSOLIDADO REGIMEN'!XH3","v":{"v":7458,"d":"7,458"}},{"$f":"BD2/$BA2*100","v":{"v":7.694212318167749,"d":"7.7"}},{"$f":"'3_CONSOLIDADO REGIMEN'!IC3+'3_CONSOLIDADO REGIMEN'!YU3+'3_CONSOLIDADO REGIMEN'!ZR3","v":{"v":7541,"d":"7,541"}},{"$f":"BF2/$BA2*100","v":{"v":7.779841122459506,"d":"7.8"}},{"$f":"'3_CONSOLIDADO REGIMEN'!KL3+'3_CONSOLIDADO REGIMEN'!ADB3+'3_CONSOLIDADO REGIMEN'!ZR3","v":{"v":7434,"d":"7,434.0"}},{"$f":"BH2/BA2*100","v":{"v":7.669452181987,"d":"7.7"}},{"$f":"SUM('3_CONSOLIDADO REGIMEN'!NO3+'3_CONSOLIDADO REGIMEN'!AHE3)","v":{"v":51936,"d":"51,936"}},{"$f":"SUM('3_CONSOLIDADO REGIMEN'!NP3+'3_CONSOLIDADO REGIMEN'!AHF3)","v":{"v":6492,"d":"6,492"}},{"$f":"SUM('3_CONSOLIDADO REGIMEN'!MU3:NF3)+SUM('3_CONSOLIDADO REGIMEN'!AFN3:AGV3)","v":{"v":9145,"d":"9,145"}},{"$f":"BL2/$D2*100","v":{"v":10.053096177734783,"d":"10.1"}},{"v":47156,"d":"47,156"},{"$f":"'3_CONSOLIDADO REGIMEN'!OB3+'3_CONSOLIDADO REGIMEN'!AHL3","v":{"v":1566,"d":"1,566"}},{"$f":"BO2/BN2*100","v":{"v":3.3208923572822124,"d":"3.3"}},{"$f":"'3_CONSOLIDADO REGIMEN'!OC3+'3_CONSOLIDADO REGIMEN'!AHM3","v":355},{"$f":"BQ2/BN2*100","v":{"v":0.7528204258206803,"d":"0.8"}},{"$f":"E2+G2+I2+K2+M2+O2+Q2+S2+U2+W2+Y2+AA2+AC2+AE2+AH2+AJ2+AL2+AN2+AP2+AQ2+AR2+AS2+AU2+AW2+AY2+BB2+BD2+BF2+BH2+BJ2+BK2+BL2+BO2+BQ2","v":{"v":224206,"d":"224,206"}},{"$f":"CONCATENATE($BT$1,B2)","v":"250"}]
[2,{"$f":"'3_CONSOLIDADO REGIMEN'!B4","v":0},{"$f":"'3_CONSOLIDADO REGIMEN'!C4","v":0},{"$f":"VLOOKUP(BT3,Tabla1[[Divipola]:[Poblaciòn Menor de 1 año (Meta Programática 2022)]],2,0)","v":{"$error":"#N/A"}},{"$f":"'3_CONSOLIDADO REGIMEN'!D4+'3_CONSOLIDADO REGIMEN'!E4","v":0},{"$f":"E3/$D3*100","v":{"$error":"#N/A"}},{"$f":"'3_CONSOLIDADO REGIMEN'!H4+'3_CONSOLIDADO REGIMEN'!L4","v":0},{"$f":"G3/$D3*100","v":{"$error":"#N/A"}},{"$f":"'3_CONSOLIDADO REGIMEN'!BO4+'3_CONSOLIDADO REGIMEN'!RK4+'3_CONSOLIDADO REGIMEN'!SR4+'3_CONSOLIDADO REGIMEN'!TY4","v":0},{"$f":"I3/$D3*100","v":{"$error":"#N/A"}},{"$f":"'3_CONSOLIDADO REGIMEN'!BP4+'3_CONSOLIDADO REGIMEN'!RL4+'3_CONSOLIDADO REGIMEN'!SS4+'3_CONSOLIDADO REGIMEN'!TZ4","v":0},{"$f":"K3/$D3*100","v":{"$error":"#N/A"}},{"$f":"'3_CONSOLIDADO REGIMEN'!BQ4+'3_CONSOLIDADO REGIMEN'!RM4+'3_CONSOLIDADO REGIMEN'!ST4+'3_CONSOLIDADO REGIMEN'!UA4","v":0},{"$f":"M3/$D3*100","v":{"$error":"#N/A"}},{"$f":"'3_CONSOLIDADO REGIMEN'!DE4+'3_CONSOLIDADO REGIMEN'!DT4+'3_CONSOLIDADO REGIMEN'!ET4+'3_CONSOLIDADO REGIMEN'!FY4+'3_CONSOLIDADO REGIMEN'!RK4+'3_CONSOLIDADO REGIMEN'!SR4+'3_CONSOLIDADO REGIMEN'!TY4+'3_CONSOLIDADO REGIMEN'!VD4+'3_CONSOLIDADO REGIMEN'!WI4","v":0},{"$f":"O3/$D3*100","v":{"$error":"#N/A"}},{"$f":"'3_CONSOLIDADO REGIMEN'!DF4+'3_CONSOLIDADO REGIMEN'!DU4+'3_CONSOLIDADO REGIMEN'!EU4+'3_CONSOLIDADO REGIMEN'!FZ4+'3_CONSOLIDADO REGIMEN'!RL4+'3_CONSOLIDADO REGIMEN'!SS4+'3_CONSOLIDADO REGIMEN'!TZ4+'3_CONSOLIDADO REGIMEN'!VE4+'3_CONSOLIDADO REGIMEN'!WJ4","v":0},{"$f":"Q3/$D3*100","v":{"$error":"#N/A"}},{"$f":"'3_CONSOLIDADO REGIMEN'!DG4+'3_CONSOLIDADO REGIMEN'!DV4+'3_CONSOLIDADO REGIMEN'!EV4+'3_CONSOLIDADO REGIMEN'!GA4+'3_CONSOLIDADO REGIMEN'!RM4+'3_CONSOLIDADO REGIMEN'!ST4+'3_CONSOLIDADO REGIMEN'!UA4+'3_CONSOLIDADO REGIMEN'!VF4+'3_CONSOLIDADO REGIMEN'!WK4","v":0},{"$f":"S3/$D3*100","v":{"$error":"#N/A"}},{"$f":"'3_CONSOLIDADO REGIMEN'!HD4+'3_CONSOLIDADO REGIMEN'!XN4","v":0},{"$f":"U3/$D3*100","v":{"$error":"#N/A"}},{"$f":"'3_CONSOLIDADO REGIMEN'!HE4+'3_CONSOLIDADO REGIMEN'!XO4","v":0},{"$f":"W3/$D3*100","v":{"$error":"#N/A"}},{"$f":"'3_CONSOLIDADO REGIMEN'!NG4+'3_CONSOLIDADO REGIMEN'!AGW4","v":0},{"$f":"Y3/D3*100","v":{"$error":"#N/A"}},{"$f":"'3_CONSOLIDADO REGIMEN'!NH4+'3_CONSOLIDADO REGIMEN'!AGX4","v":0},{"$f":"AA3/$D3*100","v":{"$error":"#N/A"}},{"$f":"'3_CONSOLIDADO REGIMEN'!HF4+'3_CONSOLIDADO REGIMEN'!XQ4","v":0},{"$f":"AC3/$D3*100","v":{"$error":"#N/A"}},{"$f":"'3_CONSOLIDADO REGIMEN'!HG4+'3_CONSOLIDADO REGIMEN'!XR4","v":0},{"$f":"AE3/$D3*100","v":{"$error":"#N/A"}},{"$f":"VLOOKUP(BT3,Tabla1[[Divipola]:[Poblaciòn de 1 año (Meta Programática 2022)]],3,0)","v":{"$error":"#N/A"}},{"$f":"'3_CONSOLIDADO REGIMEN'!HR4+'3_CONSOLIDADO REGIMEN'!YH4+'3_CONSOLIDADO REGIMEN'!ZC4","v":0},{"$f":"AH3/$AG3*100","v":{"$error":"#N/A"}},{"$f":"'3_CONSOLIDADO REGIMEN'!JT4+'3_CONSOLIDADO REGIMEN'!AAP4+'3_CONSOLIDADO REGIMEN'!ABL4","v":0},{"$f":"AJ3/$AG3*100","v":{"$error":"#N/A"}},{"$f":"'3_CONSOLIDADO REGIMEN'!KD4+'3_CONSOLIDADO REGIMEN'!ACS4+'3_CONSOLIDADO REGIMEN'!ZC4","v":0},{"$f":"AL3/$AG3*100","v":{"$error":"#N/A"}},{"$f":"'3_CONSOLIDADO REGIMEN'!HH4+'3_CONSOLIDADO REGIMEN'!XW4","v":0},{"$f":"AN3/$AG3*100","v":{"$error":"#N/A"}},{"$f":"'3_CONSOLIDADO REGIMEN'!HI4+'3_CONSOLIDADO REGIMEN'!XT4","v":0},{"$f":"'3_CONSOLIDADO REGIMEN'!HJ4+'3_CONSOLIDADO REGIMEN'!XU4","v":0},{"$f":"'3_CONSOLIDADO REGIMEN'!HK4+'3_CONSOLIDADO REGIMEN'!XY4","v":0},{"$f":"'3_CONSOLIDADO REGIMEN'!JA4+'3_CONSOLIDADO REGIMEN'!ZX4","v":0},{"$f":"AS3/$AG3*100","v":{"$error":"#N/A"}},{"$f":"'3_CONSOLIDADO REGIMEN'!CG4+'3_CONSOLIDADO REGIMEN'!CW4+'3_CONSOLIDADO REGIMEN'!SR4+'3_CONSOLIDADO REGIMEN'!TY4+'3_CONSOLIDADO REGIMEN'!UQ4","v":0},{"$f":"AU3/$AG3*100","v":{"$error":"#N/A"}},{"$f":"'3_CONSOLIDADO REGIMEN'!DK4+'3_CONSOLIDADO REGIMEN'!EL4+'3_CONSOLIDADO REGIMEN'!FL4+'3_CONSOLIDADO REGIMEN'!GQ4+'3_CONSOLIDADO REGIMEN'!SC4+'3_CONSOLIDADO REGIMEN'!TJ4+'3_CONSOLIDADO REGIMEN'!UQ4+'3_CONSOLIDADO REGIMEN'!VV4+'3_CONSOLIDADO REGIMEN'!XA4","v":0},{"$f":"AW3/$AG3*100","v":{"$error":"#N/A"}},{"$f":"'3_CONSOLIDADO REGIMEN'!NJ4+'3_CONSOLIDADO REGIMEN'!NK4+'3_CONSOLIDADO REGIMEN'!AGZ4+'3_CONSOLIDADO REGIMEN'!AHA4","v":0},{"$f":"AY3/$AG3*100","v":{"$error":"#N/A"}},{"$f":"VLOOKUP(BT3,Tabla1[[Divipola]:[Pob. 5 años  (Meta Programática 2022)]],4,0)","v":{"$error":"#N/A"}},{"$f":"'3_CONSOLIDADO REGIMEN'!CN4+'3_CONSOLIDADO REGIMEN'!DD4+'3_CONSOLIDADO REGIMEN'!SJ4+'3_CONSOLIDADO REGIMEN'!TQ4+'3_CONSOLIDADO REGIMEN'!UX4","v":0},{"$f":"BB3/$BA3*100","v":{"$error":"#N/A"}},{"$f":"+'3_CONSOLIDADO REGIMEN'!ES4+'3_CONSOLIDADO REGIMEN'!FQ4+'3_CONSOLIDADO REGIMEN'!GX4+'3_CONSOLIDADO REGIMEN'!SJ4+'3_CONSOLIDADO REGIMEN'!TQ4+'3_CONSOLIDADO REGIMEN'!UX4+'3_CONSOLIDADO REGIMEN'!WC4+'3_CONSOLIDADO REGIMEN'!XH4","v":0},{"$f":"BD3/$BA3*100","v":{"$error":"#N/A"}},{"$f":"'3_CONSOLIDADO REGIMEN'!IC4+'3_CONSOLIDADO REGIMEN'!YU4+'3_CONSOLIDADO REGIMEN'!ZR4","v":0},{"$f":"BF3/$BA3*100","v":{"$error":"#N/A"}},{"$f":"'3_CONSOLIDADO REGIMEN'!KL4+'3_CONSOLIDADO REGIMEN'!ADB4+'3_CONSOLIDADO REGIMEN'!ZR4","v":{"v":0,"d":"0.0"}},{"$f":"BH3/BA3*100","v":{"$error":"#N/A"}},{"$f":"SUM('3_CONSOLIDADO REGIMEN'!NO4+'3_CONSOLIDADO REGIMEN'!AHE4)","v":0},{"$f":"SUM('3_CONSOLIDADO REGIMEN'!NP4+'3_CONSOLIDADO REGIMEN'!AHF4)","v":0},{"$f":"SUM('3_CONSOLIDADO REGIMEN'!MU4:NF4)+SUM('3_CONSOLIDADO REGIMEN'!AFN4:AGV4)","v":0},{"$f":"BL3/$D3*100","v":{"$error":"#N/A"}},{"$f":"VLOOKUP(BT3,'1-MetaPro_2022'!$D$2:$O$1122,12,0)","v":{"$error":"#N/A"}},{"$f":"'3_CONSOLIDADO REGIMEN'!OB4+'3_CONSOLIDADO REGIMEN'!AHL4","v":0},{"$f":"BO3/BN3*100","v":{"$error":"#N/A"}},{"$f":"'3_CONSOLIDADO REGIMEN'!OC4+'3_CONSOLIDADO REGIMEN'!AHM4","v":0},{"$f":"BQ3/BN3*100","v":{"$error":"#N/A"}},{"$f":"E3+G3+I3+K3+M3+O3+Q3+S3+U3+W3+Y3+AA3+AC3+AE3+AH3+AJ3+AL3+AN3+AP3+AQ3+AR3+AS3+AU3+AW3+AY3+BB3+BD3+BF3+BH3+BJ3+BK3+BL3+BO3+BQ3","v":0},"250"]
[125,{"$f":"'3_CONSOLIDADO REGIMEN'!B5","v":0},{"$f":"'3_CONSOLIDADO REGIMEN'!C5","v":0},{"$f":"VLOOKUP(BT4,Tabla1[[Divipola]:[Poblaciòn Menor de 1 año (Meta Programática 2022)]],2,0)","v":{"$error":"#N/A"}},{"$f":"'3_CONSOLIDADO REGIMEN'!D5+'3_CONSOLIDADO REGIMEN'!E5","v":0},{"$f":"E4/$D4*100","v":{"$error":"#N/A"}},{"$f":"'3_CONSOLIDADO REGIMEN'!H5+'3_CONSOLIDADO REGIMEN'!L5","v":0},{"$f":"G4/$D4*100","v":{"$error":"#N/A"}},{"$f":"'3_CONSOLIDADO REGIMEN'!BO5+'3_CONSOLIDADO REGIMEN'!RK5+'3_CONSOLIDADO REGIMEN'!SR5+'3_CONSOLIDADO REGIMEN'!TY5","v":0},{"$f":"I4/$D4*100","v":{"$error":"#N/A"}},{"$f":"'3_CONSOLIDADO REGIMEN'!BP5+'3_CONSOLIDADO REGIMEN'!RL5+'3_CONSOLIDADO REGIMEN'!SS5+'3_CONSOLIDADO REGIMEN'!TZ5","v":0},{"$f":"K4/$D4*100","v":{"$error":"#N/A"}},{"$f":"'3_CONSOLIDADO REGIMEN'!BQ5+'3_CONSOLIDADO REGIMEN'!RM5+'3_CONSOLIDADO REGIMEN'!ST5+'3_CONSOLIDADO REGIMEN'!UA5","v":0},{"$f":"M4/$D4*100","v":{"$error":"#N/A"}},{"$f":"'3_CONSOLIDADO REGIMEN'!DE5+'3_CONSOLIDADO REGIMEN'!DT5+'3_CONSOLIDADO REGIMEN'!ET5+'3_CONSOLIDADO REGIMEN'!FY5+'3_CONSOLIDADO REGIMEN'!RK5+'3_CONSOLIDADO REGIMEN'!SR5+'3_CONSOLIDADO REGIMEN'!TY5+'3_CONSOLIDADO REGIMEN'!VD5+'3_CONSOLIDADO REGIMEN'!WI5","v":0},{"$f":"O4/$D4*100","v":{"$error":"#N/A"}},{"$f":"'3_CONSOLIDADO REGIMEN'!DF5+'3_CONSOLIDADO REGIMEN'!DU5+'3_CONSOLIDADO REGIMEN'!EU5+'3_CONSOLIDADO REGIMEN'!FZ5+'3_CONSOLIDADO REGIMEN'!RL5+'3_CONSOLIDADO REGIMEN'!SS5+'3_CONSOLIDADO REGIMEN'!TZ5+'3_CONSOLIDADO REGIMEN'!VE5+'3_CONSOLIDADO REGIMEN'!WJ5","v":0},{"$f":"Q4/$D4*100","v":{"$error":"#N/A"}},{"$f":"'3_CONSOLIDADO REGIMEN'!DG5+'3_CONSOLIDADO REGIMEN'!DV5+'3_CONSOLIDADO REGIMEN'!EV5+'3_CONSOLIDADO REGIMEN'!GA5+'3_CONSOLIDADO REGIMEN'!RM5+'3_CONSOLIDADO REGIMEN'!ST5+'3_CONSOLIDADO REGIMEN'!UA5+'3_CONSOLIDADO REGIMEN'!VF5+'3_CONSOLIDADO REGIMEN'!WK5","v":0},{"$f":"S4/$D4*100","v":{"$error":"#N/A"}},{"$f":"'3_CONSOLIDADO REGIMEN'!HD5+'3_CONSOLIDADO REGIMEN'!XN5","v":0},{"$f":"U4/$D4*100","v":{"$error":"#N/A"}},{"$f":"'3_CONSOLIDADO REGIMEN'!HE5+'3_CONSOLIDADO REGIMEN'!XO5","v":0},{"$f":"W4/$D4*100","v":{"$error":"#N/A"}},{"$f":"'3_CONSOLIDADO REGIMEN'!NG5+'3_CONSOLIDADO REGIMEN'!AGW5","v":0},{"$f":"Y4/D4*100","v":{"$error":"#N/A"}},{"$f":"'3_CONSOLIDADO REGIMEN'!NH5+'3_CONSOLIDADO REGIMEN'!AGX5","v":0},{"$f":"AA4/$D4*100","v":{"$error":"#N/A"}},{"$f":"'3_CONSOLIDADO REGIMEN'!HF5+'3_CONSOLIDADO REGIMEN'!XQ5","v":0},{"$f":"AC4/$D4*100","v":{"$error":"#N/A"}},{"$f":"'3_CONSOLIDADO REGIMEN'!HG5+'3_CONSOLIDADO REGIMEN'!XR5","v":0},{"$f":"AE4/$D4*100","v":{"$error":"#N/A"}},{"$f":"VLOOKUP(BT4,Tabla1[[Divipola]:[Poblaciòn de 1 año (Meta Programática 2022)]],3,0)","v":{"$error":"#N/A"}},{"$f":"'3_CONSOLIDADO REGIMEN'!HR5+'3_CONSOLIDADO REGIMEN'!YH5+'3_CONSOLIDADO REGIMEN'!ZC5","v":0},{"$f":"AH4/$AG4*100","v":{"$error":"#N/A"}},{"$f":"'3_CONSOLIDADO REGIMEN'!JT5+'3_CONSOLIDADO REGIMEN'!AAP5+'3_CONSOLIDADO REGIMEN'!ABL5","v":0},{"$f":"AJ4/$AG4*100","v":{"$error":"#N/A"}},{"$f":"'3_CONSOLIDADO REGIMEN'!KD5+'3_CONSOLIDADO REGIMEN'!ACS5+'3_CONSOLIDADO REGIMEN'!ZC5","v":0},{"$f":"AL4/$AG4*100","v":{"$error":"#N/A"}},{"$f":"'3_CONSOLIDADO REGIMEN'!HH5+'3_CONSOLIDADO REGIMEN'!XW5","v":0},{"$f":"AN4/$AG4*100","v":{"$error":"#N/A"}},{"$f":"'3_CONSOLIDADO REGIMEN'!HI5+'3_CONSOLIDADO REGIMEN'!XT5","v":0},{"$f":"'3_CONSOLIDADO REGIMEN'!HJ5+'3_CONSOLIDADO REGIMEN'!XU5","v":0},{"$f":"'3_CONSOLIDADO REGIMEN'!HK5+'3_CONSOLIDADO REGIMEN'!XY5","v":0},{"$f":"'3_CONSOLIDADO REGIMEN'!JA5+'3_CONSOLIDADO REGIMEN'!ZX5","v":0},{"$f":"AS4/$AG4*100","v":{"$error":"#N/A"}},{"$f":"'3_CONSOLIDADO REGIMEN'!CG5+'3_CONSOLIDADO REGIMEN'!CW5+'3_CONSOLIDADO REGIMEN'!SR5+'3_CONSOLIDADO REGIMEN'!TY5+'3_CONSOLIDADO REGIMEN'!UQ5","v":0},{"$f":"AU4/$AG4*100","v":{"$error":"#N/A"}},{"$f":"'3_CONSOLIDADO REGIMEN'!DK5+'3_CONSOLIDADO REGIMEN'!EL5+'3_CONSOLIDADO REGIMEN'!FL5+'3_CONSOLIDADO REGIMEN'!GQ5+'3_CONSOLIDADO REGIMEN'!SC5+'3_CONSOLIDADO REGIMEN'!TJ5+'3_CONSOLIDADO REGIMEN'!UQ5+'3_CONSOLIDADO REGIMEN'!VV5+'3_CONSOLIDADO REGIMEN'!XA5","v":0},{"$f":"AW4/$AG4*100","v":{"$error":"#N/A"}},{"$f":"'3_CONSOLIDADO REGIMEN'!NJ5+'3_CONSOLIDADO REGIMEN'!NK5+'3_CONSOLIDADO REGIMEN'!AGZ5+'3_CONSOLIDADO REGIMEN'!AHA5","v":0},{"$f":"AY4/$AG4*100","v":{"$error":"#N/A"}},{"$f":"VLOOKUP(BT4,Tabla1[[Divipola]:[Pob. 5 años  (Meta Programática 2022)]],4,0)","v":{"$error":"#N/A"}},{"$f":"'3_CONSOLIDADO REGIMEN'!CN5+'3_CONSOLIDADO REGIMEN'!DD5+'3_CONSOLIDADO REGIMEN'!SJ5+'3_CONSOLIDADO REGIMEN'!TQ5+'3_CONSOLIDADO REGIMEN'!UX5","v":0},{"$f":"BB4/$BA4*100","v":{"$error":"#N/A"}},{"$f":"+'3_CONSOLIDADO REGIMEN'!ES5+'3_CONSOLIDADO REGIMEN'!FQ5+'3_CONSOLIDADO REGIMEN'!GX5+'3_CONSOLIDADO REGIMEN'!SJ5+'3_CONSOLIDADO REGIMEN'!TQ5+'3_CONSOLIDADO REGIMEN'!UX5+'3_CONSOLIDADO REGIMEN'!WC5+'3_CONSOLIDADO REGIMEN'!XH5","v":0},{"$f":"BD4/$BA4*100","v":{"$error":"#N/A"}},{"$f":"'3_CONSOLIDADO REGIMEN'!IC5+'3_CONSOLIDADO REGIMEN'!YU5+'3_CONSOLIDADO REGIMEN'!ZR5","v":0},{"$f":"BF4/$BA4*100","v":{"$error":"#N/A"}},{"$f":"'3_CONSOLIDADO REGIMEN'!KL5+'3_CONSOLIDADO REGIMEN'!ADB5+'3_CONSOLIDADO REGIMEN'!ZR5","v":{"v":0,"d":"0.0"}},{"$f":"BH4/BA4*100","v":{"$error":"#N/A"}},{"$f":"SUM('3_CONSOLIDADO REGIMEN'!NO5+'3_CONSOLIDADO REGIMEN'!AHE5)","v":0},{"$f":"SUM('3_CONSOLIDADO REGIMEN'!NP5+'3_CONSOLIDADO REGIMEN'!AHF5)","v":0},{"$f":"SUM('3_CONSOLIDADO REGIMEN'!MU5:NF5)+SUM('3_CONSOLIDADO REGIMEN'!AFN5:AGV5)","v":0},{"$f":"BL4/$D4*100","v":{"$error":"#N/A"}},{"$f":"VLOOKUP(BT4,'1-MetaPro_2022'!$D$2:$O$1122,12,0)","v":{"$error":"#N/A"}},{"$f":"'3_CONSOLIDADO REGIMEN'!OB5+'3_CONSOLIDADO REGIMEN'!AHL5","v":0},{"$f":"BO4/BN4*100","v":{"$error":"#N/A"}},{"$f":"'3_CONSOLIDADO REGIMEN'!OC5+'3_CONSOLIDADO REGIMEN'!AHM5","v":0},{"$f":"BQ4/BN4*100","v":{"$error":"#N/A"}},{"$f":"E4+G4+I4+K4+M4+O4+Q4+S4+U4+W4+Y4+AA4+AC4+AE4+AH4+AJ4+AL4+AN4+AP4+AQ4+AR4+AS4+AU4+AW4+AY4+BB4+BD4+BF4+BH4+BJ4+BK4+BL4+BO4+BQ4","v":0},{"$f":"CONCATENATE($BT$1,B4)","v":"250"}]
[null,null,"TOTALES",{"$f":"D2","v":{"v":90967,"d":"90,967"}},{"$f":"SUM(E2:E4)","v":{"v":6692,"d":"6,692"}},{"v":7.3565139006452895,"d":"7.4"},{"$f":"SUM(G2:G4)","v":{"v":6517,"d":"6,517"}},{"v":7.16413644508448,"d":"7.2"},{"$f":"SUM(I2:I4)","v":{"v":5338,"d":"5,338"}},{"v":5.868062044477668,"d":"5.9"},{"$f":"SUM(K2:K4)","v":{"v":5131,"d":"5,131"}},{"v":5.640506997042884,"d":"5.6"},{"$f":"SUM(M2:M4)","v":{"v":5520,"d":"5,520"}},{"v":6.068134598260907,"d":"6.1"},{"$f":"SUM(O2:O4)","v":{"v":5332,"d":"5,332"}},{"v":5.861466246001297,"d":"5.9"},{"$f":"SUM(Q2:Q4)","v":{"v":5130,"d":"5,130"}},{"v":5.639407697296822,"d":"5.6"},{"$f":"SUM(S2:S4)","v":{"v":5520,"d":"5,520"}},{"v":6.068134598260907,"d":"6.1"},{"$f":"SUM(U2:U4)","v":{"v":5368,"d":"5,368"}},{"v":5.90104103685952,"d":"5.9"},{"$f":"SUM(W2:W4)","v":{"v":5160,"d":"5,160"}},{"v":5.6723866896786745,"d":"5.7"},{"$f":"SUM(Y2:Y4)","v":{"v":7422,"d":"7,422"}},{"v":8.159002715270374,"d":"8.2"},{"$f":"SUM(AA2:AA4)","v":{"v":7771,"d":"7,771"}},{"v":8.542658326645928,"d":"8.5"},{"$f":"SUM(AC2:AC4)","v":{"v":1035,"d":"1,035"}},{"v":1.1377752371739203,"d":"1.1"},{"$f":"SUM(AE2:AE4)","v":{"v":5247,"d":"5,247"}},{"v":5.768025767586048,"d":"5.8"},{"$f":"AG2","v":{"v":93996,"d":"93,996"}},{"$f":"SUM(AH2:AH4)","v":{"v":5658,"d":"5,658"}},{"v":6.019405081067279,"d":"6.0"},{"$f":"SUM(AJ2:AJ4)","v":{"v":5698,"d":"5,698"}},{"v":6.061960083407804,"d":"6.1"},{"$f":"SUM(AL2:AL4)","v":{"v":5702,"d":"5,702"}},{"v":6.066215583641857,"d":"6.1"},{"$f":"SUM(AN2:AN4)","v":{"v":5538,"d":"5,538"}},{"v":5.891740074045703,"d":"5.9"},{"$f":"SUM(AP2:AP4)","v":91},102,361,{"v":4919,"d":"4,919"},{"$error":"#N/A"},{"v":5217,"d":"5,217"},{"v":5.55023618026299,"d":"5.6"},{"$f":"SUM(AW2:AW4)","v":{"v":4991,"d":"4,991"}},{"v":5.309800417039023,"d":"5.3"},{"$f":"SUM(AY2:AY4)","v":{"v":9324,"d":"9,324"}},{"v":9.919571045576408,"d":"9.9"},{"$f":"BA2","v":{"v":96930,"d":"96,930"}},{"$f":"SUM(BB2:BB4)","v":{"v":7495,"d":"7,495"}},{"v":7.732384194779737,"d":"7.7"},{"$f":"SUM(BD2:BD4)","v":{"v":7458,"d":"7,458"}},{"v":7.694212318167749,"d":"7.7"},{"$f":"SUM(BF2:BF4)","v":{"v":7541,"d":"7,541"}},{"v":7.779841122459506,"d":"7.8"},{"$f":"SUM(BH2:BH4)","v":{"v":7434,"d":"7,434"}},{"$f":"BH5/BA5*100","v":{"v":7.669452181987,"d":"7.7"}},{"$f":"SUM(BJ2:BJ4)","v":{"v":51936,"d":"51,936"}},{"$f":"SUM(BK2:BK4)","v":{"v":6492,"d":"6,492"}},{"$f":"SUM(BL2:BL4)","v":{"v":9145,"d":"9,145"}},{"v":10.053096177734783,"d":"10.1"},{"$f":"BN2","v":{"v":47156,"d":"47,156"}},{"$f":"SUM(BO2:BO4)","v":{"v":1566,"d":"1,566"}},{"v":3.3208923572822124,"d":"3.3"},{"$f":"SUM(BQ2:BQ4)","v":355},{"v":0.7528204258206803,"d":"0.8"},{"$f":"SUM(BS2:BS4)","v":{"v":224206,"d":"224,206"}}]